{"text_format":"1","workbook":"xlsx","n_sheets":47,"sheets":["Post Code Degree Days","floor u values","Scope","Design Details","U Value Calculator","Design Tables","1","2","3","4","5","6","7","8","9","10","11","12","13","14","15","MCS020","MCS022 data","GL Sizing","HP Rad sizing","Solid","Suspended","UFH Guide","Graphs","Compliance Certificate v2.0","CC v2.0 Guidance","16","17","18","19","20","21","22","23","24","25","26","27","28","29","30","Version"],"not_rendered":{"charts":2,"images":2,"macros":1,"external_links":5,"defined_names":119,"comments":0,"pivot_tables":0},"unopened":[],"bounds":{"document_bytes":16777216,"sheet_cells":100000,"rows_first":2000,"rows_last":500,"rows_between":2000,"halvings":0,"cell_chars":16384,"cell_head_chars":4096},"cells_cut":0,"cells_raw":0,"read":"whole","date_system":"1900"}

{"sheet":"Post Code Degree Days","index":0,"n_rows":126,"n_cols":8,"rows_kept":126,"cut":false,"hidden":true,"merged":[]}
[null,"Area",null,41.045999999999999]
[null,"CIBSE","degree days","52 Week","39 week","39 Week"]
["AB",-4.2,2668,{"$f":"SUM(C3/$D$1)","v":65.00024362909906},{"$f":"SUM(C3*95%)","v":2534.6},{"$f":"SUM(E3/41.046)","v":61.750231447644104},"NE Scotland (Dyce)",8.5]
["AL",-2,2033,{"$f":"SUM(C4/$D$1)","v":49.529795838814991},{"$f":"SUM(C4*95%)","v":1931.35},{"$f":"SUM(E4/41.046)","v":47.053306046874241},"Thames Valley (Heathrow)",11.3]
["B",-3.4,2425,59.080056521950979,2303.75,56.126053695853436,"Midland (Elmdon)",9.8000000000000007]
["BA",-1.7,1835,44.705939677435076,1743.25,42.47064269356332,"Severn Valley (Filton)",10.6]
["BB",-2.2000000000000002,2228,54.280563270477025,2116.6,51.566535106953175,"W Pennines (Ringway)",10]
["BD",-2.5,2307,56.2052331530478,2191.65,53.39497149539541,"E Pennines (Finningley)",10]
["BH",-1.5,2224,54.18311163085319,2112.7999999999997,51.473956049310523,"Southern (Hurn)",10.4]
["BL",-2.2000000000000002,2228,54.280563270477025,2116.6,51.566535106953175,"W Pennines (Ringway)",10]
["BN",-2.1,2224,54.18311163085319,2112.7999999999997,51.473956049310523,"Southern (Hurn)",10.4]
["BR",-3.2,2255,54.938361837937926,2142.25,52.191443746041031,"South-eastern (Gatwick)",10.199999999999999]
["BS",-1.7,1835,44.705939677435076,1743.25,42.47064269356332,"Severn Valley (Filton)",10.6]
["BT",-1.2,2360,57.496467378063635,2242,54.621644009160455,"Northern Ireland (Belfast)",9.4]
["CA",-3.7,2388,58.178628855430496,2268.6,55.269697412658964,"North-western (Carlisle)",9.4]
["CB",-2.5,2033,49.529795838814991,1931.35,47.053306046874241,"Thames Valley (Heathrow)",11.3]
["CF",-1.6,1835,44.705939677435076,1743.25,42.47064269356332,"Severn Valley (Filton)",10.6]
["CH",-2.2000000000000002,2228,54.280563270477025,2116.6,51.566535106953175,"W Pennines (Ringway)",10]
["CM",-2.2999999999999998,2033,49.529795838814991,1931.35,47.053306046874241,"Thames Valley (Heathrow)",11.3]
["CO",-2.2999999999999998,2254,54.913998928031965,2141.2999999999997,52.168298981630358,"E Anglia (Honington)",10]
["CR",-2,2224,54.18311163085319,2112.7999999999997,51.473956049310523,"Southern (Hurn)",10.4]
["CT",-3.2,2255,54.938361837937926,2142.25,52.191443746041031,"South-eastern (Gatwick)",10.199999999999999]
["CV",-3.4,2425,59.080056521950979,2303.75,56.126053695853436,"Midland (Elmdon)",9.8000000000000007]
["CW",-2.7,2228,54.280563270477025,2116.6,51.566535106953175,"W Pennines (Ringway)",10]
["DA",-3.2,2255,54.938361837937926,2142.25,52.191443746041031,"South-eastern (Gatwick)",10.199999999999999]
["DD",-3.8,2577,62.783218827656775,2448.15,59.644057886273941,"E Scotland (Leuchars)",8.8000000000000007]
["DE",-2.2000000000000002,2228,54.280563270477025,2116.6,51.566535106953175,"W Pennines (Ringway)",10]
["DG",-3.8,2483,60.493105296496616,2358.85,57.468450031671779,"Borders (Boulmer)",9]
["DH",-3.7,2370,57.740096477123231,2251.5,54.853091653267064,"North-eastern (Leeming)",9.4]
["DL",-3.7,2388,58.178628855430496,2268.6,55.269697412658964,"North-western (Carlisle)",9.4]
["DN",-3.4,2307,56.2052331530478,2191.65,53.39497149539541,"E Pennines (Finningley)",10]
["DT",-1.7,2224,54.18311163085319,2112.7999999999997,51.473956049310523,"Southern (Hurn)",10.4]
["DY",-3.4,2425,59.080056521950979,2303.75,56.126053695853436,"Midland (Elmdon)",9.8000000000000007]
["E",-1.8,2033,49.529795838814991,1931.35,47.053306046874241,"Thames Valley (Heathrow)",11.3]
["EC",-1.8,2033,49.529795838814991,1931.35,47.053306046874241,"Thames Valley (Heathrow)",11.3]
["EH",-3.4,2577,62.783218827656775,2448.15,59.644057886273941,"E Scotland (Leuchars)",8.8000000000000007]
["EN",-2.1,2255,54.938361837937926,2142.25,52.191443746041031,"South-eastern (Gatwick)",10.199999999999999]
["EX",-1.5,1858,45.266286605272136,1765.1,43.002972275008524,"South-western (Plymouth)",11]
["FK",-3.7,2577,62.783218827656775,2448.15,59.644057886273941,"E Scotland (Leuchars)",8.8000000000000007]
["FY",-2.2000000000000002,2388,58.178628855430496,2268.6,55.269697412658964,"North-western (Carlisle)",9.4]
["G",-3.9,2494,60.761097305462165,2369.2999999999997,57.723042440189047,"W Scotland (Abbotsinch)",9.1]
["GL",-3.3,2425,59.080056521950979,2303.75,56.126053695853436,"Midland (Elmdon)",9.8000000000000007]
["GU",-2.2000000000000002,2033,49.529795838814991,1931.35,47.053306046874241,"Thames Valley (Heathrow)",11.3]
["GY",-1,1800,43.853237830726499,1710,41.660575939190174,"South-eastern (Gatwick)",10.199999999999999]
["HA",-1.8,2033,49.529795838814991,1931.35,47.053306046874241,"Thames Valley (Heathrow)",11.3]
["HD",-3.5,2307,56.2052331530478,2191.65,53.39497149539541,"E Pennines (Finningley)",10]
["HG",-3.5,2307,56.2052331530478,2191.65,53.39497149539541,"E Pennines (Finningley)",10]
["HP",-2,2033,49.529795838814991,1931.35,47.053306046874241,"Thames Valley (Heathrow)",11.3]
["HR",-2,2425,59.080056521950979,2303.75,56.126053695853436,"Midland (Elmdon)",9.8000000000000007]
["HS",-1,1800,43.853237830726499,1710,41.660575939190174,"NW Scotland (Stornoway)",8.6]
["HU",-3,2307,56.2052331530478,2191.65,53.39497149539541,"E Pennines (Finningley)",10]
["HX",-2.5,2228,54.280563270477025,2116.6,51.566535106953175,"W Pennines (Ringway)",10]
["IG",-1.8,2033,49.529795838814991,1931.35,47.053306046874241,"Thames Valley (Heathrow)",11.3]
["IM",-2.5,2228,54.280563270477025,2116.6,51.566535106953175,"W Pennines (Ringway)",10]
["IP",-2.2999999999999998,2254,54.913998928031965,2141.2999999999997,52.168298981630358,"E Anglia (Honington)",10]
["IV",-4,2668,65.00024362909906,2534.6,61.750231447644104,"NE Scotland (Dyce)",8.5]
["JE",-1,1800,43.853237830726499,1710,41.660575939190174,"South-eastern (Gatwick)",10.199999999999999]
["KA",-3.7,2494,60.761097305462165,2369.2999999999997,57.723042440189047,"W Scotland (Abbotsinch)",9.1]
["KT",-1.8,2033,49.529795838814991,1931.35,47.053306046874241,"Thames Valley (Heathrow)",11.3]
["KW",-4.2,2668,65.00024362909906,2534.6,61.750231447644104,"NE Scotland (Dyce)",8.5]
["KY",-3.4,2577,62.783218827656775,2448.15,59.644057886273941,"E Scotland (Leuchars)",8.8000000000000007]
["L",-2.4,2228,54.280563270477025,2116.6,51.566535106953175,"W Pennines (Ringway)",10]
["LA",-2.2000000000000002,2388,58.178628855430496,2268.6,55.269697412658964,"North-western (Carlisle)",9.4]
["LD",-2.9,2161,52.648248306777759,2052.9499999999998,50.015835891438869,"Wales (Aberporth)",9.9]
["LE",-3,2425,59.080056521950979,2303.75,56.126053695853436,"Midland (Elmdon)",9.8000000000000007]
["LL",-3,2228,54.280563270477025,2116.6,51.566535106953175,"W Pennines (Ringway)",10]
["LN",-3,2307,56.2052331530478,2191.65,53.39497149539541,"E Pennines (Finningley)",10]
["LS",-2.5,2307,56.2052331530478,2191.65,53.39497149539541,"E Pennines (Finningley)",10]
["LU",-2.4,2033,{"$f":"SUM(C69/$D$1)","v":49.529795838814991},{"$f":"SUM(C69*95%)","v":1931.35},{"$f":"SUM(E69/41.046)","v":47.053306046874241},"Thames Valley (Heathrow)",11.3]
["M",-2.2000000000000002,2228,54.280563270477025,2116.6,51.566535106953175,"W Pennines (Ringway)",10]
["ME",-1.8,2033,49.529795838814991,1931.35,47.053306046874241,"Thames Valley (Heathrow)",11.3]
["MK",-3.4,2425,59.080056521950979,2303.75,56.126053695853436,"Midland (Elmdon)",9.8000000000000007]
["ML",-3.9,2494,60.761097305462165,2369.2999999999997,57.723042440189047,"W Scotland (Abbotsinch)",9.1]
["N",-1.8,2033,49.529795838814991,1931.35,47.053306046874241,"Thames Valley (Heathrow)",11.3]
["NE",-3.4,2370,57.740096477123231,2251.5,54.853091653267064,"North-eastern (Leeming)",9.4]
["NG",-3.2,2254,54.913998928031965,2141.2999999999997,52.168298981630358,"E Anglia (Honington)",10]
["NN",-3,2425,59.080056521950979,2303.75,56.126053695853436,"Midland (Elmdon)",9.8000000000000007]
["NP",-1.6,2425,59.080056521950979,2303.75,56.126053695853436,"Midland (Elmdon)",9.8000000000000007]
["NR",-2.4,2254,54.913998928031965,2141.2999999999997,52.168298981630358,"E Anglia (Honington)",10]
["NW",-1.8,2033,49.529795838814991,1931.35,47.053306046874241,"Thames Valley (Heathrow)",11.3]
["OL",-3.2,2228,54.280563270477025,2116.6,51.566535106953175,"W Pennines (Ringway)",10]
["OX",-2.4,2425,59.080056521950979,2303.75,56.126053695853436,"Midland (Elmdon)",9.8000000000000007]
["PA",-4,2494,60.761097305462165,2369.2999999999997,57.723042440189047,"W Scotland (Abbotsinch)",9.1]
["PE",-3,2254,54.913998928031965,2141.2999999999997,52.168298981630358,"E Anglia (Honington)",10]
["PH",-3.8,2668,65.00024362909906,2534.6,61.750231447644104,"NE Scotland (Dyce)",8.5]
["PL",-0.2,1858,45.266286605272136,1765.1,43.002972275008524,"South-western (Plymouth)",11]
["PO",-1.8,2224,54.18311163085319,2112.7999999999997,51.473956049310523,"Southern (Hurn)",10.4]
["PR",-3.2,2388,58.178628855430496,2268.6,55.269697412658964,"North-western (Carlisle)",9.4]
["RG",-2.2000000000000002,2033,49.529795838814991,1931.35,47.053306046874241,"Thames Valley (Heathrow)",11.3]
["RH",-1.9,2033,49.529795838814991,1931.35,47.053306046874241,"Thames Valley (Heathrow)",11.3]
["RM",-1.8,2033,49.529795838814991,1931.35,47.053306046874241,"Thames Valley (Heathrow)",11.3]
["S",-2.8,2228,54.280563270477025,2116.6,51.566535106953175,"W Pennines (Ringway)",10]
["SA",-1.6,2161,52.648248306777759,2052.9499999999998,50.015835891438869,"Wales (Aberporth)",9.9]
["SE",-1.8,2033,49.529795838814991,1931.35,47.053306046874241,"Thames Valley (Heathrow)",11.3]
["SG",-2,2033,49.529795838814991,1931.35,47.053306046874241,"Thames Valley (Heathrow)",11.3]
["SK",-2.9,2228,54.280563270477025,2116.6,51.566535106953175,"W Pennines (Ringway)",10]
["SL",-2,2033,49.529795838814991,1931.35,47.053306046874241,"Thames Valley (Heathrow)",11.3]
["SM",-1.8,2033,49.529795838814991,1931.35,47.053306046874241,"Thames Valley (Heathrow)",11.3]
["SN",-2.2000000000000002,2425,59.080056521950979,2303.75,56.126053695853436,"Midland (Elmdon)",9.8000000000000007]
["SO",-1.8,2224,54.18311163085319,2112.7999999999997,51.473956049310523,"Southern (Hurn)",10.4]
["SP",-1.8,2224,54.18311163085319,2112.7999999999997,51.473956049310523,"Southern (Hurn)",10.4]
["SR",-3.7,2370,57.740096477123231,2251.5,54.853091653267064,"North-eastern (Leeming)",9.4]
["SS",-2.2999999999999998,2033,49.529795838814991,1931.35,47.053306046874241,"Thames Valley (Heathrow)",11.3]
["ST",-3,2228,54.280563270477025,2116.6,51.566535106953175,"W Pennines (Ringway)",10]
["SW",-1.8,2033,49.529795838814991,1931.35,47.053306046874241,"Thames Valley (Heathrow)",11.3]
["SY",-3.3,2161,52.648248306777759,2052.9499999999998,50.015835891438869,"Wales (Aberporth)",9.9]
["TA",-2.1,1835,44.705939677435076,1743.25,42.47064269356332,"Severn Valley (Filton)",10.6]
["TD",-3.8,2483,60.493105296496616,2358.85,57.468450031671779,"Borders (Boulmer)",9]
["TF",-3.4,2425,59.080056521950979,2303.75,56.126053695853436,"Midland (Elmdon)",9.8000000000000007]
["TN",-3.2,2255,54.938361837937926,2142.25,52.191443746041031,"South-eastern (Gatwick)",10.199999999999999]
["TQ",-1.3,1858,45.266286605272136,1765.1,43.002972275008524,"South-western (Plymouth)",11]
["TR",-1.4,1858,45.266286605272136,1765.1,43.002972275008524,"South-western (Plymouth)",11]
["TS",-2.9,2370,57.740096477123231,2251.5,54.853091653267064,"North-eastern (Leeming)",9.4]
["TW",-1.8,2203,53.671490522828044,2092.85,50.987915996686645,"Thames Valley (Heathrow)",11.3]
["UB",-1.8,2203,53.671490522828044,2092.85,50.987915996686645,"Thames Valley (Heathrow)",11.3]
["W",-1.8,2203,53.671490522828044,2092.85,50.987915996686645,"Thames Valley (Heathrow)",11.3]
["WA",-2.1,2228,54.280563270477025,2116.6,51.566535106953175,"W Pennines (Ringway)",10]
["WC",-1.8,2203,53.671490522828044,2092.85,50.987915996686645,"Thames Valley (Heathrow)",11.3]
["WD",-2,2203,53.671490522828044,2092.85,50.987915996686645,"Thames Valley (Heathrow)",11.3]
["WF",-2.5,2307,56.2052331530478,2191.65,53.39497149539541,"E Pennines (Finningley)",10]
["WN",-2.1,2228,54.280563270477025,2116.6,51.566535106953175,"W Pennines (Ringway)",10]
["WR",-3.3,2425,59.080056521950979,2303.75,56.126053695853436,"Midland (Elmdon)",9.8000000000000007]
["WS",-3.4,2425,59.080056521950979,2303.75,56.126053695853436,"Midland (Elmdon)",9.8000000000000007]
["WV",-3.4,2425,59.080056521950979,2303.75,56.126053695853436,"Midland (Elmdon)",9.8000000000000007]
["YO",-3.7,2307,56.2052331530478,2191.65,53.39497149539541,"E Pennines (Finningley)",10]
["ZE",-3,2668,65.00024362909906,2534.6,61.750231447644104,"NE Scotland (Dyce)",8.5]

{"sheet":"floor u values","index":1,"n_rows":114,"n_cols":19,"rows_kept":114,"cut":false,"hidden":true,"merged":[]}
[null,"Room Name","External Wall","Short length (depth)","long length","Insulation","Type of floor","External walls","insulation select solid","insulation select suspended",null,{"$f":"S5","v":"Two adjacent"},{"$f":"S6","v":"Two opposite"},{"$f":"S3","v":"3 edges (short single)"},{"$f":"S2","v":"3 edges (long single)"},{"$f":"S4","v":"One edge"}]
[1,{"$f":"'Design Details'!B87","v":"Bed/Study "},{"$f":"SUM('1'!$C$24:$C$26)","v":0},{"$f":"'1'!$M$24","v":0},{"$f":"'1'!$O$24","v":0},{"$f":"IF('1'!$C$3=\"Ground Floor\",'Design Details'!$E$45,IF('1'!$C$3=\"Single Storey\",'Design Details'!$E$75,0))","v":0},{"$f":"'1'!$M$20","v":"n/a"},{"$f":"'1'!$M$22","v":0},{"$f":"IF(F2=0,3,IF(F2=25,4,IF(F2=50,5,IF(F2=75,6,IF(F2=100,7,0)))))","v":3},{"$f":"IF(F2=0,9,IF(F2=25,10,IF(F2=50,11,IF(F2=75,12,IF(F2=100,13,0)))))","v":9},{"$f":"IF(H2=$L$1,L2,IF(H2=$M$1,M2,IF(H2=$N$1,N2,IF(H2=$O$1,O2,IF(H2=$P$1,P2,0)))))","v":0},{"$f":"VLOOKUP(C2,$C$36:$O$44,IF(G2=C33,I2,J2),TRUE)","v":{"$error":"#N/A"}},{"$f":"VLOOKUP(ROUNDDOWN(D2,0),$C$48:$O$53,IF(G2=$C$33,I2,J2),TRUE)","v":{"$error":"#N/A"}},{"$f":"IF(D2<4,VLOOKUP(E2,$C$58:$O$61,IF(G2=$C$33,I2,J2),TRUE),IF(AND(D2>=4,D2<5),VLOOKUP(E2,$C$62:$O$63,IF(G2=$C$33,I2,J2),TRUE),IF(AND(D2>=5,D2<6),VLOOKUP(E2,$C$64:$O$65,IF(G2=$C$33,I2,J2),TRUE),IF(D2>6,VLOOKUP(E2,$C$66:$O$67,IF(G2=$C$33,I2,J2),TRUE),0))))","v":{"$error":"#N/A"}},{"$f":"IF(D2<4,VLOOKUP(E2,$C$71:$O$74,IF(G2=$C$33,I2,J2),TRUE),IF(AND(D2>=4,D2<5),VLOOKUP(E2,$C$75:$O$77,IF(G2=$C$33,I2,J2),TRUE),IF(AND(D2>=5,D2<6),VLOOKUP(E2,$C$78:$O$80,IF(G2=$C$33,I2,J2),TRUE),IF(D2>6,VLOOKUP(E2,$C$81:$O$82,IF(G2=$C$33,I2,J2),TRUE),0))))","v":{"$error":"#N/A"}},{"$f":"VLOOKUP(D2,$C$86:$O$91,IF(G2=$C$33,I2,J2),TRUE)","v":{"$error":"#N/A"}},null,null,"3 edges (long single)"]
[2,{"$f":"'Design Details'!B88","v":" "},{"$f":"SUM('2'!$C$24:$C$26)","v":0},{"$f":"'2'!$M$24","v":0},{"$f":"'2'!$O$24","v":0},{"$f":"IF('2'!$C$3=\"Ground Floor\",'Design Details'!$E$45,IF('2'!$C$3=\"Single Storey\",'Design Details'!$E$75,0))","v":0},{"$f":"'2'!$M$20","v":"n/a"},{"$f":"'2'!$M$22","v":0},{"$f":"IF(F3=0,3,IF(F3=25,4,IF(F3=50,5,IF(F3=75,6,IF(F3=100,7,0)))))","v":3},{"$f":"IF(F3=0,9,IF(F3=25,10,IF(F3=50,11,IF(F3=75,12,IF(F3=100,13,0)))))","v":9},{"$f":"IF(H3=$L$1,L3,IF(H3=$M$1,M3,IF(H3=$N$1,N3,IF(H3=$O$1,O3,IF(H3=$P$1,P3,0)))))","v":0},{"$f":"VLOOKUP(C3,$C$36:$O$44,IF(G3=C34,I3,J3),TRUE)","v":{"$error":"#N/A"}},{"$f":"VLOOKUP(ROUNDDOWN(D3,0),$C$48:$O$53,IF(G3=$C$33,I3,J3),TRUE)","v":{"$error":"#N/A"}},{"$f":"IF(D3<4,VLOOKUP(E3,$C$58:$O$61,IF(G3=$C$33,I3,J3),TRUE),IF(AND(D3>=4,D3<5),VLOOKUP(E3,$C$62:$O$63,IF(G3=$C$33,I3,J3),TRUE),IF(AND(D3>=5,D3<6),VLOOKUP(E3,$C$64:$O$65,IF(G3=$C$33,I3,J3),TRUE),IF(D3>6,VLOOKUP(E3,$C$66:$O$67,IF(G3=$C$33,I3,J3),TRUE),0))))","v":{"$error":"#N/A"}},{"$f":"IF(D3<4,VLOOKUP(E3,$C$71:$O$74,IF(G3=$C$33,I3,J3),TRUE),IF(AND(D3>=4,D3<5),VLOOKUP(E3,$C$75:$O$77,IF(G3=$C$33,I3,J3),TRUE),IF(AND(D3>=5,D3<6),VLOOKUP(E3,$C$78:$O$80,IF(G3=$C$33,I3,J3),TRUE),IF(D3>6,VLOOKUP(E3,$C$81:$O$82,IF(G3=$C$33,I3,J3),TRUE),0))))","v":{"$error":"#N/A"}},{"$f":"VLOOKUP(D3,$C$86:$O$91,IF(G3=$C$33,I3,J3),TRUE)","v":{"$error":"#N/A"}},null,null,"3 edges (short single)"]
[3,{"$f":"'Design Details'!B89","v":" "},{"$f":"SUM('3'!$C$24:$C$26)","v":0},{"$f":"'3'!$M$24","v":0},{"$f":"'3'!$O$24","v":0},{"$f":"IF('3'!$C$3=\"Ground Floor\",'Design Details'!$E$45,IF('3'!$C$3=\"Single Storey\",'Design Details'!$E$75,0))","v":0},{"$f":"'3'!$M$20","v":"n/a"},{"$f":"'3'!$M$22","v":0},3,9,0,{"$error":"#N/A"},{"$error":"#N/A"},{"$error":"#N/A"},{"$error":"#N/A"},{"$error":"#N/A"},null,null,"One edge"]
[4,{"$f":"'Design Details'!B90","v":" "},{"$f":"SUM('4'!$C$24:$C$26)","v":0},{"$f":"'4'!$M$24","v":0},{"$f":"'4'!$O$24","v":0},{"$f":"IF('4'!$C$3=\"Ground Floor\",'Design Details'!$E$45,IF('4'!$C$3=\"Single Storey\",'Design Details'!$E$75,0))","v":0},{"$f":"'4'!$M$20","v":"n/a"},{"$f":"'4'!$M$22","v":0},3,9,0,{"$error":"#N/A"},{"$error":"#N/A"},{"$error":"#N/A"},{"$error":"#N/A"},{"$error":"#N/A"},null,null,"Two adjacent"]
[5,{"$f":"'Design Details'!B91","v":" "},{"$f":"SUM('5'!$C$24:$C$26)","v":0},{"$f":"'5'!$M$24","v":0},{"$f":"'5'!$O$24","v":0},{"$f":"IF('5'!$C$3=\"Ground Floor\",'Design Details'!$E$45,IF('5'!$C$3=\"Single Storey\",'Design Details'!$E$75,0))","v":0},{"$f":"'5'!$M$20","v":"n/a"},{"$f":"'5'!$M$22","v":0},3,9,0,{"$error":"#N/A"},{"$error":"#N/A"},{"$error":"#N/A"},{"$error":"#N/A"},{"$error":"#N/A"},null,null,"Two opposite"]
[6,{"$f":"'Design Details'!B92","v":" "},{"$f":"SUM('6'!$C$24:$C$26)","v":0},{"$f":"'6'!$M$24","v":0},{"$f":"'6'!$O$24","v":0},{"$f":"IF('6'!$C$3=\"Ground Floor\",'Design Details'!$E$45,IF('6'!$C$3=\"Single Storey\",'Design Details'!$E$75,0))","v":0},{"$f":"'6'!$M$20","v":"n/a"},{"$f":"'6'!$M$22","v":0},3,9,0,{"$error":"#N/A"},{"$error":"#N/A"},{"$error":"#N/A"},{"$error":"#N/A"},{"$error":"#N/A"}]
[7,{"$f":"'Design Details'!B93","v":" "},{"$f":"SUM('7'!$C$24:$C$26)","v":0},{"$f":"'7'!$M$24","v":0},{"$f":"'7'!$O$24","v":0},{"$f":"IF('7'!$C$3=\"Ground Floor\",'Design Details'!$E$45,IF('7'!$C$3=\"Single Storey\",'Design Details'!$E$75,0))","v":0},{"$f":"'7'!$M$20","v":"n/a"},{"$f":"'7'!$M$22","v":0},3,9,0,{"$error":"#N/A"},{"$error":"#N/A"},{"$error":"#N/A"},{"$error":"#N/A"},{"$error":"#N/A"}]
[8,{"$f":"'Design Details'!B94","v":" "},{"$f":"SUM('8'!$C$24:$C$26)","v":0},{"$f":"'8'!$M$24","v":0},{"$f":"'8'!$O$24","v":0},{"$f":"IF('8'!$C$3=\"Ground Floor\",'Design Details'!$E$45,IF('8'!$C$3=\"Single Storey\",'Design Details'!$E$75,0))","v":0},{"$f":"'8'!$M$20","v":"n/a"},{"$f":"'8'!$M$22","v":0},3,9,0,{"$error":"#N/A"},{"$error":"#N/A"},{"$error":"#N/A"},{"$error":"#N/A"},{"$error":"#N/A"}]
[9,{"$f":"'Design Details'!B95","v":" "},{"$f":"SUM('9'!$C$24:$C$26)","v":0},{"$f":"'9'!$M$24","v":0},{"$f":"'9'!$O$24","v":0},{"$f":"IF('9'!$C$3=\"Ground Floor\",'Design Details'!$E$45,IF('9'!$C$3=\"Single Storey\",'Design Details'!$E$75,0))","v":0},{"$f":"'9'!$M$20","v":"n/a"},{"$f":"'9'!$M$22","v":0},3,9,0,{"$error":"#N/A"},{"$error":"#N/A"},{"$error":"#N/A"},{"$error":"#N/A"},{"$error":"#N/A"}]
[10,{"$f":"'Design Details'!B96","v":" "},{"$f":"SUM('10'!$C$24:$C$26)","v":0},{"$f":"'10'!$M$24","v":0},{"$f":"'10'!$O$24","v":0},{"$f":"IF('10'!$C$3=\"Ground Floor\",'Design Details'!$E$45,IF('10'!$C$3=\"Single Storey\",'Design Details'!$E$75,0))","v":0},{"$f":"'10'!$M$20","v":"n/a"},{"$f":"'10'!$M$22","v":0},3,9,0,{"$error":"#N/A"},{"$error":"#N/A"},{"$error":"#N/A"},{"$error":"#N/A"},{"$error":"#N/A"}]
[11,{"$f":"'Design Details'!B97","v":" "},{"$f":"SUM('11'!$C$24:$C$26)","v":0},{"$f":"'11'!$M$24","v":0},{"$f":"'11'!$O$24","v":0},{"$f":"IF('11'!$C$3=\"Ground Floor\",'Design Details'!$E$45,IF('11'!$C$3=\"Single Storey\",'Design Details'!$E$75,0))","v":0},{"$f":"'11'!$M$20","v":"n/a"},{"$f":"'11'!$M$22","v":0},3,9,0,{"$error":"#N/A"},{"$error":"#N/A"},{"$error":"#N/A"},{"$error":"#N/A"},{"$error":"#N/A"}]
[12,{"$f":"'Design Details'!B98","v":" "},{"$f":"SUM('12'!$C$24:$C$26)","v":0},{"$f":"'12'!$M$24","v":0},{"$f":"'12'!$O$24","v":0},{"$f":"IF('12'!$C$3=\"Ground Floor\",'Design Details'!$E$45,IF('12'!$C$3=\"Single Storey\",'Design Details'!$E$75,0))","v":0},{"$f":"'12'!$M$20","v":"n/a"},{"$f":"'12'!$M$22","v":0},3,9,0,{"$error":"#N/A"},{"$error":"#N/A"},{"$error":"#N/A"},{"$error":"#N/A"},{"$error":"#N/A"}]
[13,{"$f":"'Design Details'!B99","v":" "},{"$f":"SUM('13'!$C$24:$C$26)","v":0},{"$f":"'13'!$M$24","v":0},{"$f":"'13'!$O$24","v":0},{"$f":"IF('13'!$C$3=\"Ground Floor\",'Design Details'!$E$45,IF('13'!$C$3=\"Single Storey\",'Design Details'!$E$75,0))","v":0},{"$f":"'13'!$M$20","v":"n/a"},{"$f":"'13'!$M$22","v":0},3,9,0,{"$error":"#N/A"},{"$error":"#N/A"},{"$error":"#N/A"},{"$error":"#N/A"},{"$error":"#N/A"}]
[14,{"$f":"'Design Details'!B100","v":" "},{"$f":"SUM('14'!$C$24:$C$26)","v":0},{"$f":"'14'!$M$24","v":0},{"$f":"'14'!$O$24","v":0},{"$f":"IF('14'!$C$3=\"Ground Floor\",'Design Details'!$E$45,IF('14'!$C$3=\"Single Storey\",'Design Details'!$E$75,0))","v":0},{"$f":"'14'!$M$20","v":"n/a"},{"$f":"'14'!$M$22","v":0},3,9,0,{"$error":"#N/A"},{"$error":"#N/A"},{"$error":"#N/A"},{"$error":"#N/A"},{"$error":"#N/A"}]
[15,{"$f":"'Design Details'!B101","v":" "},{"$f":"SUM('15'!$C$24:$C$26)","v":0},{"$f":"'15'!$M$24","v":0},{"$f":"'15'!$O$24","v":0},{"$f":"IF('15'!$C$3=\"Ground Floor\",'Design Details'!$E$45,IF('15'!$C$3=\"Single Storey\",'Design Details'!$E$75,0))","v":0},{"$f":"'15'!$M$20","v":"n/a"},{"$f":"'15'!$M$22","v":0},3,9,0,{"$error":"#N/A"},{"$error":"#N/A"},{"$error":"#N/A"},{"$error":"#N/A"},{"$error":"#N/A"}]
[16,{"$f":"'Design Details'!B102","v":" "},{"$f":"SUM('16'!$C$24:$C$26)","v":0},{"$f":"'16'!$M$24","v":0},{"$f":"'16'!$O$24","v":0},{"$f":"IF('16'!$C$3=\"Ground Floor\",'Design Details'!$E$45,IF('16'!$C$3=\"Single Storey\",'Design Details'!$E$75,0))","v":0},{"$f":"'16'!$M$20","v":"n/a"},{"$f":"'16'!$M$22","v":0},3,9,0,{"$error":"#N/A"},{"$error":"#N/A"},{"$error":"#N/A"},{"$error":"#N/A"},{"$error":"#N/A"}]
[17,{"$f":"'Design Details'!B103","v":" "},{"$f":"SUM('17'!$C$24:$C$26)","v":0},{"$f":"'17'!$M$24","v":0},{"$f":"'17'!$O$24","v":0},{"$f":"IF('17'!$C$3=\"Ground Floor\",'Design Details'!$E$45,IF('17'!$C$3=\"Single Storey\",'Design Details'!$E$75,0))","v":0},{"$f":"'17'!$M$20","v":"n/a"},{"$f":"'17'!$M$22","v":0},3,9,0,{"$error":"#N/A"},{"$error":"#N/A"},{"$error":"#N/A"},{"$error":"#N/A"},{"$error":"#N/A"}]
[18,{"$f":"'Design Details'!B104","v":" "},{"$f":"SUM('18'!$C$24:$C$26)","v":0},{"$f":"'18'!$M$24","v":0},{"$f":"'18'!$O$24","v":0},{"$f":"IF('18'!$C$3=\"Ground Floor\",'Design Details'!$E$45,IF('18'!$C$3=\"Single Storey\",'Design Details'!$E$75,0))","v":0},{"$f":"'18'!$M$20","v":"n/a"},{"$f":"'18'!$M$22","v":0},3,9,0,{"$error":"#N/A"},{"$error":"#N/A"},{"$error":"#N/A"},{"$error":"#N/A"},{"$error":"#N/A"}]
[19,{"$f":"'Design Details'!B105","v":" "},{"$f":"SUM('19'!$C$24:$C$26)","v":0},{"$f":"'19'!$M$24","v":0},{"$f":"'19'!$O$24","v":0},{"$f":"IF('19'!$C$3=\"Ground Floor\",'Design Details'!$E$45,IF('19'!$C$3=\"Single Storey\",'Design Details'!$E$75,0))","v":0},{"$f":"'19'!$M$20","v":"n/a"},{"$f":"'19'!$M$22","v":0},3,9,0,{"$error":"#N/A"},{"$error":"#N/A"},{"$error":"#N/A"},{"$error":"#N/A"},{"$error":"#N/A"}]
[20,{"$f":"'Design Details'!B106","v":" "},{"$f":"SUM('20'!$C$24:$C$26)","v":0},{"$f":"'20'!$M$24","v":0},{"$f":"'20'!$O$24","v":0},{"$f":"IF('20'!$C$3=\"Ground Floor\",'Design Details'!$E$45,IF('20'!$C$3=\"Single Storey\",'Design Details'!$E$75,0))","v":0},{"$f":"'20'!$M$20","v":"n/a"},{"$f":"'20'!$M$22","v":0},3,9,0,{"$error":"#N/A"},{"$error":"#N/A"},{"$error":"#N/A"},{"$error":"#N/A"},{"$error":"#N/A"}]
[21,{"$f":"'Design Details'!B107","v":" "},{"$f":"SUM('21'!$C$24:$C$26)","v":0},{"$f":"'21'!$M$24","v":0},{"$f":"'21'!$O$24","v":0},{"$f":"IF('21'!$C$3=\"Ground Floor\",'Design Details'!$E$45,IF('21'!$C$3=\"Single Storey\",'Design Details'!$E$75,0))","v":0},{"$f":"'21'!$M$20","v":"n/a"},{"$f":"'21'!$M$22","v":0},3,9,0,{"$error":"#N/A"},{"$error":"#N/A"},{"$error":"#N/A"},{"$error":"#N/A"},{"$error":"#N/A"}]
[22,{"$f":"'Design Details'!B108","v":" "},{"$f":"SUM('22'!$C$24:$C$26)","v":0},{"$f":"'22'!$M$24","v":0},{"$f":"'22'!$O$24","v":0},{"$f":"IF('22'!$C$3=\"Ground Floor\",'Design Details'!$E$45,IF('22'!$C$3=\"Single Storey\",'Design Details'!$E$75,0))","v":0},{"$f":"'22'!$M$20","v":"n/a"},{"$f":"'22'!$M$22","v":0},3,9,0,{"$error":"#N/A"},{"$error":"#N/A"},{"$error":"#N/A"},{"$error":"#N/A"},{"$error":"#N/A"}]
[23,{"$f":"'Design Details'!B109","v":" "},{"$f":"SUM('23'!$C$24:$C$26)","v":0},{"$f":"'23'!$M$24","v":0},{"$f":"'23'!$O$24","v":0},{"$f":"IF('23'!$C$3=\"Ground Floor\",'Design Details'!$E$45,IF('23'!$C$3=\"Single Storey\",'Design Details'!$E$75,0))","v":0},{"$f":"'23'!$M$20","v":"n/a"},{"$f":"'23'!$M$22","v":0},3,9,0,{"$error":"#N/A"},{"$error":"#N/A"},{"$error":"#N/A"},{"$error":"#N/A"},{"$error":"#N/A"}]
[24,{"$f":"'Design Details'!B110","v":" "},{"$f":"SUM('24'!$C$24:$C$26)","v":0},{"$f":"'24'!$M$24","v":0},{"$f":"'24'!$O$24","v":0},{"$f":"IF('24'!$C$3=\"Ground Floor\",'Design Details'!$E$45,IF('24'!$C$3=\"Single Storey\",'Design Details'!$E$75,0))","v":0},{"$f":"'24'!$M$20","v":"n/a"},{"$f":"'24'!$M$22","v":0},3,9,0,{"$error":"#N/A"},{"$error":"#N/A"},{"$error":"#N/A"},{"$error":"#N/A"},{"$error":"#N/A"}]
[25,{"$f":"'Design Details'!B111","v":" "},{"$f":"SUM('25'!$C$24:$C$26)","v":0},{"$f":"'25'!$M$24","v":0},{"$f":"'25'!$O$24","v":0},{"$f":"IF('25'!$C$3=\"Ground Floor\",'Design Details'!$E$45,IF('25'!$C$3=\"Single Storey\",'Design Details'!$E$75,0))","v":0},{"$f":"'25'!$M$20","v":"n/a"},{"$f":"'25'!$M$22","v":0},3,9,0,{"$error":"#N/A"},{"$error":"#N/A"},{"$error":"#N/A"},{"$error":"#N/A"},{"$error":"#N/A"}]
[26,{"$f":"'Design Details'!B112","v":" "},{"$f":"SUM('26'!$C$24:$C$26)","v":0},{"$f":"'26'!$M$24","v":0},{"$f":"'26'!$O$24","v":0},{"$f":"IF('26'!$C$3=\"Ground Floor\",'Design Details'!$E$45,IF('26'!$C$3=\"Single Storey\",'Design Details'!$E$75,0))","v":0},{"$f":"'26'!$M$20","v":"n/a"},{"$f":"'26'!$M$22","v":0},3,9,0,{"$error":"#N/A"},{"$error":"#N/A"},{"$error":"#N/A"},{"$error":"#N/A"},{"$error":"#N/A"}]
[27,{"$f":"'Design Details'!B113","v":" "},{"$f":"SUM('27'!$C$24:$C$26)","v":0},{"$f":"'27'!$M$24","v":0},{"$f":"'27'!$O$24","v":0},{"$f":"IF('27'!$C$3=\"Ground Floor\",'Design Details'!$E$45,IF('27'!$C$3=\"Single Storey\",'Design Details'!$E$75,0))","v":0},{"$f":"'27'!$M$20","v":"n/a"},{"$f":"'27'!$M$22","v":0},3,9,0,{"$error":"#N/A"},{"$error":"#N/A"},{"$error":"#N/A"},{"$error":"#N/A"},{"$error":"#N/A"}]
[28,{"$f":"'Design Details'!B114","v":" "},{"$f":"SUM('28'!$C$24:$C$26)","v":0},{"$f":"'28'!$M$24","v":0},{"$f":"'28'!$O$24","v":0},{"$f":"IF('28'!$C$3=\"Ground Floor\",'Design Details'!$E$45,IF('28'!$C$3=\"Single Storey\",'Design Details'!$E$75,0))","v":0},{"$f":"'28'!$M$20","v":"n/a"},{"$f":"'28'!$M$22","v":0},3,9,0,{"$error":"#N/A"},{"$error":"#N/A"},{"$error":"#N/A"},{"$error":"#N/A"},{"$error":"#N/A"}]
[29,{"$f":"'Design Details'!B115","v":" "},{"$f":"SUM('29'!$C$24:$C$26)","v":0},{"$f":"'29'!$M$24","v":0},{"$f":"'29'!$O$24","v":0},{"$f":"IF('29'!$C$3=\"Ground Floor\",'Design Details'!$E$45,IF('29'!$C$3=\"Single Storey\",'Design Details'!$E$75,0))","v":0},{"$f":"'29'!$M$20","v":"n/a"},{"$f":"'29'!$M$22","v":0},3,9,0,{"$error":"#N/A"},{"$error":"#N/A"},{"$error":"#N/A"},{"$error":"#N/A"},{"$error":"#N/A"}]
[30,{"$f":"'Design Details'!B116","v":" "},{"$f":"SUM('30'!$C$24:$C$26)","v":0},{"$f":"'30'!$M$24","v":0},{"$f":"'30'!$O$24","v":0},{"$f":"IF('30'!$C$3=\"Ground Floor\",'Design Details'!$E$45,IF('30'!$C$3=\"Single Storey\",'Design Details'!$E$75,0))","v":0},{"$f":"'30'!$M$20","v":"n/a"},{"$f":"'30'!$M$22","v":0},3,9,0,{"$error":"#N/A"},{"$error":"#N/A"},{"$error":"#N/A"},{"$error":"#N/A"},{"$error":"#N/A"}]
[]
[null,null,"Solid Floor (in contact with ground)",null,null,null,null,null,null,"Suspended Floors"]
[null,null,"Table 6.9 (Two adjacent edges exposed)",null,null,null,null,null,null,"Table 6.12 (Two adjacent edges exposed)"]
[null,null,"a+b(m)",null,0,25,50,75,100,null,0,25,50,75,100]
[null,"\"5-6",5,null,1.02,0.57999999999999996,0.41,0.31,0.26,null,1.05,0.59,0.41,0.32,0.26]
[null,"\"6-7",6,null,0.9,0.54,0.39,0.3,0.25,null,0.93,0.55000000000000004,0.39,0.3,0.25]
[null,"\"7-8",7,null,0.82,0.51,0.37,0.28999999999999998,0.24,null,0.86,0.53,0.38,0.3,0.24]
[null,"\"8-9",8,null,0.76,0.49,0.36,0.28000000000000003,0.23,null,0.79,0.5,0.37,0.28999999999999998,0.24]
[null,"\"9-10",9,null,0.7,0.46,0.34,0.27,0.23,null,0.75,0.48,0.36,0.28000000000000003,0.23]
[null,"\"10-12",10,null,0.6,0.41,0.32,0.26,0.22,null,0.65,0.44,0.33,0.27,0.22]
[null,"\"12-14",12,null,0.52,0.38,0.28999999999999998,0.24,0.21,null,0.57999999999999996,0.41,0.31,0.25,0.21]
[null,"\"14-17",14,null,0.45,0.34,0.27,0.23,0.19,null,0.71,0.37,0.28999999999999998,0.24,0.2]
[null,"\"17-20",17,null,0.39,0.3,0.25,0.21,0.18,null,0.43,0.33,0.26,0.22,0.19]
[]
[null,null,"Table 6.10c (Two opposite edges exposed)",null,null,null,null,"a",null,"Table 6.10c (Two opposite edges exposed)",null,null,null,null,"a"]
[null,null,"a (m)",null,0,25,50,75,100,null,0,25,50,75,100]
[null,"\"2-3",2,null,1.1499999999999999,0.62,0.43,0.32,0.26,null,1.1000000000000001,0.61,0.42,0.32,0.26]
[null,"\"3-4",3,null,0.9,0.54,0.39,0.3,0.25,null,0.95,0.56000000000000005,0.4,0.31,0.25]
[null,"\"4-5",4,null,0.73,0.47,0.35,0.28000000000000003,0.23,null,0.83,0.51,0.37,0.28999999999999998,0.23]
[null,"\"5-6",5,null,0.62,0.43,0.32,0.26,0.22,null,0.74,0.48,0.35,0.26,0.23]
[null,"\"6-8",6,null,0.55000000000000004,0.39,0.3,0.25,0.21,null,0.67,0.45,0.34,0.27,0.23]
[null,"\"8-10",8,null,0.44,0.33,0.27,0.22,0.19,null,0.55000000000000004,0.39,0.3,0.25,0.21]
[]
[]
[null,null,"Table 6.10a (Three adjacent edges exposed)",null,null,null,null,"s",null,"Table 6.13a (Three adjacent edges exposed)",null,null,null,null,"s"]
[null,"short","long",null,0,25,50,75,100,null,0,25,50,75,100]
[null,3,3,null,1.1499999999999999,0.62,0.43,0.32,0.26,null,1.1499999999999999,0.62,0.43,0.32,0.26]
[null,3,4,null,1.03,0.57999999999999996,0.41,0.31,0.26,null,1.03,0.57999999999999996,0.41,0.31,0.26]
[null,3,6,null,1,0.56999999999999995,0.4,0.31,0.25,null,1,0.56999999999999995,0.4,0.31,0.25]
[null,3,8,null,0.96,0.56000000000000005,0.4,0.31,0.25,null,0.99,0.56000000000000005,0.4,0.31,0.25]
[null,4,4,null,0.95,0.56000000000000005,0.4,0.31,0.25,null,0.95,0.56000000000000005,0.4,0.31,0.25]
[null,4,6,null,0.85,0.52,0.38,0.28999999999999998,0.24,null,0.87,0.53,0.38,0.3,0.24]
[null,5,5,null,0.81,0.51,0.37,0.28999999999999998,0.24,null,0.83,0.51,0.37,0.28999999999999998,0.24]
[null,5,7,null,0.74,0.48,0.35,0.28000000000000003,0.23,null,0.8,0.5,0.37,0.28999999999999998,0.24]
[null,6,6,null,0.71,0.46,0.35,0.28000000000000003,0.23,null,0.75,0.48,0.36,0.28000000000000003,0.23]
[null,6,8,null,0.65,0.44,0.33,0.27,0.22,null,0.72,0.47,0.35,0.28000000000000003,0.23]
[]
[null,null,"Table 6.10b (Three adjacent edges exposed)",null,null,null,null,"L",null,"Table 6.13b (Three adjacent edges exposed)",null,null,null,null,"L"]
[null,"short","long",null,0,25,50,75,100,null,0,25,50,75,100]
[null,3,3,null,1.05,0.59,0.41,0.32,0.26,null,1,0.56999999999999995,0.4,0.31,0.25]
[null,3,5,null,0.9,0.54,0.39,0.3,0.25,null,0.85,0.52,0.38,0.28999999999999998,0.24]
[null,3,7,null,0.85,0.52,0.38,0.28999999999999998,0.24,null,0.8,0.5,0.37,0.28999999999999998,0.24]
[null,3,9,null,0.77,0.49,0.36,0.28000000000000003,0.24,null,0.77,0.49,0.36,0.28000000000000003,0.24]
[null,4,4,null,0.95,0.56000000000000005,0.4,0.31,0.25,null,0.85,0.52,0.38,0.28999999999999998,0.24]
[null,4,6,null,0.87,0.53,0.38,0.3,0.24,null,0.79,0.5,0.37,0.28999999999999998,0.24]
[null,4,8,null,0.76,0.49,0.36,0.28000000000000003,0.24,null,0.73,0.47,0.35,0.28000000000000003,0.23]
[null,5,5,null,0.83,0.51,0.37,0.28999999999999998,0.24,null,0.77,0.49,0.36,0.28000000000000003,0.24]
[null,5,7,null,0.77,0.49,0.36,0.28000000000000003,0.24,null,0.72,0.47,0.35,0.28000000000000003,0.23]
[null,5,9,null,0.68,0.45,0.34,0.27,0.23,null,0.66,0.44,0.33,0.27,0.23]
[null,6,6,null,0.75,0.48,0.36,0.28000000000000003,0.23,null,0.69,0.46,0.34,0.27,0.23]
[null,6,8,null,0.7,0.46,0.34,0.27,0.23,null,0.67,0.45,0.34,0.27,0.23]
[]
[null,null,"Table 6.11 (One adjacent edge exposed)",null,null,null,null,"a",null,"Table 6.14b (One adjacent edge exposed)",null,null,null,null,"a"]
[null,null,"a(m)",null,0,25,50,75,100,null,0,25,50,75,100]
[null,"\"1.25-1.75",1.25,null,0.9,0.54,0.39,0.3,0.25,null,1.1000000000000001,0.61,0.42,0.32,0.26]
[null,"\"1.75-2",1.75,null,0.73,0.47,0.35,0.28000000000000003,0.23,null,0.83,0.51,0.37,0.28999999999999998,0.24]
[null,"\"2-3",2,null,0.55000000000000004,0.39,0.3,0.25,0.21,null,0.67,0.45,0.34,0.27,0.23]
[null,"\"3-5",3,null,0.45,0.34,0.27,0.23,0.19,null,0.56000000000000005,0.4,0.31,0.25,0.21]
[null,"\"5-7",5,null,0.38,0.3,0.24,0.21,0.18,null,0.48,0.35,0.28000000000000003,0.23,0.2]
[null,"\"7-10",7,null,0.28000000000000003,0.23,0.2,0.17,0.15,null,0.38,0.3,0.24,0.21,0.19]
[]
[]
[null,null,null,null,null,null,null,null,null,"Menu_floor_construction","menu no","col"]
[null,null,null,null,null,null,null,null,null,"Solid floor - Enter a U-value",0]
[null,null,null,null,null,null,null,null,null,"Suspended floor - Enter U-value",0]
[null,null,null,null,null,null,null,null,null,"Solid no insulation",1,3]
[null,null,null,null,null,null,null,null,null,"Solid 25mm insulation",2,4]
[null,null,null,null,null,null,null,null,null,"Solid 50mm insulation",3,5]
[null,null,null,null,null,null,null,null,null,"Solid 75mm insulation",4,6]
[null,null,null,null,null,null,null,null,null,"Solid 100mm insulation",5,7]
[null,null,null,null,null,null,null,null,null,"Suspended no insulation",6,10]
[null,null,null,null,null,null,null,null,null,"Suspended 25mm insulation",7,11]
[null,null,null,null,null,null,null,null,null,"Suspended 50mm insulation",8,12]
[null,null,null,null,null,null,null,null,null,"Suspended 75mm insulation",9,13]
[null,null,null,null,null,null,null,null,null,"Suspended 100mm insulation",10,14]
[]
[null,null,null,null,null,null,null,null,null,"Menu_floor_exposed_sides"]
[null,null,null,null,null,null,null,null,null,"One edge (short)",1]
[null,null,null,null,null,null,null,null,null,"One edge (long)",2]
[null,null,null,null,null,null,null,null,null,"Two adjacent edges",3]
[null,null,null,null,null,null,null,null,null,"Two opposite edges",4]
[null,null,null,null,null,null,null,null,null,"Three edges (short outer edge)",5]
[null,null,null,null,null,null,null,null,null,"Three edges (long outer edge)",6]

{"sheet":"Scope","index":2,"n_rows":26,"n_cols":3,"rows_kept":26,"cut":false,"hidden":false,"merged":[[25,2,25,3],[4,2,5,5],[7,2,8,6],[10,2,14,6],[15,2,16,6],[18,2,22,6],[23,2,23,6]]}
[]
[]
[null,null,"MCS Heat Pump Heat Loss Calculator"]
[]
[null,null,"This spreadsheet provides a method for carrying out the design calculations required by MIS 3005. Its use is optional and installers may choose to use other calculations or tools provided they comply with the requirements of MIS 3005."]
[]
[]
[null,null,"The calculator is designed for use as an Excel Macro Enabled workbook. MCS welcomes any suggestions for improvement or notification of errors. Please submit feedback to feedback@mcscertified.com "]
[]
[]
[null,null,"Please note the following:\n-the spreadsheet is locked and data can only be entered into editable cells\n-cells shown in grey contain default values and can be edited if the user wants to over-ride the default values\n-cells shown in light blue contain are locked and cannot be edited"]
[]
[]
[]
[]
[null,null,"A copy of the MCS Compliance Certificate is also incorporated and populated using the data from the heat loss calculations. In order to upload the compliance certificate to the MCS Installation Database, select the tab and save as a PDF.  "]
[]
[]
[null,null,"Whilst all reasonable care has been taken in the preparation of this document it is provided on an “as is” basis without any guarantee of completeness or accuracy. The MCS Service Company Ltd and The MCS Charitable Foundation (and any related parties) do not accept liability for any errors or omissions in the document nor for the use or application of the information, standards or requirements contained in the document by any third party.\t\t\t\t"]
[]
[]
[]
[]
[null,null,"COPYRIGHT © The MCS Charitable Foundation 2021"]
[]
[null,null,"Version 1.10"]

{"sheet":"Design Details","index":3,"n_rows":117,"n_cols":53,"rows_kept":117,"cut":false,"hidden":false,"merged":[[78,3,78,9],[79,3,79,9],[80,3,80,9],[81,3,81,9],[82,3,82,9],[38,6,38,9],[39,6,39,9],[40,6,40,9],[44,5,44,9],[45,3,45,9],[46,3,46,9],[47,3,47,9],[48,3,48,9],[49,3,49,9],[73,3,73,8],[66,3,66,9],[67,3,67,9],[68,3,68,9],[69,3,69,9],[70,3,70,9],[71,3,71,9],[72,3,72,9],[74,5,74,9],[75,3,75,9],[76,3,76,9],[50,3,50,9],[51,3,51,9],[52,3,52,9],[54,3,54,9],[55,3,55,9],[56,3,56,9],[57,3,57,9],[58,3,58,9],[59,3,59,9],[60,3,60,9],[61,3,61,9],[62,3,62,9],[64,3,64,9],[65,3,65,9],[63,3,63,8],[77,3,77,9],[53,3,53,8],[0,1,0,8],[25,2,25,4],[20,2,20,4],[15,2,15,4],[13,2,13,4],[14,2,14,4],[21,2,21,4],[1,2,1,4],[43,3,43,8],[3,2,3,4],[4,2,4,4],[2,2,2,4],[9,2,9,4],[10,6,10,9],[39,2,39,4],[27,2,27,4],[28,2,28,4],[29,2,29,4],[19,2,19,4],[38,2,38,4],[33,2,33,4],[13,6,13,9],[30,6,30,9],[31,6,31,9],[32,6,32,9],[33,6,33,9],[36,6,36,9],[37,6,37,9],[31,2,31,4],[36,2,36,4],[14,6,14,9],[15,6,15,9],[16,6,16,9],[18,6,18,9],[19,6,19,9],[20,6,20,9],[21,6,21,9],[30,2,30,4],[24,2,24,4],[23,2,23,4],[40,2,40,4],[18,2,18,4],[32,2,32,4],[1,6,1,9],[2,6,2,9],[3,6,3,9],[5,6,5,9],[4,6,4,9],[6,6,6,9],[7,6,7,9],[8,6,8,9],[9,6,9,9],[37,2,37,4],[10,2,10,4],[5,2,5,4],[6,2,6,4],[8,2,8,4],[7,2,7,4],[23,6,23,9],[24,6,24,9],[25,6,25,9],[27,6,27,9],[28,6,28,9],[29,6,29,9]]}
[null,"Design Details",null,null,null,null,null,null,null,null,null,null,null,null,null,null,null,null,null,null,null,null,null,null,null,null,"Rooms","Temp","Pre 2000","Post 2000","Post 2006","Non select a/c","selected column",null,null,null,null,null,null,null,"Hot Water Energy Calculation",null,null,null,"Calculations","Electric","Gas","LPG","Oil","Constants and Assumptions"]
[null,"Project Reference:",null,null,null,"MCS Designer:",null,null,null,null,null,null,null,null,null,null,0,"Air Source","Bungalow","Pre 2000",30,0,0,"Fan Convector","Single Phase","Horizontal","Bath",22,3,1.5,1.5,1,{"$f":"MATCH(C15,AA1:AG1,0)","v":{"$error":"#N/A"}},null,"Up to 40","No",5,"No",{"$f":"IF(AND(F87=$AL$3,I87<=40),$AK$3,IF(AND(F87=$AL$3,I87>40),$AK$5,IF(AND(F87=$AL$4,I87<=40),$AK$2,IF(AND(F87=$AL$4,I87>40),$AK$4,0))))","v":0},0,"HW energy HP/day",{"$f":"IF(G14=0,0,G14+1)*G15*G21*(G33-AZ4)*AZ2/(AZ3*C34*(G34))","v":{"$error":"#VALUE!"}},"kWh into HP for HW/day",null,"CO2 kg",0.51900000000000002,0.216,0.24099999999999999,0.29799999999999999,"SHC Water",null,4187,"J/kgK"]
[null,"Date:",null,null,null,"Company Name:",null,null,null,null,null,null,null,null,null,null,25,"Ground Source","Detached","Post 2000",35,1,10,"Radiators","Three Phase","Vertical","Bed & Ensuite",21,"2.0","1.5","1.0",1,null,null,"Up to 40","Yes",3,"Yes (with throat restrictor)",0,7,"HW energy immersion/week",{"$f":"AZ2*IF(G14=0,0,G14+1)*G15*G21*(60-G33)/AZ3","v":0},"kWh into Immersion for HW/week",null,"HP Capacity @ DOT °C/Flow temp",{"$f":"'Design Details'!C31","v":20},null,null,null,"J to kWh",null,3600000]
[null,"Customer Name:",null,null,null,"MCS No:",null,null,null,null,null,null,null,null,null,null,50,"Water Source","End Terrace","Post 2006",40,2,20,"Radiators/Fan Convectors",null,"Water","Bed/Study",21,"1.5","1.5","0.5",1,null,null,"Up to 70","No",4,"Yes (without throat restrictor)",0,14,"Total HW energy/day",{"$f":"IF(G14=0,0,G14+1)*G15*G21*(50-AZ4)*AZ2/AZ3","v":0},"kWh for HW/day",null,"FLEQ space heating",{"$f":"D117/AT3","v":0},null,null,null,"water mains input temp",null,10,"°C"]
[null,"Site Address:",null,null,null,"Address:",null,null,null,null,null,null,null,null,null,null,75,null,"Flat",null,45,3,30,"UFH",null,"n/a","Bedroom",{"$f":"IF($C$15=\"Post 2006\",21,18)","v":18},"1.0","1.0","0.5",1,null,null,"Up to 70","Yes",2,null,0,null,"HP Energy (kWh)",{"$f":"AP2*365","v":{"$error":"#VALUE!"}},null,null,"SPF space heating",{"$f":"'Design Details'!C33","v":3.5},null,null,null,"kg to litres water",null,1]
[null,null,null,null,null,null,null,null,null,null,null,null,null,null,null,null,100,null,"Light Commercial ",null,50,4,40,"UFH/Fan Convectors",null,null,"Bedsitting",21,"1.5","1.0","0.5",1,null,null,null,null,null,null,0,null,null,null,null,null,"Electrical Energy HP space heating",{"$f":"D117/AT5","v":0}]
[null,null,null,null,null,null,null,null,null,null,null,null,null,null,null,null,null,null,"Semi-Detached",null,55,5,50,"UFH/Radiators",null,null,"Breakfast",21,1.5,"1.0","0.5",1,null,null,null,null,null,null,0,null,null,null,null,null,"Electrical Energy HP HW heating",{"$f":"AP5","v":{"$error":"#VALUE!"}}]
[null,null,null,null,null,null,null,null,null,null,null,null,null,null,null,null,null,null,"Terrace",null,60,6,60,"UFH/Radiators/Fan Convectors",null,null,"Cloaks/WC",{"$f":"IF($C$15=\"Post 2006\",21,18)","v":18},2,1.5,1.5,1,null,null,null,null,null,null,0,null,null,null,null,null,"HW heat energy from HP",{"$f":"AP2*C34*(G34)*365","v":{"$error":"#VALUE!"}}]
[null,"Post Code:","Input Required",null,null,"Post Code:",null,null,null,null,null,null,null,null,null,null,null,null,null,null,65,7,70,null,null,null,"Dining",21,1.5,"1.0","0.5",1,null,null,null,null,null,null,0,null,null,null,null,null,"FLEQ HW heating",{"$f":"AT8/C32","v":{"$error":"#VALUE!"}}]
[null,"Contact Nos.",null,null,null,"Contact Nos.",null,null,null,null,null,null,null,null,null,null,null,null,null,null,null,8,80,null,null,null,"Dressing",{"$f":"IF($C$15=\"Post 2006\",21,18)","v":18},"1.5","1.0","0.5",1,null,null,null,null,null,null,0,null,null,null,null,null,"Running Hours CH pump",{"$f":"AT4+AT9","v":{"$error":"#VALUE!"}},"Running hours HW + space heating or 8760 if 24/7 operation"]
[null,"Email Address:",null,null,null,"Email Address:",null,null,null,null,null,null,null,null,null,null,null,null,null,null,null,9,90,null,null,null,"Family",21,2,1.5,1.5,1,null,null,null,null,null,null,0,null,null,null,null,null,"Power CH Pump (W)",null,"If known please use"]
[null,null,null,null,null,null,null,null,null,null,null,null,null,null,null,null,null,null,null,null,null,10,100,null,null,null,"Games",21,"1.5","1.0","0.5",1,null,null,null,null,null,null,0,null,null,null,null,null,"Running Hours Ground HX pump",{"$f":"AT4+AT9","v":{"$error":"#VALUE!"}}]
[null,"Property Details",null,null,null,null,null,null,null,null,null,null,null,null,null,null,null,null,null,null,null,null,110,null,null,null,"Hall",{"$f":"IF($C$15=\"Post 2006\",21,18)","v":18},"2.0","1.0","0.5",1,null,null,null,null,null,null,0,null,null,null,null,null,"Power Ground HX pump (W)",{"$f":"IF('Design Details'!C28=\"Air Source\",0,'GL Sizing'!F26)","v":"Input Required"}]
[null,"House Type",null,null,null,"Amount of Bedrooms",null,null,null,null,null,null,null,null,null,null,null,null,null,null,null,null,120,null,null,null,"Internal",{"$f":"IF($C$15=\"Post 2006\",21,18)","v":18},"0.0","0.0","0.0",1,null,null,null,null,null,null,0]
[null,"Built (year)",null,null,null,"Occupants per Bedroom",1,null,null,null,null,null,null,null,null,null,null,null,null,null,null,null,130,null,null,null,"Kitchen",{"$f":"IF($C$15=\"Post 2006\",21,18)","v":18},2,1.5,1.5,1,null,null,null,null,null,null,0]
[null,"Electrical Supply",null,null,null,"Total Floor Area (m²)",{"$f":"H117","v":0},null,null,null,null,null,null,null,null,null,null,null,null,null,null,null,140,null,null,null,"Landing",{"$f":"IF($C$15=\"Post 2006\",21,18)","v":18},"2.0","1.0","0.5",1,null,null,null,null,null,null,0]
[null,null,null,null,null,"Total Volume (m³)",{"$f":"I117","v":0},null,null,null,null,null,null,null,null,null,null,null,null,null,null,null,150,null,null,null,"Living",21,1.5,1,"0.5",1,null,null,null,null,null,null,0]
[null,"Design Data",null,null,null,null,null,null,null,null,null,null,null,null,null,null,null,null,null,null,null,null,160,null,null,null,"Lounge",21,1.5,1,"0.5",1,null,null,null,null,null,null,0]
[null,"Outside Design Temp - ODT (⁰C)",{"$f":"LOOKUP(LEFT(C9,2),'Post Code Degree Days'!A3:B126,'Post Code Degree Days'!B3:B126)+IF(AND(G19>90,G19<200),-0.6,IF(AND(G19>190,G19<300),-1.2,IF(AND(G19>290,G19<400),-1.8,IF(AND(G19>390,G19<500),-2.4,0))))","v":-2.5},null,null,"Altitude (m)",null,null,null,null,null,null,null,null,null,null,null,null,null,null,null,null,170,null,null,null,"Shower",22,3,1.5,1.5,1,null,null,null,null,null,null,0]
[null,"Degree Days (DD)",{"$f":"LOOKUP((LEFT(C9,2)),'Post Code Degree Days'!A3:C126,'Post Code Degree Days'!C3:C126)","v":2228},null,null,"Min Hot Water Cylinder (litres)",{"$f":"IFERROR(IF(G14=0,0,G21*(G14+1)*G15),0)","v":0},null,null,null,null,null,null,null,null,null,null,null,null,null,null,null,180,null,null,null,"Store",16,"1.0","0.5","0.5",1,null,null,null,null,null,null,0]
[null,"Mean air temp - MAT (°C)",{"$f":"LOOKUP((LEFT(C9,2)),'Post Code Degree Days'!A3:H126,'Post Code Degree Days'!H3:H126)","v":10},null,null,"Hot water per occupant (l/day)",45,null,null,null,null,null,null,null,null,null,null,null,null,null,null,null,190,null,null,null,"Study",21,1.5,1.5,"0.5",1,null,null,null,null,null,null,0]
[null,"MAT Location",{"$f":"LOOKUP((LEFT(C9,2)),'Post Code Degree Days'!A3:H126,'Post Code Degree Days'!G3:G126)","v":"W Pennines (Ringway)"},null,null,"Legionnaires' protection (days)",7,null,null,null,null,null,null,null,null,null,null,null,null,null,null,null,200,null,null,null,"Toilet",{"$f":"IF($C$15=\"Post 2006\",21,18)","v":18},3,1.5,1.5,1,null,null,null,null,null,null,0]
[null,"Building Requirements",null,null,null,null,null,null,null,null,null,null,null,null,null,null,null,null,null,null,null,null,210,null,null,null,"Utility",{"$f":"IF($C$15=\"Post 2006\",21,18)","v":18},3,2,0.5,1,null,null,null,null,null,null,0]
[null,"Space Heating load (kW)",{"$f":"C117/1000","v":0},null,null,"Annual Hot water heating demand (kWh/yr)",{"$f":"IFERROR(AP4*365,0)","v":0},null,null,null,null,null,null,null,null,null,null,null,null,null,null,null,220,null,null,null,null,null,null,null,null,null,null,null,null,null,null,null,0]
[null,"Heat loss W/m²",{"$f":"IFERROR(C117/H117,0)","v":0},null,null,"Immersion Energy (kWh)",{"$f":"IFERROR(AP3*ROUND((365/G22),0),0)","v":0},null,null,null,null,null,null,null,null,null,null,null,null,null,null,null,230,null,null,null,null,null,null,null,null,null,null,null,null,null,null,null,0]
[null,"Space Heating (kWh/yr)",{"$f":"D117","v":0},null,null,"Total Energy Usage (kWh/yr)",{"$f":"SUM(G24:I24,C26)","v":0},null,null,null,null,null,null,null,null,null,null,null,null,null,null,null,240,null,null,null,null,null,null,null,null,null,null,null,null,null,null,null,0]
[null,"Selection",null,null,null,null,null,null,null,null,null,null,null,null,null,null,null,null,null,null,null,null,250,null,null,null,null,null,null,null,null,null,null,null,null,null,null,null,0]
[null,"Type of Heat Pump",null,null,null,"Buffer Vessel (litres)",null,null,null,null,null,null,null,null,null,null,null,null,null,null,null,null,260,null,null,null,null,null,null,null,null,null,null,null,null,null,null,null,0]
[null,"Manufacturer",null,null,null,"Hot Water Cylinder (litres)",null,null,null,null,null,null,null,null,null,null,null,null,null,null,null,null,270,null,null,null,null,null,null,null,null,null,null,null,null,null,null,null,0]
[null,"Model",null,null,null,"Type of Emitters",null,null,null,null,null,null,null,null,null,null,null,null,null,null,null,null,280,null,null,null,null,null,null,null,null,null,null,null,null,null,null,null,0]
[null,"Output @ ODT/DFT (kW)",20,null,null,"Design Flow Temp - DFT (°C)",null,null,null,null,null,null,null,null,null,null,null,null,null,null,null,null,290,null,null,null,null,null,null,null,null,null,null,null,null,null,null,null,0]
[null,"Output @ 0°C/HW (kW)","Input Required",null,null,"CH pump power (W)",null,null,null,null,null,null,null,null,null,null,null,null,null,null,null,null,300]
[null,"Manufacturers htg SCOP",3.5,null,null,"Hot Water storage temp (°C)",50,null,null,null,null,null,null,null,null,null,null,null,null,null,null,null,310]
[null,"Manufacturers HW SCOP","Input Required",null,null,"Hot Water system efficiency",0.7,null,null,null,null,null,null,null,null,null,null,null,null,null,null,null,320]
[null,null,null,null,null,null,null,null,null,null,null,null,null,null,null,null,null,null,null,null,null,null,330]
[null,"Estimated Running Costs",null,null,null,null,null,null,null,null,null,null,null,null,null,null,null,null,null,null,null,null,340]
[null,"Space Heating",{"$f":"IFERROR(AT6*G38,0)","v":0},null,null,"Ground Pump",{"$f":"IFERROR(G38*AT12*AT13/1000,0)","v":0},null,null,null,null,null,null,null,null,null,null,null,null,null,null,null,350]
[null,"Hot Water from Heat Pump",{"$f":"IFERROR(AT7*G38,0)","v":0},null,null,"Electric (p/kWh)",0.14000000000000001,null,null,null,null,null,null,null,null,null,null,null,null,null,null,null,360]
[null,"Hot Water from Immersion",{"$f":"G25*G38","v":0},null,null,"Gas (p/kWh)",4.6399999999999997E-2,null,null,null,null,null,null,null,null,null,null,null,null,null,null,null,370]
[null,"Total Running Costs",{"$f":"SUM(C37:E39,G37:I37)","v":0},null,null,"LPG (p/kWh)",0.52100000000000002,null,null,null,null,null,null,null,null,null,null,null,null,null,null,null,380]
[null,"Central Heating Pump",{"$f":"IFERROR(G38*AT10*G32/1000,0)","v":0},null,null,"Oil (p/kWh)",0.61,null,null,null,null,null,null,null,null,null,null,null,null,null,null,null,390]
[null,null,null,null,null,null,null,null,null,null,null,null,null,null,null,null,null,null,null,null,null,null,400]
[null,"Property assumed U Values"]
[null,"Ground Floor","U' Value","Construction"]
[null,"Floor",1.25,"Floor Insulation:",0,"mm          If 'U' value not known please select insulation level and select exposed edges per room"]
[null,"Windows",{"$f":"IFERROR(LOOKUP(D46,'U Value Calculator'!$O$3:$P$17,'U Value Calculator'!$P$3:$P$17),0)","v":0}]
[null,"Door",{"$f":"IFERROR(LOOKUP(D47,'U Value Calculator'!$O$18:$P$26,'U Value Calculator'!$P$18:$P$26),0)","v":0}]
[null,"External Wall",{"$f":"IFERROR(LOOKUP(D48,'U Value Calculator'!$K$3:$L$88,'U Value Calculator'!$L$3:$L$88),0)","v":0}]
[null,"Ceiling",{"$f":"IFERROR(LOOKUP(D49,'U Value Calculator'!$K$116:$L$124,'U Value Calculator'!$L$116:$L$124),0)","v":0}]
[null,"Pitched Roof",{"$f":"IFERROR(LOOKUP(D50,'U Value Calculator'!$K$96:$L$115,'U Value Calculator'!$L$96:$L$115),0)","v":0}]
[null,"Internal Wall",{"$f":"IFERROR(LOOKUP(D51,'U Value Calculator'!$K$89:$L$95,'U Value Calculator'!$L$89:$L$95),0)","v":0}]
[null,"Party Wall",0.5]
[null,"Roof Glazing",{"$f":"IFERROR(LOOKUP(D53,'U Value Calculator'!$O$3:$P$17,'U Value Calculator'!$P$3:$P$17),0)","v":0}]
[null,"Mid-Floor","U' Value","Construction"]
[null,"Floor",{"$f":"IFERROR(LOOKUP(D55,'U Value Calculator'!$K$116:$L$124,'U Value Calculator'!$L$116:$L$124),0)","v":0}]
[null,"Windows",{"$f":"IFERROR(LOOKUP(D56,'U Value Calculator'!$O$3:$P$17,'U Value Calculator'!$P$3:$P$17),0)","v":0}]
[null,"Door",{"$f":"IFERROR(LOOKUP(D57,'U Value Calculator'!$O$18:$P$26,'U Value Calculator'!$P$18:$P$26),0)","v":0}]
[null,"External Wall",{"$f":"IFERROR(LOOKUP(D58,'U Value Calculator'!$K$3:$L$88,'U Value Calculator'!$L$3:$L$88),0)","v":0}]
[null,"Ceiling",{"$f":"IFERROR(LOOKUP(D59,'U Value Calculator'!$K$116:$L$124,'U Value Calculator'!$L$116:$L$124),0)","v":0}]
[null,"Pitched Roof",{"$f":"IFERROR(LOOKUP(D60,'U Value Calculator'!$K$96:$L$115,'U Value Calculator'!$L$96:$L$115),0)","v":0}]
[null,"Internal Wall",{"$f":"IFERROR(LOOKUP(D61,'U Value Calculator'!$K$89:$L$95,'U Value Calculator'!$L$89:$L$95),0)","v":0}]
[null,"Party Wall",0.5]
[null,"Roof Glazing",{"$f":"IFERROR(LOOKUP(D63,'U Value Calculator'!$O$3:$P$17,'U Value Calculator'!$P$3:$P$17),0)","v":0}]
[null,"Upper-Floor","U' Value","Construction"]
[null,"Floor",{"$f":"IFERROR(LOOKUP(D65,'U Value Calculator'!$K$116:$L$124,'U Value Calculator'!$L$116:$L$124),0)","v":0}]
[null,"Windows",{"$f":"IFERROR(LOOKUP(D66,'U Value Calculator'!$O$3:$P$17,'U Value Calculator'!$P$3:$P$17),0)","v":0}]
[null,"Door",{"$f":"IFERROR(LOOKUP(D67,'U Value Calculator'!$O$18:$P$26,'U Value Calculator'!$P$18:$P$26),0)","v":0}]
[null,"External Wall",{"$f":"IFERROR(LOOKUP(D68,'U Value Calculator'!$K$3:$L$88,'U Value Calculator'!$L$3:$L$88),0)","v":0}]
[null,"Flat Roof",{"$f":"IFERROR(LOOKUP(D69,'U Value Calculator'!$K$96:$L$115,'U Value Calculator'!$L$96:$L$115),0)","v":0}]
[null,"Pitched Roof",0.6,"Pitched roof - Slates or tiles, , ventilated air space, 100mm insulation between joists, 9.5 mm plasterboard"]
[null,"Internal Wall",{"$f":"IFERROR(LOOKUP(D71,'U Value Calculator'!$K$89:$L$95,'U Value Calculator'!$L$89:$L$95),0)","v":0}]
[null,"Party Wall",0.5]
[null,"Roof Glazing",{"$f":"IFERROR(LOOKUP(D73,'U Value Calculator'!$O$3:$P$17,'U Value Calculator'!$P$3:$P$17),0)","v":0}]
[null,"Single Storey","U' Value","Construction"]
[null,"Floor",0,"Floor Insulation:",0,"mm          If 'U' value not known please select insulation level and select exposed edges per room"]
[null,"Windows",{"$f":"IFERROR(LOOKUP(D76,'U Value Calculator'!$O$3:$P$17,'U Value Calculator'!$P$3:$P$17),0)","v":0}]
[null,"Door",{"$f":"IFERROR(LOOKUP(D77,'U Value Calculator'!$O$18:$P$26,'U Value Calculator'!$P$18:$P$26),0)","v":0}]
[null,"External Wall",{"$f":"IFERROR(LOOKUP(D78,'U Value Calculator'!$K$3:$L$88,'U Value Calculator'!$L$3:$L$88),0)","v":0}]
[null,"Flat Roof",{"$f":"IFERROR(LOOKUP(D79,'U Value Calculator'!$K$96:$L$115,'U Value Calculator'!$L$96:$L$115),0)","v":0}]
[null,"Pitched Roof",{"$f":"IFERROR(LOOKUP(D80,'U Value Calculator'!$K$96:$L$115,'U Value Calculator'!$L$96:$L$115),0)","v":0}]
[null,"Internal Wall",{"$f":"IFERROR(LOOKUP(D81,'U Value Calculator'!$K$89:$L$95,'U Value Calculator'!$L$89:$L$95),0)","v":0}]
[null,"Party Wall",0.5]
[null,"Roof Glazing",{"$f":"IFERROR(LOOKUP(D83,'U Value Calculator'!$O$3:$P$17,'U Value Calculator'!$P$3:$P$17),0)","v":0}]
[]
[null,"Space Heating"]
[null,"Room","Heat loss (W)","Energy usage (kWh)","Design Temp","Open Flue","ac/h","Floor Area (m2)","Volume (m3)","W/m²"]
[null,{"$f":"CONCATENATE('1'!$C$2,\" \",'1'!$D$2)","v":"Bed/Study "},{"$f":"'1'!$O$6","v":0},{"$f":"'1'!$O$7","v":0},{"$f":"IFERROR(LOOKUP(B87,$AA$2:$AB$23,$AB$2:$AB$23),0)","v":21},null,{"$f":"IFERROR(IF(LEFT(F87,3)=\"Yes\",AM2,VLOOKUP(B87,$AA$2:$AF$23,$AG$2,TRUE)),0)","v":0},{"$f":"SUM('1'!$G$20:$G$22)","v":0},{"$f":"SUM('1'!$G$4)","v":0},{"$f":"IFERROR(C87/H87,0)","v":0}]
[null,{"$f":"CONCATENATE('2'!$C$2,\" \",'2'!$D$2)","v":" "},{"$f":"'2'!$O$6","v":0},{"$f":"'2'!$O$7","v":0},0,null,{"$f":"IFERROR(IF(LEFT(F88,3)=\"Yes\",AM3,VLOOKUP(B88,$AA$2:$AF$23,$AG$2,TRUE)),0)","v":0},{"$f":"SUM('2'!$G$20:$G$22)","v":0},{"$f":"SUM('2'!$G$4)","v":0},{"$f":"IFERROR(C88/H88,0)","v":0}]
[null,{"$f":"CONCATENATE('3'!$C$2,\" \",'3'!$D$2)","v":" "},{"$f":"'3'!$O$6","v":0},{"$f":"'3'!$O$7","v":0},0,null,0,{"$f":"SUM('3'!$G$20:$G$22)","v":0},{"$f":"SUM('3'!$G$4)","v":0},{"$f":"IFERROR(C89/H89,0)","v":0}]
[null,{"$f":"CONCATENATE('4'!$C$2,\" \",'4'!$D$2)","v":" "},{"$f":"'4'!$O$6","v":0},{"$f":"'4'!$O$7","v":0},0,null,0,{"$f":"SUM('4'!$G$20:$G$22)","v":0},{"$f":"SUM('4'!$G$4)","v":0},0]
[null,{"$f":"CONCATENATE('5'!$C$2,\" \",'5'!$D$2)","v":" "},{"$f":"'5'!$O$6","v":0},{"$f":"'5'!$O$7","v":0},0,null,0,{"$f":"SUM('5'!$G$20:$G$22)","v":0},{"$f":"SUM('5'!$G$4)","v":0},0]
[null,{"$f":"CONCATENATE('6'!$C$2,\" \",'6'!$D$2)","v":" "},{"$f":"'6'!$O$6","v":0},{"$f":"'6'!$O$7","v":0},0,null,0,{"$f":"SUM('6'!$G$20:$G$22)","v":0},{"$f":"SUM('6'!$G$4)","v":0},0]
[null,{"$f":"CONCATENATE('7'!$C$2,\" \",'7'!$D$2)","v":" "},{"$f":"'7'!$O$6","v":0},{"$f":"'7'!$O$7","v":0},0,null,0,{"$f":"SUM('7'!$G$20:$G$22)","v":0},{"$f":"SUM('7'!$G$4)","v":0},0]
[null,{"$f":"CONCATENATE('8'!$C$2,\" \",'8'!$D$2)","v":" "},{"$f":"'8'!$O$6","v":0},{"$f":"'8'!$O$7","v":0},0,null,0,{"$f":"SUM('8'!$G$20:$G$22)","v":0},{"$f":"SUM('8'!$G$4)","v":0},0]
[null,{"$f":"CONCATENATE('9'!$C$2,\" \",'9'!$D$2)","v":" "},{"$f":"'9'!$O$6","v":0},{"$f":"'9'!$O$7","v":0},0,null,0,{"$f":"SUM('9'!$G$20:$G$22)","v":0},{"$f":"SUM('9'!$G$4)","v":0},0]
[null,{"$f":"CONCATENATE('10'!$C$2,\" \",'10'!$D$2)","v":" "},{"$f":"'10'!$O$6","v":0},{"$f":"'10'!$O$7","v":0},0,null,0,{"$f":"SUM('10'!$G$20:$G$22)","v":0},{"$f":"SUM('10'!$G$4)","v":0},0]
[null,{"$f":"CONCATENATE('11'!$C$2,\" \",'11'!$D$2)","v":" "},{"$f":"'11'!$O$6","v":0},{"$f":"'11'!$O$7","v":0},0,null,0,{"$f":"SUM('11'!$G$20:$G$22)","v":0},{"$f":"SUM('11'!$G$4)","v":0},0]
[null,{"$f":"CONCATENATE('12'!$C$2,\" \",'12'!$D$2)","v":" "},{"$f":"'12'!$O$6","v":0},{"$f":"'12'!$O$7","v":0},0,null,0,{"$f":"SUM('12'!$G$20:$G$22)","v":0},{"$f":"SUM('12'!$G$4)","v":0},0]
[null,{"$f":"CONCATENATE('13'!$C$2,\" \",'13'!$D$2)","v":" "},{"$f":"'13'!$O$6","v":0},{"$f":"'13'!$O$7","v":0},0,null,0,{"$f":"SUM('13'!$G$20:$G$22)","v":0},{"$f":"SUM('13'!$G$4)","v":0},0]
[null,{"$f":"CONCATENATE('14'!$C$2,\" \",'14'!$D$2)","v":" "},{"$f":"'14'!$O$6","v":0},{"$f":"'14'!$O$7","v":0},0,null,0,{"$f":"SUM('14'!$G$20:$G$22)","v":0},{"$f":"SUM('14'!$G$4)","v":0},0]
[null,{"$f":"CONCATENATE('15'!$C$2,\" \",'15'!$D$2)","v":" "},{"$f":"'15'!$O$6","v":0},{"$f":"'15'!$O$7","v":0},0,null,0,{"$f":"SUM('15'!$G$20:$G$22)","v":0},{"$f":"SUM('15'!$G$4)","v":0},0]
[null,{"$f":"CONCATENATE('16'!$C$2,\" \",'16'!$D$2)","v":" "},{"$f":"'16'!$O$6","v":0},{"$f":"'16'!$O$7","v":0},0,null,0,{"$f":"SUM('16'!$G$20:$G$22)","v":0},{"$f":"SUM('16'!$G$4)","v":0},0]
[null,{"$f":"CONCATENATE('17'!$C$2,\" \",'17'!$D$2)","v":" "},{"$f":"'17'!$O$6","v":0},{"$f":"'17'!$O$7","v":0},0,null,0,{"$f":"SUM('17'!$G$20:$G$22)","v":0},{"$f":"SUM('17'!$G$4)","v":0},0]
[null,{"$f":"CONCATENATE('18'!$C$2,\" \",'18'!$D$2)","v":" "},{"$f":"'18'!$O$6","v":0},{"$f":"'18'!$O$7","v":0},0,null,0,{"$f":"SUM('18'!$G$20:$G$22)","v":0},{"$f":"SUM('18'!$G$4)","v":0},0]
[null,{"$f":"CONCATENATE('19'!$C$2,\" \",'19'!$D$2)","v":" "},{"$f":"'19'!$O$6","v":0},{"$f":"'19'!$O$7","v":0},0,null,0,{"$f":"SUM('19'!$G$20:$G$22)","v":0},{"$f":"SUM('19'!$G$4)","v":0},0]
[null,{"$f":"CONCATENATE('20'!$C$2,\" \",'20'!$D$2)","v":" "},{"$f":"'20'!$O$6","v":0},{"$f":"'20'!$O$7","v":0},0,null,0,{"$f":"SUM('20'!$G$20:$G$22)","v":0},{"$f":"SUM('20'!$G$4)","v":0},0]
[null,{"$f":"CONCATENATE('21'!$C$2,\" \",'21'!$D$2)","v":" "},{"$f":"'21'!$O$6","v":0},{"$f":"'21'!$O$7","v":0},0,null,0,{"$f":"SUM('21'!$G$20:$G$22)","v":0},{"$f":"SUM('21'!$G$4)","v":0},0]
[null,{"$f":"CONCATENATE('22'!$C$2,\" \",'22'!$D$2)","v":" "},{"$f":"'22'!$O$6","v":0},{"$f":"'22'!$O$7","v":0},0,null,0,{"$f":"SUM('22'!$G$20:$G$22)","v":0},{"$f":"SUM('22'!$G$4)","v":0},0]
[null,{"$f":"CONCATENATE('23'!$C$2,\" \",'23'!$D$2)","v":" "},{"$f":"'23'!$O$6","v":0},{"$f":"'23'!$O$7","v":0},0,null,0,{"$f":"SUM('23'!$G$20:$G$22)","v":0},{"$f":"SUM('23'!$G$4)","v":0},0]
[null,{"$f":"CONCATENATE('24'!$C$2,\" \",'24'!$D$2)","v":" "},{"$f":"'24'!$O$6","v":0},{"$f":"'24'!$O$7","v":0},0,null,0,{"$f":"SUM('24'!$G$20:$G$22)","v":0},{"$f":"SUM('24'!$G$4)","v":0},0]
[null,{"$f":"CONCATENATE('25'!$C$2,\" \",'25'!$D$2)","v":" "},{"$f":"'25'!$O$6","v":0},{"$f":"'25'!$O$7","v":0},0,null,0,{"$f":"SUM('25'!$G$20:$G$22)","v":0},{"$f":"SUM('25'!$G$4)","v":0},0]
[null,{"$f":"CONCATENATE('26'!$C$2,\" \",'26'!$D$2)","v":" "},{"$f":"'26'!$O$6","v":0},{"$f":"'26'!$O$7","v":0},0,null,0,{"$f":"SUM('26'!$G$20:$G$22)","v":0},{"$f":"SUM('26'!$G$4)","v":0},0]
[null,{"$f":"CONCATENATE('27'!$C$2,\" \",'27'!$D$2)","v":" "},{"$f":"'27'!$O$6","v":0},{"$f":"'27'!$O$7","v":0},0,null,0,{"$f":"SUM('27'!$G$20:$G$22)","v":0},{"$f":"SUM('27'!$G$4)","v":0},0]
[null,{"$f":"CONCATENATE('28'!$C$2,\" \",'28'!$D$2)","v":" "},{"$f":"'28'!$O$6","v":0},{"$f":"'28'!$O$7","v":0},0,null,0,{"$f":"SUM('28'!$G$20:$G$22)","v":0},{"$f":"SUM('28'!$G$4)","v":0},0]
[null,{"$f":"CONCATENATE('29'!$C$2,\" \",'29'!$D$2)","v":" "},{"$f":"'29'!$O$6","v":0},{"$f":"'29'!$O$7","v":0},0,null,0,{"$f":"SUM('29'!$G$20:$G$22)","v":0},{"$f":"SUM('29'!$G$4)","v":0},0]
[null,{"$f":"CONCATENATE('30'!$C$2,\" \",'30'!$D$2)","v":" "},{"$f":"'30'!$O$6","v":0},{"$f":"'30'!$O$7","v":0},0,null,0,{"$f":"SUM('30'!$G$20:$G$22)","v":0},{"$f":"SUM('30'!$G$4)","v":0},0]
[null,"Total",{"$f":"SUM(C87:C116)","v":0},{"$f":"SUM(D87:D116)","v":0},null,null,null,{"$f":"SUM(H87:H116)","v":0},{"$f":"SUM(I87:I116)","v":0},{"$f":"IFERROR(C117/H117,0)","v":0}]

{"sheet":"U Value Calculator","index":4,"n_rows":124,"n_cols":25,"rows_kept":124,"cut":false,"hidden":false,"merged":[[35,3,35,4],[36,3,36,4],[37,3,37,4],[38,3,38,4],[39,3,39,4],[40,3,40,4],[41,3,41,4],[42,3,42,4],[44,3,44,4],[22,3,22,4],[23,3,23,4],[24,3,24,4],[25,3,25,4],[26,3,26,4],[31,3,31,4],[32,3,32,4],[33,3,33,4],[34,3,34,4],[17,0,17,2],[18,0,20,2],[1,21,27,21],[28,21,33,21],[34,21,43,21],[43,0,43,4],[42,5,42,6],[33,0,36,2],[37,0,40,2],[30,0,32,2],[27,0,29,2],[21,0,23,2],[24,0,26,2],[41,0,41,2],[42,0,42,2],[17,3,17,4],[18,3,18,4],[19,3,19,4],[20,3,20,4],[21,3,21,4],[27,3,27,4],[28,3,28,4],[29,3,29,4],[30,3,30,4],[56,3,57,4],[58,3,59,4],[60,3,61,4],[62,3,63,4],[65,5,65,6],[56,0,63,2],[48,0,55,2],[44,21,50,21],[51,21,61,21],[44,0,45,2],[46,0,47,4],[45,3,45,4],[46,5,46,6],[48,5,49,5],[48,6,49,6],[50,5,51,5],[50,6,51,6],[48,3,49,4],[50,3,51,4],[52,3,53,4],[54,3,55,4],[68,6,69,6],[58,5,59,5],[58,6,59,6],[60,5,61,5],[60,6,61,6],[62,5,63,5],[62,6,63,6],[52,5,53,5],[52,6,53,6],[54,5,55,5],[54,6,55,6],[56,5,57,5],[56,6,57,6],[85,5,86,6],[65,3,65,4],[68,3,69,4],[67,3,67,4],[72,3,73,4],[74,3,75,4],[76,3,77,4],[78,3,79,4],[80,5,81,5],[80,6,81,6],[82,5,84,5],[82,6,84,6],[80,3,81,4],[82,3,84,4],[76,5,77,5],[76,6,77,6],[78,5,79,5],[78,6,79,6],[70,5,70,6],[72,5,73,5],[72,6,73,6],[74,5,75,5],[74,6,75,6],[68,5,69,5],[67,0,69,2],[65,0,65,2],[66,0,66,4],[70,0,71,4],[85,3,86,4],[85,0,86,2],[80,0,84,2],[78,0,79,2],[72,0,77,2],[101,6,102,6],[103,5,104,5],[103,6,104,6],[101,3,102,4],[103,3,104,4],[96,5,97,5],[96,6,97,6],[98,5,98,6],[99,5,100,5],[99,6,100,6],[98,0,98,2],[98,3,98,4],[99,0,106,2],[99,3,100,4],[111,5,112,5],[111,6,112,6],[111,7,112,7],[113,5,114,5],[113,6,114,6],[113,7,114,7],[111,3,112,4],[113,3,114,4],[105,5,106,5],[105,6,106,6],[107,5,107,7],[109,5,110,5],[109,6,110,6],[109,7,110,7],[105,3,106,4],[107,0,108,4],[109,0,114,2],[109,3,110,4],[89,7,106,7],[101,5,102,5],[88,0,88,2],[88,3,88,4],[88,5,88,7],[89,0,90,4],[91,0,97,2],[91,3,91,4],[92,3,93,4],[94,3,95,4],[96,3,97,4],[89,5,89,6],[92,5,93,5],[92,6,93,6],[94,5,95,5],[94,6,95,6]]}
[null,null,null,null,null,null,null,null,null,null,"Wall/Roof/ceiling/non-ground floors U-values (SOURCE Domestic heating guide section 6)","U-value W/m²K ",null,null,"Window_description","U-value W/m²K ",null,null,"Type of surface/air gap","Thermal resistance",null,"Element","Material","Density kg/m³","k factor W/mK"]
[null,"U VALUE CALCULATOR",null,null,null,null,null,null,null,null,"Enter a U-value",null,null,null,"Enter a U-value",null,null,null,"Outside surface of exterior wall",0.06,null,"Walls","Asbestos cement sheet",700,0.36]
[null,"Fabric Type:",null,null,null,null,null,null,null,null,"19mm Render, 75mm foam board, Brick 102mm, Plaster",0.3,null,null,"Metal Double Glazed",3.4,null,null,"Inside surface of wall",0.12,null,null,"Autoclaved aerated concrete block",600,0.18]
[null,null,null,null,null,null,null,null,null,null,"19mm Render, 75mm foam board, Brick 228mm, Plaster",0.28000000000000003,null,null,"Metal Double Glazed, low-E glass ",2.8,null,null,"Air Gap",0.18,null,null,"Brickwork (inner leaf)",1700,0.62]
["Layer","Element","Material","Thickness (mm)","Thermal Conductivity (W/mK)","Resistance R m²K/W",null,null,null,null,"19mm Render, 75mm foam board, Brick 343mm, Plaster",0.27,null,null,"Metal Double Glazed, low-E glass, argon filled ",2.6,null,null,null,null,null,null,"Brickwork (outer leaf)",1700,0.84]
[1,null,null,null,{"$f":"IFERROR(IF(B6=\"Air Gap\",\"n/a\",LOOKUP(C6,$W$2:$W$62,$Y$2:$Y$62)),\"\")","v":""},{"$f":"IFERROR(IF(B6=\"Air Gap\",$T$4,(D6/1000)/E6),\"\")","v":""},null,null,null,null,"19mm Render, 75mm foam board, concrete 102mm, Plaster",0.31,null,null,"Metal Single Glazed",5.7,null,null,"Fabric Type",null,null,null,"Concrete (lightweight)",1200,0.38]
[2,null,null,null,"","",null,null,null,null,"19mm Render, 75mm foam board, concrete 152mm, Plaster",0.3,null,null,"Metal Triple Glazed",2.6,null,null,"External wall",null,null,null,"Concrete (medium density)",1800,1.1299999999999999]
[3,null,null,null,"","",null,null,null,null,"19mm Render, 75mm foam board, concrete 204mm, Plaster",0.3,null,null,"Metal Triple Glazed, low-E glass ",2.1,null,null,"Internal wall",null,null,null,"Concrete (dense)",2100,1.4]
[4,null,null,null,"","",null,null,null,null,"19mm Render, 75mm foam board, concrete 254mm, Plaster",0.3,null,null,"Metal Triple Glazed, low-E glass, argon filled ",2,null,null,"Roof",null,null,null,"Concrete (high density)",2400,1.93]
[5,null,null,null,"","",null,null,null,null,"Brick 102 mm, plaster",2.97,null,null,"Single glazed window with Secondary Glazing",2.4,null,null,null,null,null,null,"Concrete block (heavyweight)",2300,1.63]
[6,null,null,null,"","",null,null,null,null,"Brick 102.5mm, cavity, membrane, plywood 10mm, studding 100mm, with infill  insulation 80mm, vapour membrane, plasterboard 12.5mm",0.32,null,null,"Wood/PVC Double Glazed",2.8,null,null,null,null,null,null,"Concrete block (lightweight)",600,0.19]
[7,null,null,null,"","",null,null,null,null,"Brick 102.5mm, cavity, membrane, plywood 10mm, studding 100mm, with infill insulation 60mm, vapour membrane, plasterboard 12.5mm",0.43,null,null,"Wood/PVC Double Glazed, low-E glass ",2.2999999999999998,null,null,null,null,null,null,"Concrete block (medium weight)",1400,0.51]
[8,null,null,null,"","",null,null,null,null,"Brick 102.5mm, cavity, membrane, plywood 10mm, studding 100mm, with infill insulation 80mm, vapour membrane, plasterboard 12.5mm",0.36,null,null,"Wood/PVC Double Glazed, low-E glass, argon filled ",2.1,null,null,"Walls",null,null,null,"Fibreboard",300,0.06]
[null,null,null,null,"Total Resistance",{"$f":"IF(C3=\"External wall\",SUM(F6:F13,T2:T3),IF(C3=\"Internal wall\",SUM(F6:F13,T3,T3),SUM(F6:F13)))","v":0},null,null,null,null,"Brick 102mm, 50mm  mineral slab, brick 102mm, 13mm plaster",0.56000000000000005,null,null,"Wood/PVC Single Glazed",4.8,null,null,"Surface Finishes",null,null,null,"Gypsum",600,0.18]
[null,null,null,null,"U value of construction (W/m²K)",{"$f":"1/F14","v":{"$error":"#DIV/0!"}},null,null,null,null,"Brick 102mm, 50mm mineral slab, brick 102mm, 12.5mm plasterboard on dabs",0.53,null,null,"Wood/PVC Triple Glazed",2.1,null,null,"Roofs",null,null,null,"Lightweight aggregate concrete block",1400,0.56999999999999995]
[null,null,null,null,null,null,null,null,null,null,"Brick 102mm, 75mm foam board, 12.5mm plasterboard",0.3,null,null,"Wood/PVC Triple Glazed, low-E glass ",1.7,null,null,"Floors",null,null,null,"Limestone (soft)",1800,1.1000000000000001]
[null,null,null,null,null,null,null,null,null,null,"Brick 102mm, cavity, 100mm high performance aerated block (k=0.11), 12.5mm plasterboard on dabs",0.64,null,null,"Wood/PVC Triple Glazed, low-E glass, argon filled ",1.6,null,null,"Insulation",null,null,null,"Limestone (hard)",2200,1.7]
["EXTERNAL WALL TYPE - SOLID",null,null,"Description",null,"U-value W/m²K",null,null,null,null,"Brick 102mm, cavity, 100mm high performance aerated block (k=0.11), 13mm plaster",0.68,null,null,{"$f":"$O$27&\" \"&O1","v":"Glazed wood or PVC-U door Window_description"},{"$f":"P1","v":"U-value W/m²K "},null,null,"Air Gap",null,null,null,"Mortar (exposed",1750,0.94]
["Solid Brick Wall",null,null,"Brick 102mm, Plaster",null,2.97,null,null,null,null,"Brick 102mm, cavity, 100mm standard aerated block (k=0.17), 12.5mm plasterboard on dabs",0.8,null,null,"Glazed wood or PVC-U door Enter a U-value",0,null,null,null,null,null,null,"Mortar (protected)",1750,0.88]
[null,null,null,"Brick 228mm, Plaster",null,2.11,null,null,null,null,"Brick 102mm, cavity, 100mm standard aerated block (k=0.17), 13mm plaster",0.87,null,null,"Glazed wood or PVC-U door Metal Double Glazed",3.4,null,null,null,null,null,null,"Plasterboard",650,0.16]
[null,null,null,"Brick 343mm, Plaster",null,1.64,null,null,null,null,"Brick 102mm, cavity, 125mm high performance aerated block (k=0.11), 12.5mm plasterboard on dabs",0.56000000000000005,null,null,"Glazed wood or PVC-U door Metal Double Glazed, low-E glass ",2.8,null,null,null,null,null,null,"Reinforced concrete (1% steel)",2300,2.2999999999999998]
["Solid Brick Insulated Externally",null,null,"19mm Render, 75mm foam board, Brick 102mm, Plaster",null,0.3,null,null,null,null,"Brick 102mm, cavity, 125mm high performance aerated block (k=0.11), 13mm plaster",0.59,null,null,"Glazed wood or PVC-U door Metal Double Glazed, low-E glass, argon filled ",2.6,null,null,null,null,null,null,"Reinforced concrete (2% steel)",2400,2.5]
[null,null,null,"19mm Render, 75mm foam board, Brick 228mm, Plaster",null,0.28000000000000003,null,null,null,null,"Brick 102mm, cavity, 125mm standard aerated block (k=0.17), 12.5mm plasterboard on dabs",0.72,null,null,"Glazed wood or PVC-U door Metal Single Glazed",5.7,null,null,null,null,null,null,"Sandstone",2600,2.2999999999999998]
[null,null,null,"19mm Render, 75mm foam board, Brick 343mm, Plaster",null,0.27,null,null,null,null,"Brick 102mm, cavity, 125mm standard aerated block (k=0.17), 13mm plaster",0.77,null,null,"Glazed wood or PVC-U door Metal Triple Glazed",2.6,null,null,null,null,null,null,"Stone (artificial)",1750,1.3]
["Solid Brink Insulated Internally",null,null,"Brick 102mm, 75mm foam board, 12.5mm plasterboard",null,0.3,null,null,null,null,"Brick 102mm, cavity, brick 102mm, 12.5mm plasterboard on dabs",1.21,null,null,"solid wood door (external)",3,null,null,null,null,null,null,"Stone (granite)",2640,2.93]
[null,null,null,"Brick 228mm, 75mm foam board, 12.5mm plasterboard",null,0.28999999999999998,null,null,null,null,"Brick 102mm, cavity, brick 102mm, 13mm plaster",1.37,null,null,"Solid wood door to unheated corridor",1.4,null,null,null,null,null,null,"Tile Hanging",1900,0.84]
[null,null,null,"Brick 343mm, 75mm foam board, 12.5mm plasterboard",null,0.28000000000000003,null,null,null,null,"Brick 102mm, mineral wool slab in cavity 50mm, 100mm high performance aerated block (k=0.11), 13mm plaster",0.39,null,null,"Glazed wood or PVC-U door",null,null,null,null,null,null,null,"Timber (Hardwood)",700,0.18]
["Solid Stone Wall, Unplastered",null,null,"Stone 305mm (12\")",null,2.78,null,null,null,null,"Brick 102mm, mineral wool slab in cavity 50mm, 100mm standard aerated block (k=0.17), 13mm plaster",0.45,null,null,null,null,null,null,null,null,null,null,"Timber (softwood, plywood, chipboard)",500,0.13]
[null,null,null,"Stone 457mm (18\")",null,2.23,null,null,null,null,"Brick 102mm, mineral wool slab in cavity 50mm, 120mm high performance aerated block (k=0.11), 13mm plaster",0.36,null,null,null,null,null,null,null,null,null,"Surface Finishes","External rendering",1330,0.56999999999999995]
[null,null,null,"Stone 610mm (24\")",null,1.86,null,null,null,null,"Brick 102mm, mineral wool slab in cavity 50mm, 120mm standard aerated block (k=0.17), 13mm plaster",0.42,null,null,null,null,null,null,null,null,null,null,"Fibreboard",400,0.1]
["Solid Stone Wall, Internally Insulated",null,null,"Stone 305mm, 100mm mineral wool, plasterboard on battens",null,0.33,null,null,null,null,"Brick 102mm, mineral wool slab in cavity 50mm,100mm high performance aerated block (k=0.11), 12.5mm plasterboard on dabs",0.38,null,null,null,null,null,null,null,null,null,null,"Plaster (dense)",1300,0.56999999999999995]
[null,null,null,"Stone 457mm, 100mm mineral wool, plasterboard on battens",null,0.32,null,null,null,null,"Brick 102mm, mineral wool slab in cavity 50mm,100mm standard aerated block (k=0.17), 12.5mm plasterboard on dabs",0.43,null,null,null,null,null,null,null,null,null,null,"Plaster (lightweight",600,0.18]
[null,null,null,"Stone 610mm, 100mm mineral wool, plasterboard on battens",null,0.32,null,null,null,null,"Brick 102mm, mineral wool slab in cavity 50mm,125mm high performance aerated block (k=0.11), 12.5mm plasterboard on dabs",0.35,null,null,null,null,null,null,null,null,null,null,"Plasterboard",900,0.25]
["Solid Concrete Wall, Dense Plaster",null,null,"Concrete 102mm, Plaster",null,3.51,null,null,null,null,"Brick 102mm, mineral wool slab in cavity 50mm,125mm standard aerated block (k=0.17), 12.5mm plasterboard on dabs",0.41,null,null,null,null,null,null,null,null,null,null,"Tiles (ceramic)",2300,1.3]
[null,null,null,"Concrete 152mm, Plaster",null,3.12,null,null,null,null,"Brick 228 mm, plaster",2.11,null,null,null,null,null,null,null,null,null,"Roofs","Aerated concrete slab",500,0.16]
[null,null,null,"Concrete 204mm, Plaster",null,2.8,null,null,null,null,"Brick 228mm, 75mm foam board, 12.5mm plasterboard",0.28999999999999998,null,null,null,null,null,null,null,null,null,null,"Asphalt",1700,0.5]
[null,null,null,"Concrete 254mm, Plaster",null,2.54,null,null,null,null,"Brick 343 mm, plaster",1.64,null,null,null,null,null,null,null,null,null,null,"Asphalt",2100,0.7]
["Solid Concrete Wall Insulated External, Dense Plaster",null,null,"19mm Render, 75mm foam board, concrete 102mm, Plaster",null,0.31,null,null,null,null,"Brick 343mm, 75mm foam board, 12.5mm plasterboard",0.28000000000000003,null,null,null,null,null,null,null,null,null,null,"Felt/Bitumen layers",1100,0.23]
[null,null,null,"19mm Render, 75mm foam board, concrete 152mm, Plaster",null,0.3,null,null,null,null,"Concrete 102mm, plaster",3.51,null,null,null,null,null,null,null,null,null,null,"Felt/Bitumen layers",1700,0.5]
[null,null,null,"19mm Render, 75mm foam board, concrete 204mm, Plaster",null,0.3,null,null,null,null,"Concrete 152mm, plaster",3.12,null,null,null,null,null,null,null,null,null,null,"Screed (light weight)",1200,0.41]
[null,null,null,"19mm Render, 75mm foam board, concrete 254mm, Plaster",null,0.3,null,null,null,null,"Concrete 204mm, plaster",2.8,null,null,null,null,null,null,null,null,null,null,"Stone Chippings",1800,0.96]
[null,null,null,null,null,null,null,null,null,null,"Concrete 254 mm, plaster",2.54,null,null,null,null,null,null,null,null,null,null,"Tiles (clay)",2000,1]
["EXTERNAL WALL TYPE - CAVITY",null,null,"Description",null,"U-value W/m²K",null,null,null,null,"Render 19mm, brick 102mm, 50mm mineral wool slab,  brick 102mm, 13mm plaster",0.54,null,null,null,null,null,null,null,null,null,null,"Tiles (concrete)",2100,1.5]
[null,null,null,null,null,"Open Cavity","Mineral Wool 50mm",null,null,null,"Render 19mm, brick 102mm, 50mm mineral wool slab, brick 102mm, 12.5mm plasterboard on dabs",0.51,null,null,null,null,null,null,null,null,null,null,"Wood wool slab",500,0.1]
["Cavity Wall (Open cavity or mineral Wool Slab), Lightweight Plaster",null,null,"Brick 102mm, Brick 102mm, 13mm Plaster & Skim",null,1.37,0.56000000000000005,null,null,null,"Render 19mm, brick 102mm, cavity, 100mm standard aerated block, 13mm plaster",0.82,null,null,null,null,null,null,null,null,null,"Floors","Cast concrete",2000,1.35]
[null,null,null,"Brick 102mm, Brick 102mm, 12mm Plaster on dabs",null,1.21,0.53,null,null,null,"Render 19mm, brick 102mm, cavity, 125mm standard aerated block, 13mm plaster",0.73,null,null,null,null,null,null,null,null,null,null,"Metal tray (steel)",7800,50]
[null,null,null,null,null,"Inner Leaf Thickness",null,null,null,null,"Render 19mm, brick 102mm, cavity, brick 102mm, 12.5mm plasterboard on dabs",1.1100000000000001,null,null,null,null,null,null,null,null,null,null,"Screed (concrete)",1950,1.2]
[null,null,null,null,null,"100mm","125mm",null,null,null,"Render 19mm, brick 102mm, cavity, brick 102mm, 13mm plaster",1.25,null,null,null,null,null,null,null,null,null,null,"Timber (softwood, plywood, chipboard)",500,0.13]
["Cavity Wall, aerated block inner leaf, lightweight plaster",null,null,"Brick 102mm open cavity, standard aerated block (k=0.17), 13mm Plaster",null,0.87,0.77,null,null,null,"Render 19mm, brick 102mm, mineral wool slab in\ncavity 50mm, 100mm standard aerated block, 13mm plaster",0.44,null,null,null,null,null,null,null,null,null,null,"Timber (hardwood)",700,0.18]
[null,null,null,null,null,null,null,null,null,null,"Render 19mm, brick 102mm, mineral wool slab in\ncavity 50mm, 125mm standard aerated block, 13mm plaster",0.41,null,null,null,null,null,null,null,null,null,null,"Timber flooring",650,0.14000000000000001]
[null,null,null,"Brick 102mm open cavity, standard aerated block (k=0.17), 12.5mm plasterboard on dabs",null,0.8,0.72,null,null,null,"Render 19mm, high performance aerated block (k=0.11) 215mm, 13mm plaster",0.44,null,null,null,null,null,null,null,null,null,null,"Wood blocks",650,0.14000000000000001]
[null,null,null,null,null,null,null,null,null,null,"Render 19mm, standard aerated block 100mm, cavity, 100mm  high performance aerated block (k=0.11), 13mm plaster",0.51,null,null,null,null,null,null,null,null,null,"Insulation","Expanded polystyrene slab",15,0.04]
[null,null,null,"Brick 102mm, mineral wool slab in cavity 50mm, standard aerated block (k=0.17), 13mm Plaster",null,0.45,0.42,null,null,null,"Render 19mm, standard aerated block 100mm, cavity, 100mm standard aerated block, 13mm plaster",0.61,null,null,null,null,null,null,null,null,null,null,"Expanded polystyrene slab",25,3.5000000000000003E-2]
[null,null,null,null,null,null,null,null,null,null,"Render 19mm, standard aerated block 100mm, cavity, 125mm high performance aerated block (k=0.11), 13mm plaster",0.45,null,null,null,null,null,null,null,null,null,null,"Glass fibre quilt",12,0.04]
[null,null,null,"Brick 102mm, mineral wool slab in cavity 50mm, standard aerated block (k=0.17), 12.5mm plasterboard on dabs",null,0.43,0.41,null,null,null,"Render 19mm, standard aerated block 100mm, cavity, 125mm standard aerated block, 13mm plaster",0.56000000000000005,null,null,null,null,null,null,null,null,null,null,"Glass fibre slab",25,3.5000000000000003E-2]
[null,null,null,null,null,null,null,null,null,null,"Render 19mm, standard aerated block 100mm, mineral wool slab in cavity 50mm, 100mm  high performance aerated block (k=0.11), 13mm plaster",0.33,null,null,null,null,null,null,null,null,null,null,"Mineral fibre slab",30,3.5000000000000003E-2]
["Cavity Wall, high performance aerated block inner leaf, lightweight plaster or plasterboard",null,null,"Brick 102mm open cavity, high performance aerated block (k=0.11), 13mm Plaster",null,0.68,0.59,null,null,null,"Render 19mm, standard aerated block 100mm, mineral wool slab in cavity 50mm, 100mm standard aerated block, 13mm plaster",0.37,null,null,null,null,null,null,null,null,null,null,"Mineral wool batt",25,3.7999999999999999E-2]
[null,null,null,null,null,null,null,null,null,null,"Render 19mm, standard aerated block 100mm, mineral wool slab in cavity 50mm, 125mm high performance aerated block (k=0.11), 13mm plaster",0.31,null,null,null,null,null,null,null,null,null,null,"Mineral wool quilt",12,4.2000000000000003E-2]
[null,null,null,"Brick 102mm open cavity, high performance aerated block (k=0.11), 12.5mm plasterboard on dabs",null,0.64,0.56000000000000005,null,null,null,"Render 19mm, standard aerated block 100mm, mineral wool slab in cavity 50mm, 125mm standard aerated block, 13mm plaster",0.35,null,null,null,null,null,null,null,null,null,null,"Phenolic foam",30,0.04]
[null,null,null,null,null,null,null,null,null,null,"shiplap boards, airspace, cavity, membrane, plywood 10mm, studding 100mm, with infill  insulation 80mm, vapour membrane, plasterboard 12.5mm",0.32,null,null,null,null,null,null,null,null,null,null,"Phenolic foam board",30,2.5000000000000001E-2]
[null,null,null,"Brick 102mm, mineral wool slab in cavity 50mm, high performance aerated block (k=0.11), 13mm Plaster",null,0.39,0.36,null,null,null,"shiplap boards, airspace, cavity, membrane, plywood 10mm, studding 100mm, with infill insulation 60mm, vapour membrane, plasterboard 12.5mm",0.44,null,null,null,null,null,null,null,null,null,null,"Polyurethane board",30,2.5000000000000001E-2]
[null,null,null,null,null,null,null,null,null,null,"shiplap boards, airspace, cavity, membrane, plywood 10mm, studding 100mm, with infill insulation 80mm, vapour membrane, plasterboard 12.5mm",0.36,null,null,null,null,null,null,null,null,null,null,"Urea formaldehyde foam",10,0.04]
[null,null,null,"Brick 102mm, mineral wool slab in cavity 50mm, high performance aerated block (k=0.11), 12.5mm plasterboard on dabs",null,0.38,0.35,null,null,null,"Shiplap boards, airspace, standard aerated block 100mm, cavity, 100mm high performance block (K=0.11), 13mm plaster",0.45]
[null,null,null,null,null,null,null,null,null,null,"Shiplap boards, airspace, standard aerated block 100mm, cavity, 125mm high performance block (K=0.11), 13mm plaster",0.41]
[null,null,null,null,null,null,null,null,null,null,"Shiplap boards, airspace, standard aerated block 100mm, cavity, standard aerated block 100mm, 13mm plaster",0.53]
["EXTERNAL WALL TYPE - RENDERED EXTERNALLY",null,null,"Description",null,"U-value W/m²K",null,null,null,null,"Shiplap boards, airspace, standard aerated block 100mm, cavity, standard aerated block 125mm, 13mm plaster",0.49]
[null,null,null,null,null,"Open Cavity","Mineral Wool 50mm",null,null,null,"Shiplap boards, airspace, standard aerated block 100mm, mineral wool slab in cavity 50mm, 125mm high performance block (K=0.11), 13mm plaster",0.28999999999999998]
["Cavity Wall (Open cavity or mineral Wool Slab), Lightweight Plaster",null,null,"Render 19mm, Brick 102mm, Brick 102mm, 13mm Plaster",null,1.25,0.54,null,null,null,"Shiplap boards, airspace, standard aerated block 100mm, mineral wool slab in cavity 50mm, standard aerated block 100mm, 13mm plaster",0.34]
[null,null,null,"Render 19mm, Brick 102mm, Brick 102mm, 12mm Plaster on dabs",null,1.1100000000000001,0.51,null,null,null,"Shiplap boards, airspace, standard aerated block 100mm, mineral wool slab in cavity 50mm, standard aerated block 125mm, 13mm plaster",0.32]
[null,null,null,null,null,null,null,null,null,null,"Shiplap boards, airspace, standard aerated block 125mm, mineral wool slab in cavity 50mm, 100mm high performance block (K=0.11), 13mm plaster",0.31]
[null,null,null,null,null,"Inner Leaf Thickness",null,null,null,null,"Stone 305mm (12in)",2.78]
[null,null,null,null,null,"100mm","125mm",null,null,null,"Stone 305mm, 100mm mineral wool, plasterboard on battens",0.33]
["Cavity Wall, aerated block inner leaf, lightweight plaster or plasterboard",null,null,"Render 19mm, brick 102mm, cavity, standard aerated block, 13mm plaster",null,0.82,0.73,null,null,null,"Stone 457mm (18in)",2.23]
[null,null,null,null,null,null,null,null,null,null,"Stone 457mm, 100mm mineral wool, plasterboard on battens",0.32]
[null,null,null,"Render 19mm, brick 102.5mm, mineral wool slab in cavity 50mm, standard aerated block, 13mm plaster",null,0.44,0.41,null,null,null,"Stone 610mm (24in)",1.86]
[null,null,null,null,null,null,null,null,null,null,"Stone 610mm, 100mm mineral wool, plasterboard on battens",0.32]
[null,null,null,"Render 19mm, standard aerated block 100mm, cavity, standard aerated block, 13mm plaster",null,0.61,0.56000000000000005,null,null,null,"Tiles, airspace, cavity, membrane, plywood 10mm, studding 100mm, with infill  insulation 80mm, vapour membrane, plasterboard 12.5mm",0.34]
[null,null,null,null,null,null,null,null,null,null,"Tiles, airspace, cavity, membrane, plywood 10mm, studding 100mm, with infill insulation 60mm, vapour membrane, plasterboard 12.5mm",0.47]
["Cavity blockwork wall, inner aerated block, lightweight plaster",null,null,"Render 19mm, standard aerated block 100mm mineral wool slab in cavity 50mm, standard aerated block, 13mm plaster",null,0.37,0.35,null,null,null,"Tiles, airspace, cavity, membrane, plywood 10mm, studding 100mm, with infill insulation 80mm, vapour membrane, plasterboard 12.5mm",0.38]
[null,null,null,null,null,null,null,null,null,null,"Tiles, airspace, high performance aerated block, 215mm, 13mm plaster",0.43]
["Cavity wall, rendered, aerated block inner, lightweight plaster",null,null,"Render 19mm, standard aerated block 100mm, cavity, high performance aerated block (k=0.11), 13mm plaster",null,0.51,0.45,null,null,null,"Tiles, airspace, standard aerated block 100mm, 13mm plaster",0.57999999999999996]
[null,null,null,null,null,null,null,null,null,null,"Tiles, airspace, standard aerated block 100mm, cavity, 100mm high performance aerated block (k=0.11), 13mm plaster",0.49]
[null,null,null,"Render 19mm, standard aerated block 100mm,mineral wool slab in cavity 50 mm, high performance aerated block (k=0.11), 13mm plaster",null,0.33,0.31,null,null,null,"Tiles, airspace, standard aerated block 100mm, cavity, 125mm high performance aerated block (k=0.11), 13mm plaster",0.44]
[null,null,null,null,null,null,null,null,null,null,"Tiles, airspace, standard aerated block 100mm, mineral wool slab in cavity 50mm, 100mm high performance aerated block (k=0.11), 13mm plaster",0.32]
[null,null,null,null,null,null,null,null,null,null,"Tiles, airspace, standard aerated block 100mm, mineral wool slab in cavity 50mm, 100mm standard aerated block, 13mm plaster",0.36]
["Solid Wall, rendered outside, plaster inside",null,null,"Render 19mm, high performance aerated block (k=0.11), 13mm plaster",null,0.44,null,null,null,null,"Tiles, airspace, standard aerated block 100mm, mineral wool slab in cavity 50mm, 120mm standard aerated block, 13mm plaster",0.34]
[null,null,null,null,null,null,null,null,null,null,"Tiles, airspace, standard aerated block 100mm, mineral wool slab in cavity 50mm, 125mm high performance aerated block (k=0.11), 13mm plaster",0.3]
[null,null,null,null,null,null,null,null,null,null,"Tiles, airspace, standard aerated block 125mm, 13mm plaster",0.53]
["EXTERNAL WALL TYPE - VARIATIONS",null,null,"Description",null,"U-value W/m²K",null,null,null,null,"Plaster 13mm, block 10mm, cavity, block 100mm, plaster 13mm",1.02]
[null,null,null,null,null,"Inner Leaf Thickness",null,null,null,null,"Plaster 13mm, brick 102.5mm, plaster 13mm",1.76]
[null,null,null,null,null,"100mm","125mm",null,null,null,"Plaster 13mm, brick 215mm, plaster 13mm",1.33]
["Cavity wall, tile clad, (open cavity or mineral wool slab), lightweight plaster",null,null,"Tiles, air space, standard aerated block, 13mm plaster",null,0.57999999999999996,0.53,null,null,null,"Plaster 13mm, standard aerated block 100mm, plaster 13mm",1.66]
[null,null,null,"Tiles, air space, standard aerated block 100mm, mineral wool slab in cavity 50mm, standard aerated block, 13mm plaster",null,0.36,0.34,null,null,null,"Plaster 13mm, standard aerated block 125mm, plaster 13mm",1.53]
[null,null,null,null,null,null,null,null,null,null,"Plaster, breeze block 100mm, plaster",1.58]
[null,null,null,"Tiles, air space, standard aerated block 100mm, cavity, high performance aerated block (k=0.11), 13mm plaster",null,0.49,0.44,null,null,null,"Plasterboard 12.5mm, studding 75mm, plasterboard 12.5mm",1.72]
[null,null,null,null,null,null,null,null,null,null,"Chippings, 3 layers of felt, boarding, air space, 100mm insulation, 9.5 mm plasterboard",0.32]
[null,null,null,"Tiles, air space, standard aerated block 100mm, mineral wool slab in cavity 50mm, high performance aerated block (k=0.11), 13mm plaster",null,0.32,0.3,null,null,null,"Chippings, 3 layers of felt, boarding, air space, 200mm insulation, 9.5 mm plasterboard",0.17]
[null,null,null,null,null,null,null,null,null,null,"Chippings, 3 layers of felt, boarding, air space, 300insulation, 9.5 mm plasterboard",0.12]
["Solid wall, tile clad externally",null,null,"Tiles, air space, high performance aerated block 215mm, 13mm plaster",null,0.43,null,null,null,null,"Chippings, 3 layers of felt, boarding, air space, 50mm insulation, 9.5 mm plasterboard",0.53]
["Cavity wall timber clad externally",null,null,"Shiplap boards, airspace, standard aerated block 100mm, cavity, standard aerated block, 13mm plaster",null,0.53,0.49,null,null,null,"Chippings, 3 layers of felt, boarding, air space, no insulation, 9.5 mm plasterboard",1.69]
[null,null,null,null,null,null,null,null,null,null,"Pitched roof - Slates or tiles, , ventilated air space, 100mm insulation between joists, 9.5 mm plasterboard",0.35]
[null,null,null,"Shiplap boards, airspace, standard aerated block 100mm, mineral wool slab in cavity 50mm, standard aerated block, 13mm plaster",null,0.34,0.32,null,null,null,"Pitched roof - Slates or tiles, , ventilated air space, 200mm insulation between joists, 9.5 mm plasterboard",0.18]
[null,null,null,null,null,null,null,null,null,null,"Pitched roof - Slates or tiles, , ventilated air space, 300mm insulation between joists, 9.5 mm plasterboard",0.12]
[null,null,null,"Shiplap boards airspace, standard aerated block 100mm, cavity, high performance aerated block, 13mm plaster",null,0.45,0.41,null,null,null,"Pitched roof - Slates or tiles, , ventilated air space, 50mm insulation between joists, 9.5 mm plasterboard",0.62]
[null,null,null,null,null,null,null,null,null,null,"Pitched roof - Slates or tiles, , ventilated air space, no insulation, 9.5 mm plasterboard",3.13]
[null,null,null,"Shiplap boards, airspace, standard aerated block 100mm, mineral wool slab in cavity 50mm, high performance aerated block, 13mm plaster",null,0.31,0.28999999999999998,null,null,null,"Pitched roof - Slates or tiles, sarking felt, ventilated air space, 100mm insulation between joists, 9.5 mm plasterboard",0.34]
[null,null,null,null,null,null,null,null,null,null,"Pitched roof - Slates or tiles, sarking felt, ventilated air space, 100mm insulation between rafters, 9.5 mm plasterboard",0.34]
[null,null,null,null,null,"Insulation Thickness",null,null,null,null,"Pitched roof - Slates or tiles, sarking felt, ventilated air space, 200mm insulation between joists, 9.5 mm plasterboard",0.18]
[null,null,null,null,null,"60 mm","80 mm","100 mm",null,null,"Pitched roof - Slates or tiles, sarking felt, ventilated air space, 200mm insulation between rafters, 9.5 mm plasterboard",0.18]
["Brick outer timber frame wall, dp membrane, plywood sheathing, studding, vapour membrane, plasterboard",null,null,"Brick 102.5mm, cavity, membrane, plywood 10mm, studding 100m, with infill insulation, vapour membrane, plasterboard 12.5mm",null,0.43,0.36,0.32,null,null,"Pitched roof - Slates or tiles, sarking felt, ventilated air space, 300mm insulation between joists, 9.5 mm plasterboard",0.12]
[null,null,null,null,null,null,null,null,null,null,"Pitched roof - Slates or tiles, sarking felt, ventilated air space, 300mm insulation between rafters, 9.5 mm plasterboard",0.12]
[null,null,null,"Tiles, airspace, membrane, plywood 10mm, studding 100mm, with infill insulation, vapour membrane, plasterboard 12.5mm",null,0.47,0.38,0.34,null,null,"Pitched roof - Slates or tiles, sarking felt, ventilated air space, 50mm insulation between joists, 9.5 mm plasterboard",0.6]
[null,null,null,null,null,null,null,null,null,null,"Pitched roof - Slates or tiles, sarking felt, ventilated air space, 50mm insulation between rafters, 9.5 mm plasterboard",0.6]
[null,null,null,"Shiplap boards, airspace, membrane, plywood 10mm, studding 100mm with infill insulation",null,0.44,0.36,0.32,null,null,"Pitched roof - Slates or tiles, sarking felt, ventilated air space, no insulation, 9.5 mm plasterboard",2.5099999999999998]
[null,null,null,null,null,null,null,null,null,null,"Pitched roof - Slates or tiles, sarking felt, ventilated air space, no insulation, 9.5 mm plasterboard",2.5099999999999998]
[null,null,null,null,null,null,null,null,null,null,"Boarding 19mm, airspace between joists, 100mm insulation, 6mm sheeting - heat flow downward exposed to outside air or unheated space",0.33]
[null,null,null,null,null,null,null,null,null,null,"Boarding 19mm, airspace between joists, 150mm insulation, 6mm sheeting - heat flow downward exposed to outside air or unheated space",0.23]
[null,null,null,null,null,null,null,null,null,null,"Boarding 19mm, airspace between joists, no insulation, 6mm sheeting - heat flow downward exposed to outside air or unheated space",1.75]
[null,null,null,null,null,null,null,null,null,null,"Intermediate floors, boarding 19mm, airspace 100mm insulation between joists, 9.5mm plasterboard heat flow downward",0.31]
[null,null,null,null,null,null,null,null,null,null,"Intermediate floors, boarding 19mm, airspace 100mm insulation between joists, 9.5mm plasterboard heat flow upward",0.32]
[null,null,null,null,null,null,null,null,null,null,"Intermediate floors, boarding 19mm, airspace between joists, 9.5mm plasterboard heat flow downward",1.41]
[null,null,null,null,null,null,null,null,null,null,"Intermediate floors, boarding 19mm, airspace between joists, 9.5mm plasterboard heat flow upward",1.73]
[null,null,null,null,null,null,null,null,null,null,"Screed 50mm, concrete slab 150mm, 100mm insulation between battens, 6mm sheeting, heat flow downward - exposed to outside air or unheated space",0.56999999999999995]
[null,null,null,null,null,null,null,null,null,null,"Screed 50mm, concrete slab 150mm, no insulation between battens, 6mm sheeting, heat flow downward - exposed to outside air or unheated space",1.82]

{"sheet":"Design Tables","index":5,"n_rows":33,"n_cols":14,"rows_kept":33,"cut":false,"hidden":false,"merged":[[29,4,29,5],[30,4,30,5],[26,6,26,8],[26,9,26,11],[27,6,27,8],[28,6,28,8],[29,6,29,8],[30,6,30,8],[27,9,27,11],[28,9,28,11],[29,9,29,11],[30,9,30,11],[20,5,21,13],[22,5,23,13],[26,4,26,5],[27,4,27,5],[28,4,28,5],[25,4,25,11],[0,0,0,2],[0,4,0,13],[14,5,15,13],[16,5,17,13],[18,5,19,13]]}
["Degree Day data from CIBSE Guide A (base temperature 15.5 °C) 1976-1995",null,null,null,"Design Room Operative Temperature and Natural Ventilation Rates"]
["& Mean Air Temp data (from MIS 3005 Appendix B)",null,null,null,"Room","Temp (°C)","Category A","Category B","Category C","Room","Temp (°C)","Category A","Category B","Category C"]
[null,"Degree","Mean Air ",null,"Lounge",21,"1.5**","1.0**","0.5","Games",21,"1.5","1.0","0.5"]
[null,"Day (K*day)","Temp (°C)",null,"Living",21,"1.5**","1.0**","0.5","Bedroom",18,"1.0","1.0","0.5"]
["Borders (Boulmer)",2483,9,null,"Breakfast",21,1.5,"1.0","0.5","Bedsitting",21,"1.5","1.0","0.5"]
["E Anglia (Honington)",2254,10.1,null,"Dining",21,1.5,"1.0","0.5","Bed & Ensuite",21,"2.0","1.5","1.0"]
["E Pennines (Finningley)",2307,10,null,"Kitchen",18,"2.0*","1.5*","1.5*","Internal",18,"0.0","0.0","0.0"]
["E Scotland (Leuchars)",2577,8.8000000000000007,null,"Family",21,"2.0*","1.5*","1.5*","Bed/Study",21,"1.5","1.5","0.5"]
["Midland (Elmdon)",2425,9.8000000000000007,null,"Hall",18,"2.0","1.0","0.5","Landing",18,"2.0","1.0","0.5"]
["N Ireland (Aldergrove)",2360,9.4,null,"Cloaks/WC",18,"2.0*","1.5*","1.5*","Bath",22,"3.0*","1.5*","1.5*"]
["NE Scotland (Dyce)",2668,8.5,null,"Toilet",18,"3.0*","1.5*","1.5*","Shower",22,"3.0*","1.5*","1.5*"]
["North-eastern (Lemming)",2370,9.4,null,"Utility",18,"3.0*","2.0*","0.5*","Dressing",18,"1.5","1.0","0.5"]
["North-western (Carlisle)",2388,9.4,null,"Study",21,1.5,1.5,"0.5","Store",16,"1.0","0.5","0.5"]
["NW Scotland (Stornoway)",2671,8.6]
["Severn Valley (Filton)",1835,10.6,null,"Category A:","Air change rates for older existing buildings (pre 2000). Those with several chimneys and/or subject to preservation orders may require greater infiltration allowance than shown above"]
["South-eastern (Gatwick)",2255,10.199999999999999]
["Southern (Hurn)",2224,10.4,null,"Category B:","Air change rates for modern buildings (2000 or later) with double glazing and regulatory minimum insulation"]
["South-western (Plymouth)",1858,11]
["Thames Valley (Heathrow) ",2033,11.3,null,"Category C:","New (or existing) buildings constructed after 2006 and complying with all current building regulations. "]
["W Pennines (Ringway)",2228,10]
["W Scotland (Abbotsinch)",2494,9.1,null,"*","Where mechanical extract ventilation is to be installed in a room and the extract volume exceeds the natural infiltration, then it is advisable to make due allowances for the air extracted from any connecting room or corridor."]
["Wales (Aberporth)",2161,9.9]
[null,null,null,null,"**","Where a room contains an open fire or chimney, due ventilation allowance must be made from table below (Rooms with Chimneys and Open Flues)."]
["Location","Alt (m)","External"]
[null,null,"Temp **",null,"Note:","All new (Post 2006), well insulated buildings use a design temp of 21°C throughout, except bathrooms (22°C) and Store (16°C)"]
["Belfast",68,-1.2,null,"Rooms with Chimneys and Open Flues"]
["Birmingham",96,-3.4,null,"Room Volume (m³)",null,"Throat restrictor fitted to flue",null,null,"Air changes per hour"]
["Cardiff",67,-1.6,null,"Up to 40",null,"No",null,null,5]
["Edinburgh",35,-3.4,null,"Up to 40",null,"Yes",null,null,3]
["Glasgow",5,-3.9,null,"Up to 70",null,"No",null,null,4]
["London",25,-1.8,null,"Up to 70",null,"Yes",null,null,2]
["Manchester",75,-2.2000000000000002]
["Plymouth",27,-1.2,null,"Table and information taken from The Domestic Heating Design Guide 2015 - please refer to the guide for further information"]

{"sheet":"1","index":6,"n_rows":61,"n_cols":25,"rows_kept":61,"cut":false,"hidden":false,"merged":[[58,12,58,14],[44,19,48,19],[44,20,48,20],[54,12,54,14],[55,12,55,14],[56,12,56,14],[57,12,57,14],[44,18,48,18],[21,12,21,14],[30,12,30,14],[31,12,31,14],[44,16,48,16],[44,17,48,17],[20,12,20,14],[3,1,3,2],[3,4,3,5],[4,1,4,2],[4,4,4,5],[5,1,5,2],[5,4,5,5],[6,1,6,2],[9,11,9,14],[10,11,10,14],[18,12,18,14],[19,12,19,14],[0,1,0,3],[0,4,0,6],[0,10,0,11],[1,4,1,5],[2,2,2,3],[2,4,2,5]]}
[null,"Room Information",null,null,"Ventilation Heat Loss",null,null,"Fabric ","Heat Loss (W)"," Usage (kWh)","Additional heat loss",null,"Addition","Watts","kWh"]
[null,"Room","Bed/Study",null,"Air Changes per hour",null,{"$f":"'Design Details'!G87","v":0},"Floor",{"$f":"SUM(K20:K22)","v":0},{"$f":"SUM(L20:L22)","v":0},"Thermal Bridging (New Build >2006)",null,0,{"$f":"SUM(I$2:I$6)*M2","v":0},{"$f":"SUM(J$2:J$6)*M2","v":0},null,"3 edges (long single)","Level",null,null,null,null,null,null,1]
[null,"Level","Upper floor",null,"Air Change Factor (W/m³K)",null,0.33,"Ext Wall",{"$f":"K27","v":0},{"$f":"L27","v":0},"Exposed location",null,0,{"$f":"SUM(I$2:I$6)*M3","v":0},{"$f":"SUM(J$2:J$6)*M3","v":0},null,"3 edges (short single)","Please Select Floor",{"$f":"IF($C$3=\"Ground floor\",\"Solid Floor (in contact with ground)\",IF($C$3=\"Single Storey\",\"Solid Floor (in contact with ground)\",\"n/a\"))","v":"n/a"},{"$f":"'Design Details'!C21","v":10},"unheated",0,0,0,2]
[null,"Design Room Temp (°C)",null,{"$f":"'Design Details'!E87","v":21},"Total Volume (m³)",null,{"$f":"SUM(I10:I12,I14:I18)","v":0},"Roof",{"$f":"SUM(K32,K36)","v":0},{"$f":"SUM(L32,L36)","v":0},"High ceiling",null,0,{"$f":"SUM(I$2:I$6)*M4","v":0},{"$f":"SUM(J$2:J$6)*M4","v":0},null,"One edge","Ground floor",{"$f":"IF($C$3=\"Ground floor\",\"Suspended Floor\",IF($C$3=\"Single Storey\",\"Suspended Floor\",\"n/a\"))","v":"n/a"},null,16,0.1,0.2,2.5000000000000001E-2,3]
[null,"Outside Design Temp (°C)",null,{"$f":"'Design Details'!C19","v":-2.5},"Heat loss (W)",null,{"$f":"G4*G3*D6*G2","v":0},"Glazing",{"$f":"SUM(K38:K44,K46:K49,K51:K54)","v":0},{"$f":"SUM(L38:L44,L46:L49,L51:L54)","v":0},"Intermittent heating",null,0,{"$f":"SUM(I$2:I$6)*M5","v":0},{"$f":"SUM(J$2:J$6)*M5","v":0},null,"Two adjacent","Mid-floor",null,null,18,null,null,0.05,4]
[null,"Temp Difference (°C)",null,{"$f":"D4-D5","v":23.5},"Estimated Energy usage (kWh)",null,{"$f":"G4*G3*D7*24/1000","v":0},"Int./Party Wall",{"$f":"SUM(K56:K59,K61)","v":0},{"$f":"SUM(L61)","v":0},null,null,null,"Total Room Heat Loss (W)",{"$f":"SUM(G5,I2:I6,N2:N5)","v":0},null,"Two opposite","Single storey",null,null,21,null,null,7.4999999999999997E-2,5]
[null,"Degree Days",null,{"$f":"'Design Details'!C20","v":2228},null,null,null,null,null,null,null,null,null,"Total Room Energy Usage (kWh)",{"$f":"SUM(G6,J2:J6,O2:O5)","v":0},null,null,"Upper floor",null,null,22,null,null,0.1,6]
[null,null,null,null,null,null,null,null,null,null,null,null,null,null,null,null,null,{"$f":"IF($C$3=\"Ground floor\",'Design Details'!C$45,IF($C$3=\"Mid-floor\",'Design Details'!C$55,IF($C$3=\"Upper floor\",'Design Details'!C$65,IF($C$3=\"Single Storey\",'Design Details'!C$75,0))))","v":0},null,null,null,null,null,null,7]
[null,"Room Dimensions",null,null,null,null,null,null,null,null,null,null,null,null,null,null,null,null,null,null,null,null,null,null,8]
[null,"Length (m)",null,"Width (m)",null,"Height (m)",null,"Volume (m³)",{"$f":"C10*E10*G10","v":0},null,null,null,null,null,null,null,null,null,null,null,null,null,null,null,9]
[null,"Length (m)",null,"Width (m)",null,"Height (m)",null,"Volume (m³)",{"$f":"C11*E11*G11","v":0},null,null,null,null,null,null,null,null,null,null,null,null,null,null,null,10]
[null,"Length (m)",null,"Width (m)",null,"Height (m)",null,"Volume (m³)",{"$f":"C12*E12*G12","v":0}]
[null,"Awkward Room Dimensions"]
[null,"Length (m)",null,"Width (m)",null,"Height (m)",null,"Volume (m³)",{"$f":"((G14*E14)/2)*C14","v":0},"Pitched"]
[null,"Length (m)",null,"Width (m)",null,"Height (m)",null,"Volume (m³)",{"$f":"C15*E15*G15/2","v":0},"Single Pitch"]
[null,"Length (m)",null,"Height (m)",null,"Depth (m)",null,"Volume (m³)",{"$f":"E16*G16*C16/2","v":0},"Dormer 1"]
[null,"Length (m)",null,"Height (m)",null,"Depth (m)",null,"Volume (m³)",{"$f":"E17*G17*C17/2","v":0},"Dormer 2"]
[null,"Length (m)",null,"Height (m)",null,"Depth (m)",null,"Volume (m³)",{"$f":"E18*G18*C18/2","v":0},"Dormer 3"]
[null,"Floor",null,null,null,null,null,null,null,"Temp Difference","Heat Loss (W)","Usage (kWh)",{"$f":"IF($C$3=\"Ground Floor\",\"Select type of Ground Floor\",IF($C$3=\"Single Storey\",\"Select type of Ground Floor\",\"#N/A\"))","v":"#N/A"}]
[null,{"$f":"B10","v":"Length (m)"},null,{"$f":"D10","v":"Width (m)"},null,"Area (m²)",{"$f":"C20*E20","v":0},"U Value (W/m²K)",{"$f":"IF(M22=\"\",R8,'floor u values'!K2)","v":0},{"$f":"IF(C$3=\"Ground Floor\",IF(M20=\"Solid Floor (in contact with ground)\",D$4-T$3,D$4-D$5),IF(C$3=\"Single Storey\",IF(M20=\"Solid Floor (in contact with ground)\",D$4-T$3,D$4-D$5),0))","v":0},{"$f":"G20*I20*J20","v":0},{"$f":"IF($C$3=$R$5,0,IF($C$3=$R$7,0,G20*I20*$D$7*24/1000))","v":0},"n/a"]
[null,"Length (m)",null,"Width (m)",null,"Area (m²)",{"$f":"C21*E21","v":0},"U Value (W/m²K)",{"$f":"I20","v":0},{"$f":"IF(C$3=\"Ground Floor\",IF(M20=\"Solid Floor (in contact with ground)\",D$4-T$3,D$4-D$5),IF(C$3=\"Single Storey\",IF(M20=\"Solid Floor (in contact with ground)\",D$4-T$3,D$4-D$5),0))","v":0},{"$f":"G21*I21*J21","v":0},{"$f":"IF($C$3=$R$5,0,IF($C$3=$R$7,0,G21*I21*$D$7*24/1000))","v":0},"Exposed floor (external)"]
[null,"Length (m)",null,"Width (m)",null,"Area (m²)",0,"U Value (W/m²K)",{"$f":"I20","v":0},{"$f":"IF(C$3=\"Ground Floor\",IF(M20=\"Solid Floor (in contact with ground)\",D$4-T$3,D$4-D$5),IF(C$3=\"Single Storey\",IF(M20=\"Solid Floor (in contact with ground)\",D$4-T$3,D$4-D$5),0))","v":0},{"$f":"G22*I22*J22","v":0},{"$f":"IF($C$3=$R$5,0,IF($C$3=$R$7,0,G22*I22*$D$7*24/1000))","v":0}]
[null,"External Wall",null,null,null,null,null,null,null,null,null,null,{"$f":"IF(M22=\"Two opposite\",\"Between edges\",IF(M22=\"One edge\",\"Depth of room\",IF(M22=\"3 edges (short single)\",\"Short length\",IF(M22=\"3 edges (long single)\",\"Short length\",\"\"))))","v":""},null,{"$f":"IF(M22=\"3 edges (short single)\",\"Long length\",IF(M22=\"3 edges (long single)\",\"Long length\",\"\"))","v":""}]
[null,"Length (m)",null,"Height (m)",null,"Area (m²)",0]
[null,"Length (m)",null,"Height (m)",null,"Area (m²)",0]
[null,"Length (m)",null,"Height (m)",null,"Area (m²)",0]
[null,null,null,null,"Total","Area (m²)",{"$f":"SUM(G24:G26)-SUM(G38:G44,G51:G54)","v":0},"U Value (W/m²K)",{"$f":"IF($C$3=\"Ground floor\",'Design Details'!C$48,IF($C$3=\"Mid-floor\",'Design Details'!C$58,IF($C$3=\"Upper floor\",'Design Details'!C$68,IF($C$3=\"Single Storey\",'Design Details'!C$78,0))))","v":0},{"$f":"$D$6","v":23.5},{"$f":"G27*I27*J27","v":0},{"$f":"G27*I27*$D$7*24/1000","v":0}]
[null,"Ceiling (Flat)"]
[null,"Length (m)",null,"Width (m)",null,"Area (m²)",0]
[null,"Length (m)",null,"Width (m)",null,"Area (m²)",0]
[null,"Length (m)",null,"Width (m)",null,"Area (m²)",0,null,null,null,null,null,"Select Temp/Type of Space Above"]
[null,null,null,null,"Total","Area (m²)",{"$f":"SUM(G29:G31)-SUM(G46:G49)","v":0},"U Value (W/m²K)",{"$f":"IF($C$3=\"Ground floor\",'Design Details'!C$49,IF($C$3=\"Mid-floor\",'Design Details'!C$59,IF($C$3=\"Upper floor\",INDIRECT(T52),IF($C$3=\"Single Storey\",INDIRECT(T53),0))))","v":0.6},{"$f":"U51","v":11},{"$f":"G32*I32*J32","v":0},{"$f":"IF($C$3=$R$4,0,IF($C$3=$R$5,0,G32*I32*$D$7*24/1000))","v":0},"Unheated"]
[null,"Ceiling (Awkward)"]
[null,"Length (m)",{"$f":"C14*2","v":0},"Pitch (m)",{"$f":"SQRT(POWER(E14,2)+POWER(G14,2))","v":0},"Area (m²)",{"$f":"C34*E34","v":0},"Pitched"]
[null,"Length (m)",{"$f":"C15","v":0},"Pitch (m)",{"$f":"SQRT(POWER(E15,2)+POWER(G15,2))","v":0},"Area (m²)",0,"Single Pitch"]
[null,null,null,null,"Total","Area (m²)",{"$f":"SUM(G34:G35)-SUM(G46:G49)","v":0},"U Value (W/m²K)",{"$f":"IF($C$3=\"Ground floor\",'Design Details'!C$50,IF($C$3=\"Mid-floor\",'Design Details'!C$60,IF($C$3=\"Upper floor\",'Design Details'!C$70,IF($C$3=\"Single Storey\",'Design Details'!C$80,0))))","v":0.6},{"$f":"$D$6","v":23.5},0,{"$f":"IF($C$3=$R$4,0,IF($C$3=$R$5,0,G36*I36*$D$7*24/1000))","v":0}]
[null,"Windows"]
[null,"Width (m)",null,"Height (m)",null,"Area (m²)",0,"U Value (W/m²K)",{"$f":"IF($C$3=\"Ground floor\",'Design Details'!C$46,IF($C$3=\"Mid-floor\",'Design Details'!C$56,IF($C$3=\"Upper floor\",'Design Details'!C$66,IF($C$3=\"Single Storey\",'Design Details'!C$76,0))))","v":0},23.5,0,{"$f":"G38*I38*$D$7*24/1000","v":0}]
[null,"Width (m)",null,"Height (m)",null,"Area (m²)",0,"U Value (W/m²K)",{"$f":"IF($C$3=\"Ground floor\",'Design Details'!C$46,IF($C$3=\"Mid-floor\",'Design Details'!C$56,IF($C$3=\"Upper floor\",'Design Details'!C$66,IF($C$3=\"Single Storey\",'Design Details'!C$76,0))))","v":0},23.5,0,0]
[null,"Width (m)",null,"Height (m)",null,"Area (m²)",0,"U Value (W/m²K)",{"$f":"IF($C$3=\"Ground floor\",'Design Details'!C$46,IF($C$3=\"Mid-floor\",'Design Details'!C$56,IF($C$3=\"Upper floor\",'Design Details'!C$66,IF($C$3=\"Single Storey\",'Design Details'!C$76,0))))","v":0},23.5,0,0]
[null,"Width (m)",null,"Height (m)",null,"Area (m²)",0,"U Value (W/m²K)",{"$f":"IF($C$3=\"Ground floor\",'Design Details'!C$46,IF($C$3=\"Mid-floor\",'Design Details'!C$56,IF($C$3=\"Upper floor\",'Design Details'!C$66,IF($C$3=\"Single Storey\",'Design Details'!C$76,0))))","v":0},23.5,0,0]
[null,"Width (m)",null,"Height (m)",null,"Area (m²)",0,"U Value (W/m²K)",{"$f":"IF($C$3=\"Ground floor\",'Design Details'!C$46,IF($C$3=\"Mid-floor\",'Design Details'!C$56,IF($C$3=\"Upper floor\",'Design Details'!C$66,IF($C$3=\"Single Storey\",'Design Details'!C$76,0))))","v":0},23.5,0,0]
[null,"Width (m)",null,"Height (m)",null,"Area (m²)",0,"U Value (W/m²K)",{"$f":"IF($C$3=\"Ground floor\",'Design Details'!C$46,IF($C$3=\"Mid-floor\",'Design Details'!C$56,IF($C$3=\"Upper floor\",'Design Details'!C$66,IF($C$3=\"Single Storey\",'Design Details'!C$76,0))))","v":0},23.5,0,0]
[null,"Width (m)",null,"Height (m)",null,"Area (m²)",0,"U Value (W/m²K)",{"$f":"IF($C$3=\"Ground floor\",'Design Details'!C$46,IF($C$3=\"Mid-floor\",'Design Details'!C$56,IF($C$3=\"Upper floor\",'Design Details'!C$66,IF($C$3=\"Single Storey\",'Design Details'!C$76,0))))","v":0},23.5,0,0]
[null,"Roof Glazing",null,null,null,null,null,null,null,null,null,null,null,null,null,null,"Options for upper floor or single storey","Options for Ground or Mid Floor","Drop-Down List","U-Value Selector","Temp Diff Selector"]
[null,"Width (m)",null,"Height (m)",null,"Area (m²)",0,"U Value (W/m²K)",{"$f":"IF($C$3=\"Ground floor\",'Design Details'!C$53,IF($C$3=\"Mid-floor\",'Design Details'!C$63,IF($C$3=\"Upper floor\",'Design Details'!C$73,IF($C$3=\"Single Storey\",'Design Details'!C$83,0))))","v":0},23.5,0,{"$f":"G46*I46*$D$7*24/1000","v":0}]
[null,"Width (m)",null,"Height (m)",null,"Area (m²)",0,"U Value (W/m²K)",{"$f":"IF($C$3=\"Ground floor\",'Design Details'!C$53,IF($C$3=\"Mid-floor\",'Design Details'!C$63,IF($C$3=\"Upper floor\",'Design Details'!C$73,IF($C$3=\"Single Storey\",'Design Details'!C$83,0))))","v":0},23.5,0,{"$f":"G47*I47*$D$7*24/1000","v":0}]
[null,"Width (m)",null,"Height (m)",null,"Area (m²)",0,"U Value (W/m²K)",{"$f":"IF($C$3=\"Ground floor\",'Design Details'!C$53,IF($C$3=\"Mid-floor\",'Design Details'!C$63,IF($C$3=\"Upper floor\",'Design Details'!C$73,IF($C$3=\"Single Storey\",'Design Details'!C$83,0))))","v":0},23.5,0,{"$f":"G48*I48*$D$7*24/1000","v":0}]
[null,"Width (m)",null,"Height (m)",null,"Area (m²)",0,"U Value (W/m²K)",{"$f":"IF($C$3=\"Ground floor\",'Design Details'!C$53,IF($C$3=\"Mid-floor\",'Design Details'!C$63,IF($C$3=\"Upper floor\",'Design Details'!C$73,IF($C$3=\"Single Storey\",'Design Details'!C$83,0))))","v":0},23.5,0,{"$f":"G49*I49*$D$7*24/1000","v":0}]
[null,"External Doors",null,null,null,null,null,null,null,null,null,null,null,null,null,null,null,null,"Select..."]
[null,"Width (m)",null,"Height (m)",null,"Area (m²)",0,"U Value (W/m²K)",{"$f":"IF($C$3=\"Ground floor\",'Design Details'!C$47,IF($C$3=\"Mid-floor\",'Design Details'!C$57,IF($C$3=\"Upper floor\",'Design Details'!C$67,IF($C$3=\"Single Storey\",'Design Details'!C$77,0))))","v":0},23.5,0,{"$f":"G51*I51*$D$7*24/1000","v":0},null,null,null,null,"Outside","Unheated",{"$f":"IF(OR($C$3=\"Ground Floor\",$C$3=\"Mid-floor\"),R51,Q51)","v":"Outside"},{"$f":"IF(M32=\"Unheated\",1,0)","v":1},{"$f":"IF(M32=\"Select...\",0,(IF(M32=\"Outside\",D6,IF(M32=\"Unheated\",D4-10,D4-M32))))","v":11}]
[null,"Width (m)",null,"Height (m)",null,"Area (m²)",0,"U Value (W/m²K)",{"$f":"IF($C$3=\"Ground floor\",'Design Details'!C$47,IF($C$3=\"Mid-floor\",'Design Details'!C$57,IF($C$3=\"Upper floor\",'Design Details'!C$67,IF($C$3=\"Single Storey\",'Design Details'!C$77,0))))","v":0},23.5,0,{"$f":"G52*I52*$D$7*24/1000","v":0},null,null,null,null,"Unheated","16",{"$f":"IF(OR($C$3=\"Ground Floor\",$C$3=\"Mid-floor\"),R52,Q52)","v":"Unheated"},{"$f":"\"'Design Details'!C$\"&69+T51","v":"'Design Details'!C$70"}]
[null,"Width (m)",null,"Height (m)",null,"Area (m²)",0,"U Value (W/m²K)",{"$f":"IF($C$3=\"Ground floor\",'Design Details'!C$47,IF($C$3=\"Mid-floor\",'Design Details'!C$57,IF($C$3=\"Upper floor\",'Design Details'!C$67,IF($C$3=\"Single Storey\",'Design Details'!C$77,0))))","v":0},23.5,0,{"$f":"G53*I53*$D$7*24/1000","v":0},null,null,null,null,null,"18",{"$f":"IF(OR($C$3=\"Ground Floor\",$C$3=\"Mid-floor\"),R53,Q53)","v":0},{"$f":"\"'Design Details'!C$\"&79+T51","v":"'Design Details'!C$80"}]
[null,"Width (m)",null,"Height (m)",null,"Area (m²)",0,"U Value (W/m²K)",{"$f":"IF($C$3=\"Ground floor\",'Design Details'!C$47,IF($C$3=\"Mid-floor\",'Design Details'!C$57,IF($C$3=\"Upper floor\",'Design Details'!C$67,IF($C$3=\"Single Storey\",'Design Details'!C$77,0))))","v":0},23.5,0,{"$f":"G54*I54*$D$7*24/1000","v":0},null,null,null,null,null,"21",{"$f":"IF(OR($C$3=\"Ground Floor\",$C$3=\"Mid-floor\"),R54,Q54)","v":0}]
[null,"Internal Walls",null,null,null,null,null,null,null,null,null,null,"Adjoining Room Temp (°C)",null,null,null,null,22,{"$f":"IF(OR($C$3=\"Ground Floor\",$C$3=\"Mid-floor\"),R55,Q37)","v":0}]
[null,"Length (m)",null,"Height (m)",null,"Area (m²)",0,"U Value (W/m²K)",{"$f":"IF($C$3=\"Ground floor\",'Design Details'!C$51,IF($C$3=\"Mid-floor\",'Design Details'!C$61,IF($C$3=\"Upper floor\",'Design Details'!C$71,IF($C$3=\"Single Storey\",'Design Details'!C$81,0))))","v":0},{"$f":"IF(M56=\"\",0,IF(M56=\"unheated\",D$4-10,D$4-M56))","v":0},0]
[null,"Length (m)",null,"Height (m)",null,"Area (m²)",0,"U Value (W/m²K)",{"$f":"IF($C$3=\"Ground floor\",'Design Details'!C$51,IF($C$3=\"Mid-floor\",'Design Details'!C$61,IF($C$3=\"Upper floor\",'Design Details'!C$71,IF($C$3=\"Single Storey\",'Design Details'!C$81,0))))","v":0},{"$f":"IF(M57=\"\",0,IF(M57=\"unheated\",D$4-10,D$4-M57))","v":0},0]
[null,"Length (m)",null,"Height (m)",null,"Area (m²)",0,"U Value (W/m²K)",{"$f":"IF($C$3=\"Ground floor\",'Design Details'!C$51,IF($C$3=\"Mid-floor\",'Design Details'!C$61,IF($C$3=\"Upper floor\",'Design Details'!C$71,IF($C$3=\"Single Storey\",'Design Details'!C$81,0))))","v":0},{"$f":"IF(M58=\"\",0,IF(M58=\"unheated\",D$4-10,D$4-M58))","v":0},0]
[null,"Length (m)",null,"Height (m)",null,"Area (m²)",0,"U Value (W/m²K)",{"$f":"IF($C$3=\"Ground floor\",'Design Details'!C$51,IF($C$3=\"Mid-floor\",'Design Details'!C$61,IF($C$3=\"Upper floor\",'Design Details'!C$71,IF($C$3=\"Single Storey\",'Design Details'!C$81,0))))","v":0},{"$f":"IF(M59=\"\",0,IF(M59=\"unheated\",D$4-10,D$4-M59))","v":0},0]
[null,"Party Wall"]
[null,"Length (m)",null,"Height (m)",null,"Area (m²)",0,"U Value (W/m²K)",{"$f":"IF($C$3=\"Ground floor\",'Design Details'!C$52,IF($C$3=\"Mid-floor\",'Design Details'!C$62,IF($C$3=\"Upper floor\",'Design Details'!C$72,IF($C$3=\"Single Storey\",'Design Details'!C$82,0))))","v":0.5},{"$f":"D4-10","v":11},0,{"$f":"G61*I61*$D$7*24/1000","v":0}]

{"sheet":"2","index":7,"n_rows":61,"n_cols":25,"rows_kept":61,"cut":false,"hidden":false,"merged":[[44,16,48,16],[44,17,48,17],[44,18,48,18],[44,19,48,19],[44,20,48,20],[2,2,2,3],[2,4,2,5],[0,1,0,3],[0,4,0,6],[0,10,0,11],[1,4,1,5],[3,1,3,2],[3,4,3,5],[4,1,4,2],[4,4,4,5],[5,1,5,2],[5,4,5,5],[58,12,58,14],[6,1,6,2],[18,12,18,14],[19,12,19,14],[54,12,54,14],[55,12,55,14],[56,12,56,14],[57,12,57,14],[30,12,30,14],[10,11,10,14],[9,11,9,14],[20,12,20,14],[21,12,21,14],[31,12,31,14]]}
[null,"Room Information",null,null,"Ventilation Heat Loss",null,null,"Fabric ","Heat Loss (W)"," Usage (kWh)","Additional heat loss",null,"Addition","Watts","kWh"]
[null,"Room",null,null,"Air Changes per hour",null,{"$f":"'Design Details'!G88","v":0},"Floor",{"$f":"SUM(K20:K22)","v":0},{"$f":"SUM(L20:L22)","v":0},"Thermal Bridging (New Build >2006)",null,0,{"$f":"SUM(I$2:I$6)*M2","v":0},{"$f":"SUM(J$2:J$6)*M2","v":0},null,"3 edges (long single)","Level",null,null,null,null,null,null,1]
[null,"Level",null,null,"Air Change Factor (W/m³K)",null,0.33,"Ext Wall",{"$f":"K27","v":0},{"$f":"L27","v":0},"Exposed location",null,0,{"$f":"SUM(I$2:I$6)*M3","v":0},{"$f":"SUM(J$2:J$6)*M3","v":0},null,"3 edges (short single)","Please Select Floor",{"$f":"IF($C$3=\"Ground floor\",\"Solid Floor (in contact with ground)\",IF($C$3=\"Single Storey\",\"Solid Floor (in contact with ground)\",\"n/a\"))","v":"n/a"},{"$f":"'Design Details'!C21","v":10},"unheated",0,0,0,2]
[null,"Design Room Temp (°C)",null,{"$f":"'Design Details'!E88","v":0},"Total Volume (m³)",null,{"$f":"SUM(I10:I12,I14:I18)","v":0},"Roof",{"$f":"SUM(K32,K36)","v":0},{"$f":"SUM(L32,L36)","v":0},"High ceiling",null,0,{"$f":"SUM(I$2:I$6)*M4","v":0},{"$f":"SUM(J$2:J$6)*M4","v":0},null,"One edge","Ground floor",{"$f":"IF($C$3=\"Ground floor\",\"Suspended Floor\",IF($C$3=\"Single Storey\",\"Suspended Floor\",\"n/a\"))","v":"n/a"},null,16,0.1,0.2,2.5000000000000001E-2,3]
[null,"Outside Design Temp (°C)",null,{"$f":"'Design Details'!C19","v":-2.5},"Heat loss (W)",null,{"$f":"G4*G3*D6*G2","v":0},"Glazing",{"$f":"SUM(K38:K44,K46:K49,K51:K54)","v":0},{"$f":"SUM(L38:L44,L46:L49,L51:L54)","v":0},"Intermittent heating",null,0,{"$f":"SUM(I$2:I$6)*M5","v":0},{"$f":"SUM(J$2:J$6)*M5","v":0},null,"Two adjacent","Mid-floor",null,null,18,null,null,0.05,4]
[null,"Temp Difference (°C)",null,{"$f":"D4-D5","v":2.5},"Estimated Energy usage (kWh)",null,{"$f":"G4*G3*D7*24/1000","v":0},"Int./Party Wall",{"$f":"SUM(K56:K59,K61)","v":0},{"$f":"SUM(L61)","v":0},null,null,null,"Total Room Heat Loss (W)",{"$f":"SUM(G5,I2:I6,N2:N5)","v":0},null,"Two opposite","Single storey",null,null,21,null,null,7.4999999999999997E-2,5]
[null,"Degree Days",null,{"$f":"'Design Details'!C20","v":2228},null,null,null,null,null,null,null,null,null,"Total Room Energy Usage (kWh)",{"$f":"SUM(G6,J2:J6,O2:O5)","v":0},null,null,"Upper floor",null,null,22,null,null,0.1,6]
[null,null,null,null,null,null,null,null,null,null,null,null,null,null,null,null,null,{"$f":"IF($C$3=\"Ground floor\",'Design Details'!C$45,IF($C$3=\"Mid-floor\",'Design Details'!C$55,IF($C$3=\"Upper floor\",'Design Details'!C$65,IF($C$3=\"Single Storey\",'Design Details'!C$75,0))))","v":0},null,null,null,null,null,null,7]
[null,"Room Dimensions",null,null,null,null,null,null,null,null,null,null,null,null,null,null,null,null,null,null,null,null,null,null,8]
[null,"Length (m)",null,"Width (m)",null,"Height (m)",null,"Volume (m³)",{"$f":"C10*E10*G10","v":0},null,null,null,null,null,null,null,null,null,null,null,null,null,null,null,9]
[null,"Length (m)",null,"Width (m)",null,"Height (m)",null,"Volume (m³)",{"$f":"C11*E11*G11","v":0},null,null,null,null,null,null,null,null,null,null,null,null,null,null,null,10]
[null,"Length (m)",null,"Width (m)",null,"Height (m)",null,"Volume (m³)",{"$f":"C12*E12*G12","v":0}]
[null,"Awkward Room Dimensions"]
[null,"Length (m)",null,"Width (m)",null,"Height (m)",null,"Volume (m³)",{"$f":"((G14*E14)/2)*C14","v":0},"Pitched"]
[null,"Length (m)",null,"Width (m)",null,"Height (m)",null,"Volume (m³)",{"$f":"C15*E15*G15/2","v":0},"Single Pitch"]
[null,"Length (m)",null,"Height (m)",null,"Depth (m)",null,"Volume (m³)",{"$f":"E16*G16*C16/2","v":0},"Dormer 1"]
[null,"Length (m)",null,"Height (m)",null,"Depth (m)",null,"Volume (m³)",{"$f":"E17*G17*C17/2","v":0},"Dormer 2"]
[null,"Length (m)",null,"Height (m)",null,"Depth (m)",null,"Volume (m³)",{"$f":"E18*G18*C18/2","v":0},"Dormer 3"]
[null,"Floor",null,null,null,null,null,null,null,"Temp Difference","Heat Loss (W)","Usage (kWh)",{"$f":"IF($C$3=\"Ground Floor\",\"Select type of Ground Floor\",IF($C$3=\"Single Storey\",\"Select type of Ground Floor\",\"#N/A\"))","v":"#N/A"}]
[null,{"$f":"B10","v":"Length (m)"},null,{"$f":"D10","v":"Width (m)"},null,"Area (m²)",{"$f":"C20*E20","v":0},"U Value (W/m²K)",{"$f":"IF(M22=\"\",R8,'floor u values'!K3)","v":0},{"$f":"IF(C$3=\"Ground Floor\",IF(M20=\"Solid Floor (in contact with ground)\",D$4-T$3,D$4-D$5),IF(C$3=\"Single Storey\",IF(M20=\"Solid Floor (in contact with ground)\",D$4-T$3,D$4-D$5),0))","v":0},{"$f":"G20*I20*J20","v":0},{"$f":"IF($C$3=$R$5,0,IF($C$3=$R$7,0,G20*I20*$D$7*24/1000))","v":0},"n/a"]
[null,{"$f":"B11","v":"Length (m)"},null,"Width (m)",null,"Area (m²)",{"$f":"C21*E21","v":0},"U Value (W/m²K)",{"$f":"I20","v":0},{"$f":"IF(C$3=\"Ground Floor\",IF(M20=\"Solid Floor (in contact with ground)\",D$4-T$3,D$4-D$5),IF(C$3=\"Single Storey\",IF(M20=\"Solid Floor (in contact with ground)\",D$4-T$3,D$4-D$5),0))","v":0},{"$f":"G21*I21*J21","v":0},{"$f":"IF($C$3=$R$5,0,IF($C$3=$R$7,0,G21*I21*$D$7*24/1000))","v":0},"Exposed floor (external)"]
[null,{"$f":"B12","v":"Length (m)"},null,"Width (m)",null,"Area (m²)",0,"U Value (W/m²K)",{"$f":"I20","v":0},{"$f":"IF(C$3=\"Ground Floor\",IF(M20=\"Solid Floor (in contact with ground)\",D$4-T$3,D$4-D$5),IF(C$3=\"Single Storey\",IF(M20=\"Solid Floor (in contact with ground)\",D$4-T$3,D$4-D$5),0))","v":0},{"$f":"G22*I22*J22","v":0},{"$f":"IF($C$3=$R$5,0,IF($C$3=$R$7,0,G22*I22*$D$7*24/1000))","v":0}]
[null,"External Wall",null,null,null,null,null,null,null,null,null,null,{"$f":"IF(M22=\"Two opposite\",\"Between edges\",IF(M22=\"One edge\",\"Depth of room\",IF(M22=\"3 edges (short single)\",\"Short length\",IF(M22=\"3 edges (long single)\",\"Short length\",\"\"))))","v":""},null,{"$f":"IF(M22=\"3 edges (short single)\",\"Long length\",IF(M22=\"3 edges (long single)\",\"Long length\",\"\"))","v":""}]
[null,"Length (m)",null,"Height (m)",null,"Area (m²)",0]
[null,"Length (m)",null,"Height (m)",null,"Area (m²)",0]
[null,"Length (m)",null,"Height (m)",null,"Area (m²)",0]
[null,null,null,null,"Total","Area (m²)",{"$f":"SUM(G24:G26)-SUM(G38:G44,G51:G54)","v":0},"U Value (W/m²K)",{"$f":"IF($C$3=\"Ground floor\",'Design Details'!C$48,IF($C$3=\"Mid-floor\",'Design Details'!C$58,IF($C$3=\"Upper floor\",'Design Details'!C$68,IF($C$3=\"Single Storey\",'Design Details'!C$78,0))))","v":0},{"$f":"$D$6","v":2.5},{"$f":"G27*I27*J27","v":0},{"$f":"G27*I27*$D$7*24/1000","v":0}]
[null,"Ceiling (Flat)"]
[null,"Length (m)",null,"Width (m)",null,"Area (m²)",0]
[null,"Length (m)",null,"Width (m)",null,"Area (m²)",0]
[null,"Length (m)",null,"Width (m)",null,"Area (m²)",0,null,null,null,null,null,"Select Temp/Type of Space Above"]
[null,null,null,null,"Total","Area (m²)",{"$f":"SUM(G29:G31)-SUM(G46:G49)","v":0},"U Value (W/m²K)",{"$f":"IF($C$3=\"Ground floor\",'Design Details'!C$49,IF($C$3=\"Mid-floor\",'Design Details'!C$59,IF($C$3=\"Upper floor\",INDIRECT(T52),IF($C$3=\"Single Storey\",INDIRECT(T53),0))))","v":0},{"$f":"U51","v":0},0,{"$f":"IF($C$3=$R$4,0,IF($C$3=$R$5,0,G32*I32*$D$7*24/1000))","v":0},"Select..."]
[null,"Ceiling (Awkward)"]
[null,"Length (m)",{"$f":"C14*2","v":0},"Pitch (m)",{"$f":"SQRT(POWER(E14,2)+POWER(G14,2))","v":0},"Area (m²)",0,"Pitched"]
[null,"Length (m)",{"$f":"C15","v":0},"Pitch (m)",{"$f":"SQRT(POWER(E15,2)+POWER(G15,2))","v":0},"Area (m²)",0,"Single Pitch"]
[null,null,null,null,"Total","Area (m²)",{"$f":"SUM(G34:G35)-SUM(G46:G49)","v":0},"U Value (W/m²K)",{"$f":"IF($C$3=\"Ground floor\",'Design Details'!C$50,IF($C$3=\"Mid-floor\",'Design Details'!C$60,IF($C$3=\"Upper floor\",'Design Details'!C$70,IF($C$3=\"Single Storey\",'Design Details'!C$80,0))))","v":0},2.5,0,{"$f":"IF($C$3=$R$4,0,IF($C$3=$R$5,0,G36*I36*$D$7*24/1000))","v":0}]
[null,"Windows"]
[null,"Width (m)",null,"Height (m)",null,"Area (m²)",0,"U Value (W/m²K)",{"$f":"IF($C$3=\"Ground floor\",'Design Details'!C$46,IF($C$3=\"Mid-floor\",'Design Details'!C$56,IF($C$3=\"Upper floor\",'Design Details'!C$66,IF($C$3=\"Single Storey\",'Design Details'!C$76,0))))","v":0},2.5,0,{"$f":"G38*I38*$D$7*24/1000","v":0}]
[null,"Width (m)",null,"Height (m)",null,"Area (m²)",0,"U Value (W/m²K)",{"$f":"IF($C$3=\"Ground floor\",'Design Details'!C$46,IF($C$3=\"Mid-floor\",'Design Details'!C$56,IF($C$3=\"Upper floor\",'Design Details'!C$66,IF($C$3=\"Single Storey\",'Design Details'!C$76,0))))","v":0},2.5,0,0]
[null,"Width (m)",null,"Height (m)",null,"Area (m²)",0,"U Value (W/m²K)",{"$f":"IF($C$3=\"Ground floor\",'Design Details'!C$46,IF($C$3=\"Mid-floor\",'Design Details'!C$56,IF($C$3=\"Upper floor\",'Design Details'!C$66,IF($C$3=\"Single Storey\",'Design Details'!C$76,0))))","v":0},2.5,0,0]
[null,"Width (m)",null,"Height (m)",null,"Area (m²)",0,"U Value (W/m²K)",{"$f":"IF($C$3=\"Ground floor\",'Design Details'!C$46,IF($C$3=\"Mid-floor\",'Design Details'!C$56,IF($C$3=\"Upper floor\",'Design Details'!C$66,IF($C$3=\"Single Storey\",'Design Details'!C$76,0))))","v":0},2.5,0,0]
[null,"Width (m)",null,"Height (m)",null,"Area (m²)",0,"U Value (W/m²K)",{"$f":"IF($C$3=\"Ground floor\",'Design Details'!C$46,IF($C$3=\"Mid-floor\",'Design Details'!C$56,IF($C$3=\"Upper floor\",'Design Details'!C$66,IF($C$3=\"Single Storey\",'Design Details'!C$76,0))))","v":0},2.5,0,0]
[null,"Width (m)",null,"Height (m)",null,"Area (m²)",0,"U Value (W/m²K)",{"$f":"IF($C$3=\"Ground floor\",'Design Details'!C$46,IF($C$3=\"Mid-floor\",'Design Details'!C$56,IF($C$3=\"Upper floor\",'Design Details'!C$66,IF($C$3=\"Single Storey\",'Design Details'!C$76,0))))","v":0},2.5,0,0]
[null,"Width (m)",null,"Height (m)",null,"Area (m²)",0,"U Value (W/m²K)",{"$f":"IF($C$3=\"Ground floor\",'Design Details'!C$46,IF($C$3=\"Mid-floor\",'Design Details'!C$56,IF($C$3=\"Upper floor\",'Design Details'!C$66,IF($C$3=\"Single Storey\",'Design Details'!C$76,0))))","v":0},2.5,0,0]
[null,"Roof Glazing",null,null,null,null,null,null,null,null,null,null,null,null,null,null,"Options for upper floor or single storey","Options for Ground or Mid Floor","Drop-Down List","U-Value Selector","Temp Diff Selector"]
[null,"Width (m)",null,"Height (m)",null,"Area (m²)",0,"U Value (W/m²K)",{"$f":"IF($C$3=\"Ground floor\",'Design Details'!C$53,IF($C$3=\"Mid-floor\",'Design Details'!C$63,IF($C$3=\"Upper floor\",'Design Details'!C$73,IF($C$3=\"Single Storey\",'Design Details'!C$83,0))))","v":0},2.5,0,{"$f":"G46*I46*$D$7*24/1000","v":0}]
[null,"Width (m)",null,"Height (m)",null,"Area (m²)",0,"U Value (W/m²K)",{"$f":"IF($C$3=\"Ground floor\",'Design Details'!C$53,IF($C$3=\"Mid-floor\",'Design Details'!C$63,IF($C$3=\"Upper floor\",'Design Details'!C$73,IF($C$3=\"Single Storey\",'Design Details'!C$83,0))))","v":0},2.5,0,{"$f":"G47*I47*$D$7*24/1000","v":0}]
[null,"Width (m)",null,"Height (m)",null,"Area (m²)",0,"U Value (W/m²K)",{"$f":"IF($C$3=\"Ground floor\",'Design Details'!C$53,IF($C$3=\"Mid-floor\",'Design Details'!C$63,IF($C$3=\"Upper floor\",'Design Details'!C$73,IF($C$3=\"Single Storey\",'Design Details'!C$83,0))))","v":0},2.5,0,{"$f":"G48*I48*$D$7*24/1000","v":0}]
[null,"Width (m)",null,"Height (m)",null,"Area (m²)",0,"U Value (W/m²K)",{"$f":"IF($C$3=\"Ground floor\",'Design Details'!C$53,IF($C$3=\"Mid-floor\",'Design Details'!C$63,IF($C$3=\"Upper floor\",'Design Details'!C$73,IF($C$3=\"Single Storey\",'Design Details'!C$83,0))))","v":0},2.5,0,{"$f":"G49*I49*$D$7*24/1000","v":0}]
[null,"External Doors",null,null,null,null,null,null,null,null,null,null,null,null,null,null,null,null,"Select..."]
[null,"Width (m)",null,"Height (m)",null,"Area (m²)",0,"U Value (W/m²K)",{"$f":"IF($C$3=\"Ground floor\",'Design Details'!C$47,IF($C$3=\"Mid-floor\",'Design Details'!C$57,IF($C$3=\"Upper floor\",'Design Details'!C$67,IF($C$3=\"Single Storey\",'Design Details'!C$77,0))))","v":0},2.5,0,{"$f":"G51*I51*$D$7*24/1000","v":0},null,null,null,null,"Outside","Unheated",{"$f":"IF(OR($C$3=\"Ground Floor\",$C$3=\"Mid-floor\"),R51,Q51)","v":"Outside"},{"$f":"IF(M32=\"Unheated\",1,0)","v":0},{"$f":"IF(M32=\"Select...\",0,(IF(M32=\"Outside\",D6,IF(M32=\"Unheated\",D4-10,D4-M32))))","v":0}]
[null,"Width (m)",null,"Height (m)",null,"Area (m²)",0,"U Value (W/m²K)",{"$f":"IF($C$3=\"Ground floor\",'Design Details'!C$47,IF($C$3=\"Mid-floor\",'Design Details'!C$57,IF($C$3=\"Upper floor\",'Design Details'!C$67,IF($C$3=\"Single Storey\",'Design Details'!C$77,0))))","v":0},2.5,0,{"$f":"G52*I52*$D$7*24/1000","v":0},null,null,null,null,"Unheated","16",{"$f":"IF(OR($C$3=\"Ground Floor\",$C$3=\"Mid-floor\"),R52,Q52)","v":"Unheated"},{"$f":"\"'Design Details'!C$\"&69+T51","v":"'Design Details'!C$69"}]
[null,"Width (m)",null,"Height (m)",null,"Area (m²)",0,"U Value (W/m²K)",{"$f":"IF($C$3=\"Ground floor\",'Design Details'!C$47,IF($C$3=\"Mid-floor\",'Design Details'!C$57,IF($C$3=\"Upper floor\",'Design Details'!C$67,IF($C$3=\"Single Storey\",'Design Details'!C$77,0))))","v":0},2.5,0,{"$f":"G53*I53*$D$7*24/1000","v":0},null,null,null,null,null,"18",{"$f":"IF(OR($C$3=\"Ground Floor\",$C$3=\"Mid-floor\"),R53,Q53)","v":0},{"$f":"\"'Design Details'!C$\"&79+T51","v":"'Design Details'!C$79"}]
[null,"Width (m)",null,"Height (m)",null,"Area (m²)",0,"U Value (W/m²K)",{"$f":"IF($C$3=\"Ground floor\",'Design Details'!C$47,IF($C$3=\"Mid-floor\",'Design Details'!C$57,IF($C$3=\"Upper floor\",'Design Details'!C$67,IF($C$3=\"Single Storey\",'Design Details'!C$77,0))))","v":0},2.5,0,{"$f":"G54*I54*$D$7*24/1000","v":0},null,null,null,null,null,"21",{"$f":"IF(OR($C$3=\"Ground Floor\",$C$3=\"Mid-floor\"),R54,Q54)","v":0}]
[null,"Internal Walls",null,null,null,null,null,null,null,null,null,null,"Adjoining Room Temp (°C)",null,null,null,null,22,{"$f":"IF(OR($C$3=\"Ground Floor\",$C$3=\"Mid-floor\"),R55,Q37)","v":0}]
[null,"Length (m)",null,"Height (m)",null,"Area (m²)",0,"U Value (W/m²K)",{"$f":"IF($C$3=\"Ground floor\",'Design Details'!C$51,IF($C$3=\"Mid-floor\",'Design Details'!C$61,IF($C$3=\"Upper floor\",'Design Details'!C$71,IF($C$3=\"Single Storey\",'Design Details'!C$81,0))))","v":0},{"$f":"IF(M56=\"\",0,IF(M56=\"unheated\",D$4-10,D$4-M56))","v":0},0]
[null,"Length (m)",null,"Height (m)",null,"Area (m²)",0,"U Value (W/m²K)",{"$f":"IF($C$3=\"Ground floor\",'Design Details'!C$51,IF($C$3=\"Mid-floor\",'Design Details'!C$61,IF($C$3=\"Upper floor\",'Design Details'!C$71,IF($C$3=\"Single Storey\",'Design Details'!C$81,0))))","v":0},{"$f":"IF(M57=\"\",0,IF(M57=\"unheated\",D$4-10,D$4-M57))","v":0},0]
[null,"Length (m)",null,"Height (m)",null,"Area (m²)",0,"U Value (W/m²K)",{"$f":"IF($C$3=\"Ground floor\",'Design Details'!C$51,IF($C$3=\"Mid-floor\",'Design Details'!C$61,IF($C$3=\"Upper floor\",'Design Details'!C$71,IF($C$3=\"Single Storey\",'Design Details'!C$81,0))))","v":0},{"$f":"IF(M58=\"\",0,IF(M58=\"unheated\",D$4-10,D$4-M58))","v":0},0]
[null,"Length (m)",null,"Height (m)",null,"Area (m²)",0,"U Value (W/m²K)",{"$f":"IF($C$3=\"Ground floor\",'Design Details'!C$51,IF($C$3=\"Mid-floor\",'Design Details'!C$61,IF($C$3=\"Upper floor\",'Design Details'!C$71,IF($C$3=\"Single Storey\",'Design Details'!C$81,0))))","v":0},{"$f":"IF(M59=\"\",0,IF(M59=\"unheated\",D$4-10,D$4-M59))","v":0},0]
[null,"Party Wall"]
[null,"Length (m)",null,"Height (m)",null,"Area (m²)",0,"U Value (W/m²K)",{"$f":"IF($C$3=\"Ground floor\",'Design Details'!C$52,IF($C$3=\"Mid-floor\",'Design Details'!C$62,IF($C$3=\"Upper floor\",'Design Details'!C$72,IF($C$3=\"Single Storey\",'Design Details'!C$82,0))))","v":0},{"$f":"D4-10","v":-10},0,{"$f":"G61*I61*$D$7*24/1000","v":0}]

{"sheet":"3","index":8,"n_rows":61,"n_cols":25,"rows_kept":61,"cut":false,"hidden":false,"merged":[[58,12,58,14],[44,19,48,19],[44,20,48,20],[54,12,54,14],[55,12,55,14],[56,12,56,14],[57,12,57,14],[44,18,48,18],[21,12,21,14],[30,12,30,14],[31,12,31,14],[44,16,48,16],[44,17,48,17],[20,12,20,14],[3,1,3,2],[3,4,3,5],[4,1,4,2],[4,4,4,5],[5,1,5,2],[5,4,5,5],[6,1,6,2],[9,11,9,14],[10,11,10,14],[18,12,18,14],[19,12,19,14],[0,1,0,3],[0,4,0,6],[0,10,0,11],[1,4,1,5],[2,2,2,3],[2,4,2,5]]}
[null,"Room Information",null,null,"Ventilation Heat Loss",null,null,"Fabric ","Heat Loss (W)"," Usage (kWh)","Additional heat loss",null,"Addition","Watts","kWh"]
[null,"Room",null,null,"Air Changes per hour",null,{"$f":"'Design Details'!G89","v":0},"Floor",{"$f":"SUM(K20:K22)","v":0},{"$f":"SUM(L20:L22)","v":0},"Thermal Bridging (New Build >2006)",null,0,{"$f":"SUM(I$2:I$6)*M2","v":0},{"$f":"SUM(J$2:J$6)*M2","v":0},null,"3 edges (long single)","Level",null,null,null,null,null,null,1]
[null,"Level",null,null,"Air Change Factor (W/m³K)",null,0.33,"Ext Wall",{"$f":"K27","v":0},{"$f":"L27","v":0},"Exposed location",null,0,{"$f":"SUM(I$2:I$6)*M3","v":0},{"$f":"SUM(J$2:J$6)*M3","v":0},null,"3 edges (short single)","Please Select Floor",{"$f":"IF($C$3=\"Ground floor\",\"Solid Floor (in contact with ground)\",IF($C$3=\"Single Storey\",\"Solid Floor (in contact with ground)\",\"n/a\"))","v":"n/a"},{"$f":"'Design Details'!C21","v":10},"unheated",0,0,0,2]
[null,"Design Room Temp (°C)",null,{"$f":"'Design Details'!E89","v":0},"Total Volume (m³)",null,{"$f":"SUM(I10:I12,I14:I18)","v":0},"Roof",{"$f":"SUM(K32,K36)","v":0},{"$f":"SUM(L32,L36)","v":0},"High ceiling",null,0,{"$f":"SUM(I$2:I$6)*M4","v":0},{"$f":"SUM(J$2:J$6)*M4","v":0},null,"One edge","Ground floor",{"$f":"IF($C$3=\"Ground floor\",\"Suspended Floor\",IF($C$3=\"Single Storey\",\"Suspended Floor\",\"n/a\"))","v":"n/a"},null,16,0.1,0.2,2.5000000000000001E-2,3]
[null,"Outside Design Temp (°C)",null,{"$f":"'Design Details'!C19","v":-2.5},"Heat loss (W)",null,{"$f":"G4*G3*D6*G2","v":0},"Glazing",{"$f":"SUM(K38:K44,K46:K49,K51:K54)","v":0},{"$f":"SUM(L38:L44,L46:L49,L51:L54)","v":0},"Intermittent heating",null,0,{"$f":"SUM(I$2:I$6)*M5","v":0},{"$f":"SUM(J$2:J$6)*M5","v":0},null,"Two adjacent","Mid-floor",null,null,18,null,null,0.05,4]
[null,"Temp Difference (°C)",null,{"$f":"D4-D5","v":2.5},"Estimated Energy usage (kWh)",null,{"$f":"G4*G3*D7*24/1000","v":0},"Int./Party Wall",{"$f":"SUM(K56:K59,K61)","v":0},{"$f":"SUM(L61)","v":0},null,null,null,"Total Room Heat Loss (W)",{"$f":"SUM(G5,I2:I6,N2:N5)","v":0},null,"Two opposite","Single storey",null,null,21,null,null,7.4999999999999997E-2,5]
[null,"Degree Days",null,{"$f":"'Design Details'!C20","v":2228},null,null,null,null,null,null,null,null,null,"Total Room Energy Usage (kWh)",{"$f":"SUM(G6,J2:J6,O2:O5)","v":0},null,null,"Upper floor",null,null,22,null,null,0.1,6]
[null,null,null,null,null,null,null,null,null,null,null,null,null,null,null,null,null,{"$f":"IF($C$3=\"Ground floor\",'Design Details'!C$45,IF($C$3=\"Mid-floor\",'Design Details'!C$55,IF($C$3=\"Upper floor\",'Design Details'!C$65,IF($C$3=\"Single Storey\",'Design Details'!C$75,0))))","v":0},null,null,null,null,null,null,7]
[null,"Room Dimensions",null,null,null,null,null,null,null,null,null,null,null,null,null,null,null,null,null,null,null,null,null,null,8]
[null,"Length (m)",null,"Width (m)",null,"Height (m)",null,"Volume (m³)",{"$f":"C10*E10*G10","v":0},null,null,null,null,null,null,null,null,null,null,null,null,null,null,null,9]
[null,"Length (m)",null,"Width (m)",null,"Height (m)",null,"Volume (m³)",{"$f":"C11*E11*G11","v":0},null,null,null,null,null,null,null,null,null,null,null,null,null,null,null,10]
[null,"Length (m)",null,"Width (m)",null,"Height (m)",null,"Volume (m³)",{"$f":"C12*E12*G12","v":0}]
[null,"Awkward Room Dimensions"]
[null,"Length (m)",null,"Width (m)",null,"Height (m)",null,"Volume (m³)",{"$f":"((G14*E14)/2)*C14","v":0},"Pitched"]
[null,"Length (m)",null,"Width (m)",null,"Height (m)",null,"Volume (m³)",{"$f":"C15*E15*G15/2","v":0},"Single Pitch"]
[null,"Length (m)",null,"Height (m)",null,"Depth (m)",null,"Volume (m³)",{"$f":"E16*G16*C16/2","v":0},"Dormer 1"]
[null,"Length (m)",null,"Height (m)",null,"Depth (m)",null,"Volume (m³)",{"$f":"E17*G17*C17/2","v":0},"Dormer 2"]
[null,"Length (m)",null,"Height (m)",null,"Depth (m)",null,"Volume (m³)",{"$f":"E18*G18*C18/2","v":0},"Dormer 3"]
[null,"Floor",null,null,null,null,null,null,null,"Temp Difference","Heat Loss (W)","Usage (kWh)",{"$f":"IF($C$3=\"Ground Floor\",\"Select type of Ground Floor\",IF($C$3=\"Single Storey\",\"Select type of Ground Floor\",\"#N/A\"))","v":"#N/A"}]
[null,{"$f":"B10","v":"Length (m)"},null,{"$f":"D10","v":"Width (m)"},null,"Area (m²)",{"$f":"C20*E20","v":0},"U Value (W/m²K)",{"$f":"IF(M22=\"\",R8,'floor u values'!K4)","v":0},{"$f":"IF(C$3=\"Ground Floor\",IF(M20=\"Solid Floor (in contact with ground)\",D$4-T$3,D$4-D$5),IF(C$3=\"Single Storey\",IF(M20=\"Solid Floor (in contact with ground)\",D$4-T$3,D$4-D$5),0))","v":0},{"$f":"G20*I20*J20","v":0},{"$f":"IF($C$3=$R$5,0,IF($C$3=$R$7,0,G20*I20*$D$7*24/1000))","v":0},"n/a"]
[null,"Length (m)",null,"Width (m)",null,"Area (m²)",{"$f":"C21*E21","v":0},"U Value (W/m²K)",{"$f":"I20","v":0},{"$f":"IF(C$3=\"Ground Floor\",IF(M20=\"Solid Floor (in contact with ground)\",D$4-T$3,D$4-D$5),IF(C$3=\"Single Storey\",IF(M20=\"Solid Floor (in contact with ground)\",D$4-T$3,D$4-D$5),0))","v":0},{"$f":"G21*I21*J21","v":0},{"$f":"IF($C$3=$R$5,0,IF($C$3=$R$7,0,G21*I21*$D$7*24/1000))","v":0},"Exposed floor (external)"]
[null,"Length (m)",null,"Width (m)",null,"Area (m²)",0,"U Value (W/m²K)",{"$f":"I20","v":0},{"$f":"IF(C$3=\"Ground Floor\",IF(M20=\"Solid Floor (in contact with ground)\",D$4-T$3,D$4-D$5),IF(C$3=\"Single Storey\",IF(M20=\"Solid Floor (in contact with ground)\",D$4-T$3,D$4-D$5),0))","v":0},{"$f":"G22*I22*J22","v":0},{"$f":"IF($C$3=$R$5,0,IF($C$3=$R$7,0,G22*I22*$D$7*24/1000))","v":0}]
[null,"External Wall",null,null,null,null,null,null,null,null,null,null,{"$f":"IF(M22=\"Two opposite\",\"Between edges\",IF(M22=\"One edge\",\"Depth of room\",IF(M22=\"3 edges (short single)\",\"Short length\",IF(M22=\"3 edges (long single)\",\"Short length\",\"\"))))","v":""},null,{"$f":"IF(M22=\"3 edges (short single)\",\"Long length\",IF(M22=\"3 edges (long single)\",\"Long length\",\"\"))","v":""}]
[null,"Length (m)",null,"Height (m)",null,"Area (m²)",0]
[null,"Length (m)",null,"Height (m)",null,"Area (m²)",0]
[null,"Length (m)",null,"Height (m)",null,"Area (m²)",0]
[null,null,null,null,"Total","Area (m²)",{"$f":"SUM(G24:G26)-SUM(G38:G44,G51:G54)","v":0},"U Value (W/m²K)",{"$f":"IF($C$3=\"Ground floor\",'Design Details'!C$48,IF($C$3=\"Mid-floor\",'Design Details'!C$58,IF($C$3=\"Upper floor\",'Design Details'!C$68,IF($C$3=\"Single Storey\",'Design Details'!C$78,0))))","v":0},{"$f":"$D$6","v":2.5},{"$f":"G27*I27*J27","v":0},{"$f":"G27*I27*$D$7*24/1000","v":0}]
[null,"Ceiling (Flat)"]
[null,"Length (m)",null,"Width (m)",null,"Area (m²)",0]
[null,"Length (m)",null,"Width (m)",null,"Area (m²)",0]
[null,"Length (m)",null,"Width (m)",null,"Area (m²)",0,null,null,null,null,null,"Select Temp/Type of Space Above"]
[null,null,null,null,"Total","Area (m²)",{"$f":"SUM(G29:G31)-SUM(G46:G49)","v":0},"U Value (W/m²K)",{"$f":"IF($C$3=\"Ground floor\",'Design Details'!C$49,IF($C$3=\"Mid-floor\",'Design Details'!C$59,IF($C$3=\"Upper floor\",INDIRECT(T52),IF($C$3=\"Single Storey\",INDIRECT(T53),0))))","v":0},{"$f":"U51","v":0},{"$f":"G32*I32*J32","v":0},{"$f":"IF($C$3=$R$4,0,IF($C$3=$R$5,0,G32*I32*$D$7*24/1000))","v":0},"Select..."]
[null,"Ceiling (Awkward)"]
[null,"Length (m)",{"$f":"C14*2","v":0},"Pitch (m)",{"$f":"SQRT(POWER(E14,2)+POWER(G14,2))","v":0},"Area (m²)",{"$f":"C34*E34","v":0},"Pitched"]
[null,"Length (m)",{"$f":"C15","v":0},"Pitch (m)",{"$f":"SQRT(POWER(E15,2)+POWER(G15,2))","v":0},"Area (m²)",0,"Single Pitch"]
[null,null,null,null,"Total","Area (m²)",{"$f":"SUM(G34:G35)-SUM(G46:G49)","v":0},"U Value (W/m²K)",{"$f":"IF($C$3=\"Ground floor\",'Design Details'!C$50,IF($C$3=\"Mid-floor\",'Design Details'!C$60,IF($C$3=\"Upper floor\",'Design Details'!C$70,IF($C$3=\"Single Storey\",'Design Details'!C$80,0))))","v":0},{"$f":"$D$6","v":2.5},0,{"$f":"IF($C$3=$R$4,0,IF($C$3=$R$5,0,G36*I36*$D$7*24/1000))","v":0}]
[null,"Windows"]
[null,"Width (m)",null,"Height (m)",null,"Area (m²)",0,"U Value (W/m²K)",{"$f":"IF($C$3=\"Ground floor\",'Design Details'!C$46,IF($C$3=\"Mid-floor\",'Design Details'!C$56,IF($C$3=\"Upper floor\",'Design Details'!C$66,IF($C$3=\"Single Storey\",'Design Details'!C$76,0))))","v":0},2.5,0,{"$f":"G38*I38*$D$7*24/1000","v":0}]
[null,"Width (m)",null,"Height (m)",null,"Area (m²)",0,"U Value (W/m²K)",{"$f":"IF($C$3=\"Ground floor\",'Design Details'!C$46,IF($C$3=\"Mid-floor\",'Design Details'!C$56,IF($C$3=\"Upper floor\",'Design Details'!C$66,IF($C$3=\"Single Storey\",'Design Details'!C$76,0))))","v":0},2.5,0,0]
[null,"Width (m)",null,"Height (m)",null,"Area (m²)",0,"U Value (W/m²K)",{"$f":"IF($C$3=\"Ground floor\",'Design Details'!C$46,IF($C$3=\"Mid-floor\",'Design Details'!C$56,IF($C$3=\"Upper floor\",'Design Details'!C$66,IF($C$3=\"Single Storey\",'Design Details'!C$76,0))))","v":0},2.5,0,0]
[null,"Width (m)",null,"Height (m)",null,"Area (m²)",0,"U Value (W/m²K)",{"$f":"IF($C$3=\"Ground floor\",'Design Details'!C$46,IF($C$3=\"Mid-floor\",'Design Details'!C$56,IF($C$3=\"Upper floor\",'Design Details'!C$66,IF($C$3=\"Single Storey\",'Design Details'!C$76,0))))","v":0},2.5,0,0]
[null,"Width (m)",null,"Height (m)",null,"Area (m²)",0,"U Value (W/m²K)",{"$f":"IF($C$3=\"Ground floor\",'Design Details'!C$46,IF($C$3=\"Mid-floor\",'Design Details'!C$56,IF($C$3=\"Upper floor\",'Design Details'!C$66,IF($C$3=\"Single Storey\",'Design Details'!C$76,0))))","v":0},2.5,0,0]
[null,"Width (m)",null,"Height (m)",null,"Area (m²)",0,"U Value (W/m²K)",{"$f":"IF($C$3=\"Ground floor\",'Design Details'!C$46,IF($C$3=\"Mid-floor\",'Design Details'!C$56,IF($C$3=\"Upper floor\",'Design Details'!C$66,IF($C$3=\"Single Storey\",'Design Details'!C$76,0))))","v":0},2.5,0,0]
[null,"Width (m)",null,"Height (m)",null,"Area (m²)",0,"U Value (W/m²K)",{"$f":"IF($C$3=\"Ground floor\",'Design Details'!C$46,IF($C$3=\"Mid-floor\",'Design Details'!C$56,IF($C$3=\"Upper floor\",'Design Details'!C$66,IF($C$3=\"Single Storey\",'Design Details'!C$76,0))))","v":0},2.5,0,0]
[null,"Roof Glazing",null,null,null,null,null,null,null,null,null,null,null,null,null,null,"Options for upper floor or single storey","Options for Ground or Mid Floor","Drop-Down List","U-Value Selector","Temp Diff Selector"]
[null,"Width (m)",null,"Height (m)",null,"Area (m²)",0,"U Value (W/m²K)",{"$f":"IF($C$3=\"Ground floor\",'Design Details'!C$53,IF($C$3=\"Mid-floor\",'Design Details'!C$63,IF($C$3=\"Upper floor\",'Design Details'!C$73,IF($C$3=\"Single Storey\",'Design Details'!C$83,0))))","v":0},2.5,0,{"$f":"G46*I46*$D$7*24/1000","v":0}]
[null,"Width (m)",null,"Height (m)",null,"Area (m²)",0,"U Value (W/m²K)",{"$f":"IF($C$3=\"Ground floor\",'Design Details'!C$53,IF($C$3=\"Mid-floor\",'Design Details'!C$63,IF($C$3=\"Upper floor\",'Design Details'!C$73,IF($C$3=\"Single Storey\",'Design Details'!C$83,0))))","v":0},2.5,0,{"$f":"G47*I47*$D$7*24/1000","v":0}]
[null,"Width (m)",null,"Height (m)",null,"Area (m²)",0,"U Value (W/m²K)",{"$f":"IF($C$3=\"Ground floor\",'Design Details'!C$53,IF($C$3=\"Mid-floor\",'Design Details'!C$63,IF($C$3=\"Upper floor\",'Design Details'!C$73,IF($C$3=\"Single Storey\",'Design Details'!C$83,0))))","v":0},2.5,0,{"$f":"G48*I48*$D$7*24/1000","v":0}]
[null,"Width (m)",null,"Height (m)",null,"Area (m²)",0,"U Value (W/m²K)",{"$f":"IF($C$3=\"Ground floor\",'Design Details'!C$53,IF($C$3=\"Mid-floor\",'Design Details'!C$63,IF($C$3=\"Upper floor\",'Design Details'!C$73,IF($C$3=\"Single Storey\",'Design Details'!C$83,0))))","v":0},2.5,0,{"$f":"G49*I49*$D$7*24/1000","v":0}]
[null,"External Doors",null,null,null,null,null,null,null,null,null,null,null,null,null,null,null,null,"Select..."]
[null,"Width (m)",null,"Height (m)",null,"Area (m²)",0,"U Value (W/m²K)",{"$f":"IF($C$3=\"Ground floor\",'Design Details'!C$47,IF($C$3=\"Mid-floor\",'Design Details'!C$57,IF($C$3=\"Upper floor\",'Design Details'!C$67,IF($C$3=\"Single Storey\",'Design Details'!C$77,0))))","v":0},2.5,0,{"$f":"G51*I51*$D$7*24/1000","v":0},null,null,null,null,"Outside","Unheated",{"$f":"IF(OR($C$3=\"Ground Floor\",$C$3=\"Mid-floor\"),R51,Q51)","v":"Outside"},{"$f":"IF(M32=\"Unheated\",1,0)","v":0},{"$f":"IF(M32=\"Select...\",0,(IF(M32=\"Outside\",D6,IF(M32=\"Unheated\",D4-10,D4-M32))))","v":0}]
[null,"Width (m)",null,"Height (m)",null,"Area (m²)",0,"U Value (W/m²K)",{"$f":"IF($C$3=\"Ground floor\",'Design Details'!C$47,IF($C$3=\"Mid-floor\",'Design Details'!C$57,IF($C$3=\"Upper floor\",'Design Details'!C$67,IF($C$3=\"Single Storey\",'Design Details'!C$77,0))))","v":0},2.5,0,{"$f":"G52*I52*$D$7*24/1000","v":0},null,null,null,null,"Unheated","16",{"$f":"IF(OR($C$3=\"Ground Floor\",$C$3=\"Mid-floor\"),R52,Q52)","v":"Unheated"},{"$f":"\"'Design Details'!C$\"&69+T51","v":"'Design Details'!C$69"}]
[null,"Width (m)",null,"Height (m)",null,"Area (m²)",0,"U Value (W/m²K)",{"$f":"IF($C$3=\"Ground floor\",'Design Details'!C$47,IF($C$3=\"Mid-floor\",'Design Details'!C$57,IF($C$3=\"Upper floor\",'Design Details'!C$67,IF($C$3=\"Single Storey\",'Design Details'!C$77,0))))","v":0},2.5,0,{"$f":"G53*I53*$D$7*24/1000","v":0},null,null,null,null,null,"18",{"$f":"IF(OR($C$3=\"Ground Floor\",$C$3=\"Mid-floor\"),R53,Q53)","v":0},{"$f":"\"'Design Details'!C$\"&79+T51","v":"'Design Details'!C$79"}]
[null,"Width (m)",null,"Height (m)",null,"Area (m²)",0,"U Value (W/m²K)",{"$f":"IF($C$3=\"Ground floor\",'Design Details'!C$47,IF($C$3=\"Mid-floor\",'Design Details'!C$57,IF($C$3=\"Upper floor\",'Design Details'!C$67,IF($C$3=\"Single Storey\",'Design Details'!C$77,0))))","v":0},2.5,0,{"$f":"G54*I54*$D$7*24/1000","v":0},null,null,null,null,null,"21",{"$f":"IF(OR($C$3=\"Ground Floor\",$C$3=\"Mid-floor\"),R54,Q54)","v":0}]
[null,"Internal Walls",null,null,null,null,null,null,null,null,null,null,"Adjoining Room Temp (°C)",null,null,null,null,22,{"$f":"IF(OR($C$3=\"Ground Floor\",$C$3=\"Mid-floor\"),R55,Q37)","v":0}]
[null,"Length (m)",null,"Height (m)",null,"Area (m²)",0,"U Value (W/m²K)",{"$f":"IF($C$3=\"Ground floor\",'Design Details'!C$51,IF($C$3=\"Mid-floor\",'Design Details'!C$61,IF($C$3=\"Upper floor\",'Design Details'!C$71,IF($C$3=\"Single Storey\",'Design Details'!C$81,0))))","v":0},{"$f":"IF(M56=\"\",0,IF(M56=\"unheated\",D$4-10,D$4-M56))","v":0},0]
[null,"Length (m)",null,"Height (m)",null,"Area (m²)",0,"U Value (W/m²K)",{"$f":"IF($C$3=\"Ground floor\",'Design Details'!C$51,IF($C$3=\"Mid-floor\",'Design Details'!C$61,IF($C$3=\"Upper floor\",'Design Details'!C$71,IF($C$3=\"Single Storey\",'Design Details'!C$81,0))))","v":0},{"$f":"IF(M57=\"\",0,IF(M57=\"unheated\",D$4-10,D$4-M57))","v":0},0]
[null,"Length (m)",null,"Height (m)",null,"Area (m²)",0,"U Value (W/m²K)",{"$f":"IF($C$3=\"Ground floor\",'Design Details'!C$51,IF($C$3=\"Mid-floor\",'Design Details'!C$61,IF($C$3=\"Upper floor\",'Design Details'!C$71,IF($C$3=\"Single Storey\",'Design Details'!C$81,0))))","v":0},{"$f":"IF(M58=\"\",0,IF(M58=\"unheated\",D$4-10,D$4-M58))","v":0},0]
[null,"Length (m)",null,"Height (m)",null,"Area (m²)",0,"U Value (W/m²K)",{"$f":"IF($C$3=\"Ground floor\",'Design Details'!C$51,IF($C$3=\"Mid-floor\",'Design Details'!C$61,IF($C$3=\"Upper floor\",'Design Details'!C$71,IF($C$3=\"Single Storey\",'Design Details'!C$81,0))))","v":0},{"$f":"IF(M59=\"\",0,IF(M59=\"unheated\",D$4-10,D$4-M59))","v":0},0]
[null,"Party Wall"]
[null,"Length (m)",null,"Height (m)",null,"Area (m²)",0,"U Value (W/m²K)",{"$f":"IF($C$3=\"Ground floor\",'Design Details'!C$52,IF($C$3=\"Mid-floor\",'Design Details'!C$62,IF($C$3=\"Upper floor\",'Design Details'!C$72,IF($C$3=\"Single Storey\",'Design Details'!C$82,0))))","v":0},{"$f":"D4-10","v":-10},0,{"$f":"G61*I61*$D$7*24/1000","v":0}]

{"sheet":"4","index":9,"n_rows":61,"n_cols":25,"rows_kept":61,"cut":false,"hidden":false,"merged":[[58,12,58,14],[44,19,48,19],[44,20,48,20],[54,12,54,14],[55,12,55,14],[56,12,56,14],[57,12,57,14],[44,18,48,18],[21,12,21,14],[30,12,30,14],[31,12,31,14],[44,16,48,16],[44,17,48,17],[20,12,20,14],[3,1,3,2],[3,4,3,5],[4,1,4,2],[4,4,4,5],[5,1,5,2],[5,4,5,5],[6,1,6,2],[9,11,9,14],[10,11,10,14],[18,12,18,14],[19,12,19,14],[0,1,0,3],[0,4,0,6],[0,10,0,11],[1,4,1,5],[2,2,2,3],[2,4,2,5]]}
[null,"Room Information",null,null,"Ventilation Heat Loss",null,null,"Fabric ","Heat Loss (W)"," Usage (kWh)","Additional heat loss",null,"Addition","Watts","kWh"]
[null,"Room",null,null,"Air Changes per hour",null,{"$f":"'Design Details'!G90","v":0},"Floor",{"$f":"SUM(K20:K22)","v":0},{"$f":"SUM(L20:L22)","v":0},"Thermal Bridging (New Build >2006)",null,0,{"$f":"SUM(I$2:I$6)*M2","v":0},{"$f":"SUM(J$2:J$6)*M2","v":0},null,"3 edges (long single)","Level",null,null,null,null,null,null,1]
[null,"Level",null,null,"Air Change Factor (W/m³K)",null,0.33,"Ext Wall",{"$f":"K27","v":0},{"$f":"L27","v":0},"Exposed location",null,0,{"$f":"SUM(I$2:I$6)*M3","v":0},{"$f":"SUM(J$2:J$6)*M3","v":0},null,"3 edges (short single)","Please Select Floor",{"$f":"IF($C$3=\"Ground floor\",\"Solid Floor (in contact with ground)\",IF($C$3=\"Single Storey\",\"Solid Floor (in contact with ground)\",\"n/a\"))","v":"n/a"},{"$f":"'Design Details'!C21","v":10},"unheated",0,0,0,2]
[null,"Design Room Temp (°C)",null,{"$f":"'Design Details'!E90","v":0},"Total Volume (m³)",null,{"$f":"SUM(I10:I12,I14:I18)","v":0},"Roof",{"$f":"SUM(K32,K36)","v":0},{"$f":"SUM(L32,L36)","v":0},"High ceiling",null,0,{"$f":"SUM(I$2:I$6)*M4","v":0},{"$f":"SUM(J$2:J$6)*M4","v":0},null,"One edge","Ground floor",{"$f":"IF($C$3=\"Ground floor\",\"Suspended Floor\",IF($C$3=\"Single Storey\",\"Suspended Floor\",\"n/a\"))","v":"n/a"},null,16,0.1,0.2,2.5000000000000001E-2,3]
[null,"Outside Design Temp (°C)",null,{"$f":"'Design Details'!C19","v":-2.5},"Heat loss (W)",null,{"$f":"G4*G3*D6*G2","v":0},"Glazing",{"$f":"SUM(K38:K44,K46:K49,K51:K54)","v":0},{"$f":"SUM(L38:L44,L46:L49,L51:L54)","v":0},"Intermittent heating",null,0,{"$f":"SUM(I$2:I$6)*M5","v":0},{"$f":"SUM(J$2:J$6)*M5","v":0},null,"Two adjacent","Mid-floor",null,null,18,null,null,0.05,4]
[null,"Temp Difference (°C)",null,{"$f":"D4-D5","v":2.5},"Estimated Energy usage (kWh)",null,{"$f":"G4*G3*D7*24/1000","v":0},"Int./Party Wall",{"$f":"SUM(K56:K59,K61)","v":0},{"$f":"SUM(L61)","v":0},null,null,null,"Total Room Heat Loss (W)",{"$f":"SUM(G5,I2:I6,N2:N5)","v":0},null,"Two opposite","Single storey",null,null,21,null,null,7.4999999999999997E-2,5]
[null,"Degree Days",null,{"$f":"'Design Details'!C20","v":2228},null,null,null,null,null,null,null,null,null,"Total Room Energy Usage (kWh)",{"$f":"SUM(G6,J2:J6,O2:O5)","v":0},null,null,"Upper floor",null,null,22,null,null,0.1,6]
[null,null,null,null,null,null,null,null,null,null,null,null,null,null,null,null,null,{"$f":"IF($C$3=\"Ground floor\",'Design Details'!C$45,IF($C$3=\"Mid-floor\",'Design Details'!C$55,IF($C$3=\"Upper floor\",'Design Details'!C$65,IF($C$3=\"Single Storey\",'Design Details'!C$75,0))))","v":0},null,null,null,null,null,null,7]
[null,"Room Dimensions",null,null,null,null,null,null,null,null,null,null,null,null,null,null,null,null,null,null,null,null,null,null,8]
[null,"Length (m)",null,"Width (m)",null,"Height (m)",null,"Volume (m³)",{"$f":"C10*E10*G10","v":0},null,null,null,null,null,null,null,null,null,null,null,null,null,null,null,9]
[null,"Length (m)",null,"Width (m)",null,"Height (m)",null,"Volume (m³)",{"$f":"C11*E11*G11","v":0},null,null,null,null,null,null,null,null,null,null,null,null,null,null,null,10]
[null,"Length (m)",null,"Width (m)",null,"Height (m)",null,"Volume (m³)",{"$f":"C12*E12*G12","v":0}]
[null,"Awkward Room Dimensions"]
[null,"Length (m)",null,"Width (m)",null,"Height (m)",null,"Volume (m³)",{"$f":"((G14*E14)/2)*C14","v":0},"Pitched"]
[null,"Length (m)",null,"Width (m)",null,"Height (m)",null,"Volume (m³)",{"$f":"C15*E15*G15/2","v":0},"Single Pitch"]
[null,"Length (m)",null,"Height (m)",null,"Depth (m)",null,"Volume (m³)",{"$f":"E16*G16*C16/2","v":0},"Dormer 1"]
[null,"Length (m)",null,"Height (m)",null,"Depth (m)",null,"Volume (m³)",{"$f":"E17*G17*C17/2","v":0},"Dormer 2"]
[null,"Length (m)",null,"Height (m)",null,"Depth (m)",null,"Volume (m³)",{"$f":"E18*G18*C18/2","v":0},"Dormer 3"]
[null,"Floor",null,null,null,null,null,null,null,"Temp Difference","Heat Loss (W)","Usage (kWh)",{"$f":"IF($C$3=\"Ground Floor\",\"Select type of Ground Floor\",IF($C$3=\"Single Storey\",\"Select type of Ground Floor\",\"#N/A\"))","v":"#N/A"}]
[null,{"$f":"B10","v":"Length (m)"},null,{"$f":"D10","v":"Width (m)"},null,"Area (m²)",{"$f":"C20*E20","v":0},"U Value (W/m²K)",{"$f":"IF(M22=\"\",R8,'floor u values'!K5)","v":0},{"$f":"IF(C$3=\"Ground Floor\",IF(M20=\"Solid Floor (in contact with ground)\",D$4-T$3,D$4-D$5),IF(C$3=\"Single Storey\",IF(M20=\"Solid Floor (in contact with ground)\",D$4-T$3,D$4-D$5),0))","v":0},{"$f":"G20*I20*J20","v":0},{"$f":"IF($C$3=$R$5,0,IF($C$3=$R$7,0,G20*I20*$D$7*24/1000))","v":0},"n/a"]
[null,"Length (m)",null,"Width (m)",null,"Area (m²)",{"$f":"C21*E21","v":0},"U Value (W/m²K)",{"$f":"I20","v":0},{"$f":"IF(C$3=\"Ground Floor\",IF(M20=\"Solid Floor (in contact with ground)\",D$4-T$3,D$4-D$5),IF(C$3=\"Single Storey\",IF(M20=\"Solid Floor (in contact with ground)\",D$4-T$3,D$4-D$5),0))","v":0},{"$f":"G21*I21*J21","v":0},{"$f":"IF($C$3=$R$5,0,IF($C$3=$R$7,0,G21*I21*$D$7*24/1000))","v":0},"Exposed floor (external)"]
[null,"Length (m)",null,"Width (m)",null,"Area (m²)",0,"U Value (W/m²K)",{"$f":"I20","v":0},{"$f":"IF(C$3=\"Ground Floor\",IF(M20=\"Solid Floor (in contact with ground)\",D$4-T$3,D$4-D$5),IF(C$3=\"Single Storey\",IF(M20=\"Solid Floor (in contact with ground)\",D$4-T$3,D$4-D$5),0))","v":0},{"$f":"G22*I22*J22","v":0},{"$f":"IF($C$3=$R$5,0,IF($C$3=$R$7,0,G22*I22*$D$7*24/1000))","v":0}]
[null,"External Wall",null,null,null,null,null,null,null,null,null,null,{"$f":"IF(M22=\"Two opposite\",\"Between edges\",IF(M22=\"One edge\",\"Depth of room\",IF(M22=\"3 edges (short single)\",\"Short length\",IF(M22=\"3 edges (long single)\",\"Short length\",\"\"))))","v":""},null,{"$f":"IF(M22=\"3 edges (short single)\",\"Long length\",IF(M22=\"3 edges (long single)\",\"Long length\",\"\"))","v":""}]
[null,"Length (m)",null,"Height (m)",null,"Area (m²)",0]
[null,"Length (m)",null,"Height (m)",null,"Area (m²)",0]
[null,"Length (m)",null,"Height (m)",null,"Area (m²)",0]
[null,null,null,null,"Total","Area (m²)",{"$f":"SUM(G24:G26)-SUM(G38:G44,G51:G54)","v":0},"U Value (W/m²K)",{"$f":"IF($C$3=\"Ground floor\",'Design Details'!C$48,IF($C$3=\"Mid-floor\",'Design Details'!C$58,IF($C$3=\"Upper floor\",'Design Details'!C$68,IF($C$3=\"Single Storey\",'Design Details'!C$78,0))))","v":0},{"$f":"$D$6","v":2.5},{"$f":"G27*I27*J27","v":0},{"$f":"G27*I27*$D$7*24/1000","v":0}]
[null,"Ceiling (Flat)"]
[null,"Length (m)",null,"Width (m)",null,"Area (m²)",0]
[null,"Length (m)",null,"Width (m)",null,"Area (m²)",0]
[null,"Length (m)",null,"Width (m)",null,"Area (m²)",0,null,null,null,null,null,"Select Temp/Type of Space Above"]
[null,null,null,null,"Total","Area (m²)",{"$f":"SUM(G29:G31)-SUM(G46:G49)","v":0},"U Value (W/m²K)",{"$f":"IF($C$3=\"Ground floor\",'Design Details'!C$49,IF($C$3=\"Mid-floor\",'Design Details'!C$59,IF($C$3=\"Upper floor\",INDIRECT(T52),IF($C$3=\"Single Storey\",INDIRECT(T53),0))))","v":0},{"$f":"U51","v":0},{"$f":"G32*I32*J32","v":0},{"$f":"IF($C$3=$R$4,0,IF($C$3=$R$5,0,G32*I32*$D$7*24/1000))","v":0},"Select..."]
[null,"Ceiling (Awkward)"]
[null,"Length (m)",{"$f":"C14*2","v":0},"Pitch (m)",{"$f":"SQRT(POWER(E14,2)+POWER(G14,2))","v":0},"Area (m²)",{"$f":"C34*E34","v":0},"Pitched"]
[null,"Length (m)",{"$f":"C15","v":0},"Pitch (m)",{"$f":"SQRT(POWER(E15,2)+POWER(G15,2))","v":0},"Area (m²)",0,"Single Pitch"]
[null,null,null,null,"Total","Area (m²)",{"$f":"SUM(G34:G35)-SUM(G46:G49)","v":0},"U Value (W/m²K)",{"$f":"IF($C$3=\"Ground floor\",'Design Details'!C$50,IF($C$3=\"Mid-floor\",'Design Details'!C$60,IF($C$3=\"Upper floor\",'Design Details'!C$70,IF($C$3=\"Single Storey\",'Design Details'!C$80,0))))","v":0},{"$f":"$D$6","v":2.5},0,{"$f":"IF($C$3=$R$4,0,IF($C$3=$R$5,0,G36*I36*$D$7*24/1000))","v":0}]
[null,"Windows"]
[null,"Width (m)",null,"Height (m)",null,"Area (m²)",0,"U Value (W/m²K)",{"$f":"IF($C$3=\"Ground floor\",'Design Details'!C$46,IF($C$3=\"Mid-floor\",'Design Details'!C$56,IF($C$3=\"Upper floor\",'Design Details'!C$66,IF($C$3=\"Single Storey\",'Design Details'!C$76,0))))","v":0},2.5,0,{"$f":"G38*I38*$D$7*24/1000","v":0}]
[null,"Width (m)",null,"Height (m)",null,"Area (m²)",0,"U Value (W/m²K)",{"$f":"IF($C$3=\"Ground floor\",'Design Details'!C$46,IF($C$3=\"Mid-floor\",'Design Details'!C$56,IF($C$3=\"Upper floor\",'Design Details'!C$66,IF($C$3=\"Single Storey\",'Design Details'!C$76,0))))","v":0},2.5,0,0]
[null,"Width (m)",null,"Height (m)",null,"Area (m²)",0,"U Value (W/m²K)",{"$f":"IF($C$3=\"Ground floor\",'Design Details'!C$46,IF($C$3=\"Mid-floor\",'Design Details'!C$56,IF($C$3=\"Upper floor\",'Design Details'!C$66,IF($C$3=\"Single Storey\",'Design Details'!C$76,0))))","v":0},2.5,0,0]
[null,"Width (m)",null,"Height (m)",null,"Area (m²)",0,"U Value (W/m²K)",{"$f":"IF($C$3=\"Ground floor\",'Design Details'!C$46,IF($C$3=\"Mid-floor\",'Design Details'!C$56,IF($C$3=\"Upper floor\",'Design Details'!C$66,IF($C$3=\"Single Storey\",'Design Details'!C$76,0))))","v":0},2.5,0,0]
[null,"Width (m)",null,"Height (m)",null,"Area (m²)",0,"U Value (W/m²K)",{"$f":"IF($C$3=\"Ground floor\",'Design Details'!C$46,IF($C$3=\"Mid-floor\",'Design Details'!C$56,IF($C$3=\"Upper floor\",'Design Details'!C$66,IF($C$3=\"Single Storey\",'Design Details'!C$76,0))))","v":0},2.5,0,0]
[null,"Width (m)",null,"Height (m)",null,"Area (m²)",0,"U Value (W/m²K)",{"$f":"IF($C$3=\"Ground floor\",'Design Details'!C$46,IF($C$3=\"Mid-floor\",'Design Details'!C$56,IF($C$3=\"Upper floor\",'Design Details'!C$66,IF($C$3=\"Single Storey\",'Design Details'!C$76,0))))","v":0},2.5,0,0]
[null,"Width (m)",null,"Height (m)",null,"Area (m²)",0,"U Value (W/m²K)",{"$f":"IF($C$3=\"Ground floor\",'Design Details'!C$46,IF($C$3=\"Mid-floor\",'Design Details'!C$56,IF($C$3=\"Upper floor\",'Design Details'!C$66,IF($C$3=\"Single Storey\",'Design Details'!C$76,0))))","v":0},2.5,0,0]
[null,"Roof Glazing",null,null,null,null,null,null,null,null,null,null,null,null,null,null,"Options for upper floor or single storey","Options for Ground or Mid Floor","Drop-Down List","U-Value Selector","Temp Diff Selector"]
[null,"Width (m)",null,"Height (m)",null,"Area (m²)",0,"U Value (W/m²K)",{"$f":"IF($C$3=\"Ground floor\",'Design Details'!C$53,IF($C$3=\"Mid-floor\",'Design Details'!C$63,IF($C$3=\"Upper floor\",'Design Details'!C$73,IF($C$3=\"Single Storey\",'Design Details'!C$83,0))))","v":0},2.5,0,{"$f":"G46*I46*$D$7*24/1000","v":0}]
[null,"Width (m)",null,"Height (m)",null,"Area (m²)",0,"U Value (W/m²K)",{"$f":"IF($C$3=\"Ground floor\",'Design Details'!C$53,IF($C$3=\"Mid-floor\",'Design Details'!C$63,IF($C$3=\"Upper floor\",'Design Details'!C$73,IF($C$3=\"Single Storey\",'Design Details'!C$83,0))))","v":0},2.5,0,{"$f":"G47*I47*$D$7*24/1000","v":0}]
[null,"Width (m)",null,"Height (m)",null,"Area (m²)",0,"U Value (W/m²K)",{"$f":"IF($C$3=\"Ground floor\",'Design Details'!C$53,IF($C$3=\"Mid-floor\",'Design Details'!C$63,IF($C$3=\"Upper floor\",'Design Details'!C$73,IF($C$3=\"Single Storey\",'Design Details'!C$83,0))))","v":0},2.5,0,{"$f":"G48*I48*$D$7*24/1000","v":0}]
[null,"Width (m)",null,"Height (m)",null,"Area (m²)",0,"U Value (W/m²K)",{"$f":"IF($C$3=\"Ground floor\",'Design Details'!C$53,IF($C$3=\"Mid-floor\",'Design Details'!C$63,IF($C$3=\"Upper floor\",'Design Details'!C$73,IF($C$3=\"Single Storey\",'Design Details'!C$83,0))))","v":0},2.5,0,{"$f":"G49*I49*$D$7*24/1000","v":0}]
[null,"External Doors",null,null,null,null,null,null,null,null,null,null,null,null,null,null,null,null,"Select..."]
[null,"Width (m)",null,"Height (m)",null,"Area (m²)",0,"U Value (W/m²K)",{"$f":"IF($C$3=\"Ground floor\",'Design Details'!C$47,IF($C$3=\"Mid-floor\",'Design Details'!C$57,IF($C$3=\"Upper floor\",'Design Details'!C$67,IF($C$3=\"Single Storey\",'Design Details'!C$77,0))))","v":0},2.5,0,{"$f":"G51*I51*$D$7*24/1000","v":0},null,null,null,null,"Outside","Unheated",{"$f":"IF(OR($C$3=\"Ground Floor\",$C$3=\"Mid-floor\"),R51,Q51)","v":"Outside"},{"$f":"IF(M32=\"Unheated\",1,0)","v":0},{"$f":"IF(M32=\"Select...\",0,(IF(M32=\"Outside\",D6,IF(M32=\"Unheated\",D4-10,D4-M32))))","v":0}]
[null,"Width (m)",null,"Height (m)",null,"Area (m²)",0,"U Value (W/m²K)",{"$f":"IF($C$3=\"Ground floor\",'Design Details'!C$47,IF($C$3=\"Mid-floor\",'Design Details'!C$57,IF($C$3=\"Upper floor\",'Design Details'!C$67,IF($C$3=\"Single Storey\",'Design Details'!C$77,0))))","v":0},2.5,0,{"$f":"G52*I52*$D$7*24/1000","v":0},null,null,null,null,"Unheated","16",{"$f":"IF(OR($C$3=\"Ground Floor\",$C$3=\"Mid-floor\"),R52,Q52)","v":"Unheated"},{"$f":"\"'Design Details'!C$\"&69+T51","v":"'Design Details'!C$69"}]
[null,"Width (m)",null,"Height (m)",null,"Area (m²)",0,"U Value (W/m²K)",{"$f":"IF($C$3=\"Ground floor\",'Design Details'!C$47,IF($C$3=\"Mid-floor\",'Design Details'!C$57,IF($C$3=\"Upper floor\",'Design Details'!C$67,IF($C$3=\"Single Storey\",'Design Details'!C$77,0))))","v":0},2.5,0,{"$f":"G53*I53*$D$7*24/1000","v":0},null,null,null,null,null,"18",{"$f":"IF(OR($C$3=\"Ground Floor\",$C$3=\"Mid-floor\"),R53,Q53)","v":0},{"$f":"\"'Design Details'!C$\"&79+T51","v":"'Design Details'!C$79"}]
[null,"Width (m)",null,"Height (m)",null,"Area (m²)",0,"U Value (W/m²K)",{"$f":"IF($C$3=\"Ground floor\",'Design Details'!C$47,IF($C$3=\"Mid-floor\",'Design Details'!C$57,IF($C$3=\"Upper floor\",'Design Details'!C$67,IF($C$3=\"Single Storey\",'Design Details'!C$77,0))))","v":0},2.5,0,{"$f":"G54*I54*$D$7*24/1000","v":0},null,null,null,null,null,"21",{"$f":"IF(OR($C$3=\"Ground Floor\",$C$3=\"Mid-floor\"),R54,Q54)","v":0}]
[null,"Internal Walls",null,null,null,null,null,null,null,null,null,null,"Adjoining Room Temp (°C)",null,null,null,null,22,{"$f":"IF(OR($C$3=\"Ground Floor\",$C$3=\"Mid-floor\"),R55,Q37)","v":0}]
[null,"Length (m)",null,"Height (m)",null,"Area (m²)",0,"U Value (W/m²K)",{"$f":"IF($C$3=\"Ground floor\",'Design Details'!C$51,IF($C$3=\"Mid-floor\",'Design Details'!C$61,IF($C$3=\"Upper floor\",'Design Details'!C$71,IF($C$3=\"Single Storey\",'Design Details'!C$81,0))))","v":0},{"$f":"IF(M56=\"\",0,IF(M56=\"unheated\",D$4-10,D$4-M56))","v":0},0]
[null,"Length (m)",null,"Height (m)",null,"Area (m²)",0,"U Value (W/m²K)",{"$f":"IF($C$3=\"Ground floor\",'Design Details'!C$51,IF($C$3=\"Mid-floor\",'Design Details'!C$61,IF($C$3=\"Upper floor\",'Design Details'!C$71,IF($C$3=\"Single Storey\",'Design Details'!C$81,0))))","v":0},{"$f":"IF(M57=\"\",0,IF(M57=\"unheated\",D$4-10,D$4-M57))","v":0},0]
[null,"Length (m)",null,"Height (m)",null,"Area (m²)",0,"U Value (W/m²K)",{"$f":"IF($C$3=\"Ground floor\",'Design Details'!C$51,IF($C$3=\"Mid-floor\",'Design Details'!C$61,IF($C$3=\"Upper floor\",'Design Details'!C$71,IF($C$3=\"Single Storey\",'Design Details'!C$81,0))))","v":0},{"$f":"IF(M58=\"\",0,IF(M58=\"unheated\",D$4-10,D$4-M58))","v":0},0]
[null,"Length (m)",null,"Height (m)",null,"Area (m²)",0,"U Value (W/m²K)",{"$f":"IF($C$3=\"Ground floor\",'Design Details'!C$51,IF($C$3=\"Mid-floor\",'Design Details'!C$61,IF($C$3=\"Upper floor\",'Design Details'!C$71,IF($C$3=\"Single Storey\",'Design Details'!C$81,0))))","v":0},{"$f":"IF(M59=\"\",0,IF(M59=\"unheated\",D$4-10,D$4-M59))","v":0},0]
[null,"Party Wall"]
[null,"Length (m)",null,"Height (m)",null,"Area (m²)",0,"U Value (W/m²K)",{"$f":"IF($C$3=\"Ground floor\",'Design Details'!C$52,IF($C$3=\"Mid-floor\",'Design Details'!C$62,IF($C$3=\"Upper floor\",'Design Details'!C$72,IF($C$3=\"Single Storey\",'Design Details'!C$82,0))))","v":0},{"$f":"D4-10","v":-10},0,{"$f":"G61*I61*$D$7*24/1000","v":0}]

{"sheet":"5","index":10,"n_rows":61,"n_cols":25,"rows_kept":61,"cut":false,"hidden":false,"merged":[[58,12,58,14],[44,19,48,19],[44,20,48,20],[54,12,54,14],[55,12,55,14],[56,12,56,14],[57,12,57,14],[44,18,48,18],[21,12,21,14],[30,12,30,14],[31,12,31,14],[44,16,48,16],[44,17,48,17],[20,12,20,14],[3,1,3,2],[3,4,3,5],[4,1,4,2],[4,4,4,5],[5,1,5,2],[5,4,5,5],[6,1,6,2],[9,11,9,14],[10,11,10,14],[18,12,18,14],[19,12,19,14],[0,1,0,3],[0,4,0,6],[0,10,0,11],[1,4,1,5],[2,2,2,3],[2,4,2,5]]}
[null,"Room Information",null,null,"Ventilation Heat Loss",null,null,"Fabric ","Heat Loss (W)"," Usage (kWh)","Additional heat loss",null,"Addition","Watts","kWh"]
[null,"Room",null,null,"Air Changes per hour",null,{"$f":"'Design Details'!G91","v":0},"Floor",{"$f":"SUM(K20:K22)","v":0},{"$f":"SUM(L20:L22)","v":0},"Thermal Bridging (New Build >2006)",null,0,{"$f":"SUM(I$2:I$6)*M2","v":0},{"$f":"SUM(J$2:J$6)*M2","v":0},null,"3 edges (long single)","Level",null,null,null,null,null,null,1]
[null,"Level",null,null,"Air Change Factor (W/m³K)",null,0.33,"Ext Wall",{"$f":"K27","v":0},{"$f":"L27","v":0},"Exposed location",null,0,{"$f":"SUM(I$2:I$6)*M3","v":0},{"$f":"SUM(J$2:J$6)*M3","v":0},null,"3 edges (short single)","Please Select Floor",{"$f":"IF($C$3=\"Ground floor\",\"Solid Floor (in contact with ground)\",IF($C$3=\"Single Storey\",\"Solid Floor (in contact with ground)\",\"n/a\"))","v":"n/a"},{"$f":"'Design Details'!C21","v":10},"unheated",0,0,0,2]
[null,"Design Room Temp (°C)",null,{"$f":"'Design Details'!E91","v":0},"Total Volume (m³)",null,{"$f":"SUM(I10:I12,I14:I18)","v":0},"Roof",{"$f":"SUM(K32,K36)","v":0},{"$f":"SUM(L32,L36)","v":0},"High ceiling",null,0,{"$f":"SUM(I$2:I$6)*M4","v":0},{"$f":"SUM(J$2:J$6)*M4","v":0},null,"One edge","Ground floor",{"$f":"IF($C$3=\"Ground floor\",\"Suspended Floor\",IF($C$3=\"Single Storey\",\"Suspended Floor\",\"n/a\"))","v":"n/a"},null,16,0.1,0.2,2.5000000000000001E-2,3]
[null,"Outside Design Temp (°C)",null,{"$f":"'Design Details'!C19","v":-2.5},"Heat loss (W)",null,{"$f":"G4*G3*D6*G2","v":0},"Glazing",{"$f":"SUM(K38:K44,K46:K49,K51:K54)","v":0},{"$f":"SUM(L38:L44,L46:L49,L51:L54)","v":0},"Intermittent heating",null,0,{"$f":"SUM(I$2:I$6)*M5","v":0},{"$f":"SUM(J$2:J$6)*M5","v":0},null,"Two adjacent","Mid-floor",null,null,18,null,null,0.05,4]
[null,"Temp Difference (°C)",null,{"$f":"D4-D5","v":2.5},"Estimated Energy usage (kWh)",null,{"$f":"G4*G3*D7*24/1000","v":0},"Int./Party Wall",{"$f":"SUM(K56:K59,K61)","v":0},{"$f":"SUM(L61)","v":0},null,null,null,"Total Room Heat Loss (W)",{"$f":"SUM(G5,I2:I6,N2:N5)","v":0},null,"Two opposite","Single storey",null,null,21,null,null,7.4999999999999997E-2,5]
[null,"Degree Days",null,{"$f":"'Design Details'!C20","v":2228},null,null,null,null,null,null,null,null,null,"Total Room Energy Usage (kWh)",{"$f":"SUM(G6,J2:J6,O2:O5)","v":0},null,null,"Upper floor",null,null,22,null,null,0.1,6]
[null,null,null,null,null,null,null,null,null,null,null,null,null,null,null,null,null,{"$f":"IF($C$3=\"Ground floor\",'Design Details'!C$45,IF($C$3=\"Mid-floor\",'Design Details'!C$55,IF($C$3=\"Upper floor\",'Design Details'!C$65,IF($C$3=\"Single Storey\",'Design Details'!C$75,0))))","v":0},null,null,null,null,null,null,7]
[null,"Room Dimensions",null,null,null,null,null,null,null,null,null,null,null,null,null,null,null,null,null,null,null,null,null,null,8]
[null,"Length (m)",null,"Width (m)",null,"Height (m)",null,"Volume (m³)",{"$f":"C10*E10*G10","v":0},null,null,null,null,null,null,null,null,null,null,null,null,null,null,null,9]
[null,"Length (m)",null,"Width (m)",null,"Height (m)",null,"Volume (m³)",{"$f":"C11*E11*G11","v":0},null,null,null,null,null,null,null,null,null,null,null,null,null,null,null,10]
[null,"Length (m)",null,"Width (m)",null,"Height (m)",null,"Volume (m³)",{"$f":"C12*E12*G12","v":0}]
[null,"Awkward Room Dimensions"]
[null,"Length (m)",null,"Width (m)",null,"Height (m)",null,"Volume (m³)",{"$f":"((G14*E14)/2)*C14","v":0},"Pitched"]
[null,"Length (m)",null,"Width (m)",null,"Height (m)",null,"Volume (m³)",{"$f":"C15*E15*G15/2","v":0},"Single Pitch"]
[null,"Length (m)",null,"Height (m)",null,"Depth (m)",null,"Volume (m³)",{"$f":"E16*G16*C16/2","v":0},"Dormer 1"]
[null,"Length (m)",null,"Height (m)",null,"Depth (m)",null,"Volume (m³)",{"$f":"E17*G17*C17/2","v":0},"Dormer 2"]
[null,"Length (m)",null,"Height (m)",null,"Depth (m)",null,"Volume (m³)",{"$f":"E18*G18*C18/2","v":0},"Dormer 3"]
[null,"Floor",null,null,null,null,null,null,null,"Temp Difference","Heat Loss (W)","Usage (kWh)",{"$f":"IF($C$3=\"Ground Floor\",\"Select type of Ground Floor\",IF($C$3=\"Single Storey\",\"Select type of Ground Floor\",\"#N/A\"))","v":"#N/A"}]
[null,{"$f":"B10","v":"Length (m)"},null,{"$f":"D10","v":"Width (m)"},null,"Area (m²)",{"$f":"C20*E20","v":0},"U Value (W/m²K)",{"$f":"IF(M22=\"\",R8,'floor u values'!K6)","v":0},{"$f":"IF(C$3=\"Ground Floor\",IF(M20=\"Solid Floor (in contact with ground)\",D$4-T$3,D$4-D$5),IF(C$3=\"Single Storey\",IF(M20=\"Solid Floor (in contact with ground)\",D$4-T$3,D$4-D$5),0))","v":0},{"$f":"G20*I20*J20","v":0},{"$f":"IF($C$3=$R$5,0,IF($C$3=$R$7,0,G20*I20*$D$7*24/1000))","v":0},"n/a"]
[null,"Length (m)",null,"Width (m)",null,"Area (m²)",{"$f":"C21*E21","v":0},"U Value (W/m²K)",{"$f":"I20","v":0},{"$f":"IF(C$3=\"Ground Floor\",IF(M20=\"Solid Floor (in contact with ground)\",D$4-T$3,D$4-D$5),IF(C$3=\"Single Storey\",IF(M20=\"Solid Floor (in contact with ground)\",D$4-T$3,D$4-D$5),0))","v":0},{"$f":"G21*I21*J21","v":0},{"$f":"IF($C$3=$R$5,0,IF($C$3=$R$7,0,G21*I21*$D$7*24/1000))","v":0},"Exposed floor (external)"]
[null,"Length (m)",null,"Width (m)",null,"Area (m²)",0,"U Value (W/m²K)",{"$f":"I20","v":0},{"$f":"IF(C$3=\"Ground Floor\",IF(M20=\"Solid Floor (in contact with ground)\",D$4-T$3,D$4-D$5),IF(C$3=\"Single Storey\",IF(M20=\"Solid Floor (in contact with ground)\",D$4-T$3,D$4-D$5),0))","v":0},{"$f":"G22*I22*J22","v":0},{"$f":"IF($C$3=$R$5,0,IF($C$3=$R$7,0,G22*I22*$D$7*24/1000))","v":0}]
[null,"External Wall",null,null,null,null,null,null,null,null,null,null,{"$f":"IF(M22=\"Two opposite\",\"Between edges\",IF(M22=\"One edge\",\"Depth of room\",IF(M22=\"3 edges (short single)\",\"Short length\",IF(M22=\"3 edges (long single)\",\"Short length\",\"\"))))","v":""},null,{"$f":"IF(M22=\"3 edges (short single)\",\"Long length\",IF(M22=\"3 edges (long single)\",\"Long length\",\"\"))","v":""}]
[null,"Length (m)",null,"Height (m)",null,"Area (m²)",0]
[null,"Length (m)",null,"Height (m)",null,"Area (m²)",0]
[null,"Length (m)",null,"Height (m)",null,"Area (m²)",0]
[null,null,null,null,"Total","Area (m²)",{"$f":"SUM(G24:G26)-SUM(G38:G44,G51:G54)","v":0},"U Value (W/m²K)",{"$f":"IF($C$3=\"Ground floor\",'Design Details'!C$48,IF($C$3=\"Mid-floor\",'Design Details'!C$58,IF($C$3=\"Upper floor\",'Design Details'!C$68,IF($C$3=\"Single Storey\",'Design Details'!C$78,0))))","v":0},{"$f":"$D$6","v":2.5},{"$f":"G27*I27*J27","v":0},{"$f":"G27*I27*$D$7*24/1000","v":0}]
[null,"Ceiling (Flat)"]
[null,"Length (m)",null,"Width (m)",null,"Area (m²)",0]
[null,"Length (m)",null,"Width (m)",null,"Area (m²)",0]
[null,"Length (m)",null,"Width (m)",null,"Area (m²)",0,null,null,null,null,null,"Select Temp/Type of Space Above"]
[null,null,null,null,"Total","Area (m²)",{"$f":"SUM(G29:G31)-SUM(G46:G49)","v":0},"U Value (W/m²K)",{"$f":"IF($C$3=\"Ground floor\",'Design Details'!C$49,IF($C$3=\"Mid-floor\",'Design Details'!C$59,IF($C$3=\"Upper floor\",INDIRECT(T52),IF($C$3=\"Single Storey\",INDIRECT(T53),0))))","v":0},{"$f":"U51","v":0},{"$f":"G32*I32*J32","v":0},{"$f":"IF($C$3=$R$4,0,IF($C$3=$R$5,0,G32*I32*$D$7*24/1000))","v":0},"Select..."]
[null,"Ceiling (Awkward)"]
[null,"Length (m)",{"$f":"C14*2","v":0},"Pitch (m)",{"$f":"SQRT(POWER(E14,2)+POWER(G14,2))","v":0},"Area (m²)",{"$f":"C34*E34","v":0},"Pitched"]
[null,"Length (m)",{"$f":"C15","v":0},"Pitch (m)",{"$f":"SQRT(POWER(E15,2)+POWER(G15,2))","v":0},"Area (m²)",0,"Single Pitch"]
[null,null,null,null,"Total","Area (m²)",{"$f":"SUM(G34:G35)-SUM(G46:G49)","v":0},"U Value (W/m²K)",{"$f":"IF($C$3=\"Ground floor\",'Design Details'!C$50,IF($C$3=\"Mid-floor\",'Design Details'!C$60,IF($C$3=\"Upper floor\",'Design Details'!C$70,IF($C$3=\"Single Storey\",'Design Details'!C$80,0))))","v":0},{"$f":"$D$6","v":2.5},0,{"$f":"IF($C$3=$R$4,0,IF($C$3=$R$5,0,G36*I36*$D$7*24/1000))","v":0}]
[null,"Windows"]
[null,"Width (m)",null,"Height (m)",null,"Area (m²)",0,"U Value (W/m²K)",{"$f":"IF($C$3=\"Ground floor\",'Design Details'!C$46,IF($C$3=\"Mid-floor\",'Design Details'!C$56,IF($C$3=\"Upper floor\",'Design Details'!C$66,IF($C$3=\"Single Storey\",'Design Details'!C$76,0))))","v":0},2.5,0,{"$f":"G38*I38*$D$7*24/1000","v":0}]
[null,"Width (m)",null,"Height (m)",null,"Area (m²)",0,"U Value (W/m²K)",{"$f":"IF($C$3=\"Ground floor\",'Design Details'!C$46,IF($C$3=\"Mid-floor\",'Design Details'!C$56,IF($C$3=\"Upper floor\",'Design Details'!C$66,IF($C$3=\"Single Storey\",'Design Details'!C$76,0))))","v":0},2.5,0,0]
[null,"Width (m)",null,"Height (m)",null,"Area (m²)",0,"U Value (W/m²K)",{"$f":"IF($C$3=\"Ground floor\",'Design Details'!C$46,IF($C$3=\"Mid-floor\",'Design Details'!C$56,IF($C$3=\"Upper floor\",'Design Details'!C$66,IF($C$3=\"Single Storey\",'Design Details'!C$76,0))))","v":0},2.5,0,0]
[null,"Width (m)",null,"Height (m)",null,"Area (m²)",0,"U Value (W/m²K)",{"$f":"IF($C$3=\"Ground floor\",'Design Details'!C$46,IF($C$3=\"Mid-floor\",'Design Details'!C$56,IF($C$3=\"Upper floor\",'Design Details'!C$66,IF($C$3=\"Single Storey\",'Design Details'!C$76,0))))","v":0},2.5,0,0]
[null,"Width (m)",null,"Height (m)",null,"Area (m²)",0,"U Value (W/m²K)",{"$f":"IF($C$3=\"Ground floor\",'Design Details'!C$46,IF($C$3=\"Mid-floor\",'Design Details'!C$56,IF($C$3=\"Upper floor\",'Design Details'!C$66,IF($C$3=\"Single Storey\",'Design Details'!C$76,0))))","v":0},2.5,0,0]
[null,"Width (m)",null,"Height (m)",null,"Area (m²)",0,"U Value (W/m²K)",{"$f":"IF($C$3=\"Ground floor\",'Design Details'!C$46,IF($C$3=\"Mid-floor\",'Design Details'!C$56,IF($C$3=\"Upper floor\",'Design Details'!C$66,IF($C$3=\"Single Storey\",'Design Details'!C$76,0))))","v":0},2.5,0,0]
[null,"Width (m)",null,"Height (m)",null,"Area (m²)",0,"U Value (W/m²K)",{"$f":"IF($C$3=\"Ground floor\",'Design Details'!C$46,IF($C$3=\"Mid-floor\",'Design Details'!C$56,IF($C$3=\"Upper floor\",'Design Details'!C$66,IF($C$3=\"Single Storey\",'Design Details'!C$76,0))))","v":0},2.5,0,0]
[null,"Roof Glazing",null,null,null,null,null,null,null,null,null,null,null,null,null,null,"Options for upper floor or single storey","Options for Ground or Mid Floor","Drop-Down List","U-Value Selector","Temp Diff Selector"]
[null,"Width (m)",null,"Height (m)",null,"Area (m²)",0,"U Value (W/m²K)",{"$f":"IF($C$3=\"Ground floor\",'Design Details'!C$53,IF($C$3=\"Mid-floor\",'Design Details'!C$63,IF($C$3=\"Upper floor\",'Design Details'!C$73,IF($C$3=\"Single Storey\",'Design Details'!C$83,0))))","v":0},2.5,0,{"$f":"G46*I46*$D$7*24/1000","v":0}]
[null,"Width (m)",null,"Height (m)",null,"Area (m²)",0,"U Value (W/m²K)",{"$f":"IF($C$3=\"Ground floor\",'Design Details'!C$53,IF($C$3=\"Mid-floor\",'Design Details'!C$63,IF($C$3=\"Upper floor\",'Design Details'!C$73,IF($C$3=\"Single Storey\",'Design Details'!C$83,0))))","v":0},2.5,0,{"$f":"G47*I47*$D$7*24/1000","v":0}]
[null,"Width (m)",null,"Height (m)",null,"Area (m²)",0,"U Value (W/m²K)",{"$f":"IF($C$3=\"Ground floor\",'Design Details'!C$53,IF($C$3=\"Mid-floor\",'Design Details'!C$63,IF($C$3=\"Upper floor\",'Design Details'!C$73,IF($C$3=\"Single Storey\",'Design Details'!C$83,0))))","v":0},2.5,0,{"$f":"G48*I48*$D$7*24/1000","v":0}]
[null,"Width (m)",null,"Height (m)",null,"Area (m²)",0,"U Value (W/m²K)",{"$f":"IF($C$3=\"Ground floor\",'Design Details'!C$53,IF($C$3=\"Mid-floor\",'Design Details'!C$63,IF($C$3=\"Upper floor\",'Design Details'!C$73,IF($C$3=\"Single Storey\",'Design Details'!C$83,0))))","v":0},2.5,0,{"$f":"G49*I49*$D$7*24/1000","v":0}]
[null,"External Doors",null,null,null,null,null,null,null,null,null,null,null,null,null,null,null,null,"Select..."]
[null,"Width (m)",null,"Height (m)",null,"Area (m²)",0,"U Value (W/m²K)",{"$f":"IF($C$3=\"Ground floor\",'Design Details'!C$47,IF($C$3=\"Mid-floor\",'Design Details'!C$57,IF($C$3=\"Upper floor\",'Design Details'!C$67,IF($C$3=\"Single Storey\",'Design Details'!C$77,0))))","v":0},2.5,0,{"$f":"G51*I51*$D$7*24/1000","v":0},null,null,null,null,"Outside","Unheated",{"$f":"IF(OR($C$3=\"Ground Floor\",$C$3=\"Mid-floor\"),R51,Q51)","v":"Outside"},{"$f":"IF(M32=\"Unheated\",1,0)","v":0},{"$f":"IF(M32=\"Select...\",0,(IF(M32=\"Outside\",D6,IF(M32=\"Unheated\",D4-10,D4-M32))))","v":0}]
[null,"Width (m)",null,"Height (m)",null,"Area (m²)",0,"U Value (W/m²K)",{"$f":"IF($C$3=\"Ground floor\",'Design Details'!C$47,IF($C$3=\"Mid-floor\",'Design Details'!C$57,IF($C$3=\"Upper floor\",'Design Details'!C$67,IF($C$3=\"Single Storey\",'Design Details'!C$77,0))))","v":0},2.5,0,{"$f":"G52*I52*$D$7*24/1000","v":0},null,null,null,null,"Unheated","16",{"$f":"IF(OR($C$3=\"Ground Floor\",$C$3=\"Mid-floor\"),R52,Q52)","v":"Unheated"},{"$f":"\"'Design Details'!C$\"&69+T51","v":"'Design Details'!C$69"}]
[null,"Width (m)",null,"Height (m)",null,"Area (m²)",0,"U Value (W/m²K)",{"$f":"IF($C$3=\"Ground floor\",'Design Details'!C$47,IF($C$3=\"Mid-floor\",'Design Details'!C$57,IF($C$3=\"Upper floor\",'Design Details'!C$67,IF($C$3=\"Single Storey\",'Design Details'!C$77,0))))","v":0},2.5,0,{"$f":"G53*I53*$D$7*24/1000","v":0},null,null,null,null,null,"18",{"$f":"IF(OR($C$3=\"Ground Floor\",$C$3=\"Mid-floor\"),R53,Q53)","v":0},{"$f":"\"'Design Details'!C$\"&79+T51","v":"'Design Details'!C$79"}]
[null,"Width (m)",null,"Height (m)",null,"Area (m²)",0,"U Value (W/m²K)",{"$f":"IF($C$3=\"Ground floor\",'Design Details'!C$47,IF($C$3=\"Mid-floor\",'Design Details'!C$57,IF($C$3=\"Upper floor\",'Design Details'!C$67,IF($C$3=\"Single Storey\",'Design Details'!C$77,0))))","v":0},2.5,0,{"$f":"G54*I54*$D$7*24/1000","v":0},null,null,null,null,null,"21",{"$f":"IF(OR($C$3=\"Ground Floor\",$C$3=\"Mid-floor\"),R54,Q54)","v":0}]
[null,"Internal Walls",null,null,null,null,null,null,null,null,null,null,"Adjoining Room Temp (°C)",null,null,null,null,22,{"$f":"IF(OR($C$3=\"Ground Floor\",$C$3=\"Mid-floor\"),R55,Q37)","v":0}]
[null,"Length (m)",null,"Height (m)",null,"Area (m²)",0,"U Value (W/m²K)",{"$f":"IF($C$3=\"Ground floor\",'Design Details'!C$51,IF($C$3=\"Mid-floor\",'Design Details'!C$61,IF($C$3=\"Upper floor\",'Design Details'!C$71,IF($C$3=\"Single Storey\",'Design Details'!C$81,0))))","v":0},{"$f":"IF(M56=\"\",0,IF(M56=\"unheated\",D$4-10,D$4-M56))","v":0},0]
[null,"Length (m)",null,"Height (m)",null,"Area (m²)",0,"U Value (W/m²K)",{"$f":"IF($C$3=\"Ground floor\",'Design Details'!C$51,IF($C$3=\"Mid-floor\",'Design Details'!C$61,IF($C$3=\"Upper floor\",'Design Details'!C$71,IF($C$3=\"Single Storey\",'Design Details'!C$81,0))))","v":0},{"$f":"IF(M57=\"\",0,IF(M57=\"unheated\",D$4-10,D$4-M57))","v":0},0]
[null,"Length (m)",null,"Height (m)",null,"Area (m²)",0,"U Value (W/m²K)",{"$f":"IF($C$3=\"Ground floor\",'Design Details'!C$51,IF($C$3=\"Mid-floor\",'Design Details'!C$61,IF($C$3=\"Upper floor\",'Design Details'!C$71,IF($C$3=\"Single Storey\",'Design Details'!C$81,0))))","v":0},{"$f":"IF(M58=\"\",0,IF(M58=\"unheated\",D$4-10,D$4-M58))","v":0},0]
[null,"Length (m)",null,"Height (m)",null,"Area (m²)",0,"U Value (W/m²K)",{"$f":"IF($C$3=\"Ground floor\",'Design Details'!C$51,IF($C$3=\"Mid-floor\",'Design Details'!C$61,IF($C$3=\"Upper floor\",'Design Details'!C$71,IF($C$3=\"Single Storey\",'Design Details'!C$81,0))))","v":0},{"$f":"IF(M59=\"\",0,IF(M59=\"unheated\",D$4-10,D$4-M59))","v":0},0]
[null,"Party Wall"]
[null,"Length (m)",null,"Height (m)",null,"Area (m²)",0,"U Value (W/m²K)",{"$f":"IF($C$3=\"Ground floor\",'Design Details'!C$52,IF($C$3=\"Mid-floor\",'Design Details'!C$62,IF($C$3=\"Upper floor\",'Design Details'!C$72,IF($C$3=\"Single Storey\",'Design Details'!C$82,0))))","v":0},{"$f":"D4-10","v":-10},0,{"$f":"G61*I61*$D$7*24/1000","v":0}]

{"sheet":"6","index":11,"n_rows":61,"n_cols":25,"rows_kept":61,"cut":false,"hidden":false,"merged":[[58,12,58,14],[44,19,48,19],[44,20,48,20],[54,12,54,14],[55,12,55,14],[56,12,56,14],[57,12,57,14],[44,18,48,18],[21,12,21,14],[30,12,30,14],[31,12,31,14],[44,16,48,16],[44,17,48,17],[20,12,20,14],[3,1,3,2],[3,4,3,5],[4,1,4,2],[4,4,4,5],[5,1,5,2],[5,4,5,5],[6,1,6,2],[9,11,9,14],[10,11,10,14],[18,12,18,14],[19,12,19,14],[0,1,0,3],[0,4,0,6],[0,10,0,11],[1,4,1,5],[2,2,2,3],[2,4,2,5]]}
[null,"Room Information",null,null,"Ventilation Heat Loss",null,null,"Fabric ","Heat Loss (W)"," Usage (kWh)","Additional heat loss",null,"Addition","Watts","kWh"]
[null,"Room",null,null,"Air Changes per hour",null,{"$f":"'Design Details'!G92","v":0},"Floor",{"$f":"SUM(K20:K22)","v":0},{"$f":"SUM(L20:L22)","v":0},"Thermal Bridging (New Build >2006)",null,0,{"$f":"SUM(I$2:I$6)*M2","v":0},{"$f":"SUM(J$2:J$6)*M2","v":0},null,"3 edges (long single)","Level",null,null,null,null,null,null,1]
[null,"Level",null,null,"Air Change Factor (W/m³K)",null,0.33,"Ext Wall",{"$f":"K27","v":0},{"$f":"L27","v":0},"Exposed location",null,0,{"$f":"SUM(I$2:I$6)*M3","v":0},{"$f":"SUM(J$2:J$6)*M3","v":0},null,"3 edges (short single)","Please Select Floor",{"$f":"IF($C$3=\"Ground floor\",\"Solid Floor (in contact with ground)\",IF($C$3=\"Single Storey\",\"Solid Floor (in contact with ground)\",\"n/a\"))","v":"n/a"},{"$f":"'Design Details'!C21","v":10},"unheated",0,0,0,2]
[null,"Design Room Temp (°C)",null,{"$f":"'Design Details'!E92","v":0},"Total Volume (m³)",null,{"$f":"SUM(I10:I12,I14:I18)","v":0},"Roof",{"$f":"SUM(K32,K36)","v":0},{"$f":"SUM(L32,L36)","v":0},"High ceiling",null,0,{"$f":"SUM(I$2:I$6)*M4","v":0},{"$f":"SUM(J$2:J$6)*M4","v":0},null,"One edge","Ground floor",{"$f":"IF($C$3=\"Ground floor\",\"Suspended Floor\",IF($C$3=\"Single Storey\",\"Suspended Floor\",\"n/a\"))","v":"n/a"},null,16,0.1,0.2,2.5000000000000001E-2,3]
[null,"Outside Design Temp (°C)",null,{"$f":"'Design Details'!C19","v":-2.5},"Heat loss (W)",null,{"$f":"G4*G3*D6*G2","v":0},"Glazing",{"$f":"SUM(K38:K44,K46:K49,K51:K54)","v":0},{"$f":"SUM(L38:L44,L46:L49,L51:L54)","v":0},"Intermittent heating",null,0,{"$f":"SUM(I$2:I$6)*M5","v":0},{"$f":"SUM(J$2:J$6)*M5","v":0},null,"Two adjacent","Mid-floor",null,null,18,null,null,0.05,4]
[null,"Temp Difference (°C)",null,{"$f":"D4-D5","v":2.5},"Estimated Energy usage (kWh)",null,{"$f":"G4*G3*D7*24/1000","v":0},"Int./Party Wall",{"$f":"SUM(K56:K59,K61)","v":0},{"$f":"SUM(L61)","v":0},null,null,null,"Total Room Heat Loss (W)",{"$f":"SUM(G5,I2:I6,N2:N5)","v":0},null,"Two opposite","Single storey",null,null,21,null,null,7.4999999999999997E-2,5]
[null,"Degree Days",null,{"$f":"'Design Details'!C20","v":2228},null,null,null,null,null,null,null,null,null,"Total Room Energy Usage (kWh)",{"$f":"SUM(G6,J2:J6,O2:O5)","v":0},null,null,"Upper floor",null,null,22,null,null,0.1,6]
[null,null,null,null,null,null,null,null,null,null,null,null,null,null,null,null,null,{"$f":"IF($C$3=\"Ground floor\",'Design Details'!C$45,IF($C$3=\"Mid-floor\",'Design Details'!C$55,IF($C$3=\"Upper floor\",'Design Details'!C$65,IF($C$3=\"Single Storey\",'Design Details'!C$75,0))))","v":0},null,null,null,null,null,null,7]
[null,"Room Dimensions",null,null,null,null,null,null,null,null,null,null,null,null,null,null,null,null,null,null,null,null,null,null,8]
[null,"Length (m)",null,"Width (m)",null,"Height (m)",null,"Volume (m³)",{"$f":"C10*E10*G10","v":0},null,null,null,null,null,null,null,null,null,null,null,null,null,null,null,9]
[null,"Length (m)",null,"Width (m)",null,"Height (m)",null,"Volume (m³)",{"$f":"C11*E11*G11","v":0},null,null,null,null,null,null,null,null,null,null,null,null,null,null,null,10]
[null,"Length (m)",null,"Width (m)",null,"Height (m)",null,"Volume (m³)",{"$f":"C12*E12*G12","v":0}]
[null,"Awkward Room Dimensions"]
[null,"Length (m)",null,"Width (m)",null,"Height (m)",null,"Volume (m³)",{"$f":"((G14*E14)/2)*C14","v":0},"Pitched"]
[null,"Length (m)",null,"Width (m)",null,"Height (m)",null,"Volume (m³)",{"$f":"C15*E15*G15/2","v":0},"Single Pitch"]
[null,"Length (m)",null,"Height (m)",null,"Depth (m)",null,"Volume (m³)",{"$f":"E16*G16*C16/2","v":0},"Dormer 1"]
[null,"Length (m)",null,"Height (m)",null,"Depth (m)",null,"Volume (m³)",{"$f":"E17*G17*C17/2","v":0},"Dormer 2"]
[null,"Length (m)",null,"Height (m)",null,"Depth (m)",null,"Volume (m³)",{"$f":"E18*G18*C18/2","v":0},"Dormer 3"]
[null,"Floor",null,null,null,null,null,null,null,"Temp Difference","Heat Loss (W)","Usage (kWh)",{"$f":"IF($C$3=\"Ground Floor\",\"Select type of Ground Floor\",IF($C$3=\"Single Storey\",\"Select type of Ground Floor\",\"#N/A\"))","v":"#N/A"}]
[null,{"$f":"B10","v":"Length (m)"},null,{"$f":"D10","v":"Width (m)"},null,"Area (m²)",{"$f":"C20*E20","v":0},"U Value (W/m²K)",{"$f":"IF(M22=\"\",R8,'floor u values'!K7)","v":0},{"$f":"IF(C$3=\"Ground Floor\",IF(M20=\"Solid Floor (in contact with ground)\",D$4-T$3,D$4-D$5),IF(C$3=\"Single Storey\",IF(M20=\"Solid Floor (in contact with ground)\",D$4-T$3,D$4-D$5),0))","v":0},{"$f":"G20*I20*J20","v":0},{"$f":"IF($C$3=$R$5,0,IF($C$3=$R$7,0,G20*I20*$D$7*24/1000))","v":0},"n/a"]
[null,"Length (m)",null,"Width (m)",null,"Area (m²)",{"$f":"C21*E21","v":0},"U Value (W/m²K)",{"$f":"I20","v":0},{"$f":"IF(C$3=\"Ground Floor\",IF(M20=\"Solid Floor (in contact with ground)\",D$4-T$3,D$4-D$5),IF(C$3=\"Single Storey\",IF(M20=\"Solid Floor (in contact with ground)\",D$4-T$3,D$4-D$5),0))","v":0},{"$f":"G21*I21*J21","v":0},{"$f":"IF($C$3=$R$5,0,IF($C$3=$R$7,0,G21*I21*$D$7*24/1000))","v":0},"Exposed floor (external)"]
[null,"Length (m)",null,"Width (m)",null,"Area (m²)",0,"U Value (W/m²K)",{"$f":"I20","v":0},{"$f":"IF(C$3=\"Ground Floor\",IF(M20=\"Solid Floor (in contact with ground)\",D$4-T$3,D$4-D$5),IF(C$3=\"Single Storey\",IF(M20=\"Solid Floor (in contact with ground)\",D$4-T$3,D$4-D$5),0))","v":0},{"$f":"G22*I22*J22","v":0},{"$f":"IF($C$3=$R$5,0,IF($C$3=$R$7,0,G22*I22*$D$7*24/1000))","v":0}]
[null,"External Wall",null,null,null,null,null,null,null,null,null,null,{"$f":"IF(M22=\"Two opposite\",\"Between edges\",IF(M22=\"One edge\",\"Depth of room\",IF(M22=\"3 edges (short single)\",\"Short length\",IF(M22=\"3 edges (long single)\",\"Short length\",\"\"))))","v":""},null,{"$f":"IF(M22=\"3 edges (short single)\",\"Long length\",IF(M22=\"3 edges (long single)\",\"Long length\",\"\"))","v":""}]
[null,"Length (m)",null,"Height (m)",null,"Area (m²)",0]
[null,"Length (m)",null,"Height (m)",null,"Area (m²)",0]
[null,"Length (m)",null,"Height (m)",null,"Area (m²)",0]
[null,null,null,null,"Total","Area (m²)",{"$f":"SUM(G24:G26)-SUM(G38:G44,G51:G54)","v":0},"U Value (W/m²K)",{"$f":"IF($C$3=\"Ground floor\",'Design Details'!C$48,IF($C$3=\"Mid-floor\",'Design Details'!C$58,IF($C$3=\"Upper floor\",'Design Details'!C$68,IF($C$3=\"Single Storey\",'Design Details'!C$78,0))))","v":0},{"$f":"$D$6","v":2.5},{"$f":"G27*I27*J27","v":0},{"$f":"G27*I27*$D$7*24/1000","v":0}]
[null,"Ceiling (Flat)"]
[null,"Length (m)",null,"Width (m)",null,"Area (m²)",0]
[null,"Length (m)",null,"Width (m)",null,"Area (m²)",0]
[null,"Length (m)",null,"Width (m)",null,"Area (m²)",0,null,null,null,null,null,"Select Temp/Type of Space Above"]
[null,null,null,null,"Total","Area (m²)",{"$f":"SUM(G29:G31)-SUM(G46:G49)","v":0},"U Value (W/m²K)",{"$f":"IF($C$3=\"Ground floor\",'Design Details'!C$49,IF($C$3=\"Mid-floor\",'Design Details'!C$59,IF($C$3=\"Upper floor\",INDIRECT(T52),IF($C$3=\"Single Storey\",INDIRECT(T53),0))))","v":0},{"$f":"U51","v":0},{"$f":"G32*I32*J32","v":0},{"$f":"IF($C$3=$R$4,0,IF($C$3=$R$5,0,G32*I32*$D$7*24/1000))","v":0},"Select..."]
[null,"Ceiling (Awkward)"]
[null,"Length (m)",{"$f":"C14*2","v":0},"Pitch (m)",{"$f":"SQRT(POWER(E14,2)+POWER(G14,2))","v":0},"Area (m²)",{"$f":"C34*E34","v":0},"Pitched"]
[null,"Length (m)",{"$f":"C15","v":0},"Pitch (m)",{"$f":"SQRT(POWER(E15,2)+POWER(G15,2))","v":0},"Area (m²)",0,"Single Pitch"]
[null,null,null,null,"Total","Area (m²)",{"$f":"SUM(G34:G35)-SUM(G46:G49)","v":0},"U Value (W/m²K)",{"$f":"IF($C$3=\"Ground floor\",'Design Details'!C$50,IF($C$3=\"Mid-floor\",'Design Details'!C$60,IF($C$3=\"Upper floor\",'Design Details'!C$70,IF($C$3=\"Single Storey\",'Design Details'!C$80,0))))","v":0},{"$f":"$D$6","v":2.5},0,{"$f":"IF($C$3=$R$4,0,IF($C$3=$R$5,0,G36*I36*$D$7*24/1000))","v":0}]
[null,"Windows"]
[null,"Width (m)",null,"Height (m)",null,"Area (m²)",0,"U Value (W/m²K)",{"$f":"IF($C$3=\"Ground floor\",'Design Details'!C$46,IF($C$3=\"Mid-floor\",'Design Details'!C$56,IF($C$3=\"Upper floor\",'Design Details'!C$66,IF($C$3=\"Single Storey\",'Design Details'!C$76,0))))","v":0},2.5,0,{"$f":"G38*I38*$D$7*24/1000","v":0}]
[null,"Width (m)",null,"Height (m)",null,"Area (m²)",0,"U Value (W/m²K)",{"$f":"IF($C$3=\"Ground floor\",'Design Details'!C$46,IF($C$3=\"Mid-floor\",'Design Details'!C$56,IF($C$3=\"Upper floor\",'Design Details'!C$66,IF($C$3=\"Single Storey\",'Design Details'!C$76,0))))","v":0},2.5,0,0]
[null,"Width (m)",null,"Height (m)",null,"Area (m²)",0,"U Value (W/m²K)",{"$f":"IF($C$3=\"Ground floor\",'Design Details'!C$46,IF($C$3=\"Mid-floor\",'Design Details'!C$56,IF($C$3=\"Upper floor\",'Design Details'!C$66,IF($C$3=\"Single Storey\",'Design Details'!C$76,0))))","v":0},2.5,0,0]
[null,"Width (m)",null,"Height (m)",null,"Area (m²)",0,"U Value (W/m²K)",{"$f":"IF($C$3=\"Ground floor\",'Design Details'!C$46,IF($C$3=\"Mid-floor\",'Design Details'!C$56,IF($C$3=\"Upper floor\",'Design Details'!C$66,IF($C$3=\"Single Storey\",'Design Details'!C$76,0))))","v":0},2.5,0,0]
[null,"Width (m)",null,"Height (m)",null,"Area (m²)",0,"U Value (W/m²K)",{"$f":"IF($C$3=\"Ground floor\",'Design Details'!C$46,IF($C$3=\"Mid-floor\",'Design Details'!C$56,IF($C$3=\"Upper floor\",'Design Details'!C$66,IF($C$3=\"Single Storey\",'Design Details'!C$76,0))))","v":0},2.5,0,0]
[null,"Width (m)",null,"Height (m)",null,"Area (m²)",0,"U Value (W/m²K)",{"$f":"IF($C$3=\"Ground floor\",'Design Details'!C$46,IF($C$3=\"Mid-floor\",'Design Details'!C$56,IF($C$3=\"Upper floor\",'Design Details'!C$66,IF($C$3=\"Single Storey\",'Design Details'!C$76,0))))","v":0},2.5,0,0]
[null,"Width (m)",null,"Height (m)",null,"Area (m²)",0,"U Value (W/m²K)",{"$f":"IF($C$3=\"Ground floor\",'Design Details'!C$46,IF($C$3=\"Mid-floor\",'Design Details'!C$56,IF($C$3=\"Upper floor\",'Design Details'!C$66,IF($C$3=\"Single Storey\",'Design Details'!C$76,0))))","v":0},2.5,0,0]
[null,"Roof Glazing",null,null,null,null,null,null,null,null,null,null,null,null,null,null,"Options for upper floor or single storey","Options for Ground or Mid Floor","Drop-Down List","U-Value Selector","Temp Diff Selector"]
[null,"Width (m)",null,"Height (m)",null,"Area (m²)",0,"U Value (W/m²K)",{"$f":"IF($C$3=\"Ground floor\",'Design Details'!C$53,IF($C$3=\"Mid-floor\",'Design Details'!C$63,IF($C$3=\"Upper floor\",'Design Details'!C$73,IF($C$3=\"Single Storey\",'Design Details'!C$83,0))))","v":0},2.5,0,{"$f":"G46*I46*$D$7*24/1000","v":0}]
[null,"Width (m)",null,"Height (m)",null,"Area (m²)",0,"U Value (W/m²K)",{"$f":"IF($C$3=\"Ground floor\",'Design Details'!C$53,IF($C$3=\"Mid-floor\",'Design Details'!C$63,IF($C$3=\"Upper floor\",'Design Details'!C$73,IF($C$3=\"Single Storey\",'Design Details'!C$83,0))))","v":0},2.5,0,{"$f":"G47*I47*$D$7*24/1000","v":0}]
[null,"Width (m)",null,"Height (m)",null,"Area (m²)",0,"U Value (W/m²K)",{"$f":"IF($C$3=\"Ground floor\",'Design Details'!C$53,IF($C$3=\"Mid-floor\",'Design Details'!C$63,IF($C$3=\"Upper floor\",'Design Details'!C$73,IF($C$3=\"Single Storey\",'Design Details'!C$83,0))))","v":0},2.5,0,{"$f":"G48*I48*$D$7*24/1000","v":0}]
[null,"Width (m)",null,"Height (m)",null,"Area (m²)",0,"U Value (W/m²K)",{"$f":"IF($C$3=\"Ground floor\",'Design Details'!C$53,IF($C$3=\"Mid-floor\",'Design Details'!C$63,IF($C$3=\"Upper floor\",'Design Details'!C$73,IF($C$3=\"Single Storey\",'Design Details'!C$83,0))))","v":0},2.5,0,{"$f":"G49*I49*$D$7*24/1000","v":0}]
[null,"External Doors",null,null,null,null,null,null,null,null,null,null,null,null,null,null,null,null,"Select..."]
[null,"Width (m)",null,"Height (m)",null,"Area (m²)",0,"U Value (W/m²K)",{"$f":"IF($C$3=\"Ground floor\",'Design Details'!C$47,IF($C$3=\"Mid-floor\",'Design Details'!C$57,IF($C$3=\"Upper floor\",'Design Details'!C$67,IF($C$3=\"Single Storey\",'Design Details'!C$77,0))))","v":0},2.5,0,{"$f":"G51*I51*$D$7*24/1000","v":0},null,null,null,null,"Outside","Unheated",{"$f":"IF(OR($C$3=\"Ground Floor\",$C$3=\"Mid-floor\"),R51,Q51)","v":"Outside"},{"$f":"IF(M32=\"Unheated\",1,0)","v":0},{"$f":"IF(M32=\"Select...\",0,(IF(M32=\"Outside\",D6,IF(M32=\"Unheated\",D4-10,D4-M32))))","v":0}]
[null,"Width (m)",null,"Height (m)",null,"Area (m²)",0,"U Value (W/m²K)",{"$f":"IF($C$3=\"Ground floor\",'Design Details'!C$47,IF($C$3=\"Mid-floor\",'Design Details'!C$57,IF($C$3=\"Upper floor\",'Design Details'!C$67,IF($C$3=\"Single Storey\",'Design Details'!C$77,0))))","v":0},2.5,0,{"$f":"G52*I52*$D$7*24/1000","v":0},null,null,null,null,"Unheated","16",{"$f":"IF(OR($C$3=\"Ground Floor\",$C$3=\"Mid-floor\"),R52,Q52)","v":"Unheated"},{"$f":"\"'Design Details'!C$\"&69+T51","v":"'Design Details'!C$69"}]
[null,"Width (m)",null,"Height (m)",null,"Area (m²)",0,"U Value (W/m²K)",{"$f":"IF($C$3=\"Ground floor\",'Design Details'!C$47,IF($C$3=\"Mid-floor\",'Design Details'!C$57,IF($C$3=\"Upper floor\",'Design Details'!C$67,IF($C$3=\"Single Storey\",'Design Details'!C$77,0))))","v":0},2.5,0,{"$f":"G53*I53*$D$7*24/1000","v":0},null,null,null,null,null,"18",{"$f":"IF(OR($C$3=\"Ground Floor\",$C$3=\"Mid-floor\"),R53,Q53)","v":0},{"$f":"\"'Design Details'!C$\"&79+T51","v":"'Design Details'!C$79"}]
[null,"Width (m)",null,"Height (m)",null,"Area (m²)",0,"U Value (W/m²K)",{"$f":"IF($C$3=\"Ground floor\",'Design Details'!C$47,IF($C$3=\"Mid-floor\",'Design Details'!C$57,IF($C$3=\"Upper floor\",'Design Details'!C$67,IF($C$3=\"Single Storey\",'Design Details'!C$77,0))))","v":0},2.5,0,{"$f":"G54*I54*$D$7*24/1000","v":0},null,null,null,null,null,"21",{"$f":"IF(OR($C$3=\"Ground Floor\",$C$3=\"Mid-floor\"),R54,Q54)","v":0}]
[null,"Internal Walls",null,null,null,null,null,null,null,null,null,null,"Adjoining Room Temp (°C)",null,null,null,null,22,{"$f":"IF(OR($C$3=\"Ground Floor\",$C$3=\"Mid-floor\"),R55,Q37)","v":0}]
[null,"Length (m)",null,"Height (m)",null,"Area (m²)",0,"U Value (W/m²K)",{"$f":"IF($C$3=\"Ground floor\",'Design Details'!C$51,IF($C$3=\"Mid-floor\",'Design Details'!C$61,IF($C$3=\"Upper floor\",'Design Details'!C$71,IF($C$3=\"Single Storey\",'Design Details'!C$81,0))))","v":0},{"$f":"IF(M56=\"\",0,IF(M56=\"unheated\",D$4-10,D$4-M56))","v":0},0]
[null,"Length (m)",null,"Height (m)",null,"Area (m²)",0,"U Value (W/m²K)",{"$f":"IF($C$3=\"Ground floor\",'Design Details'!C$51,IF($C$3=\"Mid-floor\",'Design Details'!C$61,IF($C$3=\"Upper floor\",'Design Details'!C$71,IF($C$3=\"Single Storey\",'Design Details'!C$81,0))))","v":0},{"$f":"IF(M57=\"\",0,IF(M57=\"unheated\",D$4-10,D$4-M57))","v":0},0]
[null,"Length (m)",null,"Height (m)",null,"Area (m²)",0,"U Value (W/m²K)",{"$f":"IF($C$3=\"Ground floor\",'Design Details'!C$51,IF($C$3=\"Mid-floor\",'Design Details'!C$61,IF($C$3=\"Upper floor\",'Design Details'!C$71,IF($C$3=\"Single Storey\",'Design Details'!C$81,0))))","v":0},{"$f":"IF(M58=\"\",0,IF(M58=\"unheated\",D$4-10,D$4-M58))","v":0},0]
[null,"Length (m)",null,"Height (m)",null,"Area (m²)",0,"U Value (W/m²K)",{"$f":"IF($C$3=\"Ground floor\",'Design Details'!C$51,IF($C$3=\"Mid-floor\",'Design Details'!C$61,IF($C$3=\"Upper floor\",'Design Details'!C$71,IF($C$3=\"Single Storey\",'Design Details'!C$81,0))))","v":0},{"$f":"IF(M59=\"\",0,IF(M59=\"unheated\",D$4-10,D$4-M59))","v":0},0]
[null,"Party Wall"]
[null,"Length (m)",null,"Height (m)",null,"Area (m²)",0,"U Value (W/m²K)",{"$f":"IF($C$3=\"Ground floor\",'Design Details'!C$52,IF($C$3=\"Mid-floor\",'Design Details'!C$62,IF($C$3=\"Upper floor\",'Design Details'!C$72,IF($C$3=\"Single Storey\",'Design Details'!C$82,0))))","v":0},{"$f":"D4-10","v":-10},0,{"$f":"G61*I61*$D$7*24/1000","v":0}]

{"sheet":"7","index":12,"n_rows":61,"n_cols":25,"rows_kept":61,"cut":false,"hidden":false,"merged":[[58,12,58,14],[44,19,48,19],[44,20,48,20],[54,12,54,14],[55,12,55,14],[56,12,56,14],[57,12,57,14],[44,18,48,18],[21,12,21,14],[30,12,30,14],[31,12,31,14],[44,16,48,16],[44,17,48,17],[20,12,20,14],[3,1,3,2],[3,4,3,5],[4,1,4,2],[4,4,4,5],[5,1,5,2],[5,4,5,5],[6,1,6,2],[9,11,9,14],[10,11,10,14],[18,12,18,14],[19,12,19,14],[0,1,0,3],[0,4,0,6],[0,10,0,11],[1,4,1,5],[2,2,2,3],[2,4,2,5]]}
[null,"Room Information",null,null,"Ventilation Heat Loss",null,null,"Fabric ","Heat Loss (W)"," Usage (kWh)","Additional heat loss",null,"Addition","Watts","kWh"]
[null,"Room",null,null,"Air Changes per hour",null,{"$f":"'Design Details'!G93","v":0},"Floor",{"$f":"SUM(K20:K22)","v":0},{"$f":"SUM(L20:L22)","v":0},"Thermal Bridging (New Build >2006)",null,0,{"$f":"SUM(I$2:I$6)*M2","v":0},{"$f":"SUM(J$2:J$6)*M2","v":0},null,"3 edges (long single)","Level",null,null,null,null,null,null,1]
[null,"Level",null,null,"Air Change Factor (W/m³K)",null,0.33,"Ext Wall",{"$f":"K27","v":0},{"$f":"L27","v":0},"Exposed location",null,0,{"$f":"SUM(I$2:I$6)*M3","v":0},{"$f":"SUM(J$2:J$6)*M3","v":0},null,"3 edges (short single)","Please Select Floor",{"$f":"IF($C$3=\"Ground floor\",\"Solid Floor (in contact with ground)\",IF($C$3=\"Single Storey\",\"Solid Floor (in contact with ground)\",\"n/a\"))","v":"n/a"},{"$f":"'Design Details'!C21","v":10},"unheated",0,0,0,2]
[null,"Design Room Temp (°C)",null,{"$f":"'Design Details'!E93","v":0},"Total Volume (m³)",null,{"$f":"SUM(I10:I12,I14:I18)","v":0},"Roof",{"$f":"SUM(K32,K36)","v":0},{"$f":"SUM(L32,L36)","v":0},"High ceiling",null,0,{"$f":"SUM(I$2:I$6)*M4","v":0},{"$f":"SUM(J$2:J$6)*M4","v":0},null,"One edge","Ground floor",{"$f":"IF($C$3=\"Ground floor\",\"Suspended Floor\",IF($C$3=\"Single Storey\",\"Suspended Floor\",\"n/a\"))","v":"n/a"},null,16,0.1,0.2,2.5000000000000001E-2,3]
[null,"Outside Design Temp (°C)",null,{"$f":"'Design Details'!C19","v":-2.5},"Heat loss (W)",null,{"$f":"G4*G3*D6*G2","v":0},"Glazing",{"$f":"SUM(K38:K44,K46:K49,K51:K54)","v":0},{"$f":"SUM(L38:L44,L46:L49,L51:L54)","v":0},"Intermittent heating",null,0,{"$f":"SUM(I$2:I$6)*M5","v":0},{"$f":"SUM(J$2:J$6)*M5","v":0},null,"Two adjacent","Mid-floor",null,null,18,null,null,0.05,4]
[null,"Temp Difference (°C)",null,{"$f":"D4-D5","v":2.5},"Estimated Energy usage (kWh)",null,{"$f":"G4*G3*D7*24/1000","v":0},"Int./Party Wall",{"$f":"SUM(K56:K59,K61)","v":0},{"$f":"SUM(L61)","v":0},null,null,null,"Total Room Heat Loss (W)",{"$f":"SUM(G5,I2:I6,N2:N5)","v":0},null,"Two opposite","Single storey",null,null,21,null,null,7.4999999999999997E-2,5]
[null,"Degree Days",null,{"$f":"'Design Details'!C20","v":2228},null,null,null,null,null,null,null,null,null,"Total Room Energy Usage (kWh)",{"$f":"SUM(G6,J2:J6,O2:O5)","v":0},null,null,"Upper floor",null,null,22,null,null,0.1,6]
[null,null,null,null,null,null,null,null,null,null,null,null,null,null,null,null,null,{"$f":"IF($C$3=\"Ground floor\",'Design Details'!C$45,IF($C$3=\"Mid-floor\",'Design Details'!C$55,IF($C$3=\"Upper floor\",'Design Details'!C$65,IF($C$3=\"Single Storey\",'Design Details'!C$75,0))))","v":0},null,null,null,null,null,null,7]
[null,"Room Dimensions",null,null,null,null,null,null,null,null,null,null,null,null,null,null,null,null,null,null,null,null,null,null,8]
[null,"Length (m)",null,"Width (m)",null,"Height (m)",null,"Volume (m³)",{"$f":"C10*E10*G10","v":0},null,null,null,null,null,null,null,null,null,null,null,null,null,null,null,9]
[null,"Length (m)",null,"Width (m)",null,"Height (m)",null,"Volume (m³)",{"$f":"C11*E11*G11","v":0},null,null,null,null,null,null,null,null,null,null,null,null,null,null,null,10]
[null,"Length (m)",null,"Width (m)",null,"Height (m)",null,"Volume (m³)",{"$f":"C12*E12*G12","v":0}]
[null,"Awkward Room Dimensions"]
[null,"Length (m)",null,"Width (m)",null,"Height (m)",null,"Volume (m³)",{"$f":"((G14*E14)/2)*C14","v":0},"Pitched"]
[null,"Length (m)",null,"Width (m)",null,"Height (m)",null,"Volume (m³)",{"$f":"C15*E15*G15/2","v":0},"Single Pitch"]
[null,"Length (m)",null,"Height (m)",null,"Depth (m)",null,"Volume (m³)",{"$f":"E16*G16*C16/2","v":0},"Dormer 1"]
[null,"Length (m)",null,"Height (m)",null,"Depth (m)",null,"Volume (m³)",{"$f":"E17*G17*C17/2","v":0},"Dormer 2"]
[null,"Length (m)",null,"Height (m)",null,"Depth (m)",null,"Volume (m³)",{"$f":"E18*G18*C18/2","v":0},"Dormer 3"]
[null,"Floor",null,null,null,null,null,null,null,"Temp Difference","Heat Loss (W)","Usage (kWh)",{"$f":"IF($C$3=\"Ground Floor\",\"Select type of Ground Floor\",IF($C$3=\"Single Storey\",\"Select type of Ground Floor\",\"#N/A\"))","v":"#N/A"}]
[null,{"$f":"B10","v":"Length (m)"},null,{"$f":"D10","v":"Width (m)"},null,"Area (m²)",{"$f":"C20*E20","v":0},"U Value (W/m²K)",{"$f":"IF(M22=\"\",R8,'floor u values'!K8)","v":0},{"$f":"IF(C$3=\"Ground Floor\",IF(M20=\"Solid Floor (in contact with ground)\",D$4-T$3,D$4-D$5),IF(C$3=\"Single Storey\",IF(M20=\"Solid Floor (in contact with ground)\",D$4-T$3,D$4-D$5),0))","v":0},{"$f":"G20*I20*J20","v":0},{"$f":"IF($C$3=$R$5,0,IF($C$3=$R$7,0,G20*I20*$D$7*24/1000))","v":0},"n/a"]
[null,"Length (m)",null,"Width (m)",null,"Area (m²)",{"$f":"C21*E21","v":0},"U Value (W/m²K)",{"$f":"I20","v":0},{"$f":"IF(C$3=\"Ground Floor\",IF(M20=\"Solid Floor (in contact with ground)\",D$4-T$3,D$4-D$5),IF(C$3=\"Single Storey\",IF(M20=\"Solid Floor (in contact with ground)\",D$4-T$3,D$4-D$5),0))","v":0},{"$f":"G21*I21*J21","v":0},{"$f":"IF($C$3=$R$5,0,IF($C$3=$R$7,0,G21*I21*$D$7*24/1000))","v":0},"Exposed floor (external)"]
[null,"Length (m)",null,"Width (m)",null,"Area (m²)",0,"U Value (W/m²K)",{"$f":"I20","v":0},{"$f":"IF(C$3=\"Ground Floor\",IF(M20=\"Solid Floor (in contact with ground)\",D$4-T$3,D$4-D$5),IF(C$3=\"Single Storey\",IF(M20=\"Solid Floor (in contact with ground)\",D$4-T$3,D$4-D$5),0))","v":0},{"$f":"G22*I22*J22","v":0},{"$f":"IF($C$3=$R$5,0,IF($C$3=$R$7,0,G22*I22*$D$7*24/1000))","v":0}]
[null,"External Wall",null,null,null,null,null,null,null,null,null,null,{"$f":"IF(M22=\"Two opposite\",\"Between edges\",IF(M22=\"One edge\",\"Depth of room\",IF(M22=\"3 edges (short single)\",\"Short length\",IF(M22=\"3 edges (long single)\",\"Short length\",\"\"))))","v":""},null,{"$f":"IF(M22=\"3 edges (short single)\",\"Long length\",IF(M22=\"3 edges (long single)\",\"Long length\",\"\"))","v":""}]
[null,"Length (m)",null,"Height (m)",null,"Area (m²)",0]
[null,"Length (m)",null,"Height (m)",null,"Area (m²)",0]
[null,"Length (m)",null,"Height (m)",null,"Area (m²)",0]
[null,null,null,null,"Total","Area (m²)",{"$f":"SUM(G24:G26)-SUM(G38:G44,G51:G54)","v":0},"U Value (W/m²K)",{"$f":"IF($C$3=\"Ground floor\",'Design Details'!C$48,IF($C$3=\"Mid-floor\",'Design Details'!C$58,IF($C$3=\"Upper floor\",'Design Details'!C$68,IF($C$3=\"Single Storey\",'Design Details'!C$78,0))))","v":0},{"$f":"$D$6","v":2.5},{"$f":"G27*I27*J27","v":0},{"$f":"G27*I27*$D$7*24/1000","v":0}]
[null,"Ceiling (Flat)"]
[null,"Length (m)",null,"Width (m)",null,"Area (m²)",0]
[null,"Length (m)",null,"Width (m)",null,"Area (m²)",0]
[null,"Length (m)",null,"Width (m)",null,"Area (m²)",0,null,null,null,null,null,"Select Temp/Type of Space Above"]
[null,null,null,null,"Total","Area (m²)",{"$f":"SUM(G29:G31)-SUM(G46:G49)","v":0},"U Value (W/m²K)",{"$f":"IF($C$3=\"Ground floor\",'Design Details'!C$49,IF($C$3=\"Mid-floor\",'Design Details'!C$59,IF($C$3=\"Upper floor\",INDIRECT(T52),IF($C$3=\"Single Storey\",INDIRECT(T53),0))))","v":0},{"$f":"U51","v":0},{"$f":"G32*I32*J32","v":0},{"$f":"IF($C$3=$R$4,0,IF($C$3=$R$5,0,G32*I32*$D$7*24/1000))","v":0},"Select..."]
[null,"Ceiling (Awkward)"]
[null,"Length (m)",{"$f":"C14*2","v":0},"Pitch (m)",{"$f":"SQRT(POWER(E14,2)+POWER(G14,2))","v":0},"Area (m²)",{"$f":"C34*E34","v":0},"Pitched"]
[null,"Length (m)",{"$f":"C15","v":0},"Pitch (m)",{"$f":"SQRT(POWER(E15,2)+POWER(G15,2))","v":0},"Area (m²)",0,"Single Pitch"]
[null,null,null,null,"Total","Area (m²)",{"$f":"SUM(G34:G35)-SUM(G46:G49)","v":0},"U Value (W/m²K)",{"$f":"IF($C$3=\"Ground floor\",'Design Details'!C$50,IF($C$3=\"Mid-floor\",'Design Details'!C$60,IF($C$3=\"Upper floor\",'Design Details'!C$70,IF($C$3=\"Single Storey\",'Design Details'!C$80,0))))","v":0},{"$f":"$D$6","v":2.5},0,{"$f":"IF($C$3=$R$4,0,IF($C$3=$R$5,0,G36*I36*$D$7*24/1000))","v":0}]
[null,"Windows"]
[null,"Width (m)",null,"Height (m)",null,"Area (m²)",0,"U Value (W/m²K)",{"$f":"IF($C$3=\"Ground floor\",'Design Details'!C$46,IF($C$3=\"Mid-floor\",'Design Details'!C$56,IF($C$3=\"Upper floor\",'Design Details'!C$66,IF($C$3=\"Single Storey\",'Design Details'!C$76,0))))","v":0},2.5,0,{"$f":"G38*I38*$D$7*24/1000","v":0}]
[null,"Width (m)",null,"Height (m)",null,"Area (m²)",0,"U Value (W/m²K)",{"$f":"IF($C$3=\"Ground floor\",'Design Details'!C$46,IF($C$3=\"Mid-floor\",'Design Details'!C$56,IF($C$3=\"Upper floor\",'Design Details'!C$66,IF($C$3=\"Single Storey\",'Design Details'!C$76,0))))","v":0},2.5,0,0]
[null,"Width (m)",null,"Height (m)",null,"Area (m²)",0,"U Value (W/m²K)",{"$f":"IF($C$3=\"Ground floor\",'Design Details'!C$46,IF($C$3=\"Mid-floor\",'Design Details'!C$56,IF($C$3=\"Upper floor\",'Design Details'!C$66,IF($C$3=\"Single Storey\",'Design Details'!C$76,0))))","v":0},2.5,0,0]
[null,"Width (m)",null,"Height (m)",null,"Area (m²)",0,"U Value (W/m²K)",{"$f":"IF($C$3=\"Ground floor\",'Design Details'!C$46,IF($C$3=\"Mid-floor\",'Design Details'!C$56,IF($C$3=\"Upper floor\",'Design Details'!C$66,IF($C$3=\"Single Storey\",'Design Details'!C$76,0))))","v":0},2.5,0,0]
[null,"Width (m)",null,"Height (m)",null,"Area (m²)",0,"U Value (W/m²K)",{"$f":"IF($C$3=\"Ground floor\",'Design Details'!C$46,IF($C$3=\"Mid-floor\",'Design Details'!C$56,IF($C$3=\"Upper floor\",'Design Details'!C$66,IF($C$3=\"Single Storey\",'Design Details'!C$76,0))))","v":0},2.5,0,0]
[null,"Width (m)",null,"Height (m)",null,"Area (m²)",0,"U Value (W/m²K)",{"$f":"IF($C$3=\"Ground floor\",'Design Details'!C$46,IF($C$3=\"Mid-floor\",'Design Details'!C$56,IF($C$3=\"Upper floor\",'Design Details'!C$66,IF($C$3=\"Single Storey\",'Design Details'!C$76,0))))","v":0},2.5,0,0]
[null,"Width (m)",null,"Height (m)",null,"Area (m²)",0,"U Value (W/m²K)",{"$f":"IF($C$3=\"Ground floor\",'Design Details'!C$46,IF($C$3=\"Mid-floor\",'Design Details'!C$56,IF($C$3=\"Upper floor\",'Design Details'!C$66,IF($C$3=\"Single Storey\",'Design Details'!C$76,0))))","v":0},2.5,0,0]
[null,"Roof Glazing",null,null,null,null,null,null,null,null,null,null,null,null,null,null,"Options for upper floor or single storey","Options for Ground or Mid Floor","Drop-Down List","U-Value Selector","Temp Diff Selector"]
[null,"Width (m)",null,"Height (m)",null,"Area (m²)",0,"U Value (W/m²K)",{"$f":"IF($C$3=\"Ground floor\",'Design Details'!C$53,IF($C$3=\"Mid-floor\",'Design Details'!C$63,IF($C$3=\"Upper floor\",'Design Details'!C$73,IF($C$3=\"Single Storey\",'Design Details'!C$83,0))))","v":0},2.5,0,{"$f":"G46*I46*$D$7*24/1000","v":0}]
[null,"Width (m)",null,"Height (m)",null,"Area (m²)",0,"U Value (W/m²K)",{"$f":"IF($C$3=\"Ground floor\",'Design Details'!C$53,IF($C$3=\"Mid-floor\",'Design Details'!C$63,IF($C$3=\"Upper floor\",'Design Details'!C$73,IF($C$3=\"Single Storey\",'Design Details'!C$83,0))))","v":0},2.5,0,{"$f":"G47*I47*$D$7*24/1000","v":0}]
[null,"Width (m)",null,"Height (m)",null,"Area (m²)",0,"U Value (W/m²K)",{"$f":"IF($C$3=\"Ground floor\",'Design Details'!C$53,IF($C$3=\"Mid-floor\",'Design Details'!C$63,IF($C$3=\"Upper floor\",'Design Details'!C$73,IF($C$3=\"Single Storey\",'Design Details'!C$83,0))))","v":0},2.5,0,{"$f":"G48*I48*$D$7*24/1000","v":0}]
[null,"Width (m)",null,"Height (m)",null,"Area (m²)",0,"U Value (W/m²K)",{"$f":"IF($C$3=\"Ground floor\",'Design Details'!C$53,IF($C$3=\"Mid-floor\",'Design Details'!C$63,IF($C$3=\"Upper floor\",'Design Details'!C$73,IF($C$3=\"Single Storey\",'Design Details'!C$83,0))))","v":0},2.5,0,{"$f":"G49*I49*$D$7*24/1000","v":0}]
[null,"External Doors",null,null,null,null,null,null,null,null,null,null,null,null,null,null,null,null,"Select..."]
[null,"Width (m)",null,"Height (m)",null,"Area (m²)",0,"U Value (W/m²K)",{"$f":"IF($C$3=\"Ground floor\",'Design Details'!C$47,IF($C$3=\"Mid-floor\",'Design Details'!C$57,IF($C$3=\"Upper floor\",'Design Details'!C$67,IF($C$3=\"Single Storey\",'Design Details'!C$77,0))))","v":0},2.5,0,{"$f":"G51*I51*$D$7*24/1000","v":0},null,null,null,null,"Outside","Unheated",{"$f":"IF(OR($C$3=\"Ground Floor\",$C$3=\"Mid-floor\"),R51,Q51)","v":"Outside"},{"$f":"IF(M32=\"Unheated\",1,0)","v":0},{"$f":"IF(M32=\"Select...\",0,(IF(M32=\"Outside\",D6,IF(M32=\"Unheated\",D4-10,D4-M32))))","v":0}]
[null,"Width (m)",null,"Height (m)",null,"Area (m²)",0,"U Value (W/m²K)",{"$f":"IF($C$3=\"Ground floor\",'Design Details'!C$47,IF($C$3=\"Mid-floor\",'Design Details'!C$57,IF($C$3=\"Upper floor\",'Design Details'!C$67,IF($C$3=\"Single Storey\",'Design Details'!C$77,0))))","v":0},2.5,0,{"$f":"G52*I52*$D$7*24/1000","v":0},null,null,null,null,"Unheated","16",{"$f":"IF(OR($C$3=\"Ground Floor\",$C$3=\"Mid-floor\"),R52,Q52)","v":"Unheated"},{"$f":"\"'Design Details'!C$\"&69+T51","v":"'Design Details'!C$69"}]
[null,"Width (m)",null,"Height (m)",null,"Area (m²)",0,"U Value (W/m²K)",{"$f":"IF($C$3=\"Ground floor\",'Design Details'!C$47,IF($C$3=\"Mid-floor\",'Design Details'!C$57,IF($C$3=\"Upper floor\",'Design Details'!C$67,IF($C$3=\"Single Storey\",'Design Details'!C$77,0))))","v":0},2.5,0,{"$f":"G53*I53*$D$7*24/1000","v":0},null,null,null,null,null,"18",{"$f":"IF(OR($C$3=\"Ground Floor\",$C$3=\"Mid-floor\"),R53,Q53)","v":0},{"$f":"\"'Design Details'!C$\"&79+T51","v":"'Design Details'!C$79"}]
[null,"Width (m)",null,"Height (m)",null,"Area (m²)",0,"U Value (W/m²K)",{"$f":"IF($C$3=\"Ground floor\",'Design Details'!C$47,IF($C$3=\"Mid-floor\",'Design Details'!C$57,IF($C$3=\"Upper floor\",'Design Details'!C$67,IF($C$3=\"Single Storey\",'Design Details'!C$77,0))))","v":0},2.5,0,{"$f":"G54*I54*$D$7*24/1000","v":0},null,null,null,null,null,"21",{"$f":"IF(OR($C$3=\"Ground Floor\",$C$3=\"Mid-floor\"),R54,Q54)","v":0}]
[null,"Internal Walls",null,null,null,null,null,null,null,null,null,null,"Adjoining Room Temp (°C)",null,null,null,null,22,{"$f":"IF(OR($C$3=\"Ground Floor\",$C$3=\"Mid-floor\"),R55,Q37)","v":0}]
[null,"Length (m)",null,"Height (m)",null,"Area (m²)",0,"U Value (W/m²K)",{"$f":"IF($C$3=\"Ground floor\",'Design Details'!C$51,IF($C$3=\"Mid-floor\",'Design Details'!C$61,IF($C$3=\"Upper floor\",'Design Details'!C$71,IF($C$3=\"Single Storey\",'Design Details'!C$81,0))))","v":0},{"$f":"IF(M56=\"\",0,IF(M56=\"unheated\",D$4-10,D$4-M56))","v":0},0]
[null,"Length (m)",null,"Height (m)",null,"Area (m²)",0,"U Value (W/m²K)",{"$f":"IF($C$3=\"Ground floor\",'Design Details'!C$51,IF($C$3=\"Mid-floor\",'Design Details'!C$61,IF($C$3=\"Upper floor\",'Design Details'!C$71,IF($C$3=\"Single Storey\",'Design Details'!C$81,0))))","v":0},{"$f":"IF(M57=\"\",0,IF(M57=\"unheated\",D$4-10,D$4-M57))","v":0},0]
[null,"Length (m)",null,"Height (m)",null,"Area (m²)",0,"U Value (W/m²K)",{"$f":"IF($C$3=\"Ground floor\",'Design Details'!C$51,IF($C$3=\"Mid-floor\",'Design Details'!C$61,IF($C$3=\"Upper floor\",'Design Details'!C$71,IF($C$3=\"Single Storey\",'Design Details'!C$81,0))))","v":0},{"$f":"IF(M58=\"\",0,IF(M58=\"unheated\",D$4-10,D$4-M58))","v":0},0]
[null,"Length (m)",null,"Height (m)",null,"Area (m²)",0,"U Value (W/m²K)",{"$f":"IF($C$3=\"Ground floor\",'Design Details'!C$51,IF($C$3=\"Mid-floor\",'Design Details'!C$61,IF($C$3=\"Upper floor\",'Design Details'!C$71,IF($C$3=\"Single Storey\",'Design Details'!C$81,0))))","v":0},{"$f":"IF(M59=\"\",0,IF(M59=\"unheated\",D$4-10,D$4-M59))","v":0},0]
[null,"Party Wall"]
[null,"Length (m)",null,"Height (m)",null,"Area (m²)",0,"U Value (W/m²K)",{"$f":"IF($C$3=\"Ground floor\",'Design Details'!C$52,IF($C$3=\"Mid-floor\",'Design Details'!C$62,IF($C$3=\"Upper floor\",'Design Details'!C$72,IF($C$3=\"Single Storey\",'Design Details'!C$82,0))))","v":0},{"$f":"D4-10","v":-10},0,{"$f":"G61*I61*$D$7*24/1000","v":0}]

{"sheet":"8","index":13,"n_rows":61,"n_cols":25,"rows_kept":61,"cut":false,"hidden":false,"merged":[[58,12,58,14],[44,19,48,19],[44,20,48,20],[54,12,54,14],[55,12,55,14],[56,12,56,14],[57,12,57,14],[44,18,48,18],[21,12,21,14],[30,12,30,14],[31,12,31,14],[44,16,48,16],[44,17,48,17],[20,12,20,14],[3,1,3,2],[3,4,3,5],[4,1,4,2],[4,4,4,5],[5,1,5,2],[5,4,5,5],[6,1,6,2],[9,11,9,14],[10,11,10,14],[18,12,18,14],[19,12,19,14],[0,1,0,3],[0,4,0,6],[0,10,0,11],[1,4,1,5],[2,2,2,3],[2,4,2,5]]}
[null,"Room Information",null,null,"Ventilation Heat Loss",null,null,"Fabric ","Heat Loss (W)"," Usage (kWh)","Additional heat loss",null,"Addition","Watts","kWh"]
[null,"Room",null,null,"Air Changes per hour",null,{"$f":"'Design Details'!G94","v":0},"Floor",{"$f":"SUM(K20:K22)","v":0},{"$f":"SUM(L20:L22)","v":0},"Thermal Bridging (New Build >2006)",null,0,{"$f":"SUM(I$2:I$6)*M2","v":0},{"$f":"SUM(J$2:J$6)*M2","v":0},null,"3 edges (long single)","Level",null,null,null,null,null,null,1]
[null,"Level",null,null,"Air Change Factor (W/m³K)",null,0.33,"Ext Wall",{"$f":"K27","v":0},{"$f":"L27","v":0},"Exposed location",null,0,{"$f":"SUM(I$2:I$6)*M3","v":0},{"$f":"SUM(J$2:J$6)*M3","v":0},null,"3 edges (short single)","Please Select Floor",{"$f":"IF($C$3=\"Ground floor\",\"Solid Floor (in contact with ground)\",IF($C$3=\"Single Storey\",\"Solid Floor (in contact with ground)\",\"n/a\"))","v":"n/a"},{"$f":"'Design Details'!C21","v":10},"unheated",0,0,0,2]
[null,"Design Room Temp (°C)",null,{"$f":"'Design Details'!E94","v":0},"Total Volume (m³)",null,{"$f":"SUM(I10:I12,I14:I18)","v":0},"Roof",{"$f":"SUM(K32,K36)","v":0},{"$f":"SUM(L32,L36)","v":0},"High ceiling",null,0,{"$f":"SUM(I$2:I$6)*M4","v":0},{"$f":"SUM(J$2:J$6)*M4","v":0},null,"One edge","Ground floor",{"$f":"IF($C$3=\"Ground floor\",\"Suspended Floor\",IF($C$3=\"Single Storey\",\"Suspended Floor\",\"n/a\"))","v":"n/a"},null,16,0.1,0.2,2.5000000000000001E-2,3]
[null,"Outside Design Temp (°C)",null,{"$f":"'Design Details'!C19","v":-2.5},"Heat loss (W)",null,{"$f":"G4*G3*D6*G2","v":0},"Glazing",{"$f":"SUM(K38:K44,K46:K49,K51:K54)","v":0},{"$f":"SUM(L38:L44,L46:L49,L51:L54)","v":0},"Intermittent heating",null,0,{"$f":"SUM(I$2:I$6)*M5","v":0},{"$f":"SUM(J$2:J$6)*M5","v":0},null,"Two adjacent","Mid-floor",null,null,18,null,null,0.05,4]
[null,"Temp Difference (°C)",null,{"$f":"D4-D5","v":2.5},"Estimated Energy usage (kWh)",null,{"$f":"G4*G3*D7*24/1000","v":0},"Int./Party Wall",{"$f":"SUM(K56:K59,K61)","v":0},{"$f":"SUM(L61)","v":0},null,null,null,"Total Room Heat Loss (W)",{"$f":"SUM(G5,I2:I6,N2:N5)","v":0},null,"Two opposite","Single storey",null,null,21,null,null,7.4999999999999997E-2,5]
[null,"Degree Days",null,{"$f":"'Design Details'!C20","v":2228},null,null,null,null,null,null,null,null,null,"Total Room Energy Usage (kWh)",{"$f":"SUM(G6,J2:J6,O2:O5)","v":0},null,null,"Upper floor",null,null,22,null,null,0.1,6]
[null,null,null,null,null,null,null,null,null,null,null,null,null,null,null,null,null,{"$f":"IF($C$3=\"Ground floor\",'Design Details'!C$45,IF($C$3=\"Mid-floor\",'Design Details'!C$55,IF($C$3=\"Upper floor\",'Design Details'!C$65,IF($C$3=\"Single Storey\",'Design Details'!C$75,0))))","v":0},null,null,null,null,null,null,7]
[null,"Room Dimensions",null,null,null,null,null,null,null,null,null,null,null,null,null,null,null,null,null,null,null,null,null,null,8]
[null,"Length (m)",null,"Width (m)",null,"Height (m)",null,"Volume (m³)",{"$f":"C10*E10*G10","v":0},null,null,null,null,null,null,null,null,null,null,null,null,null,null,null,9]
[null,"Length (m)",null,"Width (m)",null,"Height (m)",null,"Volume (m³)",{"$f":"C11*E11*G11","v":0},null,null,null,null,null,null,null,null,null,null,null,null,null,null,null,10]
[null,"Length (m)",null,"Width (m)",null,"Height (m)",null,"Volume (m³)",{"$f":"C12*E12*G12","v":0}]
[null,"Awkward Room Dimensions"]
[null,"Length (m)",null,"Width (m)",null,"Height (m)",null,"Volume (m³)",{"$f":"((G14*E14)/2)*C14","v":0},"Pitched"]
[null,"Length (m)",null,"Width (m)",null,"Height (m)",null,"Volume (m³)",{"$f":"C15*E15*G15/2","v":0},"Single Pitch"]
[null,"Length (m)",null,"Height (m)",null,"Depth (m)",null,"Volume (m³)",{"$f":"E16*G16*C16/2","v":0},"Dormer 1"]
[null,"Length (m)",null,"Height (m)",null,"Depth (m)",null,"Volume (m³)",{"$f":"E17*G17*C17/2","v":0},"Dormer 2"]
[null,"Length (m)",null,"Height (m)",null,"Depth (m)",null,"Volume (m³)",{"$f":"E18*G18*C18/2","v":0},"Dormer 3"]
[null,"Floor",null,null,null,null,null,null,null,"Temp Difference","Heat Loss (W)","Usage (kWh)",{"$f":"IF($C$3=\"Ground Floor\",\"Select type of Ground Floor\",IF($C$3=\"Single Storey\",\"Select type of Ground Floor\",\"#N/A\"))","v":"#N/A"}]
[null,{"$f":"B10","v":"Length (m)"},null,{"$f":"D10","v":"Width (m)"},null,"Area (m²)",{"$f":"C20*E20","v":0},"U Value (W/m²K)",{"$f":"IF(M22=\"\",R8,'floor u values'!K9)","v":0},{"$f":"IF(C$3=\"Ground Floor\",IF(M20=\"Solid Floor (in contact with ground)\",D$4-T$3,D$4-D$5),IF(C$3=\"Single Storey\",IF(M20=\"Solid Floor (in contact with ground)\",D$4-T$3,D$4-D$5),0))","v":0},{"$f":"G20*I20*J20","v":0},{"$f":"IF($C$3=$R$5,0,IF($C$3=$R$7,0,G20*I20*$D$7*24/1000))","v":0},"n/a"]
[null,"Length (m)",null,"Width (m)",null,"Area (m²)",{"$f":"C21*E21","v":0},"U Value (W/m²K)",{"$f":"I20","v":0},{"$f":"IF(C$3=\"Ground Floor\",IF(M20=\"Solid Floor (in contact with ground)\",D$4-T$3,D$4-D$5),IF(C$3=\"Single Storey\",IF(M20=\"Solid Floor (in contact with ground)\",D$4-T$3,D$4-D$5),0))","v":0},{"$f":"G21*I21*J21","v":0},{"$f":"IF($C$3=$R$5,0,IF($C$3=$R$7,0,G21*I21*$D$7*24/1000))","v":0},"Exposed floor (external)"]
[null,"Length (m)",null,"Width (m)",null,"Area (m²)",0,"U Value (W/m²K)",{"$f":"I20","v":0},{"$f":"IF(C$3=\"Ground Floor\",IF(M20=\"Solid Floor (in contact with ground)\",D$4-T$3,D$4-D$5),IF(C$3=\"Single Storey\",IF(M20=\"Solid Floor (in contact with ground)\",D$4-T$3,D$4-D$5),0))","v":0},{"$f":"G22*I22*J22","v":0},{"$f":"IF($C$3=$R$5,0,IF($C$3=$R$7,0,G22*I22*$D$7*24/1000))","v":0}]
[null,"External Wall",null,null,null,null,null,null,null,null,null,null,{"$f":"IF(M22=\"Two opposite\",\"Between edges\",IF(M22=\"One edge\",\"Depth of room\",IF(M22=\"3 edges (short single)\",\"Short length\",IF(M22=\"3 edges (long single)\",\"Short length\",\"\"))))","v":""},null,{"$f":"IF(M22=\"3 edges (short single)\",\"Long length\",IF(M22=\"3 edges (long single)\",\"Long length\",\"\"))","v":""}]
[null,"Length (m)",null,"Height (m)",null,"Area (m²)",0]
[null,"Length (m)",null,"Height (m)",null,"Area (m²)",0]
[null,"Length (m)",null,"Height (m)",null,"Area (m²)",0]
[null,null,null,null,"Total","Area (m²)",{"$f":"SUM(G24:G26)-SUM(G38:G44,G51:G54)","v":0},"U Value (W/m²K)",{"$f":"IF($C$3=\"Ground floor\",'Design Details'!C$48,IF($C$3=\"Mid-floor\",'Design Details'!C$58,IF($C$3=\"Upper floor\",'Design Details'!C$68,IF($C$3=\"Single Storey\",'Design Details'!C$78,0))))","v":0},{"$f":"$D$6","v":2.5},{"$f":"G27*I27*J27","v":0},{"$f":"G27*I27*$D$7*24/1000","v":0}]
[null,"Ceiling (Flat)"]
[null,"Length (m)",null,"Width (m)",null,"Area (m²)",0]
[null,"Length (m)",null,"Width (m)",null,"Area (m²)",0]
[null,"Length (m)",null,"Width (m)",null,"Area (m²)",0,null,null,null,null,null,"Select Temp/Type of Space Above"]
[null,null,null,null,"Total","Area (m²)",{"$f":"SUM(G29:G31)-SUM(G46:G49)","v":0},"U Value (W/m²K)",{"$f":"IF($C$3=\"Ground floor\",'Design Details'!C$49,IF($C$3=\"Mid-floor\",'Design Details'!C$59,IF($C$3=\"Upper floor\",INDIRECT(T52),IF($C$3=\"Single Storey\",INDIRECT(T53),0))))","v":0},{"$f":"U51","v":0},{"$f":"G32*I32*J32","v":0},{"$f":"IF($C$3=$R$4,0,IF($C$3=$R$5,0,G32*I32*$D$7*24/1000))","v":0},"Select..."]
[null,"Ceiling (Awkward)"]
[null,"Length (m)",{"$f":"C14*2","v":0},"Pitch (m)",{"$f":"SQRT(POWER(E14,2)+POWER(G14,2))","v":0},"Area (m²)",{"$f":"C34*E34","v":0},"Pitched"]
[null,"Length (m)",{"$f":"C15","v":0},"Pitch (m)",{"$f":"SQRT(POWER(E15,2)+POWER(G15,2))","v":0},"Area (m²)",0,"Single Pitch"]
[null,null,null,null,"Total","Area (m²)",{"$f":"SUM(G34:G35)-SUM(G46:G49)","v":0},"U Value (W/m²K)",{"$f":"IF($C$3=\"Ground floor\",'Design Details'!C$50,IF($C$3=\"Mid-floor\",'Design Details'!C$60,IF($C$3=\"Upper floor\",'Design Details'!C$70,IF($C$3=\"Single Storey\",'Design Details'!C$80,0))))","v":0},{"$f":"$D$6","v":2.5},0,{"$f":"IF($C$3=$R$4,0,IF($C$3=$R$5,0,G36*I36*$D$7*24/1000))","v":0}]
[null,"Windows"]
[null,"Width (m)",null,"Height (m)",null,"Area (m²)",0,"U Value (W/m²K)",{"$f":"IF($C$3=\"Ground floor\",'Design Details'!C$46,IF($C$3=\"Mid-floor\",'Design Details'!C$56,IF($C$3=\"Upper floor\",'Design Details'!C$66,IF($C$3=\"Single Storey\",'Design Details'!C$76,0))))","v":0},2.5,0,{"$f":"G38*I38*$D$7*24/1000","v":0}]
[null,"Width (m)",null,"Height (m)",null,"Area (m²)",0,"U Value (W/m²K)",{"$f":"IF($C$3=\"Ground floor\",'Design Details'!C$46,IF($C$3=\"Mid-floor\",'Design Details'!C$56,IF($C$3=\"Upper floor\",'Design Details'!C$66,IF($C$3=\"Single Storey\",'Design Details'!C$76,0))))","v":0},2.5,0,0]
[null,"Width (m)",null,"Height (m)",null,"Area (m²)",0,"U Value (W/m²K)",{"$f":"IF($C$3=\"Ground floor\",'Design Details'!C$46,IF($C$3=\"Mid-floor\",'Design Details'!C$56,IF($C$3=\"Upper floor\",'Design Details'!C$66,IF($C$3=\"Single Storey\",'Design Details'!C$76,0))))","v":0},2.5,0,0]
[null,"Width (m)",null,"Height (m)",null,"Area (m²)",0,"U Value (W/m²K)",{"$f":"IF($C$3=\"Ground floor\",'Design Details'!C$46,IF($C$3=\"Mid-floor\",'Design Details'!C$56,IF($C$3=\"Upper floor\",'Design Details'!C$66,IF($C$3=\"Single Storey\",'Design Details'!C$76,0))))","v":0},2.5,0,0]
[null,"Width (m)",null,"Height (m)",null,"Area (m²)",0,"U Value (W/m²K)",{"$f":"IF($C$3=\"Ground floor\",'Design Details'!C$46,IF($C$3=\"Mid-floor\",'Design Details'!C$56,IF($C$3=\"Upper floor\",'Design Details'!C$66,IF($C$3=\"Single Storey\",'Design Details'!C$76,0))))","v":0},2.5,0,0]
[null,"Width (m)",null,"Height (m)",null,"Area (m²)",0,"U Value (W/m²K)",{"$f":"IF($C$3=\"Ground floor\",'Design Details'!C$46,IF($C$3=\"Mid-floor\",'Design Details'!C$56,IF($C$3=\"Upper floor\",'Design Details'!C$66,IF($C$3=\"Single Storey\",'Design Details'!C$76,0))))","v":0},2.5,0,0]
[null,"Width (m)",null,"Height (m)",null,"Area (m²)",0,"U Value (W/m²K)",{"$f":"IF($C$3=\"Ground floor\",'Design Details'!C$46,IF($C$3=\"Mid-floor\",'Design Details'!C$56,IF($C$3=\"Upper floor\",'Design Details'!C$66,IF($C$3=\"Single Storey\",'Design Details'!C$76,0))))","v":0},2.5,0,0]
[null,"Roof Glazing",null,null,null,null,null,null,null,null,null,null,null,null,null,null,"Options for upper floor or single storey","Options for Ground or Mid Floor","Drop-Down List","U-Value Selector","Temp Diff Selector"]
[null,"Width (m)",null,"Height (m)",null,"Area (m²)",0,"U Value (W/m²K)",{"$f":"IF($C$3=\"Ground floor\",'Design Details'!C$53,IF($C$3=\"Mid-floor\",'Design Details'!C$63,IF($C$3=\"Upper floor\",'Design Details'!C$73,IF($C$3=\"Single Storey\",'Design Details'!C$83,0))))","v":0},2.5,0,{"$f":"G46*I46*$D$7*24/1000","v":0}]
[null,"Width (m)",null,"Height (m)",null,"Area (m²)",0,"U Value (W/m²K)",{"$f":"IF($C$3=\"Ground floor\",'Design Details'!C$53,IF($C$3=\"Mid-floor\",'Design Details'!C$63,IF($C$3=\"Upper floor\",'Design Details'!C$73,IF($C$3=\"Single Storey\",'Design Details'!C$83,0))))","v":0},2.5,0,{"$f":"G47*I47*$D$7*24/1000","v":0}]
[null,"Width (m)",null,"Height (m)",null,"Area (m²)",0,"U Value (W/m²K)",{"$f":"IF($C$3=\"Ground floor\",'Design Details'!C$53,IF($C$3=\"Mid-floor\",'Design Details'!C$63,IF($C$3=\"Upper floor\",'Design Details'!C$73,IF($C$3=\"Single Storey\",'Design Details'!C$83,0))))","v":0},2.5,0,{"$f":"G48*I48*$D$7*24/1000","v":0}]
[null,"Width (m)",null,"Height (m)",null,"Area (m²)",0,"U Value (W/m²K)",{"$f":"IF($C$3=\"Ground floor\",'Design Details'!C$53,IF($C$3=\"Mid-floor\",'Design Details'!C$63,IF($C$3=\"Upper floor\",'Design Details'!C$73,IF($C$3=\"Single Storey\",'Design Details'!C$83,0))))","v":0},2.5,0,{"$f":"G49*I49*$D$7*24/1000","v":0}]
[null,"External Doors",null,null,null,null,null,null,null,null,null,null,null,null,null,null,null,null,"Select..."]
[null,"Width (m)",null,"Height (m)",null,"Area (m²)",0,"U Value (W/m²K)",{"$f":"IF($C$3=\"Ground floor\",'Design Details'!C$47,IF($C$3=\"Mid-floor\",'Design Details'!C$57,IF($C$3=\"Upper floor\",'Design Details'!C$67,IF($C$3=\"Single Storey\",'Design Details'!C$77,0))))","v":0},2.5,0,{"$f":"G51*I51*$D$7*24/1000","v":0},null,null,null,null,"Outside","Unheated",{"$f":"IF(OR($C$3=\"Ground Floor\",$C$3=\"Mid-floor\"),R51,Q51)","v":"Outside"},{"$f":"IF(M32=\"Unheated\",1,0)","v":0},{"$f":"IF(M32=\"Select...\",0,(IF(M32=\"Outside\",D6,IF(M32=\"Unheated\",D4-10,D4-M32))))","v":0}]
[null,"Width (m)",null,"Height (m)",null,"Area (m²)",0,"U Value (W/m²K)",{"$f":"IF($C$3=\"Ground floor\",'Design Details'!C$47,IF($C$3=\"Mid-floor\",'Design Details'!C$57,IF($C$3=\"Upper floor\",'Design Details'!C$67,IF($C$3=\"Single Storey\",'Design Details'!C$77,0))))","v":0},2.5,0,{"$f":"G52*I52*$D$7*24/1000","v":0},null,null,null,null,"Unheated","16",{"$f":"IF(OR($C$3=\"Ground Floor\",$C$3=\"Mid-floor\"),R52,Q52)","v":"Unheated"},{"$f":"\"'Design Details'!C$\"&69+T51","v":"'Design Details'!C$69"}]
[null,"Width (m)",null,"Height (m)",null,"Area (m²)",0,"U Value (W/m²K)",{"$f":"IF($C$3=\"Ground floor\",'Design Details'!C$47,IF($C$3=\"Mid-floor\",'Design Details'!C$57,IF($C$3=\"Upper floor\",'Design Details'!C$67,IF($C$3=\"Single Storey\",'Design Details'!C$77,0))))","v":0},2.5,0,{"$f":"G53*I53*$D$7*24/1000","v":0},null,null,null,null,null,"18",{"$f":"IF(OR($C$3=\"Ground Floor\",$C$3=\"Mid-floor\"),R53,Q53)","v":0},{"$f":"\"'Design Details'!C$\"&79+T51","v":"'Design Details'!C$79"}]
[null,"Width (m)",null,"Height (m)",null,"Area (m²)",0,"U Value (W/m²K)",{"$f":"IF($C$3=\"Ground floor\",'Design Details'!C$47,IF($C$3=\"Mid-floor\",'Design Details'!C$57,IF($C$3=\"Upper floor\",'Design Details'!C$67,IF($C$3=\"Single Storey\",'Design Details'!C$77,0))))","v":0},2.5,0,{"$f":"G54*I54*$D$7*24/1000","v":0},null,null,null,null,null,"21",{"$f":"IF(OR($C$3=\"Ground Floor\",$C$3=\"Mid-floor\"),R54,Q54)","v":0}]
[null,"Internal Walls",null,null,null,null,null,null,null,null,null,null,"Adjoining Room Temp (°C)",null,null,null,null,22,{"$f":"IF(OR($C$3=\"Ground Floor\",$C$3=\"Mid-floor\"),R55,Q37)","v":0}]
[null,"Length (m)",null,"Height (m)",null,"Area (m²)",0,"U Value (W/m²K)",{"$f":"IF($C$3=\"Ground floor\",'Design Details'!C$51,IF($C$3=\"Mid-floor\",'Design Details'!C$61,IF($C$3=\"Upper floor\",'Design Details'!C$71,IF($C$3=\"Single Storey\",'Design Details'!C$81,0))))","v":0},{"$f":"IF(M56=\"\",0,IF(M56=\"unheated\",D$4-10,D$4-M56))","v":0},0]
[null,"Length (m)",null,"Height (m)",null,"Area (m²)",0,"U Value (W/m²K)",{"$f":"IF($C$3=\"Ground floor\",'Design Details'!C$51,IF($C$3=\"Mid-floor\",'Design Details'!C$61,IF($C$3=\"Upper floor\",'Design Details'!C$71,IF($C$3=\"Single Storey\",'Design Details'!C$81,0))))","v":0},{"$f":"IF(M57=\"\",0,IF(M57=\"unheated\",D$4-10,D$4-M57))","v":0},0]
[null,"Length (m)",null,"Height (m)",null,"Area (m²)",0,"U Value (W/m²K)",{"$f":"IF($C$3=\"Ground floor\",'Design Details'!C$51,IF($C$3=\"Mid-floor\",'Design Details'!C$61,IF($C$3=\"Upper floor\",'Design Details'!C$71,IF($C$3=\"Single Storey\",'Design Details'!C$81,0))))","v":0},{"$f":"IF(M58=\"\",0,IF(M58=\"unheated\",D$4-10,D$4-M58))","v":0},0]
[null,"Length (m)",null,"Height (m)",null,"Area (m²)",0,"U Value (W/m²K)",{"$f":"IF($C$3=\"Ground floor\",'Design Details'!C$51,IF($C$3=\"Mid-floor\",'Design Details'!C$61,IF($C$3=\"Upper floor\",'Design Details'!C$71,IF($C$3=\"Single Storey\",'Design Details'!C$81,0))))","v":0},{"$f":"IF(M59=\"\",0,IF(M59=\"unheated\",D$4-10,D$4-M59))","v":0},0]
[null,"Party Wall"]
[null,"Length (m)",null,"Height (m)",null,"Area (m²)",0,"U Value (W/m²K)",{"$f":"IF($C$3=\"Ground floor\",'Design Details'!C$52,IF($C$3=\"Mid-floor\",'Design Details'!C$62,IF($C$3=\"Upper floor\",'Design Details'!C$72,IF($C$3=\"Single Storey\",'Design Details'!C$82,0))))","v":0},{"$f":"D4-10","v":-10},0,{"$f":"G61*I61*$D$7*24/1000","v":0}]

{"sheet":"9","index":14,"n_rows":61,"n_cols":25,"rows_kept":61,"cut":false,"hidden":false,"merged":[[58,12,58,14],[44,19,48,19],[44,20,48,20],[54,12,54,14],[55,12,55,14],[56,12,56,14],[57,12,57,14],[44,18,48,18],[21,12,21,14],[30,12,30,14],[31,12,31,14],[44,16,48,16],[44,17,48,17],[20,12,20,14],[3,1,3,2],[3,4,3,5],[4,1,4,2],[4,4,4,5],[5,1,5,2],[5,4,5,5],[6,1,6,2],[9,11,9,14],[10,11,10,14],[18,12,18,14],[19,12,19,14],[0,1,0,3],[0,4,0,6],[0,10,0,11],[1,4,1,5],[2,2,2,3],[2,4,2,5]]}
[null,"Room Information",null,null,"Ventilation Heat Loss",null,null,"Fabric ","Heat Loss (W)"," Usage (kWh)","Additional heat loss",null,"Addition","Watts","kWh"]
[null,"Room",null,null,"Air Changes per hour",null,{"$f":"'Design Details'!G95","v":0},"Floor",{"$f":"SUM(K20:K22)","v":0},{"$f":"SUM(L20:L22)","v":0},"Thermal Bridging (New Build >2006)",null,0,{"$f":"SUM(I$2:I$6)*M2","v":0},{"$f":"SUM(J$2:J$6)*M2","v":0},null,"3 edges (long single)","Level",null,null,null,null,null,null,1]
[null,"Level",null,null,"Air Change Factor (W/m³K)",null,0.33,"Ext Wall",{"$f":"K27","v":0},{"$f":"L27","v":0},"Exposed location",null,0,{"$f":"SUM(I$2:I$6)*M3","v":0},{"$f":"SUM(J$2:J$6)*M3","v":0},null,"3 edges (short single)","Please Select Floor",{"$f":"IF($C$3=\"Ground floor\",\"Solid Floor (in contact with ground)\",IF($C$3=\"Single Storey\",\"Solid Floor (in contact with ground)\",\"n/a\"))","v":"n/a"},{"$f":"'Design Details'!C21","v":10},"unheated",0,0,0,2]
[null,"Design Room Temp (°C)",null,{"$f":"'Design Details'!E95","v":0},"Total Volume (m³)",null,{"$f":"SUM(I10:I12,I14:I18)","v":0},"Roof",{"$f":"SUM(K32,K36)","v":0},{"$f":"SUM(L32,L36)","v":0},"High ceiling",null,0,{"$f":"SUM(I$2:I$6)*M4","v":0},{"$f":"SUM(J$2:J$6)*M4","v":0},null,"One edge","Ground floor",{"$f":"IF($C$3=\"Ground floor\",\"Suspended Floor\",IF($C$3=\"Single Storey\",\"Suspended Floor\",\"n/a\"))","v":"n/a"},null,16,0.1,0.2,2.5000000000000001E-2,3]
[null,"Outside Design Temp (°C)",null,{"$f":"'Design Details'!C19","v":-2.5},"Heat loss (W)",null,{"$f":"G4*G3*D6*G2","v":0},"Glazing",{"$f":"SUM(K38:K44,K46:K49,K51:K54)","v":0},{"$f":"SUM(L38:L44,L46:L49,L51:L54)","v":0},"Intermittent heating",null,0,{"$f":"SUM(I$2:I$6)*M5","v":0},{"$f":"SUM(J$2:J$6)*M5","v":0},null,"Two adjacent","Mid-floor",null,null,18,null,null,0.05,4]
[null,"Temp Difference (°C)",null,{"$f":"D4-D5","v":2.5},"Estimated Energy usage (kWh)",null,{"$f":"G4*G3*D7*24/1000","v":0},"Int./Party Wall",{"$f":"SUM(K56:K59,K61)","v":0},{"$f":"SUM(L61)","v":0},null,null,null,"Total Room Heat Loss (W)",{"$f":"SUM(G5,I2:I6,N2:N5)","v":0},null,"Two opposite","Single storey",null,null,21,null,null,7.4999999999999997E-2,5]
[null,"Degree Days",null,{"$f":"'Design Details'!C20","v":2228},null,null,null,null,null,null,null,null,null,"Total Room Energy Usage (kWh)",{"$f":"SUM(G6,J2:J6,O2:O5)","v":0},null,null,"Upper floor",null,null,22,null,null,0.1,6]
[null,null,null,null,null,null,null,null,null,null,null,null,null,null,null,null,null,{"$f":"IF($C$3=\"Ground floor\",'Design Details'!C$45,IF($C$3=\"Mid-floor\",'Design Details'!C$55,IF($C$3=\"Upper floor\",'Design Details'!C$65,IF($C$3=\"Single Storey\",'Design Details'!C$75,0))))","v":0},null,null,null,null,null,null,7]
[null,"Room Dimensions",null,null,null,null,null,null,null,null,null,null,null,null,null,null,null,null,null,null,null,null,null,null,8]
[null,"Length (m)",null,"Width (m)",null,"Height (m)",null,"Volume (m³)",{"$f":"C10*E10*G10","v":0},null,null,null,null,null,null,null,null,null,null,null,null,null,null,null,9]
[null,"Length (m)",null,"Width (m)",null,"Height (m)",null,"Volume (m³)",{"$f":"C11*E11*G11","v":0},null,null,null,null,null,null,null,null,null,null,null,null,null,null,null,10]
[null,"Length (m)",null,"Width (m)",null,"Height (m)",null,"Volume (m³)",{"$f":"C12*E12*G12","v":0}]
[null,"Awkward Room Dimensions"]
[null,"Length (m)",null,"Width (m)",null,"Height (m)",null,"Volume (m³)",{"$f":"((G14*E14)/2)*C14","v":0},"Pitched"]
[null,"Length (m)",null,"Width (m)",null,"Height (m)",null,"Volume (m³)",{"$f":"C15*E15*G15/2","v":0},"Single Pitch"]
[null,"Length (m)",null,"Height (m)",null,"Depth (m)",null,"Volume (m³)",{"$f":"E16*G16*C16/2","v":0},"Dormer 1"]
[null,"Length (m)",null,"Height (m)",null,"Depth (m)",null,"Volume (m³)",{"$f":"E17*G17*C17/2","v":0},"Dormer 2"]
[null,"Length (m)",null,"Height (m)",null,"Depth (m)",null,"Volume (m³)",{"$f":"E18*G18*C18/2","v":0},"Dormer 3"]
[null,"Floor",null,null,null,null,null,null,null,"Temp Difference","Heat Loss (W)","Usage (kWh)",{"$f":"IF($C$3=\"Ground Floor\",\"Select type of Ground Floor\",IF($C$3=\"Single Storey\",\"Select type of Ground Floor\",\"#N/A\"))","v":"#N/A"}]
[null,{"$f":"B10","v":"Length (m)"},null,{"$f":"D10","v":"Width (m)"},null,"Area (m²)",{"$f":"C20*E20","v":0},"U Value (W/m²K)",{"$f":"IF(M22=\"\",R8,'floor u values'!K10)","v":0},{"$f":"IF(C$3=\"Ground Floor\",IF(M20=\"Solid Floor (in contact with ground)\",D$4-T$3,D$4-D$5),IF(C$3=\"Single Storey\",IF(M20=\"Solid Floor (in contact with ground)\",D$4-T$3,D$4-D$5),0))","v":0},{"$f":"G20*I20*J20","v":0},{"$f":"IF($C$3=$R$5,0,IF($C$3=$R$7,0,G20*I20*$D$7*24/1000))","v":0},"n/a"]
[null,"Length (m)",null,"Width (m)",null,"Area (m²)",{"$f":"C21*E21","v":0},"U Value (W/m²K)",{"$f":"I20","v":0},{"$f":"IF(C$3=\"Ground Floor\",IF(M20=\"Solid Floor (in contact with ground)\",D$4-T$3,D$4-D$5),IF(C$3=\"Single Storey\",IF(M20=\"Solid Floor (in contact with ground)\",D$4-T$3,D$4-D$5),0))","v":0},{"$f":"G21*I21*J21","v":0},{"$f":"IF($C$3=$R$5,0,IF($C$3=$R$7,0,G21*I21*$D$7*24/1000))","v":0},"Exposed floor (external)"]
[null,"Length (m)",null,"Width (m)",null,"Area (m²)",0,"U Value (W/m²K)",{"$f":"I20","v":0},{"$f":"IF(C$3=\"Ground Floor\",IF(M20=\"Solid Floor (in contact with ground)\",D$4-T$3,D$4-D$5),IF(C$3=\"Single Storey\",IF(M20=\"Solid Floor (in contact with ground)\",D$4-T$3,D$4-D$5),0))","v":0},{"$f":"G22*I22*J22","v":0},{"$f":"IF($C$3=$R$5,0,IF($C$3=$R$7,0,G22*I22*$D$7*24/1000))","v":0}]
[null,"External Wall",null,null,null,null,null,null,null,null,null,null,{"$f":"IF(M22=\"Two opposite\",\"Between edges\",IF(M22=\"One edge\",\"Depth of room\",IF(M22=\"3 edges (short single)\",\"Short length\",IF(M22=\"3 edges (long single)\",\"Short length\",\"\"))))","v":""},null,{"$f":"IF(M22=\"3 edges (short single)\",\"Long length\",IF(M22=\"3 edges (long single)\",\"Long length\",\"\"))","v":""}]
[null,"Length (m)",null,"Height (m)",null,"Area (m²)",0]
[null,"Length (m)",null,"Height (m)",null,"Area (m²)",0]
[null,"Length (m)",null,"Height (m)",null,"Area (m²)",0]
[null,null,null,null,"Total","Area (m²)",{"$f":"SUM(G24:G26)-SUM(G38:G44,G51:G54)","v":0},"U Value (W/m²K)",{"$f":"IF($C$3=\"Ground floor\",'Design Details'!C$48,IF($C$3=\"Mid-floor\",'Design Details'!C$58,IF($C$3=\"Upper floor\",'Design Details'!C$68,IF($C$3=\"Single Storey\",'Design Details'!C$78,0))))","v":0},{"$f":"$D$6","v":2.5},{"$f":"G27*I27*J27","v":0},{"$f":"G27*I27*$D$7*24/1000","v":0}]
[null,"Ceiling (Flat)"]
[null,"Length (m)",null,"Width (m)",null,"Area (m²)",0]
[null,"Length (m)",null,"Width (m)",null,"Area (m²)",0]
[null,"Length (m)",null,"Width (m)",null,"Area (m²)",0,null,null,null,null,null,"Select Temp/Type of Space Above"]
[null,null,null,null,"Total","Area (m²)",{"$f":"SUM(G29:G31)-SUM(G46:G49)","v":0},"U Value (W/m²K)",{"$f":"IF($C$3=\"Ground floor\",'Design Details'!C$49,IF($C$3=\"Mid-floor\",'Design Details'!C$59,IF($C$3=\"Upper floor\",INDIRECT(T52),IF($C$3=\"Single Storey\",INDIRECT(T53),0))))","v":0},{"$f":"U51","v":0},{"$f":"G32*I32*J32","v":0},{"$f":"IF($C$3=$R$4,0,IF($C$3=$R$5,0,G32*I32*$D$7*24/1000))","v":0},"Select..."]
[null,"Ceiling (Awkward)"]
[null,"Length (m)",{"$f":"C14*2","v":0},"Pitch (m)",{"$f":"SQRT(POWER(E14,2)+POWER(G14,2))","v":0},"Area (m²)",{"$f":"C34*E34","v":0},"Pitched"]
[null,"Length (m)",{"$f":"C15","v":0},"Pitch (m)",{"$f":"SQRT(POWER(E15,2)+POWER(G15,2))","v":0},"Area (m²)",0,"Single Pitch"]
[null,null,null,null,"Total","Area (m²)",{"$f":"SUM(G34:G35)-SUM(G46:G49)","v":0},"U Value (W/m²K)",{"$f":"IF($C$3=\"Ground floor\",'Design Details'!C$50,IF($C$3=\"Mid-floor\",'Design Details'!C$60,IF($C$3=\"Upper floor\",'Design Details'!C$70,IF($C$3=\"Single Storey\",'Design Details'!C$80,0))))","v":0},{"$f":"$D$6","v":2.5},0,{"$f":"IF($C$3=$R$4,0,IF($C$3=$R$5,0,G36*I36*$D$7*24/1000))","v":0}]
[null,"Windows"]
[null,"Width (m)",null,"Height (m)",null,"Area (m²)",0,"U Value (W/m²K)",{"$f":"IF($C$3=\"Ground floor\",'Design Details'!C$46,IF($C$3=\"Mid-floor\",'Design Details'!C$56,IF($C$3=\"Upper floor\",'Design Details'!C$66,IF($C$3=\"Single Storey\",'Design Details'!C$76,0))))","v":0},2.5,0,{"$f":"G38*I38*$D$7*24/1000","v":0}]
[null,"Width (m)",null,"Height (m)",null,"Area (m²)",0,"U Value (W/m²K)",{"$f":"IF($C$3=\"Ground floor\",'Design Details'!C$46,IF($C$3=\"Mid-floor\",'Design Details'!C$56,IF($C$3=\"Upper floor\",'Design Details'!C$66,IF($C$3=\"Single Storey\",'Design Details'!C$76,0))))","v":0},2.5,0,0]
[null,"Width (m)",null,"Height (m)",null,"Area (m²)",0,"U Value (W/m²K)",{"$f":"IF($C$3=\"Ground floor\",'Design Details'!C$46,IF($C$3=\"Mid-floor\",'Design Details'!C$56,IF($C$3=\"Upper floor\",'Design Details'!C$66,IF($C$3=\"Single Storey\",'Design Details'!C$76,0))))","v":0},2.5,0,0]
[null,"Width (m)",null,"Height (m)",null,"Area (m²)",0,"U Value (W/m²K)",{"$f":"IF($C$3=\"Ground floor\",'Design Details'!C$46,IF($C$3=\"Mid-floor\",'Design Details'!C$56,IF($C$3=\"Upper floor\",'Design Details'!C$66,IF($C$3=\"Single Storey\",'Design Details'!C$76,0))))","v":0},2.5,0,0]
[null,"Width (m)",null,"Height (m)",null,"Area (m²)",0,"U Value (W/m²K)",{"$f":"IF($C$3=\"Ground floor\",'Design Details'!C$46,IF($C$3=\"Mid-floor\",'Design Details'!C$56,IF($C$3=\"Upper floor\",'Design Details'!C$66,IF($C$3=\"Single Storey\",'Design Details'!C$76,0))))","v":0},2.5,0,0]
[null,"Width (m)",null,"Height (m)",null,"Area (m²)",0,"U Value (W/m²K)",{"$f":"IF($C$3=\"Ground floor\",'Design Details'!C$46,IF($C$3=\"Mid-floor\",'Design Details'!C$56,IF($C$3=\"Upper floor\",'Design Details'!C$66,IF($C$3=\"Single Storey\",'Design Details'!C$76,0))))","v":0},2.5,0,0]
[null,"Width (m)",null,"Height (m)",null,"Area (m²)",0,"U Value (W/m²K)",{"$f":"IF($C$3=\"Ground floor\",'Design Details'!C$46,IF($C$3=\"Mid-floor\",'Design Details'!C$56,IF($C$3=\"Upper floor\",'Design Details'!C$66,IF($C$3=\"Single Storey\",'Design Details'!C$76,0))))","v":0},2.5,0,0]
[null,"Roof Glazing",null,null,null,null,null,null,null,null,null,null,null,null,null,null,"Options for upper floor or single storey","Options for Ground or Mid Floor","Drop-Down List","U-Value Selector","Temp Diff Selector"]
[null,"Width (m)",null,"Height (m)",null,"Area (m²)",0,"U Value (W/m²K)",{"$f":"IF($C$3=\"Ground floor\",'Design Details'!C$53,IF($C$3=\"Mid-floor\",'Design Details'!C$63,IF($C$3=\"Upper floor\",'Design Details'!C$73,IF($C$3=\"Single Storey\",'Design Details'!C$83,0))))","v":0},2.5,0,{"$f":"G46*I46*$D$7*24/1000","v":0}]
[null,"Width (m)",null,"Height (m)",null,"Area (m²)",0,"U Value (W/m²K)",{"$f":"IF($C$3=\"Ground floor\",'Design Details'!C$53,IF($C$3=\"Mid-floor\",'Design Details'!C$63,IF($C$3=\"Upper floor\",'Design Details'!C$73,IF($C$3=\"Single Storey\",'Design Details'!C$83,0))))","v":0},2.5,0,{"$f":"G47*I47*$D$7*24/1000","v":0}]
[null,"Width (m)",null,"Height (m)",null,"Area (m²)",0,"U Value (W/m²K)",{"$f":"IF($C$3=\"Ground floor\",'Design Details'!C$53,IF($C$3=\"Mid-floor\",'Design Details'!C$63,IF($C$3=\"Upper floor\",'Design Details'!C$73,IF($C$3=\"Single Storey\",'Design Details'!C$83,0))))","v":0},2.5,0,{"$f":"G48*I48*$D$7*24/1000","v":0}]
[null,"Width (m)",null,"Height (m)",null,"Area (m²)",0,"U Value (W/m²K)",{"$f":"IF($C$3=\"Ground floor\",'Design Details'!C$53,IF($C$3=\"Mid-floor\",'Design Details'!C$63,IF($C$3=\"Upper floor\",'Design Details'!C$73,IF($C$3=\"Single Storey\",'Design Details'!C$83,0))))","v":0},2.5,0,{"$f":"G49*I49*$D$7*24/1000","v":0}]
[null,"External Doors",null,null,null,null,null,null,null,null,null,null,null,null,null,null,null,null,"Select..."]
[null,"Width (m)",null,"Height (m)",null,"Area (m²)",0,"U Value (W/m²K)",{"$f":"IF($C$3=\"Ground floor\",'Design Details'!C$47,IF($C$3=\"Mid-floor\",'Design Details'!C$57,IF($C$3=\"Upper floor\",'Design Details'!C$67,IF($C$3=\"Single Storey\",'Design Details'!C$77,0))))","v":0},2.5,0,{"$f":"G51*I51*$D$7*24/1000","v":0},null,null,null,null,"Outside","Unheated",{"$f":"IF(OR($C$3=\"Ground Floor\",$C$3=\"Mid-floor\"),R51,Q51)","v":"Outside"},{"$f":"IF(M32=\"Unheated\",1,0)","v":0},{"$f":"IF(M32=\"Select...\",0,(IF(M32=\"Outside\",D6,IF(M32=\"Unheated\",D4-10,D4-M32))))","v":0}]
[null,"Width (m)",null,"Height (m)",null,"Area (m²)",0,"U Value (W/m²K)",{"$f":"IF($C$3=\"Ground floor\",'Design Details'!C$47,IF($C$3=\"Mid-floor\",'Design Details'!C$57,IF($C$3=\"Upper floor\",'Design Details'!C$67,IF($C$3=\"Single Storey\",'Design Details'!C$77,0))))","v":0},2.5,0,{"$f":"G52*I52*$D$7*24/1000","v":0},null,null,null,null,"Unheated","16",{"$f":"IF(OR($C$3=\"Ground Floor\",$C$3=\"Mid-floor\"),R52,Q52)","v":"Unheated"},{"$f":"\"'Design Details'!C$\"&69+T51","v":"'Design Details'!C$69"}]
[null,"Width (m)",null,"Height (m)",null,"Area (m²)",0,"U Value (W/m²K)",{"$f":"IF($C$3=\"Ground floor\",'Design Details'!C$47,IF($C$3=\"Mid-floor\",'Design Details'!C$57,IF($C$3=\"Upper floor\",'Design Details'!C$67,IF($C$3=\"Single Storey\",'Design Details'!C$77,0))))","v":0},2.5,0,{"$f":"G53*I53*$D$7*24/1000","v":0},null,null,null,null,null,"18",{"$f":"IF(OR($C$3=\"Ground Floor\",$C$3=\"Mid-floor\"),R53,Q53)","v":0},{"$f":"\"'Design Details'!C$\"&79+T51","v":"'Design Details'!C$79"}]
[null,"Width (m)",null,"Height (m)",null,"Area (m²)",0,"U Value (W/m²K)",{"$f":"IF($C$3=\"Ground floor\",'Design Details'!C$47,IF($C$3=\"Mid-floor\",'Design Details'!C$57,IF($C$3=\"Upper floor\",'Design Details'!C$67,IF($C$3=\"Single Storey\",'Design Details'!C$77,0))))","v":0},2.5,0,{"$f":"G54*I54*$D$7*24/1000","v":0},null,null,null,null,null,"21",{"$f":"IF(OR($C$3=\"Ground Floor\",$C$3=\"Mid-floor\"),R54,Q54)","v":0}]
[null,"Internal Walls",null,null,null,null,null,null,null,null,null,null,"Adjoining Room Temp (°C)",null,null,null,null,22,{"$f":"IF(OR($C$3=\"Ground Floor\",$C$3=\"Mid-floor\"),R55,Q37)","v":0}]
[null,"Length (m)",null,"Height (m)",null,"Area (m²)",0,"U Value (W/m²K)",{"$f":"IF($C$3=\"Ground floor\",'Design Details'!C$51,IF($C$3=\"Mid-floor\",'Design Details'!C$61,IF($C$3=\"Upper floor\",'Design Details'!C$71,IF($C$3=\"Single Storey\",'Design Details'!C$81,0))))","v":0},{"$f":"IF(M56=\"\",0,IF(M56=\"unheated\",D$4-10,D$4-M56))","v":0},0]
[null,"Length (m)",null,"Height (m)",null,"Area (m²)",0,"U Value (W/m²K)",{"$f":"IF($C$3=\"Ground floor\",'Design Details'!C$51,IF($C$3=\"Mid-floor\",'Design Details'!C$61,IF($C$3=\"Upper floor\",'Design Details'!C$71,IF($C$3=\"Single Storey\",'Design Details'!C$81,0))))","v":0},{"$f":"IF(M57=\"\",0,IF(M57=\"unheated\",D$4-10,D$4-M57))","v":0},0]
[null,"Length (m)",null,"Height (m)",null,"Area (m²)",0,"U Value (W/m²K)",{"$f":"IF($C$3=\"Ground floor\",'Design Details'!C$51,IF($C$3=\"Mid-floor\",'Design Details'!C$61,IF($C$3=\"Upper floor\",'Design Details'!C$71,IF($C$3=\"Single Storey\",'Design Details'!C$81,0))))","v":0},{"$f":"IF(M58=\"\",0,IF(M58=\"unheated\",D$4-10,D$4-M58))","v":0},0]
[null,"Length (m)",null,"Height (m)",null,"Area (m²)",0,"U Value (W/m²K)",{"$f":"IF($C$3=\"Ground floor\",'Design Details'!C$51,IF($C$3=\"Mid-floor\",'Design Details'!C$61,IF($C$3=\"Upper floor\",'Design Details'!C$71,IF($C$3=\"Single Storey\",'Design Details'!C$81,0))))","v":0},{"$f":"IF(M59=\"\",0,IF(M59=\"unheated\",D$4-10,D$4-M59))","v":0},0]
[null,"Party Wall"]
[null,"Length (m)",null,"Height (m)",null,"Area (m²)",0,"U Value (W/m²K)",{"$f":"IF($C$3=\"Ground floor\",'Design Details'!C$52,IF($C$3=\"Mid-floor\",'Design Details'!C$62,IF($C$3=\"Upper floor\",'Design Details'!C$72,IF($C$3=\"Single Storey\",'Design Details'!C$82,0))))","v":0},{"$f":"D4-10","v":-10},0,{"$f":"G61*I61*$D$7*24/1000","v":0}]

{"sheet":"10","index":15,"n_rows":61,"n_cols":25,"rows_kept":61,"cut":false,"hidden":false,"merged":[[58,12,58,14],[44,19,48,19],[44,20,48,20],[54,12,54,14],[55,12,55,14],[56,12,56,14],[57,12,57,14],[44,18,48,18],[21,12,21,14],[30,12,30,14],[31,12,31,14],[44,16,48,16],[44,17,48,17],[20,12,20,14],[3,1,3,2],[3,4,3,5],[4,1,4,2],[4,4,4,5],[5,1,5,2],[5,4,5,5],[6,1,6,2],[9,11,9,14],[10,11,10,14],[18,12,18,14],[19,12,19,14],[0,1,0,3],[0,4,0,6],[0,10,0,11],[1,4,1,5],[2,2,2,3],[2,4,2,5]]}
[null,"Room Information",null,null,"Ventilation Heat Loss",null,null,"Fabric ","Heat Loss (W)"," Usage (kWh)","Additional heat loss",null,"Addition","Watts","kWh"]
[null,"Room",null,null,"Air Changes per hour",null,{"$f":"'Design Details'!G96","v":0},"Floor",{"$f":"SUM(K20:K22)","v":0},{"$f":"SUM(L20:L22)","v":0},"Thermal Bridging (New Build >2006)",null,0,{"$f":"SUM(I$2:I$6)*M2","v":0},{"$f":"SUM(J$2:J$6)*M2","v":0},null,"3 edges (long single)","Level",null,null,null,null,null,null,1]
[null,"Level",null,null,"Air Change Factor (W/m³K)",null,0.33,"Ext Wall",{"$f":"K27","v":0},{"$f":"L27","v":0},"Exposed location",null,0,{"$f":"SUM(I$2:I$6)*M3","v":0},{"$f":"SUM(J$2:J$6)*M3","v":0},null,"3 edges (short single)","Please Select Floor",{"$f":"IF($C$3=\"Ground floor\",\"Solid Floor (in contact with ground)\",IF($C$3=\"Single Storey\",\"Solid Floor (in contact with ground)\",\"n/a\"))","v":"n/a"},{"$f":"'Design Details'!C21","v":10},"unheated",0,0,0,2]
[null,"Design Room Temp (°C)",null,{"$f":"'Design Details'!E96","v":0},"Total Volume (m³)",null,{"$f":"SUM(I10:I12,I14:I18)","v":0},"Roof",{"$f":"SUM(K32,K36)","v":0},{"$f":"SUM(L32,L36)","v":0},"High ceiling",null,0,{"$f":"SUM(I$2:I$6)*M4","v":0},{"$f":"SUM(J$2:J$6)*M4","v":0},null,"One edge","Ground floor",{"$f":"IF($C$3=\"Ground floor\",\"Suspended Floor\",IF($C$3=\"Single Storey\",\"Suspended Floor\",\"n/a\"))","v":"n/a"},null,16,0.1,0.2,2.5000000000000001E-2,3]
[null,"Outside Design Temp (°C)",null,{"$f":"'Design Details'!C19","v":-2.5},"Heat loss (W)",null,{"$f":"G4*G3*D6*G2","v":0},"Glazing",{"$f":"SUM(K38:K44,K46:K49,K51:K54)","v":0},{"$f":"SUM(L38:L44,L46:L49,L51:L54)","v":0},"Intermittent heating",null,0,{"$f":"SUM(I$2:I$6)*M5","v":0},{"$f":"SUM(J$2:J$6)*M5","v":0},null,"Two adjacent","Mid-floor",null,null,18,null,null,0.05,4]
[null,"Temp Difference (°C)",null,{"$f":"D4-D5","v":2.5},"Estimated Energy usage (kWh)",null,{"$f":"G4*G3*D7*24/1000","v":0},"Int./Party Wall",{"$f":"SUM(K56:K59,K61)","v":0},{"$f":"SUM(L61)","v":0},null,null,null,"Total Room Heat Loss (W)",{"$f":"SUM(G5,I2:I6,N2:N5)","v":0},null,"Two opposite","Single storey",null,null,21,null,null,7.4999999999999997E-2,5]
[null,"Degree Days",null,{"$f":"'Design Details'!C20","v":2228},null,null,null,null,null,null,null,null,null,"Total Room Energy Usage (kWh)",{"$f":"SUM(G6,J2:J6,O2:O5)","v":0},null,null,"Upper floor",null,null,22,null,null,0.1,6]
[null,null,null,null,null,null,null,null,null,null,null,null,null,null,null,null,null,{"$f":"IF($C$3=\"Ground floor\",'Design Details'!C$45,IF($C$3=\"Mid-floor\",'Design Details'!C$55,IF($C$3=\"Upper floor\",'Design Details'!C$65,IF($C$3=\"Single Storey\",'Design Details'!C$75,0))))","v":0},null,null,null,null,null,null,7]
[null,"Room Dimensions",null,null,null,null,null,null,null,null,null,null,null,null,null,null,null,null,null,null,null,null,null,null,8]
[null,"Length (m)",null,"Width (m)",null,"Height (m)",null,"Volume (m³)",{"$f":"C10*E10*G10","v":0},null,null,null,null,null,null,null,null,null,null,null,null,null,null,null,9]
[null,"Length (m)",null,"Width (m)",null,"Height (m)",null,"Volume (m³)",{"$f":"C11*E11*G11","v":0},null,null,null,null,null,null,null,null,null,null,null,null,null,null,null,10]
[null,"Length (m)",null,"Width (m)",null,"Height (m)",null,"Volume (m³)",{"$f":"C12*E12*G12","v":0}]
[null,"Awkward Room Dimensions"]
[null,"Length (m)",null,"Width (m)",null,"Height (m)",null,"Volume (m³)",{"$f":"((G14*E14)/2)*C14","v":0},"Pitched"]
[null,"Length (m)",null,"Width (m)",null,"Height (m)",null,"Volume (m³)",{"$f":"C15*E15*G15/2","v":0},"Single Pitch"]
[null,"Length (m)",null,"Height (m)",null,"Depth (m)",null,"Volume (m³)",{"$f":"E16*G16*C16/2","v":0},"Dormer 1"]
[null,"Length (m)",null,"Height (m)",null,"Depth (m)",null,"Volume (m³)",{"$f":"E17*G17*C17/2","v":0},"Dormer 2"]
[null,"Length (m)",null,"Height (m)",null,"Depth (m)",null,"Volume (m³)",{"$f":"E18*G18*C18/2","v":0},"Dormer 3"]
[null,"Floor",null,null,null,null,null,null,null,"Temp Difference","Heat Loss (W)","Usage (kWh)",{"$f":"IF($C$3=\"Ground Floor\",\"Select type of Ground Floor\",IF($C$3=\"Single Storey\",\"Select type of Ground Floor\",\"#N/A\"))","v":"#N/A"}]
[null,{"$f":"B10","v":"Length (m)"},null,{"$f":"D10","v":"Width (m)"},null,"Area (m²)",{"$f":"C20*E20","v":0},"U Value (W/m²K)",{"$f":"IF(M22=\"\",R8,'floor u values'!K11)","v":0},{"$f":"IF(C$3=\"Ground Floor\",IF(M20=\"Solid Floor (in contact with ground)\",D$4-T$3,D$4-D$5),IF(C$3=\"Single Storey\",IF(M20=\"Solid Floor (in contact with ground)\",D$4-T$3,D$4-D$5),0))","v":0},{"$f":"G20*I20*J20","v":0},{"$f":"IF($C$3=$R$5,0,IF($C$3=$R$7,0,G20*I20*$D$7*24/1000))","v":0},"n/a"]
[null,"Length (m)",null,"Width (m)",null,"Area (m²)",{"$f":"C21*E21","v":0},"U Value (W/m²K)",{"$f":"I20","v":0},{"$f":"IF(C$3=\"Ground Floor\",IF(M20=\"Solid Floor (in contact with ground)\",D$4-T$3,D$4-D$5),IF(C$3=\"Single Storey\",IF(M20=\"Solid Floor (in contact with ground)\",D$4-T$3,D$4-D$5),0))","v":0},{"$f":"G21*I21*J21","v":0},{"$f":"IF($C$3=$R$5,0,IF($C$3=$R$7,0,G21*I21*$D$7*24/1000))","v":0},"Exposed floor (external)"]
[null,"Length (m)",null,"Width (m)",null,"Area (m²)",0,"U Value (W/m²K)",{"$f":"I20","v":0},{"$f":"IF(C$3=\"Ground Floor\",IF(M20=\"Solid Floor (in contact with ground)\",D$4-T$3,D$4-D$5),IF(C$3=\"Single Storey\",IF(M20=\"Solid Floor (in contact with ground)\",D$4-T$3,D$4-D$5),0))","v":0},{"$f":"G22*I22*J22","v":0},{"$f":"IF($C$3=$R$5,0,IF($C$3=$R$7,0,G22*I22*$D$7*24/1000))","v":0}]
[null,"External Wall",null,null,null,null,null,null,null,null,null,null,{"$f":"IF(M22=\"Two opposite\",\"Between edges\",IF(M22=\"One edge\",\"Depth of room\",IF(M22=\"3 edges (short single)\",\"Short length\",IF(M22=\"3 edges (long single)\",\"Short length\",\"\"))))","v":""},null,{"$f":"IF(M22=\"3 edges (short single)\",\"Long length\",IF(M22=\"3 edges (long single)\",\"Long length\",\"\"))","v":""}]
[null,"Length (m)",null,"Height (m)",null,"Area (m²)",0]
[null,"Length (m)",null,"Height (m)",null,"Area (m²)",0]
[null,"Length (m)",null,"Height (m)",null,"Area (m²)",0]
[null,null,null,null,"Total","Area (m²)",{"$f":"SUM(G24:G26)-SUM(G38:G44,G51:G54)","v":0},"U Value (W/m²K)",{"$f":"IF($C$3=\"Ground floor\",'Design Details'!C$48,IF($C$3=\"Mid-floor\",'Design Details'!C$58,IF($C$3=\"Upper floor\",'Design Details'!C$68,IF($C$3=\"Single Storey\",'Design Details'!C$78,0))))","v":0},{"$f":"$D$6","v":2.5},{"$f":"G27*I27*J27","v":0},{"$f":"G27*I27*$D$7*24/1000","v":0}]
[null,"Ceiling (Flat)"]
[null,"Length (m)",null,"Width (m)",null,"Area (m²)",0]
[null,"Length (m)",null,"Width (m)",null,"Area (m²)",0]
[null,"Length (m)",null,"Width (m)",null,"Area (m²)",0,null,null,null,null,null,"Select Temp/Type of Space Above"]
[null,null,null,null,"Total","Area (m²)",{"$f":"SUM(G29:G31)-SUM(G46:G49)","v":0},"U Value (W/m²K)",{"$f":"IF($C$3=\"Ground floor\",'Design Details'!C$49,IF($C$3=\"Mid-floor\",'Design Details'!C$59,IF($C$3=\"Upper floor\",INDIRECT(T52),IF($C$3=\"Single Storey\",INDIRECT(T53),0))))","v":0},{"$f":"U51","v":0},{"$f":"G32*I32*J32","v":0},{"$f":"IF($C$3=$R$4,0,IF($C$3=$R$5,0,G32*I32*$D$7*24/1000))","v":0},"Select..."]
[null,"Ceiling (Awkward)"]
[null,"Length (m)",{"$f":"C14*2","v":0},"Pitch (m)",{"$f":"SQRT(POWER(E14,2)+POWER(G14,2))","v":0},"Area (m²)",{"$f":"C34*E34","v":0},"Pitched"]
[null,"Length (m)",{"$f":"C15","v":0},"Pitch (m)",{"$f":"SQRT(POWER(E15,2)+POWER(G15,2))","v":0},"Area (m²)",0,"Single Pitch"]
[null,null,null,null,"Total","Area (m²)",{"$f":"SUM(G34:G35)-SUM(G46:G49)","v":0},"U Value (W/m²K)",{"$f":"IF($C$3=\"Ground floor\",'Design Details'!C$50,IF($C$3=\"Mid-floor\",'Design Details'!C$60,IF($C$3=\"Upper floor\",'Design Details'!C$70,IF($C$3=\"Single Storey\",'Design Details'!C$80,0))))","v":0},{"$f":"$D$6","v":2.5},0,{"$f":"IF($C$3=$R$4,0,IF($C$3=$R$5,0,G36*I36*$D$7*24/1000))","v":0}]
[null,"Windows"]
[null,"Width (m)",null,"Height (m)",null,"Area (m²)",0,"U Value (W/m²K)",{"$f":"IF($C$3=\"Ground floor\",'Design Details'!C$46,IF($C$3=\"Mid-floor\",'Design Details'!C$56,IF($C$3=\"Upper floor\",'Design Details'!C$66,IF($C$3=\"Single Storey\",'Design Details'!C$76,0))))","v":0},2.5,0,{"$f":"G38*I38*$D$7*24/1000","v":0}]
[null,"Width (m)",null,"Height (m)",null,"Area (m²)",0,"U Value (W/m²K)",{"$f":"IF($C$3=\"Ground floor\",'Design Details'!C$46,IF($C$3=\"Mid-floor\",'Design Details'!C$56,IF($C$3=\"Upper floor\",'Design Details'!C$66,IF($C$3=\"Single Storey\",'Design Details'!C$76,0))))","v":0},2.5,0,0]
[null,"Width (m)",null,"Height (m)",null,"Area (m²)",0,"U Value (W/m²K)",{"$f":"IF($C$3=\"Ground floor\",'Design Details'!C$46,IF($C$3=\"Mid-floor\",'Design Details'!C$56,IF($C$3=\"Upper floor\",'Design Details'!C$66,IF($C$3=\"Single Storey\",'Design Details'!C$76,0))))","v":0},2.5,0,0]
[null,"Width (m)",null,"Height (m)",null,"Area (m²)",0,"U Value (W/m²K)",{"$f":"IF($C$3=\"Ground floor\",'Design Details'!C$46,IF($C$3=\"Mid-floor\",'Design Details'!C$56,IF($C$3=\"Upper floor\",'Design Details'!C$66,IF($C$3=\"Single Storey\",'Design Details'!C$76,0))))","v":0},2.5,0,0]
[null,"Width (m)",null,"Height (m)",null,"Area (m²)",0,"U Value (W/m²K)",{"$f":"IF($C$3=\"Ground floor\",'Design Details'!C$46,IF($C$3=\"Mid-floor\",'Design Details'!C$56,IF($C$3=\"Upper floor\",'Design Details'!C$66,IF($C$3=\"Single Storey\",'Design Details'!C$76,0))))","v":0},2.5,0,0]
[null,"Width (m)",null,"Height (m)",null,"Area (m²)",0,"U Value (W/m²K)",{"$f":"IF($C$3=\"Ground floor\",'Design Details'!C$46,IF($C$3=\"Mid-floor\",'Design Details'!C$56,IF($C$3=\"Upper floor\",'Design Details'!C$66,IF($C$3=\"Single Storey\",'Design Details'!C$76,0))))","v":0},2.5,0,0]
[null,"Width (m)",null,"Height (m)",null,"Area (m²)",0,"U Value (W/m²K)",{"$f":"IF($C$3=\"Ground floor\",'Design Details'!C$46,IF($C$3=\"Mid-floor\",'Design Details'!C$56,IF($C$3=\"Upper floor\",'Design Details'!C$66,IF($C$3=\"Single Storey\",'Design Details'!C$76,0))))","v":0},2.5,0,0]
[null,"Roof Glazing",null,null,null,null,null,null,null,null,null,null,null,null,null,null,"Options for upper floor or single storey","Options for Ground or Mid Floor","Drop-Down List","U-Value Selector","Temp Diff Selector"]
[null,"Width (m)",null,"Height (m)",null,"Area (m²)",0,"U Value (W/m²K)",{"$f":"IF($C$3=\"Ground floor\",'Design Details'!C$53,IF($C$3=\"Mid-floor\",'Design Details'!C$63,IF($C$3=\"Upper floor\",'Design Details'!C$73,IF($C$3=\"Single Storey\",'Design Details'!C$83,0))))","v":0},2.5,0,{"$f":"G46*I46*$D$7*24/1000","v":0}]
[null,"Width (m)",null,"Height (m)",null,"Area (m²)",0,"U Value (W/m²K)",{"$f":"IF($C$3=\"Ground floor\",'Design Details'!C$53,IF($C$3=\"Mid-floor\",'Design Details'!C$63,IF($C$3=\"Upper floor\",'Design Details'!C$73,IF($C$3=\"Single Storey\",'Design Details'!C$83,0))))","v":0},2.5,0,{"$f":"G47*I47*$D$7*24/1000","v":0}]
[null,"Width (m)",null,"Height (m)",null,"Area (m²)",0,"U Value (W/m²K)",{"$f":"IF($C$3=\"Ground floor\",'Design Details'!C$53,IF($C$3=\"Mid-floor\",'Design Details'!C$63,IF($C$3=\"Upper floor\",'Design Details'!C$73,IF($C$3=\"Single Storey\",'Design Details'!C$83,0))))","v":0},2.5,0,{"$f":"G48*I48*$D$7*24/1000","v":0}]
[null,"Width (m)",null,"Height (m)",null,"Area (m²)",0,"U Value (W/m²K)",{"$f":"IF($C$3=\"Ground floor\",'Design Details'!C$53,IF($C$3=\"Mid-floor\",'Design Details'!C$63,IF($C$3=\"Upper floor\",'Design Details'!C$73,IF($C$3=\"Single Storey\",'Design Details'!C$83,0))))","v":0},2.5,0,{"$f":"G49*I49*$D$7*24/1000","v":0}]
[null,"External Doors",null,null,null,null,null,null,null,null,null,null,null,null,null,null,null,null,"Select..."]
[null,"Width (m)",null,"Height (m)",null,"Area (m²)",0,"U Value (W/m²K)",{"$f":"IF($C$3=\"Ground floor\",'Design Details'!C$47,IF($C$3=\"Mid-floor\",'Design Details'!C$57,IF($C$3=\"Upper floor\",'Design Details'!C$67,IF($C$3=\"Single Storey\",'Design Details'!C$77,0))))","v":0},2.5,0,{"$f":"G51*I51*$D$7*24/1000","v":0},null,null,null,null,"Outside","Unheated",{"$f":"IF(OR($C$3=\"Ground Floor\",$C$3=\"Mid-floor\"),R51,Q51)","v":"Outside"},{"$f":"IF(M32=\"Unheated\",1,0)","v":0},{"$f":"IF(M32=\"Select...\",0,(IF(M32=\"Outside\",D6,IF(M32=\"Unheated\",D4-10,D4-M32))))","v":0}]
[null,"Width (m)",null,"Height (m)",null,"Area (m²)",0,"U Value (W/m²K)",{"$f":"IF($C$3=\"Ground floor\",'Design Details'!C$47,IF($C$3=\"Mid-floor\",'Design Details'!C$57,IF($C$3=\"Upper floor\",'Design Details'!C$67,IF($C$3=\"Single Storey\",'Design Details'!C$77,0))))","v":0},2.5,0,{"$f":"G52*I52*$D$7*24/1000","v":0},null,null,null,null,"Unheated","16",{"$f":"IF(OR($C$3=\"Ground Floor\",$C$3=\"Mid-floor\"),R52,Q52)","v":"Unheated"},{"$f":"\"'Design Details'!C$\"&69+T51","v":"'Design Details'!C$69"}]
[null,"Width (m)",null,"Height (m)",null,"Area (m²)",0,"U Value (W/m²K)",{"$f":"IF($C$3=\"Ground floor\",'Design Details'!C$47,IF($C$3=\"Mid-floor\",'Design Details'!C$57,IF($C$3=\"Upper floor\",'Design Details'!C$67,IF($C$3=\"Single Storey\",'Design Details'!C$77,0))))","v":0},2.5,0,{"$f":"G53*I53*$D$7*24/1000","v":0},null,null,null,null,null,"18",{"$f":"IF(OR($C$3=\"Ground Floor\",$C$3=\"Mid-floor\"),R53,Q53)","v":0},{"$f":"\"'Design Details'!C$\"&79+T51","v":"'Design Details'!C$79"}]
[null,"Width (m)",null,"Height (m)",null,"Area (m²)",0,"U Value (W/m²K)",{"$f":"IF($C$3=\"Ground floor\",'Design Details'!C$47,IF($C$3=\"Mid-floor\",'Design Details'!C$57,IF($C$3=\"Upper floor\",'Design Details'!C$67,IF($C$3=\"Single Storey\",'Design Details'!C$77,0))))","v":0},2.5,0,{"$f":"G54*I54*$D$7*24/1000","v":0},null,null,null,null,null,"21",{"$f":"IF(OR($C$3=\"Ground Floor\",$C$3=\"Mid-floor\"),R54,Q54)","v":0}]
[null,"Internal Walls",null,null,null,null,null,null,null,null,null,null,"Adjoining Room Temp (°C)",null,null,null,null,22,{"$f":"IF(OR($C$3=\"Ground Floor\",$C$3=\"Mid-floor\"),R55,Q37)","v":0}]
[null,"Length (m)",null,"Height (m)",null,"Area (m²)",0,"U Value (W/m²K)",{"$f":"IF($C$3=\"Ground floor\",'Design Details'!C$51,IF($C$3=\"Mid-floor\",'Design Details'!C$61,IF($C$3=\"Upper floor\",'Design Details'!C$71,IF($C$3=\"Single Storey\",'Design Details'!C$81,0))))","v":0},{"$f":"IF(M56=\"\",0,IF(M56=\"unheated\",D$4-10,D$4-M56))","v":0},0]
[null,"Length (m)",null,"Height (m)",null,"Area (m²)",0,"U Value (W/m²K)",{"$f":"IF($C$3=\"Ground floor\",'Design Details'!C$51,IF($C$3=\"Mid-floor\",'Design Details'!C$61,IF($C$3=\"Upper floor\",'Design Details'!C$71,IF($C$3=\"Single Storey\",'Design Details'!C$81,0))))","v":0},{"$f":"IF(M57=\"\",0,IF(M57=\"unheated\",D$4-10,D$4-M57))","v":0},0]
[null,"Length (m)",null,"Height (m)",null,"Area (m²)",0,"U Value (W/m²K)",{"$f":"IF($C$3=\"Ground floor\",'Design Details'!C$51,IF($C$3=\"Mid-floor\",'Design Details'!C$61,IF($C$3=\"Upper floor\",'Design Details'!C$71,IF($C$3=\"Single Storey\",'Design Details'!C$81,0))))","v":0},{"$f":"IF(M58=\"\",0,IF(M58=\"unheated\",D$4-10,D$4-M58))","v":0},0]
[null,"Length (m)",null,"Height (m)",null,"Area (m²)",0,"U Value (W/m²K)",{"$f":"IF($C$3=\"Ground floor\",'Design Details'!C$51,IF($C$3=\"Mid-floor\",'Design Details'!C$61,IF($C$3=\"Upper floor\",'Design Details'!C$71,IF($C$3=\"Single Storey\",'Design Details'!C$81,0))))","v":0},{"$f":"IF(M59=\"\",0,IF(M59=\"unheated\",D$4-10,D$4-M59))","v":0},0]
[null,"Party Wall"]
[null,"Length (m)",null,"Height (m)",null,"Area (m²)",0,"U Value (W/m²K)",{"$f":"IF($C$3=\"Ground floor\",'Design Details'!C$52,IF($C$3=\"Mid-floor\",'Design Details'!C$62,IF($C$3=\"Upper floor\",'Design Details'!C$72,IF($C$3=\"Single Storey\",'Design Details'!C$82,0))))","v":0},{"$f":"D4-10","v":-10},0,{"$f":"G61*I61*$D$7*24/1000","v":0}]

{"sheet":"11","index":16,"n_rows":61,"n_cols":25,"rows_kept":61,"cut":false,"hidden":false,"merged":[[58,12,58,14],[44,19,48,19],[44,20,48,20],[54,12,54,14],[55,12,55,14],[56,12,56,14],[57,12,57,14],[44,18,48,18],[21,12,21,14],[30,12,30,14],[31,12,31,14],[44,16,48,16],[44,17,48,17],[20,12,20,14],[3,1,3,2],[3,4,3,5],[4,1,4,2],[4,4,4,5],[5,1,5,2],[5,4,5,5],[6,1,6,2],[9,11,9,14],[10,11,10,14],[18,12,18,14],[19,12,19,14],[0,1,0,3],[0,4,0,6],[0,10,0,11],[1,4,1,5],[2,2,2,3],[2,4,2,5]]}
[null,"Room Information",null,null,"Ventilation Heat Loss",null,null,"Fabric ","Heat Loss (W)"," Usage (kWh)","Additional heat loss",null,"Addition","Watts","kWh"]
[null,"Room",null,null,"Air Changes per hour",null,{"$f":"'Design Details'!G97","v":0},"Floor",{"$f":"SUM(K20:K22)","v":0},{"$f":"SUM(L20:L22)","v":0},"Thermal Bridging (New Build >2006)",null,0,{"$f":"SUM(I$2:I$6)*M2","v":0},{"$f":"SUM(J$2:J$6)*M2","v":0},null,"3 edges (long single)","Level",null,null,null,null,null,null,1]
[null,"Level",null,null,"Air Change Factor (W/m³K)",null,0.33,"Ext Wall",{"$f":"K27","v":0},{"$f":"L27","v":0},"Exposed location",null,0,{"$f":"SUM(I$2:I$6)*M3","v":0},{"$f":"SUM(J$2:J$6)*M3","v":0},null,"3 edges (short single)","Please Select Floor",{"$f":"IF($C$3=\"Ground floor\",\"Solid Floor (in contact with ground)\",IF($C$3=\"Single Storey\",\"Solid Floor (in contact with ground)\",\"n/a\"))","v":"n/a"},{"$f":"'Design Details'!C21","v":10},"unheated",0,0,0,2]
[null,"Design Room Temp (°C)",null,{"$f":"'Design Details'!E97","v":0},"Total Volume (m³)",null,{"$f":"SUM(I10:I12,I14:I18)","v":0},"Roof",{"$f":"SUM(K32,K36)","v":0},{"$f":"SUM(L32,L36)","v":0},"High ceiling",null,0,{"$f":"SUM(I$2:I$6)*M4","v":0},{"$f":"SUM(J$2:J$6)*M4","v":0},null,"One edge","Ground floor",{"$f":"IF($C$3=\"Ground floor\",\"Suspended Floor\",IF($C$3=\"Single Storey\",\"Suspended Floor\",\"n/a\"))","v":"n/a"},null,16,0.1,0.2,2.5000000000000001E-2,3]
[null,"Outside Design Temp (°C)",null,{"$f":"'Design Details'!C19","v":-2.5},"Heat loss (W)",null,{"$f":"G4*G3*D6*G2","v":0},"Glazing",{"$f":"SUM(K38:K44,K46:K49,K51:K54)","v":0},{"$f":"SUM(L38:L44,L46:L49,L51:L54)","v":0},"Intermittent heating",null,0,{"$f":"SUM(I$2:I$6)*M5","v":0},{"$f":"SUM(J$2:J$6)*M5","v":0},null,"Two adjacent","Mid-floor",null,null,18,null,null,0.05,4]
[null,"Temp Difference (°C)",null,{"$f":"D4-D5","v":2.5},"Estimated Energy usage (kWh)",null,{"$f":"G4*G3*D7*24/1000","v":0},"Int./Party Wall",{"$f":"SUM(K56:K59,K61)","v":0},{"$f":"SUM(L61)","v":0},null,null,null,"Total Room Heat Loss (W)",{"$f":"SUM(G5,I2:I6,N2:N5)","v":0},null,"Two opposite","Single storey",null,null,21,null,null,7.4999999999999997E-2,5]
[null,"Degree Days",null,{"$f":"'Design Details'!C20","v":2228},null,null,null,null,null,null,null,null,null,"Total Room Energy Usage (kWh)",{"$f":"SUM(G6,J2:J6,O2:O5)","v":0},null,null,"Upper floor",null,null,22,null,null,0.1,6]
[null,null,null,null,null,null,null,null,null,null,null,null,null,null,null,null,null,{"$f":"IF($C$3=\"Ground floor\",'Design Details'!C$45,IF($C$3=\"Mid-floor\",'Design Details'!C$55,IF($C$3=\"Upper floor\",'Design Details'!C$65,IF($C$3=\"Single Storey\",'Design Details'!C$75,0))))","v":0},null,null,null,null,null,null,7]
[null,"Room Dimensions",null,null,null,null,null,null,null,null,null,null,null,null,null,null,null,null,null,null,null,null,null,null,8]
[null,"Length (m)",null,"Width (m)",null,"Height (m)",null,"Volume (m³)",{"$f":"C10*E10*G10","v":0},null,null,null,null,null,null,null,null,null,null,null,null,null,null,null,9]
[null,"Length (m)",null,"Width (m)",null,"Height (m)",null,"Volume (m³)",{"$f":"C11*E11*G11","v":0},null,null,null,null,null,null,null,null,null,null,null,null,null,null,null,10]
[null,"Length (m)",null,"Width (m)",null,"Height (m)",null,"Volume (m³)",{"$f":"C12*E12*G12","v":0}]
[null,"Awkward Room Dimensions"]
[null,"Length (m)",null,"Width (m)",null,"Height (m)",null,"Volume (m³)",{"$f":"((G14*E14)/2)*C14","v":0},"Pitched"]
[null,"Length (m)",null,"Width (m)",null,"Height (m)",null,"Volume (m³)",{"$f":"C15*E15*G15/2","v":0},"Single Pitch"]
[null,"Length (m)",null,"Height (m)",null,"Depth (m)",null,"Volume (m³)",{"$f":"E16*G16*C16/2","v":0},"Dormer 1"]
[null,"Length (m)",null,"Height (m)",null,"Depth (m)",null,"Volume (m³)",{"$f":"E17*G17*C17/2","v":0},"Dormer 2"]
[null,"Length (m)",null,"Height (m)",null,"Depth (m)",null,"Volume (m³)",{"$f":"E18*G18*C18/2","v":0},"Dormer 3"]
[null,"Floor",null,null,null,null,null,null,null,"Temp Difference","Heat Loss (W)","Usage (kWh)",{"$f":"IF($C$3=\"Ground Floor\",\"Select type of Ground Floor\",IF($C$3=\"Single Storey\",\"Select type of Ground Floor\",\"#N/A\"))","v":"#N/A"}]
[null,{"$f":"B10","v":"Length (m)"},null,{"$f":"D10","v":"Width (m)"},null,"Area (m²)",{"$f":"C20*E20","v":0},"U Value (W/m²K)",{"$f":"IF(M22=\"\",R8,'floor u values'!K12)","v":0},{"$f":"IF(C$3=\"Ground Floor\",IF(M20=\"Solid Floor (in contact with ground)\",D$4-T$3,D$4-D$5),IF(C$3=\"Single Storey\",IF(M20=\"Solid Floor (in contact with ground)\",D$4-T$3,D$4-D$5),0))","v":0},{"$f":"G20*I20*J20","v":0},{"$f":"IF($C$3=$R$5,0,IF($C$3=$R$7,0,G20*I20*$D$7*24/1000))","v":0},"n/a"]
[null,"Length (m)",null,"Width (m)",null,"Area (m²)",{"$f":"C21*E21","v":0},"U Value (W/m²K)",{"$f":"I20","v":0},{"$f":"IF(C$3=\"Ground Floor\",IF(M20=\"Solid Floor (in contact with ground)\",D$4-T$3,D$4-D$5),IF(C$3=\"Single Storey\",IF(M20=\"Solid Floor (in contact with ground)\",D$4-T$3,D$4-D$5),0))","v":0},{"$f":"G21*I21*J21","v":0},{"$f":"IF($C$3=$R$5,0,IF($C$3=$R$7,0,G21*I21*$D$7*24/1000))","v":0},"Exposed floor (external)"]
[null,"Length (m)",null,"Width (m)",null,"Area (m²)",0,"U Value (W/m²K)",{"$f":"I20","v":0},{"$f":"IF(C$3=\"Ground Floor\",IF(M20=\"Solid Floor (in contact with ground)\",D$4-T$3,D$4-D$5),IF(C$3=\"Single Storey\",IF(M20=\"Solid Floor (in contact with ground)\",D$4-T$3,D$4-D$5),0))","v":0},{"$f":"G22*I22*J22","v":0},{"$f":"IF($C$3=$R$5,0,IF($C$3=$R$7,0,G22*I22*$D$7*24/1000))","v":0}]
[null,"External Wall",null,null,null,null,null,null,null,null,null,null,{"$f":"IF(M22=\"Two opposite\",\"Between edges\",IF(M22=\"One edge\",\"Depth of room\",IF(M22=\"3 edges (short single)\",\"Short length\",IF(M22=\"3 edges (long single)\",\"Short length\",\"\"))))","v":""},null,{"$f":"IF(M22=\"3 edges (short single)\",\"Long length\",IF(M22=\"3 edges (long single)\",\"Long length\",\"\"))","v":""}]
[null,"Length (m)",null,"Height (m)",null,"Area (m²)",0]
[null,"Length (m)",null,"Height (m)",null,"Area (m²)",0]
[null,"Length (m)",null,"Height (m)",null,"Area (m²)",0]
[null,null,null,null,"Total","Area (m²)",{"$f":"SUM(G24:G26)-SUM(G38:G44,G51:G54)","v":0},"U Value (W/m²K)",{"$f":"IF($C$3=\"Ground floor\",'Design Details'!C$48,IF($C$3=\"Mid-floor\",'Design Details'!C$58,IF($C$3=\"Upper floor\",'Design Details'!C$68,IF($C$3=\"Single Storey\",'Design Details'!C$78,0))))","v":0},{"$f":"$D$6","v":2.5},{"$f":"G27*I27*J27","v":0},{"$f":"G27*I27*$D$7*24/1000","v":0}]
[null,"Ceiling (Flat)"]
[null,"Length (m)",null,"Width (m)",null,"Area (m²)",0]
[null,"Length (m)",null,"Width (m)",null,"Area (m²)",0]
[null,"Length (m)",null,"Width (m)",null,"Area (m²)",0,null,null,null,null,null,"Select Temp/Type of Space Above"]
[null,null,null,null,"Total","Area (m²)",{"$f":"SUM(G29:G31)-SUM(G46:G49)","v":0},"U Value (W/m²K)",{"$f":"IF($C$3=\"Ground floor\",'Design Details'!C$49,IF($C$3=\"Mid-floor\",'Design Details'!C$59,IF($C$3=\"Upper floor\",INDIRECT(T52),IF($C$3=\"Single Storey\",INDIRECT(T53),0))))","v":0},{"$f":"U51","v":0},{"$f":"G32*I32*J32","v":0},{"$f":"IF($C$3=$R$4,0,IF($C$3=$R$5,0,G32*I32*$D$7*24/1000))","v":0},"Select..."]
[null,"Ceiling (Awkward)"]
[null,"Length (m)",{"$f":"C14*2","v":0},"Pitch (m)",{"$f":"SQRT(POWER(E14,2)+POWER(G14,2))","v":0},"Area (m²)",{"$f":"C34*E34","v":0},"Pitched"]
[null,"Length (m)",{"$f":"C15","v":0},"Pitch (m)",{"$f":"SQRT(POWER(E15,2)+POWER(G15,2))","v":0},"Area (m²)",0,"Single Pitch"]
[null,null,null,null,"Total","Area (m²)",{"$f":"SUM(G34:G35)-SUM(G46:G49)","v":0},"U Value (W/m²K)",{"$f":"IF($C$3=\"Ground floor\",'Design Details'!C$50,IF($C$3=\"Mid-floor\",'Design Details'!C$60,IF($C$3=\"Upper floor\",'Design Details'!C$70,IF($C$3=\"Single Storey\",'Design Details'!C$80,0))))","v":0},{"$f":"$D$6","v":2.5},0,{"$f":"IF($C$3=$R$4,0,IF($C$3=$R$5,0,G36*I36*$D$7*24/1000))","v":0}]
[null,"Windows"]
[null,"Width (m)",null,"Height (m)",null,"Area (m²)",0,"U Value (W/m²K)",{"$f":"IF($C$3=\"Ground floor\",'Design Details'!C$46,IF($C$3=\"Mid-floor\",'Design Details'!C$56,IF($C$3=\"Upper floor\",'Design Details'!C$66,IF($C$3=\"Single Storey\",'Design Details'!C$76,0))))","v":0},2.5,0,{"$f":"G38*I38*$D$7*24/1000","v":0}]
[null,"Width (m)",null,"Height (m)",null,"Area (m²)",0,"U Value (W/m²K)",{"$f":"IF($C$3=\"Ground floor\",'Design Details'!C$46,IF($C$3=\"Mid-floor\",'Design Details'!C$56,IF($C$3=\"Upper floor\",'Design Details'!C$66,IF($C$3=\"Single Storey\",'Design Details'!C$76,0))))","v":0},2.5,0,0]
[null,"Width (m)",null,"Height (m)",null,"Area (m²)",0,"U Value (W/m²K)",{"$f":"IF($C$3=\"Ground floor\",'Design Details'!C$46,IF($C$3=\"Mid-floor\",'Design Details'!C$56,IF($C$3=\"Upper floor\",'Design Details'!C$66,IF($C$3=\"Single Storey\",'Design Details'!C$76,0))))","v":0},2.5,0,0]
[null,"Width (m)",null,"Height (m)",null,"Area (m²)",0,"U Value (W/m²K)",{"$f":"IF($C$3=\"Ground floor\",'Design Details'!C$46,IF($C$3=\"Mid-floor\",'Design Details'!C$56,IF($C$3=\"Upper floor\",'Design Details'!C$66,IF($C$3=\"Single Storey\",'Design Details'!C$76,0))))","v":0},2.5,0,0]
[null,"Width (m)",null,"Height (m)",null,"Area (m²)",0,"U Value (W/m²K)",{"$f":"IF($C$3=\"Ground floor\",'Design Details'!C$46,IF($C$3=\"Mid-floor\",'Design Details'!C$56,IF($C$3=\"Upper floor\",'Design Details'!C$66,IF($C$3=\"Single Storey\",'Design Details'!C$76,0))))","v":0},2.5,0,0]
[null,"Width (m)",null,"Height (m)",null,"Area (m²)",0,"U Value (W/m²K)",{"$f":"IF($C$3=\"Ground floor\",'Design Details'!C$46,IF($C$3=\"Mid-floor\",'Design Details'!C$56,IF($C$3=\"Upper floor\",'Design Details'!C$66,IF($C$3=\"Single Storey\",'Design Details'!C$76,0))))","v":0},2.5,0,0]
[null,"Width (m)",null,"Height (m)",null,"Area (m²)",0,"U Value (W/m²K)",{"$f":"IF($C$3=\"Ground floor\",'Design Details'!C$46,IF($C$3=\"Mid-floor\",'Design Details'!C$56,IF($C$3=\"Upper floor\",'Design Details'!C$66,IF($C$3=\"Single Storey\",'Design Details'!C$76,0))))","v":0},2.5,0,0]
[null,"Roof Glazing",null,null,null,null,null,null,null,null,null,null,null,null,null,null,"Options for upper floor or single storey","Options for Ground or Mid Floor","Drop-Down List","U-Value Selector","Temp Diff Selector"]
[null,"Width (m)",null,"Height (m)",null,"Area (m²)",0,"U Value (W/m²K)",{"$f":"IF($C$3=\"Ground floor\",'Design Details'!C$53,IF($C$3=\"Mid-floor\",'Design Details'!C$63,IF($C$3=\"Upper floor\",'Design Details'!C$73,IF($C$3=\"Single Storey\",'Design Details'!C$83,0))))","v":0},2.5,0,{"$f":"G46*I46*$D$7*24/1000","v":0}]
[null,"Width (m)",null,"Height (m)",null,"Area (m²)",0,"U Value (W/m²K)",{"$f":"IF($C$3=\"Ground floor\",'Design Details'!C$53,IF($C$3=\"Mid-floor\",'Design Details'!C$63,IF($C$3=\"Upper floor\",'Design Details'!C$73,IF($C$3=\"Single Storey\",'Design Details'!C$83,0))))","v":0},2.5,0,{"$f":"G47*I47*$D$7*24/1000","v":0}]
[null,"Width (m)",null,"Height (m)",null,"Area (m²)",0,"U Value (W/m²K)",{"$f":"IF($C$3=\"Ground floor\",'Design Details'!C$53,IF($C$3=\"Mid-floor\",'Design Details'!C$63,IF($C$3=\"Upper floor\",'Design Details'!C$73,IF($C$3=\"Single Storey\",'Design Details'!C$83,0))))","v":0},2.5,0,{"$f":"G48*I48*$D$7*24/1000","v":0}]
[null,"Width (m)",null,"Height (m)",null,"Area (m²)",0,"U Value (W/m²K)",{"$f":"IF($C$3=\"Ground floor\",'Design Details'!C$53,IF($C$3=\"Mid-floor\",'Design Details'!C$63,IF($C$3=\"Upper floor\",'Design Details'!C$73,IF($C$3=\"Single Storey\",'Design Details'!C$83,0))))","v":0},2.5,0,{"$f":"G49*I49*$D$7*24/1000","v":0}]
[null,"External Doors",null,null,null,null,null,null,null,null,null,null,null,null,null,null,null,null,"Select..."]
[null,"Width (m)",null,"Height (m)",null,"Area (m²)",0,"U Value (W/m²K)",{"$f":"IF($C$3=\"Ground floor\",'Design Details'!C$47,IF($C$3=\"Mid-floor\",'Design Details'!C$57,IF($C$3=\"Upper floor\",'Design Details'!C$67,IF($C$3=\"Single Storey\",'Design Details'!C$77,0))))","v":0},2.5,0,{"$f":"G51*I51*$D$7*24/1000","v":0},null,null,null,null,"Outside","Unheated",{"$f":"IF(OR($C$3=\"Ground Floor\",$C$3=\"Mid-floor\"),R51,Q51)","v":"Outside"},{"$f":"IF(M32=\"Unheated\",1,0)","v":0},{"$f":"IF(M32=\"Select...\",0,(IF(M32=\"Outside\",D6,IF(M32=\"Unheated\",D4-10,D4-M32))))","v":0}]
[null,"Width (m)",null,"Height (m)",null,"Area (m²)",0,"U Value (W/m²K)",{"$f":"IF($C$3=\"Ground floor\",'Design Details'!C$47,IF($C$3=\"Mid-floor\",'Design Details'!C$57,IF($C$3=\"Upper floor\",'Design Details'!C$67,IF($C$3=\"Single Storey\",'Design Details'!C$77,0))))","v":0},2.5,0,{"$f":"G52*I52*$D$7*24/1000","v":0},null,null,null,null,"Unheated","16",{"$f":"IF(OR($C$3=\"Ground Floor\",$C$3=\"Mid-floor\"),R52,Q52)","v":"Unheated"},{"$f":"\"'Design Details'!C$\"&69+T51","v":"'Design Details'!C$69"}]
[null,"Width (m)",null,"Height (m)",null,"Area (m²)",0,"U Value (W/m²K)",{"$f":"IF($C$3=\"Ground floor\",'Design Details'!C$47,IF($C$3=\"Mid-floor\",'Design Details'!C$57,IF($C$3=\"Upper floor\",'Design Details'!C$67,IF($C$3=\"Single Storey\",'Design Details'!C$77,0))))","v":0},2.5,0,{"$f":"G53*I53*$D$7*24/1000","v":0},null,null,null,null,null,"18",{"$f":"IF(OR($C$3=\"Ground Floor\",$C$3=\"Mid-floor\"),R53,Q53)","v":0},{"$f":"\"'Design Details'!C$\"&79+T51","v":"'Design Details'!C$79"}]
[null,"Width (m)",null,"Height (m)",null,"Area (m²)",0,"U Value (W/m²K)",{"$f":"IF($C$3=\"Ground floor\",'Design Details'!C$47,IF($C$3=\"Mid-floor\",'Design Details'!C$57,IF($C$3=\"Upper floor\",'Design Details'!C$67,IF($C$3=\"Single Storey\",'Design Details'!C$77,0))))","v":0},2.5,0,{"$f":"G54*I54*$D$7*24/1000","v":0},null,null,null,null,null,"21",{"$f":"IF(OR($C$3=\"Ground Floor\",$C$3=\"Mid-floor\"),R54,Q54)","v":0}]
[null,"Internal Walls",null,null,null,null,null,null,null,null,null,null,"Adjoining Room Temp (°C)",null,null,null,null,22,{"$f":"IF(OR($C$3=\"Ground Floor\",$C$3=\"Mid-floor\"),R55,Q37)","v":0}]
[null,"Length (m)",null,"Height (m)",null,"Area (m²)",0,"U Value (W/m²K)",{"$f":"IF($C$3=\"Ground floor\",'Design Details'!C$51,IF($C$3=\"Mid-floor\",'Design Details'!C$61,IF($C$3=\"Upper floor\",'Design Details'!C$71,IF($C$3=\"Single Storey\",'Design Details'!C$81,0))))","v":0},{"$f":"IF(M56=\"\",0,IF(M56=\"unheated\",D$4-10,D$4-M56))","v":0},0]
[null,"Length (m)",null,"Height (m)",null,"Area (m²)",0,"U Value (W/m²K)",{"$f":"IF($C$3=\"Ground floor\",'Design Details'!C$51,IF($C$3=\"Mid-floor\",'Design Details'!C$61,IF($C$3=\"Upper floor\",'Design Details'!C$71,IF($C$3=\"Single Storey\",'Design Details'!C$81,0))))","v":0},{"$f":"IF(M57=\"\",0,IF(M57=\"unheated\",D$4-10,D$4-M57))","v":0},0]
[null,"Length (m)",null,"Height (m)",null,"Area (m²)",0,"U Value (W/m²K)",{"$f":"IF($C$3=\"Ground floor\",'Design Details'!C$51,IF($C$3=\"Mid-floor\",'Design Details'!C$61,IF($C$3=\"Upper floor\",'Design Details'!C$71,IF($C$3=\"Single Storey\",'Design Details'!C$81,0))))","v":0},{"$f":"IF(M58=\"\",0,IF(M58=\"unheated\",D$4-10,D$4-M58))","v":0},0]
[null,"Length (m)",null,"Height (m)",null,"Area (m²)",0,"U Value (W/m²K)",{"$f":"IF($C$3=\"Ground floor\",'Design Details'!C$51,IF($C$3=\"Mid-floor\",'Design Details'!C$61,IF($C$3=\"Upper floor\",'Design Details'!C$71,IF($C$3=\"Single Storey\",'Design Details'!C$81,0))))","v":0},{"$f":"IF(M59=\"\",0,IF(M59=\"unheated\",D$4-10,D$4-M59))","v":0},0]
[null,"Party Wall"]
[null,"Length (m)",null,"Height (m)",null,"Area (m²)",0,"U Value (W/m²K)",{"$f":"IF($C$3=\"Ground floor\",'Design Details'!C$52,IF($C$3=\"Mid-floor\",'Design Details'!C$62,IF($C$3=\"Upper floor\",'Design Details'!C$72,IF($C$3=\"Single Storey\",'Design Details'!C$82,0))))","v":0},{"$f":"D4-10","v":-10},0,{"$f":"G61*I61*$D$7*24/1000","v":0}]

{"sheet":"12","index":17,"n_rows":61,"n_cols":25,"rows_kept":61,"cut":false,"hidden":false,"merged":[[58,12,58,14],[44,19,48,19],[44,20,48,20],[54,12,54,14],[55,12,55,14],[56,12,56,14],[57,12,57,14],[44,18,48,18],[21,12,21,14],[30,12,30,14],[31,12,31,14],[44,16,48,16],[44,17,48,17],[20,12,20,14],[3,1,3,2],[3,4,3,5],[4,1,4,2],[4,4,4,5],[5,1,5,2],[5,4,5,5],[6,1,6,2],[9,11,9,14],[10,11,10,14],[18,12,18,14],[19,12,19,14],[0,1,0,3],[0,4,0,6],[0,10,0,11],[1,4,1,5],[2,2,2,3],[2,4,2,5]]}
[null,"Room Information",null,null,"Ventilation Heat Loss",null,null,"Fabric ","Heat Loss (W)"," Usage (kWh)","Additional heat loss",null,"Addition","Watts","kWh"]
[null,"Room",null,null,"Air Changes per hour",null,{"$f":"'Design Details'!G98","v":0},"Floor",{"$f":"SUM(K20:K22)","v":0},{"$f":"SUM(L20:L22)","v":0},"Thermal Bridging (New Build >2006)",null,0,{"$f":"SUM(I$2:I$6)*M2","v":0},{"$f":"SUM(J$2:J$6)*M2","v":0},null,"3 edges (long single)","Level",null,null,null,null,null,null,1]
[null,"Level",null,null,"Air Change Factor (W/m³K)",null,0.33,"Ext Wall",{"$f":"K27","v":0},{"$f":"L27","v":0},"Exposed location",null,0,{"$f":"SUM(I$2:I$6)*M3","v":0},{"$f":"SUM(J$2:J$6)*M3","v":0},null,"3 edges (short single)","Please Select Floor",{"$f":"IF($C$3=\"Ground floor\",\"Solid Floor (in contact with ground)\",IF($C$3=\"Single Storey\",\"Solid Floor (in contact with ground)\",\"n/a\"))","v":"n/a"},{"$f":"'Design Details'!C21","v":10},"unheated",0,0,0,2]
[null,"Design Room Temp (°C)",null,{"$f":"'Design Details'!E98","v":0},"Total Volume (m³)",null,{"$f":"SUM(I10:I12,I14:I18)","v":0},"Roof",{"$f":"SUM(K32,K36)","v":0},{"$f":"SUM(L32,L36)","v":0},"High ceiling",null,0,{"$f":"SUM(I$2:I$6)*M4","v":0},{"$f":"SUM(J$2:J$6)*M4","v":0},null,"One edge","Ground floor",{"$f":"IF($C$3=\"Ground floor\",\"Suspended Floor\",IF($C$3=\"Single Storey\",\"Suspended Floor\",\"n/a\"))","v":"n/a"},null,16,0.1,0.2,2.5000000000000001E-2,3]
[null,"Outside Design Temp (°C)",null,{"$f":"'Design Details'!C19","v":-2.5},"Heat loss (W)",null,{"$f":"G4*G3*D6*G2","v":0},"Glazing",{"$f":"SUM(K38:K44,K46:K49,K51:K54)","v":0},{"$f":"SUM(L38:L44,L46:L49,L51:L54)","v":0},"Intermittent heating",null,0,{"$f":"SUM(I$2:I$6)*M5","v":0},{"$f":"SUM(J$2:J$6)*M5","v":0},null,"Two adjacent","Mid-floor",null,null,18,null,null,0.05,4]
[null,"Temp Difference (°C)",null,{"$f":"D4-D5","v":2.5},"Estimated Energy usage (kWh)",null,{"$f":"G4*G3*D7*24/1000","v":0},"Int./Party Wall",{"$f":"SUM(K56:K59,K61)","v":0},{"$f":"SUM(L61)","v":0},null,null,null,"Total Room Heat Loss (W)",{"$f":"SUM(G5,I2:I6,N2:N5)","v":0},null,"Two opposite","Single storey",null,null,21,null,null,7.4999999999999997E-2,5]
[null,"Degree Days",null,{"$f":"'Design Details'!C20","v":2228},null,null,null,null,null,null,null,null,null,"Total Room Energy Usage (kWh)",{"$f":"SUM(G6,J2:J6,O2:O5)","v":0},null,null,"Upper floor",null,null,22,null,null,0.1,6]
[null,null,null,null,null,null,null,null,null,null,null,null,null,null,null,null,null,{"$f":"IF($C$3=\"Ground floor\",'Design Details'!C$45,IF($C$3=\"Mid-floor\",'Design Details'!C$55,IF($C$3=\"Upper floor\",'Design Details'!C$65,IF($C$3=\"Single Storey\",'Design Details'!C$75,0))))","v":0},null,null,null,null,null,null,7]
[null,"Room Dimensions",null,null,null,null,null,null,null,null,null,null,null,null,null,null,null,null,null,null,null,null,null,null,8]
[null,"Length (m)",null,"Width (m)",null,"Height (m)",null,"Volume (m³)",{"$f":"C10*E10*G10","v":0},null,null,null,null,null,null,null,null,null,null,null,null,null,null,null,9]
[null,"Length (m)",null,"Width (m)",null,"Height (m)",null,"Volume (m³)",{"$f":"C11*E11*G11","v":0},null,null,null,null,null,null,null,null,null,null,null,null,null,null,null,10]
[null,"Length (m)",null,"Width (m)",null,"Height (m)",null,"Volume (m³)",{"$f":"C12*E12*G12","v":0}]
[null,"Awkward Room Dimensions"]
[null,"Length (m)",null,"Width (m)",null,"Height (m)",null,"Volume (m³)",{"$f":"((G14*E14)/2)*C14","v":0},"Pitched"]
[null,"Length (m)",null,"Width (m)",null,"Height (m)",null,"Volume (m³)",{"$f":"C15*E15*G15/2","v":0},"Single Pitch"]
[null,"Length (m)",null,"Height (m)",null,"Depth (m)",null,"Volume (m³)",{"$f":"E16*G16*C16/2","v":0},"Dormer 1"]
[null,"Length (m)",null,"Height (m)",null,"Depth (m)",null,"Volume (m³)",{"$f":"E17*G17*C17/2","v":0},"Dormer 2"]
[null,"Length (m)",null,"Height (m)",null,"Depth (m)",null,"Volume (m³)",{"$f":"E18*G18*C18/2","v":0},"Dormer 3"]
[null,"Floor",null,null,null,null,null,null,null,"Temp Difference","Heat Loss (W)","Usage (kWh)",{"$f":"IF($C$3=\"Ground Floor\",\"Select type of Ground Floor\",IF($C$3=\"Single Storey\",\"Select type of Ground Floor\",\"#N/A\"))","v":"#N/A"}]
[null,{"$f":"B10","v":"Length (m)"},null,{"$f":"D10","v":"Width (m)"},null,"Area (m²)",{"$f":"C20*E20","v":0},"U Value (W/m²K)",{"$f":"IF(M22=\"\",R8,'floor u values'!K13)","v":0},{"$f":"IF(C$3=\"Ground Floor\",IF(M20=\"Solid Floor (in contact with ground)\",D$4-T$3,D$4-D$5),IF(C$3=\"Single Storey\",IF(M20=\"Solid Floor (in contact with ground)\",D$4-T$3,D$4-D$5),0))","v":0},{"$f":"G20*I20*J20","v":0},{"$f":"IF($C$3=$R$5,0,IF($C$3=$R$7,0,G20*I20*$D$7*24/1000))","v":0},"n/a"]
[null,"Length (m)",null,"Width (m)",null,"Area (m²)",{"$f":"C21*E21","v":0},"U Value (W/m²K)",{"$f":"I20","v":0},{"$f":"IF(C$3=\"Ground Floor\",IF(M20=\"Solid Floor (in contact with ground)\",D$4-T$3,D$4-D$5),IF(C$3=\"Single Storey\",IF(M20=\"Solid Floor (in contact with ground)\",D$4-T$3,D$4-D$5),0))","v":0},{"$f":"G21*I21*J21","v":0},{"$f":"IF($C$3=$R$5,0,IF($C$3=$R$7,0,G21*I21*$D$7*24/1000))","v":0},"Exposed floor (external)"]
[null,"Length (m)",null,"Width (m)",null,"Area (m²)",0,"U Value (W/m²K)",{"$f":"I20","v":0},{"$f":"IF(C$3=\"Ground Floor\",IF(M20=\"Solid Floor (in contact with ground)\",D$4-T$3,D$4-D$5),IF(C$3=\"Single Storey\",IF(M20=\"Solid Floor (in contact with ground)\",D$4-T$3,D$4-D$5),0))","v":0},{"$f":"G22*I22*J22","v":0},{"$f":"IF($C$3=$R$5,0,IF($C$3=$R$7,0,G22*I22*$D$7*24/1000))","v":0}]
[null,"External Wall",null,null,null,null,null,null,null,null,null,null,{"$f":"IF(M22=\"Two opposite\",\"Between edges\",IF(M22=\"One edge\",\"Depth of room\",IF(M22=\"3 edges (short single)\",\"Short length\",IF(M22=\"3 edges (long single)\",\"Short length\",\"\"))))","v":""},null,{"$f":"IF(M22=\"3 edges (short single)\",\"Long length\",IF(M22=\"3 edges (long single)\",\"Long length\",\"\"))","v":""}]
[null,"Length (m)",null,"Height (m)",null,"Area (m²)",0]
[null,"Length (m)",null,"Height (m)",null,"Area (m²)",0]
[null,"Length (m)",null,"Height (m)",null,"Area (m²)",0]
[null,null,null,null,"Total","Area (m²)",{"$f":"SUM(G24:G26)-SUM(G38:G44,G51:G54)","v":0},"U Value (W/m²K)",{"$f":"IF($C$3=\"Ground floor\",'Design Details'!C$48,IF($C$3=\"Mid-floor\",'Design Details'!C$58,IF($C$3=\"Upper floor\",'Design Details'!C$68,IF($C$3=\"Single Storey\",'Design Details'!C$78,0))))","v":0},{"$f":"$D$6","v":2.5},{"$f":"G27*I27*J27","v":0},{"$f":"G27*I27*$D$7*24/1000","v":0}]
[null,"Ceiling (Flat)"]
[null,"Length (m)",null,"Width (m)",null,"Area (m²)",0]
[null,"Length (m)",null,"Width (m)",null,"Area (m²)",0]
[null,"Length (m)",null,"Width (m)",null,"Area (m²)",0,null,null,null,null,null,"Select Temp/Type of Space Above"]
[null,null,null,null,"Total","Area (m²)",{"$f":"SUM(G29:G31)-SUM(G46:G49)","v":0},"U Value (W/m²K)",{"$f":"IF($C$3=\"Ground floor\",'Design Details'!C$49,IF($C$3=\"Mid-floor\",'Design Details'!C$59,IF($C$3=\"Upper floor\",INDIRECT(T52),IF($C$3=\"Single Storey\",INDIRECT(T53),0))))","v":0},{"$f":"U51","v":0},{"$f":"G32*I32*J32","v":0},{"$f":"IF($C$3=$R$4,0,IF($C$3=$R$5,0,G32*I32*$D$7*24/1000))","v":0},"Select..."]
[null,"Ceiling (Awkward)"]
[null,"Length (m)",{"$f":"C14*2","v":0},"Pitch (m)",{"$f":"SQRT(POWER(E14,2)+POWER(G14,2))","v":0},"Area (m²)",{"$f":"C34*E34","v":0},"Pitched"]
[null,"Length (m)",{"$f":"C15","v":0},"Pitch (m)",{"$f":"SQRT(POWER(E15,2)+POWER(G15,2))","v":0},"Area (m²)",0,"Single Pitch"]
[null,null,null,null,"Total","Area (m²)",{"$f":"SUM(G34:G35)-SUM(G46:G49)","v":0},"U Value (W/m²K)",{"$f":"IF($C$3=\"Ground floor\",'Design Details'!C$50,IF($C$3=\"Mid-floor\",'Design Details'!C$60,IF($C$3=\"Upper floor\",'Design Details'!C$70,IF($C$3=\"Single Storey\",'Design Details'!C$80,0))))","v":0},{"$f":"$D$6","v":2.5},0,{"$f":"IF($C$3=$R$4,0,IF($C$3=$R$5,0,G36*I36*$D$7*24/1000))","v":0}]
[null,"Windows"]
[null,"Width (m)",null,"Height (m)",null,"Area (m²)",0,"U Value (W/m²K)",{"$f":"IF($C$3=\"Ground floor\",'Design Details'!C$46,IF($C$3=\"Mid-floor\",'Design Details'!C$56,IF($C$3=\"Upper floor\",'Design Details'!C$66,IF($C$3=\"Single Storey\",'Design Details'!C$76,0))))","v":0},2.5,0,{"$f":"G38*I38*$D$7*24/1000","v":0}]
[null,"Width (m)",null,"Height (m)",null,"Area (m²)",0,"U Value (W/m²K)",{"$f":"IF($C$3=\"Ground floor\",'Design Details'!C$46,IF($C$3=\"Mid-floor\",'Design Details'!C$56,IF($C$3=\"Upper floor\",'Design Details'!C$66,IF($C$3=\"Single Storey\",'Design Details'!C$76,0))))","v":0},2.5,0,0]
[null,"Width (m)",null,"Height (m)",null,"Area (m²)",0,"U Value (W/m²K)",{"$f":"IF($C$3=\"Ground floor\",'Design Details'!C$46,IF($C$3=\"Mid-floor\",'Design Details'!C$56,IF($C$3=\"Upper floor\",'Design Details'!C$66,IF($C$3=\"Single Storey\",'Design Details'!C$76,0))))","v":0},2.5,0,0]
[null,"Width (m)",null,"Height (m)",null,"Area (m²)",0,"U Value (W/m²K)",{"$f":"IF($C$3=\"Ground floor\",'Design Details'!C$46,IF($C$3=\"Mid-floor\",'Design Details'!C$56,IF($C$3=\"Upper floor\",'Design Details'!C$66,IF($C$3=\"Single Storey\",'Design Details'!C$76,0))))","v":0},2.5,0,0]
[null,"Width (m)",null,"Height (m)",null,"Area (m²)",0,"U Value (W/m²K)",{"$f":"IF($C$3=\"Ground floor\",'Design Details'!C$46,IF($C$3=\"Mid-floor\",'Design Details'!C$56,IF($C$3=\"Upper floor\",'Design Details'!C$66,IF($C$3=\"Single Storey\",'Design Details'!C$76,0))))","v":0},2.5,0,0]
[null,"Width (m)",null,"Height (m)",null,"Area (m²)",0,"U Value (W/m²K)",{"$f":"IF($C$3=\"Ground floor\",'Design Details'!C$46,IF($C$3=\"Mid-floor\",'Design Details'!C$56,IF($C$3=\"Upper floor\",'Design Details'!C$66,IF($C$3=\"Single Storey\",'Design Details'!C$76,0))))","v":0},2.5,0,0]
[null,"Width (m)",null,"Height (m)",null,"Area (m²)",0,"U Value (W/m²K)",{"$f":"IF($C$3=\"Ground floor\",'Design Details'!C$46,IF($C$3=\"Mid-floor\",'Design Details'!C$56,IF($C$3=\"Upper floor\",'Design Details'!C$66,IF($C$3=\"Single Storey\",'Design Details'!C$76,0))))","v":0},2.5,0,0]
[null,"Roof Glazing",null,null,null,null,null,null,null,null,null,null,null,null,null,null,"Options for upper floor or single storey","Options for Ground or Mid Floor","Drop-Down List","U-Value Selector","Temp Diff Selector"]
[null,"Width (m)",null,"Height (m)",null,"Area (m²)",0,"U Value (W/m²K)",{"$f":"IF($C$3=\"Ground floor\",'Design Details'!C$53,IF($C$3=\"Mid-floor\",'Design Details'!C$63,IF($C$3=\"Upper floor\",'Design Details'!C$73,IF($C$3=\"Single Storey\",'Design Details'!C$83,0))))","v":0},2.5,0,{"$f":"G46*I46*$D$7*24/1000","v":0}]
[null,"Width (m)",null,"Height (m)",null,"Area (m²)",0,"U Value (W/m²K)",{"$f":"IF($C$3=\"Ground floor\",'Design Details'!C$53,IF($C$3=\"Mid-floor\",'Design Details'!C$63,IF($C$3=\"Upper floor\",'Design Details'!C$73,IF($C$3=\"Single Storey\",'Design Details'!C$83,0))))","v":0},2.5,0,{"$f":"G47*I47*$D$7*24/1000","v":0}]
[null,"Width (m)",null,"Height (m)",null,"Area (m²)",0,"U Value (W/m²K)",{"$f":"IF($C$3=\"Ground floor\",'Design Details'!C$53,IF($C$3=\"Mid-floor\",'Design Details'!C$63,IF($C$3=\"Upper floor\",'Design Details'!C$73,IF($C$3=\"Single Storey\",'Design Details'!C$83,0))))","v":0},2.5,0,{"$f":"G48*I48*$D$7*24/1000","v":0}]
[null,"Width (m)",null,"Height (m)",null,"Area (m²)",0,"U Value (W/m²K)",{"$f":"IF($C$3=\"Ground floor\",'Design Details'!C$53,IF($C$3=\"Mid-floor\",'Design Details'!C$63,IF($C$3=\"Upper floor\",'Design Details'!C$73,IF($C$3=\"Single Storey\",'Design Details'!C$83,0))))","v":0},2.5,0,{"$f":"G49*I49*$D$7*24/1000","v":0}]
[null,"External Doors",null,null,null,null,null,null,null,null,null,null,null,null,null,null,null,null,"Select..."]
[null,"Width (m)",null,"Height (m)",null,"Area (m²)",0,"U Value (W/m²K)",{"$f":"IF($C$3=\"Ground floor\",'Design Details'!C$47,IF($C$3=\"Mid-floor\",'Design Details'!C$57,IF($C$3=\"Upper floor\",'Design Details'!C$67,IF($C$3=\"Single Storey\",'Design Details'!C$77,0))))","v":0},2.5,0,{"$f":"G51*I51*$D$7*24/1000","v":0},null,null,null,null,"Outside","Unheated",{"$f":"IF(OR($C$3=\"Ground Floor\",$C$3=\"Mid-floor\"),R51,Q51)","v":"Outside"},{"$f":"IF(M32=\"Unheated\",1,0)","v":0},{"$f":"IF(M32=\"Select...\",0,(IF(M32=\"Outside\",D6,IF(M32=\"Unheated\",D4-10,D4-M32))))","v":0}]
[null,"Width (m)",null,"Height (m)",null,"Area (m²)",0,"U Value (W/m²K)",{"$f":"IF($C$3=\"Ground floor\",'Design Details'!C$47,IF($C$3=\"Mid-floor\",'Design Details'!C$57,IF($C$3=\"Upper floor\",'Design Details'!C$67,IF($C$3=\"Single Storey\",'Design Details'!C$77,0))))","v":0},2.5,0,{"$f":"G52*I52*$D$7*24/1000","v":0},null,null,null,null,"Unheated","16",{"$f":"IF(OR($C$3=\"Ground Floor\",$C$3=\"Mid-floor\"),R52,Q52)","v":"Unheated"},{"$f":"\"'Design Details'!C$\"&69+T51","v":"'Design Details'!C$69"}]
[null,"Width (m)",null,"Height (m)",null,"Area (m²)",0,"U Value (W/m²K)",{"$f":"IF($C$3=\"Ground floor\",'Design Details'!C$47,IF($C$3=\"Mid-floor\",'Design Details'!C$57,IF($C$3=\"Upper floor\",'Design Details'!C$67,IF($C$3=\"Single Storey\",'Design Details'!C$77,0))))","v":0},2.5,0,{"$f":"G53*I53*$D$7*24/1000","v":0},null,null,null,null,null,"18",{"$f":"IF(OR($C$3=\"Ground Floor\",$C$3=\"Mid-floor\"),R53,Q53)","v":0},{"$f":"\"'Design Details'!C$\"&79+T51","v":"'Design Details'!C$79"}]
[null,"Width (m)",null,"Height (m)",null,"Area (m²)",0,"U Value (W/m²K)",{"$f":"IF($C$3=\"Ground floor\",'Design Details'!C$47,IF($C$3=\"Mid-floor\",'Design Details'!C$57,IF($C$3=\"Upper floor\",'Design Details'!C$67,IF($C$3=\"Single Storey\",'Design Details'!C$77,0))))","v":0},2.5,0,{"$f":"G54*I54*$D$7*24/1000","v":0},null,null,null,null,null,"21",{"$f":"IF(OR($C$3=\"Ground Floor\",$C$3=\"Mid-floor\"),R54,Q54)","v":0}]
[null,"Internal Walls",null,null,null,null,null,null,null,null,null,null,"Adjoining Room Temp (°C)",null,null,null,null,22,{"$f":"IF(OR($C$3=\"Ground Floor\",$C$3=\"Mid-floor\"),R55,Q37)","v":0}]
[null,"Length (m)",null,"Height (m)",null,"Area (m²)",0,"U Value (W/m²K)",{"$f":"IF($C$3=\"Ground floor\",'Design Details'!C$51,IF($C$3=\"Mid-floor\",'Design Details'!C$61,IF($C$3=\"Upper floor\",'Design Details'!C$71,IF($C$3=\"Single Storey\",'Design Details'!C$81,0))))","v":0},{"$f":"IF(M56=\"\",0,IF(M56=\"unheated\",D$4-10,D$4-M56))","v":0},0]
[null,"Length (m)",null,"Height (m)",null,"Area (m²)",0,"U Value (W/m²K)",{"$f":"IF($C$3=\"Ground floor\",'Design Details'!C$51,IF($C$3=\"Mid-floor\",'Design Details'!C$61,IF($C$3=\"Upper floor\",'Design Details'!C$71,IF($C$3=\"Single Storey\",'Design Details'!C$81,0))))","v":0},{"$f":"IF(M57=\"\",0,IF(M57=\"unheated\",D$4-10,D$4-M57))","v":0},0]
[null,"Length (m)",null,"Height (m)",null,"Area (m²)",0,"U Value (W/m²K)",{"$f":"IF($C$3=\"Ground floor\",'Design Details'!C$51,IF($C$3=\"Mid-floor\",'Design Details'!C$61,IF($C$3=\"Upper floor\",'Design Details'!C$71,IF($C$3=\"Single Storey\",'Design Details'!C$81,0))))","v":0},{"$f":"IF(M58=\"\",0,IF(M58=\"unheated\",D$4-10,D$4-M58))","v":0},0]
[null,"Length (m)",null,"Height (m)",null,"Area (m²)",0,"U Value (W/m²K)",{"$f":"IF($C$3=\"Ground floor\",'Design Details'!C$51,IF($C$3=\"Mid-floor\",'Design Details'!C$61,IF($C$3=\"Upper floor\",'Design Details'!C$71,IF($C$3=\"Single Storey\",'Design Details'!C$81,0))))","v":0},{"$f":"IF(M59=\"\",0,IF(M59=\"unheated\",D$4-10,D$4-M59))","v":0},0]
[null,"Party Wall"]
[null,"Length (m)",null,"Height (m)",null,"Area (m²)",0,"U Value (W/m²K)",{"$f":"IF($C$3=\"Ground floor\",'Design Details'!C$52,IF($C$3=\"Mid-floor\",'Design Details'!C$62,IF($C$3=\"Upper floor\",'Design Details'!C$72,IF($C$3=\"Single Storey\",'Design Details'!C$82,0))))","v":0},{"$f":"D4-10","v":-10},0,{"$f":"G61*I61*$D$7*24/1000","v":0}]

{"sheet":"13","index":18,"n_rows":61,"n_cols":25,"rows_kept":61,"cut":false,"hidden":false,"merged":[[58,12,58,14],[44,19,48,19],[44,20,48,20],[54,12,54,14],[55,12,55,14],[56,12,56,14],[57,12,57,14],[44,18,48,18],[21,12,21,14],[30,12,30,14],[31,12,31,14],[44,16,48,16],[44,17,48,17],[20,12,20,14],[3,1,3,2],[3,4,3,5],[4,1,4,2],[4,4,4,5],[5,1,5,2],[5,4,5,5],[6,1,6,2],[9,11,9,14],[10,11,10,14],[18,12,18,14],[19,12,19,14],[0,1,0,3],[0,4,0,6],[0,10,0,11],[1,4,1,5],[2,2,2,3],[2,4,2,5]]}
[null,"Room Information",null,null,"Ventilation Heat Loss",null,null,"Fabric ","Heat Loss (W)"," Usage (kWh)","Additional heat loss",null,"Addition","Watts","kWh"]
[null,"Room",null,null,"Air Changes per hour",null,{"$f":"'Design Details'!G99","v":0},"Floor",{"$f":"SUM(K20:K22)","v":0},{"$f":"SUM(L20:L22)","v":0},"Thermal Bridging (New Build >2006)",null,0,{"$f":"SUM(I$2:I$6)*M2","v":0},{"$f":"SUM(J$2:J$6)*M2","v":0},null,"3 edges (long single)","Level",null,null,null,null,null,null,1]
[null,"Level",null,null,"Air Change Factor (W/m³K)",null,0.33,"Ext Wall",{"$f":"K27","v":0},{"$f":"L27","v":0},"Exposed location",null,0,{"$f":"SUM(I$2:I$6)*M3","v":0},{"$f":"SUM(J$2:J$6)*M3","v":0},null,"3 edges (short single)","Please Select Floor",{"$f":"IF($C$3=\"Ground floor\",\"Solid Floor (in contact with ground)\",IF($C$3=\"Single Storey\",\"Solid Floor (in contact with ground)\",\"n/a\"))","v":"n/a"},{"$f":"'Design Details'!C21","v":10},"unheated",0,0,0,2]
[null,"Design Room Temp (°C)",null,{"$f":"'Design Details'!E99","v":0},"Total Volume (m³)",null,{"$f":"SUM(I10:I12,I14:I18)","v":0},"Roof",{"$f":"SUM(K32,K36)","v":0},{"$f":"SUM(L32,L36)","v":0},"High ceiling",null,0,{"$f":"SUM(I$2:I$6)*M4","v":0},{"$f":"SUM(J$2:J$6)*M4","v":0},null,"One edge","Ground floor",{"$f":"IF($C$3=\"Ground floor\",\"Suspended Floor\",IF($C$3=\"Single Storey\",\"Suspended Floor\",\"n/a\"))","v":"n/a"},null,16,0.1,0.2,2.5000000000000001E-2,3]
[null,"Outside Design Temp (°C)",null,{"$f":"'Design Details'!C19","v":-2.5},"Heat loss (W)",null,{"$f":"G4*G3*D6*G2","v":0},"Glazing",{"$f":"SUM(K38:K44,K46:K49,K51:K54)","v":0},{"$f":"SUM(L38:L44,L46:L49,L51:L54)","v":0},"Intermittent heating",null,0,{"$f":"SUM(I$2:I$6)*M5","v":0},{"$f":"SUM(J$2:J$6)*M5","v":0},null,"Two adjacent","Mid-floor",null,null,18,null,null,0.05,4]
[null,"Temp Difference (°C)",null,{"$f":"D4-D5","v":2.5},"Estimated Energy usage (kWh)",null,{"$f":"G4*G3*D7*24/1000","v":0},"Int./Party Wall",{"$f":"SUM(K56:K59,K61)","v":0},{"$f":"SUM(L61)","v":0},null,null,null,"Total Room Heat Loss (W)",{"$f":"SUM(G5,I2:I6,N2:N5)","v":0},null,"Two opposite","Single storey",null,null,21,null,null,7.4999999999999997E-2,5]
[null,"Degree Days",null,{"$f":"'Design Details'!C20","v":2228},null,null,null,null,null,null,null,null,null,"Total Room Energy Usage (kWh)",{"$f":"SUM(G6,J2:J6,O2:O5)","v":0},null,null,"Upper floor",null,null,22,null,null,0.1,6]
[null,null,null,null,null,null,null,null,null,null,null,null,null,null,null,null,null,{"$f":"IF($C$3=\"Ground floor\",'Design Details'!C$45,IF($C$3=\"Mid-floor\",'Design Details'!C$55,IF($C$3=\"Upper floor\",'Design Details'!C$65,IF($C$3=\"Single Storey\",'Design Details'!C$75,0))))","v":0},null,null,null,null,null,null,7]
[null,"Room Dimensions",null,null,null,null,null,null,null,null,null,null,null,null,null,null,null,null,null,null,null,null,null,null,8]
[null,"Length (m)",null,"Width (m)",null,"Height (m)",null,"Volume (m³)",{"$f":"C10*E10*G10","v":0},null,null,null,null,null,null,null,null,null,null,null,null,null,null,null,9]
[null,"Length (m)",null,"Width (m)",null,"Height (m)",null,"Volume (m³)",{"$f":"C11*E11*G11","v":0},null,null,null,null,null,null,null,null,null,null,null,null,null,null,null,10]
[null,"Length (m)",null,"Width (m)",null,"Height (m)",null,"Volume (m³)",{"$f":"C12*E12*G12","v":0}]
[null,"Awkward Room Dimensions"]
[null,"Length (m)",null,"Width (m)",null,"Height (m)",null,"Volume (m³)",{"$f":"((G14*E14)/2)*C14","v":0},"Pitched"]
[null,"Length (m)",null,"Width (m)",null,"Height (m)",null,"Volume (m³)",{"$f":"C15*E15*G15/2","v":0},"Single Pitch"]
[null,"Length (m)",null,"Height (m)",null,"Depth (m)",null,"Volume (m³)",{"$f":"E16*G16*C16/2","v":0},"Dormer 1"]
[null,"Length (m)",null,"Height (m)",null,"Depth (m)",null,"Volume (m³)",{"$f":"E17*G17*C17/2","v":0},"Dormer 2"]
[null,"Length (m)",null,"Height (m)",null,"Depth (m)",null,"Volume (m³)",{"$f":"E18*G18*C18/2","v":0},"Dormer 3"]
[null,"Floor",null,null,null,null,null,null,null,"Temp Difference","Heat Loss (W)","Usage (kWh)",{"$f":"IF($C$3=\"Ground Floor\",\"Select type of Ground Floor\",IF($C$3=\"Single Storey\",\"Select type of Ground Floor\",\"#N/A\"))","v":"#N/A"}]
[null,{"$f":"B10","v":"Length (m)"},null,{"$f":"D10","v":"Width (m)"},null,"Area (m²)",{"$f":"C20*E20","v":0},"U Value (W/m²K)",{"$f":"IF(M22=\"\",R8,'floor u values'!K14)","v":0},{"$f":"IF(C$3=\"Ground Floor\",IF(M20=\"Solid Floor (in contact with ground)\",D$4-T$3,D$4-D$5),IF(C$3=\"Single Storey\",IF(M20=\"Solid Floor (in contact with ground)\",D$4-T$3,D$4-D$5),0))","v":0},{"$f":"G20*I20*J20","v":0},{"$f":"IF($C$3=$R$5,0,IF($C$3=$R$7,0,G20*I20*$D$7*24/1000))","v":0},"n/a"]
[null,"Length (m)",null,"Width (m)",null,"Area (m²)",{"$f":"C21*E21","v":0},"U Value (W/m²K)",{"$f":"I20","v":0},{"$f":"IF(C$3=\"Ground Floor\",IF(M20=\"Solid Floor (in contact with ground)\",D$4-T$3,D$4-D$5),IF(C$3=\"Single Storey\",IF(M20=\"Solid Floor (in contact with ground)\",D$4-T$3,D$4-D$5),0))","v":0},{"$f":"G21*I21*J21","v":0},{"$f":"IF($C$3=$R$5,0,IF($C$3=$R$7,0,G21*I21*$D$7*24/1000))","v":0},"Exposed floor (external)"]
[null,"Length (m)",null,"Width (m)",null,"Area (m²)",0,"U Value (W/m²K)",{"$f":"I20","v":0},{"$f":"IF(C$3=\"Ground Floor\",IF(M20=\"Solid Floor (in contact with ground)\",D$4-T$3,D$4-D$5),IF(C$3=\"Single Storey\",IF(M20=\"Solid Floor (in contact with ground)\",D$4-T$3,D$4-D$5),0))","v":0},{"$f":"G22*I22*J22","v":0},{"$f":"IF($C$3=$R$5,0,IF($C$3=$R$7,0,G22*I22*$D$7*24/1000))","v":0}]
[null,"External Wall",null,null,null,null,null,null,null,null,null,null,{"$f":"IF(M22=\"Two opposite\",\"Between edges\",IF(M22=\"One edge\",\"Depth of room\",IF(M22=\"3 edges (short single)\",\"Short length\",IF(M22=\"3 edges (long single)\",\"Short length\",\"\"))))","v":""},null,{"$f":"IF(M22=\"3 edges (short single)\",\"Long length\",IF(M22=\"3 edges (long single)\",\"Long length\",\"\"))","v":""}]
[null,"Length (m)",null,"Height (m)",null,"Area (m²)",0]
[null,"Length (m)",null,"Height (m)",null,"Area (m²)",0]
[null,"Length (m)",null,"Height (m)",null,"Area (m²)",0]
[null,null,null,null,"Total","Area (m²)",{"$f":"SUM(G24:G26)-SUM(G38:G44,G51:G54)","v":0},"U Value (W/m²K)",{"$f":"IF($C$3=\"Ground floor\",'Design Details'!C$48,IF($C$3=\"Mid-floor\",'Design Details'!C$58,IF($C$3=\"Upper floor\",'Design Details'!C$68,IF($C$3=\"Single Storey\",'Design Details'!C$78,0))))","v":0},{"$f":"$D$6","v":2.5},{"$f":"G27*I27*J27","v":0},{"$f":"G27*I27*$D$7*24/1000","v":0}]
[null,"Ceiling (Flat)"]
[null,"Length (m)",null,"Width (m)",null,"Area (m²)",0]
[null,"Length (m)",null,"Width (m)",null,"Area (m²)",0]
[null,"Length (m)",null,"Width (m)",null,"Area (m²)",0,null,null,null,null,null,"Select Temp/Type of Space Above"]
[null,null,null,null,"Total","Area (m²)",{"$f":"SUM(G29:G31)-SUM(G46:G49)","v":0},"U Value (W/m²K)",{"$f":"IF($C$3=\"Ground floor\",'Design Details'!C$49,IF($C$3=\"Mid-floor\",'Design Details'!C$59,IF($C$3=\"Upper floor\",INDIRECT(T52),IF($C$3=\"Single Storey\",INDIRECT(T53),0))))","v":0},{"$f":"U51","v":0},{"$f":"G32*I32*J32","v":0},{"$f":"IF($C$3=$R$4,0,IF($C$3=$R$5,0,G32*I32*$D$7*24/1000))","v":0},"Select..."]
[null,"Ceiling (Awkward)"]
[null,"Length (m)",{"$f":"C14*2","v":0},"Pitch (m)",{"$f":"SQRT(POWER(E14,2)+POWER(G14,2))","v":0},"Area (m²)",{"$f":"C34*E34","v":0},"Pitched"]
[null,"Length (m)",{"$f":"C15","v":0},"Pitch (m)",{"$f":"SQRT(POWER(E15,2)+POWER(G15,2))","v":0},"Area (m²)",0,"Single Pitch"]
[null,null,null,null,"Total","Area (m²)",{"$f":"SUM(G34:G35)-SUM(G46:G49)","v":0},"U Value (W/m²K)",{"$f":"IF($C$3=\"Ground floor\",'Design Details'!C$50,IF($C$3=\"Mid-floor\",'Design Details'!C$60,IF($C$3=\"Upper floor\",'Design Details'!C$70,IF($C$3=\"Single Storey\",'Design Details'!C$80,0))))","v":0},{"$f":"$D$6","v":2.5},0,{"$f":"IF($C$3=$R$4,0,IF($C$3=$R$5,0,G36*I36*$D$7*24/1000))","v":0}]
[null,"Windows"]
[null,"Width (m)",null,"Height (m)",null,"Area (m²)",0,"U Value (W/m²K)",{"$f":"IF($C$3=\"Ground floor\",'Design Details'!C$46,IF($C$3=\"Mid-floor\",'Design Details'!C$56,IF($C$3=\"Upper floor\",'Design Details'!C$66,IF($C$3=\"Single Storey\",'Design Details'!C$76,0))))","v":0},2.5,0,{"$f":"G38*I38*$D$7*24/1000","v":0}]
[null,"Width (m)",null,"Height (m)",null,"Area (m²)",0,"U Value (W/m²K)",{"$f":"IF($C$3=\"Ground floor\",'Design Details'!C$46,IF($C$3=\"Mid-floor\",'Design Details'!C$56,IF($C$3=\"Upper floor\",'Design Details'!C$66,IF($C$3=\"Single Storey\",'Design Details'!C$76,0))))","v":0},2.5,0,0]
[null,"Width (m)",null,"Height (m)",null,"Area (m²)",0,"U Value (W/m²K)",{"$f":"IF($C$3=\"Ground floor\",'Design Details'!C$46,IF($C$3=\"Mid-floor\",'Design Details'!C$56,IF($C$3=\"Upper floor\",'Design Details'!C$66,IF($C$3=\"Single Storey\",'Design Details'!C$76,0))))","v":0},2.5,0,0]
[null,"Width (m)",null,"Height (m)",null,"Area (m²)",0,"U Value (W/m²K)",{"$f":"IF($C$3=\"Ground floor\",'Design Details'!C$46,IF($C$3=\"Mid-floor\",'Design Details'!C$56,IF($C$3=\"Upper floor\",'Design Details'!C$66,IF($C$3=\"Single Storey\",'Design Details'!C$76,0))))","v":0},2.5,0,0]
[null,"Width (m)",null,"Height (m)",null,"Area (m²)",0,"U Value (W/m²K)",{"$f":"IF($C$3=\"Ground floor\",'Design Details'!C$46,IF($C$3=\"Mid-floor\",'Design Details'!C$56,IF($C$3=\"Upper floor\",'Design Details'!C$66,IF($C$3=\"Single Storey\",'Design Details'!C$76,0))))","v":0},2.5,0,0]
[null,"Width (m)",null,"Height (m)",null,"Area (m²)",0,"U Value (W/m²K)",{"$f":"IF($C$3=\"Ground floor\",'Design Details'!C$46,IF($C$3=\"Mid-floor\",'Design Details'!C$56,IF($C$3=\"Upper floor\",'Design Details'!C$66,IF($C$3=\"Single Storey\",'Design Details'!C$76,0))))","v":0},2.5,0,0]
[null,"Width (m)",null,"Height (m)",null,"Area (m²)",0,"U Value (W/m²K)",{"$f":"IF($C$3=\"Ground floor\",'Design Details'!C$46,IF($C$3=\"Mid-floor\",'Design Details'!C$56,IF($C$3=\"Upper floor\",'Design Details'!C$66,IF($C$3=\"Single Storey\",'Design Details'!C$76,0))))","v":0},2.5,0,0]
[null,"Roof Glazing",null,null,null,null,null,null,null,null,null,null,null,null,null,null,"Options for upper floor or single storey","Options for Ground or Mid Floor","Drop-Down List","U-Value Selector","Temp Diff Selector"]
[null,"Width (m)",null,"Height (m)",null,"Area (m²)",0,"U Value (W/m²K)",{"$f":"IF($C$3=\"Ground floor\",'Design Details'!C$53,IF($C$3=\"Mid-floor\",'Design Details'!C$63,IF($C$3=\"Upper floor\",'Design Details'!C$73,IF($C$3=\"Single Storey\",'Design Details'!C$83,0))))","v":0},2.5,0,{"$f":"G46*I46*$D$7*24/1000","v":0}]
[null,"Width (m)",null,"Height (m)",null,"Area (m²)",0,"U Value (W/m²K)",{"$f":"IF($C$3=\"Ground floor\",'Design Details'!C$53,IF($C$3=\"Mid-floor\",'Design Details'!C$63,IF($C$3=\"Upper floor\",'Design Details'!C$73,IF($C$3=\"Single Storey\",'Design Details'!C$83,0))))","v":0},2.5,0,{"$f":"G47*I47*$D$7*24/1000","v":0}]
[null,"Width (m)",null,"Height (m)",null,"Area (m²)",0,"U Value (W/m²K)",{"$f":"IF($C$3=\"Ground floor\",'Design Details'!C$53,IF($C$3=\"Mid-floor\",'Design Details'!C$63,IF($C$3=\"Upper floor\",'Design Details'!C$73,IF($C$3=\"Single Storey\",'Design Details'!C$83,0))))","v":0},2.5,0,{"$f":"G48*I48*$D$7*24/1000","v":0}]
[null,"Width (m)",null,"Height (m)",null,"Area (m²)",0,"U Value (W/m²K)",{"$f":"IF($C$3=\"Ground floor\",'Design Details'!C$53,IF($C$3=\"Mid-floor\",'Design Details'!C$63,IF($C$3=\"Upper floor\",'Design Details'!C$73,IF($C$3=\"Single Storey\",'Design Details'!C$83,0))))","v":0},2.5,0,{"$f":"G49*I49*$D$7*24/1000","v":0}]
[null,"External Doors",null,null,null,null,null,null,null,null,null,null,null,null,null,null,null,null,"Select..."]
[null,"Width (m)",null,"Height (m)",null,"Area (m²)",0,"U Value (W/m²K)",{"$f":"IF($C$3=\"Ground floor\",'Design Details'!C$47,IF($C$3=\"Mid-floor\",'Design Details'!C$57,IF($C$3=\"Upper floor\",'Design Details'!C$67,IF($C$3=\"Single Storey\",'Design Details'!C$77,0))))","v":0},2.5,0,{"$f":"G51*I51*$D$7*24/1000","v":0},null,null,null,null,"Outside","Unheated",{"$f":"IF(OR($C$3=\"Ground Floor\",$C$3=\"Mid-floor\"),R51,Q51)","v":"Outside"},{"$f":"IF(M32=\"Unheated\",1,0)","v":0},{"$f":"IF(M32=\"Select...\",0,(IF(M32=\"Outside\",D6,IF(M32=\"Unheated\",D4-10,D4-M32))))","v":0}]
[null,"Width (m)",null,"Height (m)",null,"Area (m²)",0,"U Value (W/m²K)",{"$f":"IF($C$3=\"Ground floor\",'Design Details'!C$47,IF($C$3=\"Mid-floor\",'Design Details'!C$57,IF($C$3=\"Upper floor\",'Design Details'!C$67,IF($C$3=\"Single Storey\",'Design Details'!C$77,0))))","v":0},2.5,0,{"$f":"G52*I52*$D$7*24/1000","v":0},null,null,null,null,"Unheated","16",{"$f":"IF(OR($C$3=\"Ground Floor\",$C$3=\"Mid-floor\"),R52,Q52)","v":"Unheated"},{"$f":"\"'Design Details'!C$\"&69+T51","v":"'Design Details'!C$69"}]
[null,"Width (m)",null,"Height (m)",null,"Area (m²)",0,"U Value (W/m²K)",{"$f":"IF($C$3=\"Ground floor\",'Design Details'!C$47,IF($C$3=\"Mid-floor\",'Design Details'!C$57,IF($C$3=\"Upper floor\",'Design Details'!C$67,IF($C$3=\"Single Storey\",'Design Details'!C$77,0))))","v":0},2.5,0,{"$f":"G53*I53*$D$7*24/1000","v":0},null,null,null,null,null,"18",{"$f":"IF(OR($C$3=\"Ground Floor\",$C$3=\"Mid-floor\"),R53,Q53)","v":0},{"$f":"\"'Design Details'!C$\"&79+T51","v":"'Design Details'!C$79"}]
[null,"Width (m)",null,"Height (m)",null,"Area (m²)",0,"U Value (W/m²K)",{"$f":"IF($C$3=\"Ground floor\",'Design Details'!C$47,IF($C$3=\"Mid-floor\",'Design Details'!C$57,IF($C$3=\"Upper floor\",'Design Details'!C$67,IF($C$3=\"Single Storey\",'Design Details'!C$77,0))))","v":0},2.5,0,{"$f":"G54*I54*$D$7*24/1000","v":0},null,null,null,null,null,"21",{"$f":"IF(OR($C$3=\"Ground Floor\",$C$3=\"Mid-floor\"),R54,Q54)","v":0}]
[null,"Internal Walls",null,null,null,null,null,null,null,null,null,null,"Adjoining Room Temp (°C)",null,null,null,null,22,{"$f":"IF(OR($C$3=\"Ground Floor\",$C$3=\"Mid-floor\"),R55,Q37)","v":0}]
[null,"Length (m)",null,"Height (m)",null,"Area (m²)",0,"U Value (W/m²K)",{"$f":"IF($C$3=\"Ground floor\",'Design Details'!C$51,IF($C$3=\"Mid-floor\",'Design Details'!C$61,IF($C$3=\"Upper floor\",'Design Details'!C$71,IF($C$3=\"Single Storey\",'Design Details'!C$81,0))))","v":0},{"$f":"IF(M56=\"\",0,IF(M56=\"unheated\",D$4-10,D$4-M56))","v":0},0]
[null,"Length (m)",null,"Height (m)",null,"Area (m²)",0,"U Value (W/m²K)",{"$f":"IF($C$3=\"Ground floor\",'Design Details'!C$51,IF($C$3=\"Mid-floor\",'Design Details'!C$61,IF($C$3=\"Upper floor\",'Design Details'!C$71,IF($C$3=\"Single Storey\",'Design Details'!C$81,0))))","v":0},{"$f":"IF(M57=\"\",0,IF(M57=\"unheated\",D$4-10,D$4-M57))","v":0},0]
[null,"Length (m)",null,"Height (m)",null,"Area (m²)",0,"U Value (W/m²K)",{"$f":"IF($C$3=\"Ground floor\",'Design Details'!C$51,IF($C$3=\"Mid-floor\",'Design Details'!C$61,IF($C$3=\"Upper floor\",'Design Details'!C$71,IF($C$3=\"Single Storey\",'Design Details'!C$81,0))))","v":0},{"$f":"IF(M58=\"\",0,IF(M58=\"unheated\",D$4-10,D$4-M58))","v":0},0]
[null,"Length (m)",null,"Height (m)",null,"Area (m²)",0,"U Value (W/m²K)",{"$f":"IF($C$3=\"Ground floor\",'Design Details'!C$51,IF($C$3=\"Mid-floor\",'Design Details'!C$61,IF($C$3=\"Upper floor\",'Design Details'!C$71,IF($C$3=\"Single Storey\",'Design Details'!C$81,0))))","v":0},{"$f":"IF(M59=\"\",0,IF(M59=\"unheated\",D$4-10,D$4-M59))","v":0},0]
[null,"Party Wall"]
[null,"Length (m)",null,"Height (m)",null,"Area (m²)",0,"U Value (W/m²K)",{"$f":"IF($C$3=\"Ground floor\",'Design Details'!C$52,IF($C$3=\"Mid-floor\",'Design Details'!C$62,IF($C$3=\"Upper floor\",'Design Details'!C$72,IF($C$3=\"Single Storey\",'Design Details'!C$82,0))))","v":0},{"$f":"D4-10","v":-10},0,{"$f":"G61*I61*$D$7*24/1000","v":0}]

{"sheet":"14","index":19,"n_rows":61,"n_cols":25,"rows_kept":61,"cut":false,"hidden":false,"merged":[[58,12,58,14],[44,19,48,19],[44,20,48,20],[54,12,54,14],[55,12,55,14],[56,12,56,14],[57,12,57,14],[44,18,48,18],[21,12,21,14],[30,12,30,14],[31,12,31,14],[44,16,48,16],[44,17,48,17],[20,12,20,14],[3,1,3,2],[3,4,3,5],[4,1,4,2],[4,4,4,5],[5,1,5,2],[5,4,5,5],[6,1,6,2],[9,11,9,14],[10,11,10,14],[18,12,18,14],[19,12,19,14],[0,1,0,3],[0,4,0,6],[0,10,0,11],[1,4,1,5],[2,2,2,3],[2,4,2,5]]}
[null,"Room Information",null,null,"Ventilation Heat Loss",null,null,"Fabric ","Heat Loss (W)"," Usage (kWh)","Additional heat loss",null,"Addition","Watts","kWh"]
[null,"Room",null,null,"Air Changes per hour",null,{"$f":"'Design Details'!G100","v":0},"Floor",{"$f":"SUM(K20:K22)","v":0},{"$f":"SUM(L20:L22)","v":0},"Thermal Bridging (New Build >2006)",null,0,{"$f":"SUM(I$2:I$6)*M2","v":0},{"$f":"SUM(J$2:J$6)*M2","v":0},null,"3 edges (long single)","Level",null,null,null,null,null,null,1]
[null,"Level",null,null,"Air Change Factor (W/m³K)",null,0.33,"Ext Wall",{"$f":"K27","v":0},{"$f":"L27","v":0},"Exposed location",null,0,{"$f":"SUM(I$2:I$6)*M3","v":0},{"$f":"SUM(J$2:J$6)*M3","v":0},null,"3 edges (short single)","Please Select Floor",{"$f":"IF($C$3=\"Ground floor\",\"Solid Floor (in contact with ground)\",IF($C$3=\"Single Storey\",\"Solid Floor (in contact with ground)\",\"n/a\"))","v":"n/a"},{"$f":"'Design Details'!C21","v":10},"unheated",0,0,0,2]
[null,"Design Room Temp (°C)",null,{"$f":"'Design Details'!E100","v":0},"Total Volume (m³)",null,{"$f":"SUM(I10:I12,I14:I18)","v":0},"Roof",{"$f":"SUM(K32,K36)","v":0},{"$f":"SUM(L32,L36)","v":0},"High ceiling",null,0,{"$f":"SUM(I$2:I$6)*M4","v":0},{"$f":"SUM(J$2:J$6)*M4","v":0},null,"One edge","Ground floor",{"$f":"IF($C$3=\"Ground floor\",\"Suspended Floor\",IF($C$3=\"Single Storey\",\"Suspended Floor\",\"n/a\"))","v":"n/a"},null,16,0.1,0.2,2.5000000000000001E-2,3]
[null,"Outside Design Temp (°C)",null,{"$f":"'Design Details'!C19","v":-2.5},"Heat loss (W)",null,{"$f":"G4*G3*D6*G2","v":0},"Glazing",{"$f":"SUM(K38:K44,K46:K49,K51:K54)","v":0},{"$f":"SUM(L38:L44,L46:L49,L51:L54)","v":0},"Intermittent heating",null,0,{"$f":"SUM(I$2:I$6)*M5","v":0},{"$f":"SUM(J$2:J$6)*M5","v":0},null,"Two adjacent","Mid-floor",null,null,18,null,null,0.05,4]
[null,"Temp Difference (°C)",null,{"$f":"D4-D5","v":2.5},"Estimated Energy usage (kWh)",null,{"$f":"G4*G3*D7*24/1000","v":0},"Int./Party Wall",{"$f":"SUM(K56:K59,K61)","v":0},{"$f":"SUM(L61)","v":0},null,null,null,"Total Room Heat Loss (W)",{"$f":"SUM(G5,I2:I6,N2:N5)","v":0},null,"Two opposite","Single storey",null,null,21,null,null,7.4999999999999997E-2,5]
[null,"Degree Days",null,{"$f":"'Design Details'!C20","v":2228},null,null,null,null,null,null,null,null,null,"Total Room Energy Usage (kWh)",{"$f":"SUM(G6,J2:J6,O2:O5)","v":0},null,null,"Upper floor",null,null,22,null,null,0.1,6]
[null,null,null,null,null,null,null,null,null,null,null,null,null,null,null,null,null,{"$f":"IF($C$3=\"Ground floor\",'Design Details'!C$45,IF($C$3=\"Mid-floor\",'Design Details'!C$55,IF($C$3=\"Upper floor\",'Design Details'!C$65,IF($C$3=\"Single Storey\",'Design Details'!C$75,0))))","v":0},null,null,null,null,null,null,7]
[null,"Room Dimensions",null,null,null,null,null,null,null,null,null,null,null,null,null,null,null,null,null,null,null,null,null,null,8]
[null,"Length (m)",null,"Width (m)",null,"Height (m)",null,"Volume (m³)",{"$f":"C10*E10*G10","v":0},null,null,null,null,null,null,null,null,null,null,null,null,null,null,null,9]
[null,"Length (m)",null,"Width (m)",null,"Height (m)",null,"Volume (m³)",{"$f":"C11*E11*G11","v":0},null,null,null,null,null,null,null,null,null,null,null,null,null,null,null,10]
[null,"Length (m)",null,"Width (m)",null,"Height (m)",null,"Volume (m³)",{"$f":"C12*E12*G12","v":0}]
[null,"Awkward Room Dimensions"]
[null,"Length (m)",null,"Width (m)",null,"Height (m)",null,"Volume (m³)",{"$f":"((G14*E14)/2)*C14","v":0},"Pitched"]
[null,"Length (m)",null,"Width (m)",null,"Height (m)",null,"Volume (m³)",{"$f":"C15*E15*G15/2","v":0},"Single Pitch"]
[null,"Length (m)",null,"Height (m)",null,"Depth (m)",null,"Volume (m³)",{"$f":"E16*G16*C16/2","v":0},"Dormer 1"]
[null,"Length (m)",null,"Height (m)",null,"Depth (m)",null,"Volume (m³)",{"$f":"E17*G17*C17/2","v":0},"Dormer 2"]
[null,"Length (m)",null,"Height (m)",null,"Depth (m)",null,"Volume (m³)",{"$f":"E18*G18*C18/2","v":0},"Dormer 3"]
[null,"Floor",null,null,null,null,null,null,null,"Temp Difference","Heat Loss (W)","Usage (kWh)",{"$f":"IF($C$3=\"Ground Floor\",\"Select type of Ground Floor\",IF($C$3=\"Single Storey\",\"Select type of Ground Floor\",\"#N/A\"))","v":"#N/A"}]
[null,{"$f":"B10","v":"Length (m)"},null,{"$f":"D10","v":"Width (m)"},null,"Area (m²)",{"$f":"C20*E20","v":0},"U Value (W/m²K)",{"$f":"IF(M22=\"\",R8,'floor u values'!K15)","v":0},{"$f":"IF(C$3=\"Ground Floor\",IF(M20=\"Solid Floor (in contact with ground)\",D$4-T$3,D$4-D$5),IF(C$3=\"Single Storey\",IF(M20=\"Solid Floor (in contact with ground)\",D$4-T$3,D$4-D$5),0))","v":0},{"$f":"G20*I20*J20","v":0},{"$f":"IF($C$3=$R$5,0,IF($C$3=$R$7,0,G20*I20*$D$7*24/1000))","v":0},"n/a"]
[null,"Length (m)",null,"Width (m)",null,"Area (m²)",{"$f":"C21*E21","v":0},"U Value (W/m²K)",{"$f":"I20","v":0},{"$f":"IF(C$3=\"Ground Floor\",IF(M20=\"Solid Floor (in contact with ground)\",D$4-T$3,D$4-D$5),IF(C$3=\"Single Storey\",IF(M20=\"Solid Floor (in contact with ground)\",D$4-T$3,D$4-D$5),0))","v":0},{"$f":"G21*I21*J21","v":0},{"$f":"IF($C$3=$R$5,0,IF($C$3=$R$7,0,G21*I21*$D$7*24/1000))","v":0},"Exposed floor (external)"]
[null,"Length (m)",null,"Width (m)",null,"Area (m²)",0,"U Value (W/m²K)",{"$f":"I20","v":0},{"$f":"IF(C$3=\"Ground Floor\",IF(M20=\"Solid Floor (in contact with ground)\",D$4-T$3,D$4-D$5),IF(C$3=\"Single Storey\",IF(M20=\"Solid Floor (in contact with ground)\",D$4-T$3,D$4-D$5),0))","v":0},{"$f":"G22*I22*J22","v":0},{"$f":"IF($C$3=$R$5,0,IF($C$3=$R$7,0,G22*I22*$D$7*24/1000))","v":0}]
[null,"External Wall",null,null,null,null,null,null,null,null,null,null,{"$f":"IF(M22=\"Two opposite\",\"Between edges\",IF(M22=\"One edge\",\"Depth of room\",IF(M22=\"3 edges (short single)\",\"Short length\",IF(M22=\"3 edges (long single)\",\"Short length\",\"\"))))","v":""},null,{"$f":"IF(M22=\"3 edges (short single)\",\"Long length\",IF(M22=\"3 edges (long single)\",\"Long length\",\"\"))","v":""}]
[null,"Length (m)",null,"Height (m)",null,"Area (m²)",0]
[null,"Length (m)",null,"Height (m)",null,"Area (m²)",0]
[null,"Length (m)",null,"Height (m)",null,"Area (m²)",0]
[null,null,null,null,"Total","Area (m²)",{"$f":"SUM(G24:G26)-SUM(G38:G44,G51:G54)","v":0},"U Value (W/m²K)",{"$f":"IF($C$3=\"Ground floor\",'Design Details'!C$48,IF($C$3=\"Mid-floor\",'Design Details'!C$58,IF($C$3=\"Upper floor\",'Design Details'!C$68,IF($C$3=\"Single Storey\",'Design Details'!C$78,0))))","v":0},{"$f":"$D$6","v":2.5},{"$f":"G27*I27*J27","v":0},{"$f":"G27*I27*$D$7*24/1000","v":0}]
[null,"Ceiling (Flat)"]
[null,"Length (m)",null,"Width (m)",null,"Area (m²)",0]
[null,"Length (m)",null,"Width (m)",null,"Area (m²)",0]
[null,"Length (m)",null,"Width (m)",null,"Area (m²)",0,null,null,null,null,null,"Select Temp/Type of Space Above"]
[null,null,null,null,"Total","Area (m²)",{"$f":"SUM(G29:G31)-SUM(G46:G49)","v":0},"U Value (W/m²K)",{"$f":"IF($C$3=\"Ground floor\",'Design Details'!C$49,IF($C$3=\"Mid-floor\",'Design Details'!C$59,IF($C$3=\"Upper floor\",INDIRECT(T52),IF($C$3=\"Single Storey\",INDIRECT(T53),0))))","v":0},{"$f":"U51","v":0},{"$f":"G32*I32*J32","v":0},{"$f":"IF($C$3=$R$4,0,IF($C$3=$R$5,0,G32*I32*$D$7*24/1000))","v":0},"Select..."]
[null,"Ceiling (Awkward)"]
[null,"Length (m)",{"$f":"C14*2","v":0},"Pitch (m)",{"$f":"SQRT(POWER(E14,2)+POWER(G14,2))","v":0},"Area (m²)",{"$f":"C34*E34","v":0},"Pitched"]
[null,"Length (m)",{"$f":"C15","v":0},"Pitch (m)",{"$f":"SQRT(POWER(E15,2)+POWER(G15,2))","v":0},"Area (m²)",0,"Single Pitch"]
[null,null,null,null,"Total","Area (m²)",{"$f":"SUM(G34:G35)-SUM(G46:G49)","v":0},"U Value (W/m²K)",{"$f":"IF($C$3=\"Ground floor\",'Design Details'!C$50,IF($C$3=\"Mid-floor\",'Design Details'!C$60,IF($C$3=\"Upper floor\",'Design Details'!C$70,IF($C$3=\"Single Storey\",'Design Details'!C$80,0))))","v":0},{"$f":"$D$6","v":2.5},0,{"$f":"IF($C$3=$R$4,0,IF($C$3=$R$5,0,G36*I36*$D$7*24/1000))","v":0}]
[null,"Windows"]
[null,"Width (m)",null,"Height (m)",null,"Area (m²)",0,"U Value (W/m²K)",{"$f":"IF($C$3=\"Ground floor\",'Design Details'!C$46,IF($C$3=\"Mid-floor\",'Design Details'!C$56,IF($C$3=\"Upper floor\",'Design Details'!C$66,IF($C$3=\"Single Storey\",'Design Details'!C$76,0))))","v":0},2.5,0,{"$f":"G38*I38*$D$7*24/1000","v":0}]
[null,"Width (m)",null,"Height (m)",null,"Area (m²)",0,"U Value (W/m²K)",{"$f":"IF($C$3=\"Ground floor\",'Design Details'!C$46,IF($C$3=\"Mid-floor\",'Design Details'!C$56,IF($C$3=\"Upper floor\",'Design Details'!C$66,IF($C$3=\"Single Storey\",'Design Details'!C$76,0))))","v":0},2.5,0,0]
[null,"Width (m)",null,"Height (m)",null,"Area (m²)",0,"U Value (W/m²K)",{"$f":"IF($C$3=\"Ground floor\",'Design Details'!C$46,IF($C$3=\"Mid-floor\",'Design Details'!C$56,IF($C$3=\"Upper floor\",'Design Details'!C$66,IF($C$3=\"Single Storey\",'Design Details'!C$76,0))))","v":0},2.5,0,0]
[null,"Width (m)",null,"Height (m)",null,"Area (m²)",0,"U Value (W/m²K)",{"$f":"IF($C$3=\"Ground floor\",'Design Details'!C$46,IF($C$3=\"Mid-floor\",'Design Details'!C$56,IF($C$3=\"Upper floor\",'Design Details'!C$66,IF($C$3=\"Single Storey\",'Design Details'!C$76,0))))","v":0},2.5,0,0]
[null,"Width (m)",null,"Height (m)",null,"Area (m²)",0,"U Value (W/m²K)",{"$f":"IF($C$3=\"Ground floor\",'Design Details'!C$46,IF($C$3=\"Mid-floor\",'Design Details'!C$56,IF($C$3=\"Upper floor\",'Design Details'!C$66,IF($C$3=\"Single Storey\",'Design Details'!C$76,0))))","v":0},2.5,0,0]
[null,"Width (m)",null,"Height (m)",null,"Area (m²)",0,"U Value (W/m²K)",{"$f":"IF($C$3=\"Ground floor\",'Design Details'!C$46,IF($C$3=\"Mid-floor\",'Design Details'!C$56,IF($C$3=\"Upper floor\",'Design Details'!C$66,IF($C$3=\"Single Storey\",'Design Details'!C$76,0))))","v":0},2.5,0,0]
[null,"Width (m)",null,"Height (m)",null,"Area (m²)",0,"U Value (W/m²K)",{"$f":"IF($C$3=\"Ground floor\",'Design Details'!C$46,IF($C$3=\"Mid-floor\",'Design Details'!C$56,IF($C$3=\"Upper floor\",'Design Details'!C$66,IF($C$3=\"Single Storey\",'Design Details'!C$76,0))))","v":0},2.5,0,0]
[null,"Roof Glazing",null,null,null,null,null,null,null,null,null,null,null,null,null,null,"Options for upper floor or single storey","Options for Ground or Mid Floor","Drop-Down List","U-Value Selector","Temp Diff Selector"]
[null,"Width (m)",null,"Height (m)",null,"Area (m²)",0,"U Value (W/m²K)",{"$f":"IF($C$3=\"Ground floor\",'Design Details'!C$53,IF($C$3=\"Mid-floor\",'Design Details'!C$63,IF($C$3=\"Upper floor\",'Design Details'!C$73,IF($C$3=\"Single Storey\",'Design Details'!C$83,0))))","v":0},2.5,0,{"$f":"G46*I46*$D$7*24/1000","v":0}]
[null,"Width (m)",null,"Height (m)",null,"Area (m²)",0,"U Value (W/m²K)",{"$f":"IF($C$3=\"Ground floor\",'Design Details'!C$53,IF($C$3=\"Mid-floor\",'Design Details'!C$63,IF($C$3=\"Upper floor\",'Design Details'!C$73,IF($C$3=\"Single Storey\",'Design Details'!C$83,0))))","v":0},2.5,0,{"$f":"G47*I47*$D$7*24/1000","v":0}]
[null,"Width (m)",null,"Height (m)",null,"Area (m²)",0,"U Value (W/m²K)",{"$f":"IF($C$3=\"Ground floor\",'Design Details'!C$53,IF($C$3=\"Mid-floor\",'Design Details'!C$63,IF($C$3=\"Upper floor\",'Design Details'!C$73,IF($C$3=\"Single Storey\",'Design Details'!C$83,0))))","v":0},2.5,0,{"$f":"G48*I48*$D$7*24/1000","v":0}]
[null,"Width (m)",null,"Height (m)",null,"Area (m²)",0,"U Value (W/m²K)",{"$f":"IF($C$3=\"Ground floor\",'Design Details'!C$53,IF($C$3=\"Mid-floor\",'Design Details'!C$63,IF($C$3=\"Upper floor\",'Design Details'!C$73,IF($C$3=\"Single Storey\",'Design Details'!C$83,0))))","v":0},2.5,0,{"$f":"G49*I49*$D$7*24/1000","v":0}]
[null,"External Doors",null,null,null,null,null,null,null,null,null,null,null,null,null,null,null,null,"Select..."]
[null,"Width (m)",null,"Height (m)",null,"Area (m²)",0,"U Value (W/m²K)",{"$f":"IF($C$3=\"Ground floor\",'Design Details'!C$47,IF($C$3=\"Mid-floor\",'Design Details'!C$57,IF($C$3=\"Upper floor\",'Design Details'!C$67,IF($C$3=\"Single Storey\",'Design Details'!C$77,0))))","v":0},2.5,0,{"$f":"G51*I51*$D$7*24/1000","v":0},null,null,null,null,"Outside","Unheated",{"$f":"IF(OR($C$3=\"Ground Floor\",$C$3=\"Mid-floor\"),R51,Q51)","v":"Outside"},{"$f":"IF(M32=\"Unheated\",1,0)","v":0},{"$f":"IF(M32=\"Select...\",0,(IF(M32=\"Outside\",D6,IF(M32=\"Unheated\",D4-10,D4-M32))))","v":0}]
[null,"Width (m)",null,"Height (m)",null,"Area (m²)",0,"U Value (W/m²K)",{"$f":"IF($C$3=\"Ground floor\",'Design Details'!C$47,IF($C$3=\"Mid-floor\",'Design Details'!C$57,IF($C$3=\"Upper floor\",'Design Details'!C$67,IF($C$3=\"Single Storey\",'Design Details'!C$77,0))))","v":0},2.5,0,{"$f":"G52*I52*$D$7*24/1000","v":0},null,null,null,null,"Unheated","16",{"$f":"IF(OR($C$3=\"Ground Floor\",$C$3=\"Mid-floor\"),R52,Q52)","v":"Unheated"},{"$f":"\"'Design Details'!C$\"&69+T51","v":"'Design Details'!C$69"}]
[null,"Width (m)",null,"Height (m)",null,"Area (m²)",0,"U Value (W/m²K)",{"$f":"IF($C$3=\"Ground floor\",'Design Details'!C$47,IF($C$3=\"Mid-floor\",'Design Details'!C$57,IF($C$3=\"Upper floor\",'Design Details'!C$67,IF($C$3=\"Single Storey\",'Design Details'!C$77,0))))","v":0},2.5,0,{"$f":"G53*I53*$D$7*24/1000","v":0},null,null,null,null,null,"18",{"$f":"IF(OR($C$3=\"Ground Floor\",$C$3=\"Mid-floor\"),R53,Q53)","v":0},{"$f":"\"'Design Details'!C$\"&79+T51","v":"'Design Details'!C$79"}]
[null,"Width (m)",null,"Height (m)",null,"Area (m²)",0,"U Value (W/m²K)",{"$f":"IF($C$3=\"Ground floor\",'Design Details'!C$47,IF($C$3=\"Mid-floor\",'Design Details'!C$57,IF($C$3=\"Upper floor\",'Design Details'!C$67,IF($C$3=\"Single Storey\",'Design Details'!C$77,0))))","v":0},2.5,0,{"$f":"G54*I54*$D$7*24/1000","v":0},null,null,null,null,null,"21",{"$f":"IF(OR($C$3=\"Ground Floor\",$C$3=\"Mid-floor\"),R54,Q54)","v":0}]
[null,"Internal Walls",null,null,null,null,null,null,null,null,null,null,"Adjoining Room Temp (°C)",null,null,null,null,22,{"$f":"IF(OR($C$3=\"Ground Floor\",$C$3=\"Mid-floor\"),R55,Q37)","v":0}]
[null,"Length (m)",null,"Height (m)",null,"Area (m²)",0,"U Value (W/m²K)",{"$f":"IF($C$3=\"Ground floor\",'Design Details'!C$51,IF($C$3=\"Mid-floor\",'Design Details'!C$61,IF($C$3=\"Upper floor\",'Design Details'!C$71,IF($C$3=\"Single Storey\",'Design Details'!C$81,0))))","v":0},{"$f":"IF(M56=\"\",0,IF(M56=\"unheated\",D$4-10,D$4-M56))","v":0},0]
[null,"Length (m)",null,"Height (m)",null,"Area (m²)",0,"U Value (W/m²K)",{"$f":"IF($C$3=\"Ground floor\",'Design Details'!C$51,IF($C$3=\"Mid-floor\",'Design Details'!C$61,IF($C$3=\"Upper floor\",'Design Details'!C$71,IF($C$3=\"Single Storey\",'Design Details'!C$81,0))))","v":0},{"$f":"IF(M57=\"\",0,IF(M57=\"unheated\",D$4-10,D$4-M57))","v":0},0]
[null,"Length (m)",null,"Height (m)",null,"Area (m²)",0,"U Value (W/m²K)",{"$f":"IF($C$3=\"Ground floor\",'Design Details'!C$51,IF($C$3=\"Mid-floor\",'Design Details'!C$61,IF($C$3=\"Upper floor\",'Design Details'!C$71,IF($C$3=\"Single Storey\",'Design Details'!C$81,0))))","v":0},{"$f":"IF(M58=\"\",0,IF(M58=\"unheated\",D$4-10,D$4-M58))","v":0},0]
[null,"Length (m)",null,"Height (m)",null,"Area (m²)",0,"U Value (W/m²K)",{"$f":"IF($C$3=\"Ground floor\",'Design Details'!C$51,IF($C$3=\"Mid-floor\",'Design Details'!C$61,IF($C$3=\"Upper floor\",'Design Details'!C$71,IF($C$3=\"Single Storey\",'Design Details'!C$81,0))))","v":0},{"$f":"IF(M59=\"\",0,IF(M59=\"unheated\",D$4-10,D$4-M59))","v":0},0]
[null,"Party Wall"]
[null,"Length (m)",null,"Height (m)",null,"Area (m²)",0,"U Value (W/m²K)",{"$f":"IF($C$3=\"Ground floor\",'Design Details'!C$52,IF($C$3=\"Mid-floor\",'Design Details'!C$62,IF($C$3=\"Upper floor\",'Design Details'!C$72,IF($C$3=\"Single Storey\",'Design Details'!C$82,0))))","v":0},{"$f":"D4-10","v":-10},0,{"$f":"G61*I61*$D$7*24/1000","v":0}]

{"sheet":"15","index":20,"n_rows":61,"n_cols":25,"rows_kept":61,"cut":false,"hidden":false,"merged":[[58,12,58,14],[44,19,48,19],[44,20,48,20],[54,12,54,14],[55,12,55,14],[56,12,56,14],[57,12,57,14],[44,18,48,18],[21,12,21,14],[30,12,30,14],[31,12,31,14],[44,16,48,16],[44,17,48,17],[20,12,20,14],[3,1,3,2],[3,4,3,5],[4,1,4,2],[4,4,4,5],[5,1,5,2],[5,4,5,5],[6,1,6,2],[9,11,9,14],[10,11,10,14],[18,12,18,14],[19,12,19,14],[0,1,0,3],[0,4,0,6],[0,10,0,11],[1,4,1,5],[2,2,2,3],[2,4,2,5]]}
[null,"Room Information",null,null,"Ventilation Heat Loss",null,null,"Fabric ","Heat Loss (W)"," Usage (kWh)","Additional heat loss",null,"Addition","Watts","kWh"]
[null,"Room",null,null,"Air Changes per hour",null,{"$f":"'Design Details'!G101","v":0},"Floor",{"$f":"SUM(K20:K22)","v":0},{"$f":"SUM(L20:L22)","v":0},"Thermal Bridging (New Build >2006)",null,0,{"$f":"SUM(I$2:I$6)*M2","v":0},{"$f":"SUM(J$2:J$6)*M2","v":0},null,"3 edges (long single)","Level",null,null,null,null,null,null,1]
[null,"Level",null,null,"Air Change Factor (W/m³K)",null,0.33,"Ext Wall",{"$f":"K27","v":0},{"$f":"L27","v":0},"Exposed location",null,0,{"$f":"SUM(I$2:I$6)*M3","v":0},{"$f":"SUM(J$2:J$6)*M3","v":0},null,"3 edges (short single)","Please Select Floor",{"$f":"IF($C$3=\"Ground floor\",\"Solid Floor (in contact with ground)\",IF($C$3=\"Single Storey\",\"Solid Floor (in contact with ground)\",\"n/a\"))","v":"n/a"},{"$f":"'Design Details'!C21","v":10},"unheated",0,0,0,2]
[null,"Design Room Temp (°C)",null,{"$f":"'Design Details'!E101","v":0},"Total Volume (m³)",null,{"$f":"SUM(I10:I12,I14:I18)","v":0},"Roof",{"$f":"SUM(K32,K36)","v":0},{"$f":"SUM(L32,L36)","v":0},"High ceiling",null,0,{"$f":"SUM(I$2:I$6)*M4","v":0},{"$f":"SUM(J$2:J$6)*M4","v":0},null,"One edge","Ground floor",{"$f":"IF($C$3=\"Ground floor\",\"Suspended Floor\",IF($C$3=\"Single Storey\",\"Suspended Floor\",\"n/a\"))","v":"n/a"},null,16,0.1,0.2,2.5000000000000001E-2,3]
[null,"Outside Design Temp (°C)",null,{"$f":"'Design Details'!C19","v":-2.5},"Heat loss (W)",null,{"$f":"G4*G3*D6*G2","v":0},"Glazing",{"$f":"SUM(K38:K44,K46:K49,K51:K54)","v":0},{"$f":"SUM(L38:L44,L46:L49,L51:L54)","v":0},"Intermittent heating",null,0,{"$f":"SUM(I$2:I$6)*M5","v":0},{"$f":"SUM(J$2:J$6)*M5","v":0},null,"Two adjacent","Mid-floor",null,null,18,null,null,0.05,4]
[null,"Temp Difference (°C)",null,{"$f":"D4-D5","v":2.5},"Estimated Energy usage (kWh)",null,{"$f":"G4*G3*D7*24/1000","v":0},"Int./Party Wall",{"$f":"SUM(K56:K59,K61)","v":0},{"$f":"SUM(L61)","v":0},null,null,null,"Total Room Heat Loss (W)",{"$f":"SUM(G5,I2:I6,N2:N5)","v":0},null,"Two opposite","Single storey",null,null,21,null,null,7.4999999999999997E-2,5]
[null,"Degree Days",null,{"$f":"'Design Details'!C20","v":2228},null,null,null,null,null,null,null,null,null,"Total Room Energy Usage (kWh)",{"$f":"SUM(G6,J2:J6,O2:O5)","v":0},null,null,"Upper floor",null,null,22,null,null,0.1,6]
[null,null,null,null,null,null,null,null,null,null,null,null,null,null,null,null,null,{"$f":"IF($C$3=\"Ground floor\",'Design Details'!C$45,IF($C$3=\"Mid-floor\",'Design Details'!C$55,IF($C$3=\"Upper floor\",'Design Details'!C$65,IF($C$3=\"Single Storey\",'Design Details'!C$75,0))))","v":0},null,null,null,null,null,null,7]
[null,"Room Dimensions",null,null,null,null,null,null,null,null,null,null,null,null,null,null,null,null,null,null,null,null,null,null,8]
[null,"Length (m)",null,"Width (m)",null,"Height (m)",null,"Volume (m³)",{"$f":"C10*E10*G10","v":0},null,null,null,null,null,null,null,null,null,null,null,null,null,null,null,9]
[null,"Length (m)",null,"Width (m)",null,"Height (m)",null,"Volume (m³)",{"$f":"C11*E11*G11","v":0},null,null,null,null,null,null,null,null,null,null,null,null,null,null,null,10]
[null,"Length (m)",null,"Width (m)",null,"Height (m)",null,"Volume (m³)",{"$f":"C12*E12*G12","v":0}]
[null,"Awkward Room Dimensions"]
[null,"Length (m)",null,"Width (m)",null,"Height (m)",null,"Volume (m³)",{"$f":"((G14*E14)/2)*C14","v":0},"Pitched"]
[null,"Length (m)",null,"Width (m)",null,"Height (m)",null,"Volume (m³)",{"$f":"C15*E15*G15/2","v":0},"Single Pitch"]
[null,"Length (m)",null,"Height (m)",null,"Depth (m)",null,"Volume (m³)",{"$f":"E16*G16*C16/2","v":0},"Dormer 1"]
[null,"Length (m)",null,"Height (m)",null,"Depth (m)",null,"Volume (m³)",{"$f":"E17*G17*C17/2","v":0},"Dormer 2"]
[null,"Length (m)",null,"Height (m)",null,"Depth (m)",null,"Volume (m³)",{"$f":"E18*G18*C18/2","v":0},"Dormer 3"]
[null,"Floor",null,null,null,null,null,null,null,"Temp Difference","Heat Loss (W)","Usage (kWh)",{"$f":"IF($C$3=\"Ground Floor\",\"Select type of Ground Floor\",IF($C$3=\"Single Storey\",\"Select type of Ground Floor\",\"#N/A\"))","v":"#N/A"}]
[null,{"$f":"B10","v":"Length (m)"},null,{"$f":"D10","v":"Width (m)"},null,"Area (m²)",{"$f":"C20*E20","v":0},"U Value (W/m²K)",{"$f":"IF(M22=\"\",R8,'floor u values'!K16)","v":0},{"$f":"IF(C$3=\"Ground Floor\",IF(M20=\"Solid Floor (in contact with ground)\",D$4-T$3,D$4-D$5),IF(C$3=\"Single Storey\",IF(M20=\"Solid Floor (in contact with ground)\",D$4-T$3,D$4-D$5),0))","v":0},{"$f":"G20*I20*J20","v":0},{"$f":"IF($C$3=$R$5,0,IF($C$3=$R$7,0,G20*I20*$D$7*24/1000))","v":0},"n/a"]
[null,"Length (m)",null,"Width (m)",null,"Area (m²)",{"$f":"C21*E21","v":0},"U Value (W/m²K)",{"$f":"I20","v":0},{"$f":"IF(C$3=\"Ground Floor\",IF(M20=\"Solid Floor (in contact with ground)\",D$4-T$3,D$4-D$5),IF(C$3=\"Single Storey\",IF(M20=\"Solid Floor (in contact with ground)\",D$4-T$3,D$4-D$5),0))","v":0},{"$f":"G21*I21*J21","v":0},{"$f":"IF($C$3=$R$5,0,IF($C$3=$R$7,0,G21*I21*$D$7*24/1000))","v":0},"Exposed floor (external)"]
[null,"Length (m)",null,"Width (m)",null,"Area (m²)",0,"U Value (W/m²K)",{"$f":"I20","v":0},{"$f":"IF(C$3=\"Ground Floor\",IF(M20=\"Solid Floor (in contact with ground)\",D$4-T$3,D$4-D$5),IF(C$3=\"Single Storey\",IF(M20=\"Solid Floor (in contact with ground)\",D$4-T$3,D$4-D$5),0))","v":0},{"$f":"G22*I22*J22","v":0},{"$f":"IF($C$3=$R$5,0,IF($C$3=$R$7,0,G22*I22*$D$7*24/1000))","v":0}]
[null,"External Wall",null,null,null,null,null,null,null,null,null,null,{"$f":"IF(M22=\"Two opposite\",\"Between edges\",IF(M22=\"One edge\",\"Depth of room\",IF(M22=\"3 edges (short single)\",\"Short length\",IF(M22=\"3 edges (long single)\",\"Short length\",\"\"))))","v":""},null,{"$f":"IF(M22=\"3 edges (short single)\",\"Long length\",IF(M22=\"3 edges (long single)\",\"Long length\",\"\"))","v":""}]
[null,"Length (m)",null,"Height (m)",null,"Area (m²)",0]
[null,"Length (m)",null,"Height (m)",null,"Area (m²)",0]
[null,"Length (m)",null,"Height (m)",null,"Area (m²)",0]
[null,null,null,null,"Total","Area (m²)",{"$f":"SUM(G24:G26)-SUM(G38:G44,G51:G54)","v":0},"U Value (W/m²K)",{"$f":"IF($C$3=\"Ground floor\",'Design Details'!C$48,IF($C$3=\"Mid-floor\",'Design Details'!C$58,IF($C$3=\"Upper floor\",'Design Details'!C$68,IF($C$3=\"Single Storey\",'Design Details'!C$78,0))))","v":0},{"$f":"$D$6","v":2.5},{"$f":"G27*I27*J27","v":0},{"$f":"G27*I27*$D$7*24/1000","v":0}]
[null,"Ceiling (Flat)"]
[null,"Length (m)",null,"Width (m)",null,"Area (m²)",0]
[null,"Length (m)",null,"Width (m)",null,"Area (m²)",0]
[null,"Length (m)",null,"Width (m)",null,"Area (m²)",0,null,null,null,null,null,"Select Temp/Type of Space Above"]
[null,null,null,null,"Total","Area (m²)",{"$f":"SUM(G29:G31)-SUM(G46:G49)","v":0},"U Value (W/m²K)",{"$f":"IF($C$3=\"Ground floor\",'Design Details'!C$49,IF($C$3=\"Mid-floor\",'Design Details'!C$59,IF($C$3=\"Upper floor\",INDIRECT(T52),IF($C$3=\"Single Storey\",INDIRECT(T53),0))))","v":0},{"$f":"U51","v":0},{"$f":"G32*I32*J32","v":0},{"$f":"IF($C$3=$R$4,0,IF($C$3=$R$5,0,G32*I32*$D$7*24/1000))","v":0},"Select..."]
[null,"Ceiling (Awkward)"]
[null,"Length (m)",{"$f":"C14*2","v":0},"Pitch (m)",{"$f":"SQRT(POWER(E14,2)+POWER(G14,2))","v":0},"Area (m²)",{"$f":"C34*E34","v":0},"Pitched"]
[null,"Length (m)",{"$f":"C15","v":0},"Pitch (m)",{"$f":"SQRT(POWER(E15,2)+POWER(G15,2))","v":0},"Area (m²)",0,"Single Pitch"]
[null,null,null,null,"Total","Area (m²)",{"$f":"SUM(G34:G35)-SUM(G46:G49)","v":0},"U Value (W/m²K)",{"$f":"IF($C$3=\"Ground floor\",'Design Details'!C$50,IF($C$3=\"Mid-floor\",'Design Details'!C$60,IF($C$3=\"Upper floor\",'Design Details'!C$70,IF($C$3=\"Single Storey\",'Design Details'!C$80,0))))","v":0},{"$f":"$D$6","v":2.5},0,{"$f":"IF($C$3=$R$4,0,IF($C$3=$R$5,0,G36*I36*$D$7*24/1000))","v":0}]
[null,"Windows"]
[null,"Width (m)",null,"Height (m)",null,"Area (m²)",0,"U Value (W/m²K)",{"$f":"IF($C$3=\"Ground floor\",'Design Details'!C$46,IF($C$3=\"Mid-floor\",'Design Details'!C$56,IF($C$3=\"Upper floor\",'Design Details'!C$66,IF($C$3=\"Single Storey\",'Design Details'!C$76,0))))","v":0},2.5,0,{"$f":"G38*I38*$D$7*24/1000","v":0}]
[null,"Width (m)",null,"Height (m)",null,"Area (m²)",0,"U Value (W/m²K)",{"$f":"IF($C$3=\"Ground floor\",'Design Details'!C$46,IF($C$3=\"Mid-floor\",'Design Details'!C$56,IF($C$3=\"Upper floor\",'Design Details'!C$66,IF($C$3=\"Single Storey\",'Design Details'!C$76,0))))","v":0},2.5,0,0]
[null,"Width (m)",null,"Height (m)",null,"Area (m²)",0,"U Value (W/m²K)",{"$f":"IF($C$3=\"Ground floor\",'Design Details'!C$46,IF($C$3=\"Mid-floor\",'Design Details'!C$56,IF($C$3=\"Upper floor\",'Design Details'!C$66,IF($C$3=\"Single Storey\",'Design Details'!C$76,0))))","v":0},2.5,0,0]
[null,"Width (m)",null,"Height (m)",null,"Area (m²)",0,"U Value (W/m²K)",{"$f":"IF($C$3=\"Ground floor\",'Design Details'!C$46,IF($C$3=\"Mid-floor\",'Design Details'!C$56,IF($C$3=\"Upper floor\",'Design Details'!C$66,IF($C$3=\"Single Storey\",'Design Details'!C$76,0))))","v":0},2.5,0,0]
[null,"Width (m)",null,"Height (m)",null,"Area (m²)",0,"U Value (W/m²K)",{"$f":"IF($C$3=\"Ground floor\",'Design Details'!C$46,IF($C$3=\"Mid-floor\",'Design Details'!C$56,IF($C$3=\"Upper floor\",'Design Details'!C$66,IF($C$3=\"Single Storey\",'Design Details'!C$76,0))))","v":0},2.5,0,0]
[null,"Width (m)",null,"Height (m)",null,"Area (m²)",0,"U Value (W/m²K)",{"$f":"IF($C$3=\"Ground floor\",'Design Details'!C$46,IF($C$3=\"Mid-floor\",'Design Details'!C$56,IF($C$3=\"Upper floor\",'Design Details'!C$66,IF($C$3=\"Single Storey\",'Design Details'!C$76,0))))","v":0},2.5,0,0]
[null,"Width (m)",null,"Height (m)",null,"Area (m²)",0,"U Value (W/m²K)",{"$f":"IF($C$3=\"Ground floor\",'Design Details'!C$46,IF($C$3=\"Mid-floor\",'Design Details'!C$56,IF($C$3=\"Upper floor\",'Design Details'!C$66,IF($C$3=\"Single Storey\",'Design Details'!C$76,0))))","v":0},2.5,0,0]
[null,"Roof Glazing",null,null,null,null,null,null,null,null,null,null,null,null,null,null,"Options for upper floor or single storey","Options for Ground or Mid Floor","Drop-Down List","U-Value Selector","Temp Diff Selector"]
[null,"Width (m)",null,"Height (m)",null,"Area (m²)",0,"U Value (W/m²K)",{"$f":"IF($C$3=\"Ground floor\",'Design Details'!C$53,IF($C$3=\"Mid-floor\",'Design Details'!C$63,IF($C$3=\"Upper floor\",'Design Details'!C$73,IF($C$3=\"Single Storey\",'Design Details'!C$83,0))))","v":0},2.5,0,{"$f":"G46*I46*$D$7*24/1000","v":0}]
[null,"Width (m)",null,"Height (m)",null,"Area (m²)",0,"U Value (W/m²K)",{"$f":"IF($C$3=\"Ground floor\",'Design Details'!C$53,IF($C$3=\"Mid-floor\",'Design Details'!C$63,IF($C$3=\"Upper floor\",'Design Details'!C$73,IF($C$3=\"Single Storey\",'Design Details'!C$83,0))))","v":0},2.5,0,{"$f":"G47*I47*$D$7*24/1000","v":0}]
[null,"Width (m)",null,"Height (m)",null,"Area (m²)",0,"U Value (W/m²K)",{"$f":"IF($C$3=\"Ground floor\",'Design Details'!C$53,IF($C$3=\"Mid-floor\",'Design Details'!C$63,IF($C$3=\"Upper floor\",'Design Details'!C$73,IF($C$3=\"Single Storey\",'Design Details'!C$83,0))))","v":0},2.5,0,{"$f":"G48*I48*$D$7*24/1000","v":0}]
[null,"Width (m)",null,"Height (m)",null,"Area (m²)",0,"U Value (W/m²K)",{"$f":"IF($C$3=\"Ground floor\",'Design Details'!C$53,IF($C$3=\"Mid-floor\",'Design Details'!C$63,IF($C$3=\"Upper floor\",'Design Details'!C$73,IF($C$3=\"Single Storey\",'Design Details'!C$83,0))))","v":0},2.5,0,{"$f":"G49*I49*$D$7*24/1000","v":0}]
[null,"External Doors",null,null,null,null,null,null,null,null,null,null,null,null,null,null,null,null,"Select..."]
[null,"Width (m)",null,"Height (m)",null,"Area (m²)",0,"U Value (W/m²K)",{"$f":"IF($C$3=\"Ground floor\",'Design Details'!C$47,IF($C$3=\"Mid-floor\",'Design Details'!C$57,IF($C$3=\"Upper floor\",'Design Details'!C$67,IF($C$3=\"Single Storey\",'Design Details'!C$77,0))))","v":0},2.5,0,{"$f":"G51*I51*$D$7*24/1000","v":0},null,null,null,null,"Outside","Unheated",{"$f":"IF(OR($C$3=\"Ground Floor\",$C$3=\"Mid-floor\"),R51,Q51)","v":"Outside"},{"$f":"IF(M32=\"Unheated\",1,0)","v":0},{"$f":"IF(M32=\"Select...\",0,(IF(M32=\"Outside\",D6,IF(M32=\"Unheated\",D4-10,D4-M32))))","v":0}]
[null,"Width (m)",null,"Height (m)",null,"Area (m²)",0,"U Value (W/m²K)",{"$f":"IF($C$3=\"Ground floor\",'Design Details'!C$47,IF($C$3=\"Mid-floor\",'Design Details'!C$57,IF($C$3=\"Upper floor\",'Design Details'!C$67,IF($C$3=\"Single Storey\",'Design Details'!C$77,0))))","v":0},2.5,0,{"$f":"G52*I52*$D$7*24/1000","v":0},null,null,null,null,"Unheated","16",{"$f":"IF(OR($C$3=\"Ground Floor\",$C$3=\"Mid-floor\"),R52,Q52)","v":"Unheated"},{"$f":"\"'Design Details'!C$\"&69+T51","v":"'Design Details'!C$69"}]
[null,"Width (m)",null,"Height (m)",null,"Area (m²)",0,"U Value (W/m²K)",{"$f":"IF($C$3=\"Ground floor\",'Design Details'!C$47,IF($C$3=\"Mid-floor\",'Design Details'!C$57,IF($C$3=\"Upper floor\",'Design Details'!C$67,IF($C$3=\"Single Storey\",'Design Details'!C$77,0))))","v":0},2.5,0,{"$f":"G53*I53*$D$7*24/1000","v":0},null,null,null,null,null,"18",{"$f":"IF(OR($C$3=\"Ground Floor\",$C$3=\"Mid-floor\"),R53,Q53)","v":0},{"$f":"\"'Design Details'!C$\"&79+T51","v":"'Design Details'!C$79"}]
[null,"Width (m)",null,"Height (m)",null,"Area (m²)",0,"U Value (W/m²K)",{"$f":"IF($C$3=\"Ground floor\",'Design Details'!C$47,IF($C$3=\"Mid-floor\",'Design Details'!C$57,IF($C$3=\"Upper floor\",'Design Details'!C$67,IF($C$3=\"Single Storey\",'Design Details'!C$77,0))))","v":0},2.5,0,{"$f":"G54*I54*$D$7*24/1000","v":0},null,null,null,null,null,"21",{"$f":"IF(OR($C$3=\"Ground Floor\",$C$3=\"Mid-floor\"),R54,Q54)","v":0}]
[null,"Internal Walls",null,null,null,null,null,null,null,null,null,null,"Adjoining Room Temp (°C)",null,null,null,null,22,{"$f":"IF(OR($C$3=\"Ground Floor\",$C$3=\"Mid-floor\"),R55,Q37)","v":0}]
[null,"Length (m)",null,"Height (m)",null,"Area (m²)",0,"U Value (W/m²K)",{"$f":"IF($C$3=\"Ground floor\",'Design Details'!C$51,IF($C$3=\"Mid-floor\",'Design Details'!C$61,IF($C$3=\"Upper floor\",'Design Details'!C$71,IF($C$3=\"Single Storey\",'Design Details'!C$81,0))))","v":0},{"$f":"IF(M56=\"\",0,IF(M56=\"unheated\",D$4-10,D$4-M56))","v":0},0]
[null,"Length (m)",null,"Height (m)",null,"Area (m²)",0,"U Value (W/m²K)",{"$f":"IF($C$3=\"Ground floor\",'Design Details'!C$51,IF($C$3=\"Mid-floor\",'Design Details'!C$61,IF($C$3=\"Upper floor\",'Design Details'!C$71,IF($C$3=\"Single Storey\",'Design Details'!C$81,0))))","v":0},{"$f":"IF(M57=\"\",0,IF(M57=\"unheated\",D$4-10,D$4-M57))","v":0},0]
[null,"Length (m)",null,"Height (m)",null,"Area (m²)",0,"U Value (W/m²K)",{"$f":"IF($C$3=\"Ground floor\",'Design Details'!C$51,IF($C$3=\"Mid-floor\",'Design Details'!C$61,IF($C$3=\"Upper floor\",'Design Details'!C$71,IF($C$3=\"Single Storey\",'Design Details'!C$81,0))))","v":0},{"$f":"IF(M58=\"\",0,IF(M58=\"unheated\",D$4-10,D$4-M58))","v":0},0]
[null,"Length (m)",null,"Height (m)",null,"Area (m²)",0,"U Value (W/m²K)",{"$f":"IF($C$3=\"Ground floor\",'Design Details'!C$51,IF($C$3=\"Mid-floor\",'Design Details'!C$61,IF($C$3=\"Upper floor\",'Design Details'!C$71,IF($C$3=\"Single Storey\",'Design Details'!C$81,0))))","v":0},{"$f":"IF(M59=\"\",0,IF(M59=\"unheated\",D$4-10,D$4-M59))","v":0},0]
[null,"Party Wall"]
[null,"Length (m)",null,"Height (m)",null,"Area (m²)",0,"U Value (W/m²K)",{"$f":"IF($C$3=\"Ground floor\",'Design Details'!C$52,IF($C$3=\"Mid-floor\",'Design Details'!C$62,IF($C$3=\"Upper floor\",'Design Details'!C$72,IF($C$3=\"Single Storey\",'Design Details'!C$82,0))))","v":0},{"$f":"D4-10","v":-10},0,{"$f":"G61*I61*$D$7*24/1000","v":0}]

{"sheet":"MCS020","index":21,"n_rows":61,"n_cols":26,"rows_kept":61,"cut":false,"hidden":false,"merged":[[0,1,0,7],[18,11,18,25],[28,11,29,13],[28,14,29,16],[19,1,20,6],[19,7,20,7],[7,1,8,6],[7,7,8,7],[9,1,10,6],[9,7,10,7],[17,1,18,6],[17,7,18,7],[11,1,12,6],[11,7,12,7],[13,1,14,6],[13,7,14,7],[15,1,16,6],[15,7,16,7],[1,1,2,6],[1,7,2,7],[3,1,4,6],[3,7,4,7],[5,1,6,6],[5,7,6,7]]}
[null,"ASHP - Sound Power Level"]
[null,"1. Sound power level (dB)"]
[]
[null,"2. Sound pressure level (dB)"]
[]
[null,"3.Distance from heat pump to assessment position (meters)"]
[]
[null,"4. dB Distance Reduction",null,null,null,null,null,{"$f":"IF(H4=L14,LOOKUP(H6,M20:Z23,M21:Z21),IF(H4=L15,LOOKUP(H6,M20:Z23,M22:Z22),IF(H4=L16,LOOKUP(H6,M20:Z23,M23:Z23))))","v":false}]
[]
[null,"5. Barriers Between heat pump and assessment position"]
[]
[null,"6.Sound pressure level @ assessment position",null,null,null,null,null,{"$f":"H2+H8+LOOKUP(H10,L25:N27,N25:N27)","v":{"$error":"#N/A"}}]
[null,null,null,null,null,null,null,null,null,null,null,"Sound Pressure Level"]
[null,"7. Background noise level (dB)",null,null,null,null,null,40,null,null,null,"Q2 - \"One Reflective Surface\""]
[null,null,null,null,null,null,null,null,null,null,null,"Q4 - \"Two Reflective Surfaces\""]
[null,"8. Differential between 6. & 7.",null,null,null,null,null,{"$f":"H14-H12","v":{"$error":"#N/A"}},null,null,null,"Q8 - \"Three Reflective Surfaces\""]
[]
[null,"9. Decibel Correction (dB)",null,null,null,null,null,{"$f":"IF(H12>H14,H12,H14)+LOOKUP(H16,N31:O61,O31:O61)","v":{"$error":"#N/A"}},null,null,null,"dB distance reduction"]
[null,null,null,null,null,null,null,null,null,null,null,"Distance from Heat Pump (meters)"]
[null,"10. Final Result (dB)",null,null,null,null,null,{"$f":"ROUNDUP(H18,0)","v":{"$error":"#N/A"}},null,null,null,null,1,1.5,2,3,4,5,6,8,10,12,15,20,25,30]
[null,null,null,null,null,null,null,null,null,null,null,"Q2",-8,-11,-14,-17,-20,-21,-23,-26,-28,-29,-31,34,-36,-37]
[null,null,null,null,null,null,null,{"$f":"IF(H20>42,\"Fail\",\"Pass\")","v":{"$error":"#N/A"}},null,null,null,"Q4",-5,-8,-11,-14,-17,-19,-20,-23,-25,-26,-28,-31,-33,-34]
[null,null,null,null,null,null,null,null,null,null,null,"Q8",-2,-5,-8,-11,-14,-16,-17,-20,-22,-23,-25,-28,-30,-31]
[]
[null,null,null,null,null,null,null,null,null,null,null,"Barrier (no view)",null,-10]
[null,null,null,null,null,null,null,null,null,null,null,"Barrier (partial view)",null,-5]
[null,null,null,null,null,null,null,null,null,null,null,"Visible",null,0]
[]
[null,null,null,null,null,null,null,null,null,null,null,"Difference between the two noise levels",null,null,"Add this correction to the higher noise level"]
[]
[null,null,null,null,null,null,null,null,null,null,null,null,null,-15,0.1]
[null,null,null,null,null,null,null,null,null,null,null,null,null,-14,0.2]
[null,null,null,null,null,null,null,null,null,null,null,null,null,-13,0.2]
[null,null,null,null,null,null,null,null,null,null,null,null,null,-12,0.3]
[null,null,null,null,null,null,null,null,null,null,null,null,null,-11,0.3]
[null,null,null,null,null,null,null,null,null,null,null,null,null,-10,0.4]
[null,null,null,null,null,null,null,null,null,null,null,null,null,-9,0.5]
[null,null,null,null,null,null,null,null,null,null,null,null,null,-8,0.6]
[null,null,null,null,null,null,null,null,null,null,null,null,null,-7,0.8]
[null,null,null,null,null,null,null,null,null,null,null,null,null,-6,1]
[null,null,null,null,null,null,null,null,null,null,null,null,null,-5,1.2]
[null,null,null,null,null,null,null,null,null,null,null,null,null,-4,1.5]
[null,null,null,null,null,null,null,null,null,null,null,null,null,-3,1.8]
[null,null,null,null,null,null,null,null,null,null,null,null,null,-2,2.1]
[null,null,null,null,null,null,null,null,null,null,null,null,null,-1,2.5]
[null,null,null,null,null,null,null,null,null,null,null,null,null,0,3]
[null,null,null,null,null,null,null,null,null,null,null,null,null,1,2.5]
[null,null,null,null,null,null,null,null,null,null,null,null,null,2,2.1]
[null,null,null,null,null,null,null,null,null,null,null,null,null,3,1.8]
[null,null,null,null,null,null,null,null,null,null,null,null,null,4,1.5]
[null,null,null,null,null,null,null,null,null,null,null,null,null,5,1.2]
[null,null,null,null,null,null,null,null,null,null,null,null,null,6,1]
[null,null,null,null,null,null,null,null,null,null,null,null,null,7,0.8]
[null,null,null,null,null,null,null,null,null,null,null,null,null,8,0.6]
[null,null,null,null,null,null,null,null,null,null,null,null,null,9,0.5]
[null,null,null,null,null,null,null,null,null,null,null,null,null,10,0.4]
[null,null,null,null,null,null,null,null,null,null,null,null,null,11,0.3]
[null,null,null,null,null,null,null,null,null,null,null,null,null,12,0.3]
[null,null,null,null,null,null,null,null,null,null,null,null,null,13,0.2]
[null,null,null,null,null,null,null,null,null,null,null,null,null,14,0.2]
[null,null,null,null,null,null,null,null,null,null,null,null,null,15,0.1]

{"sheet":"MCS022 data","index":22,"n_rows":207,"n_cols":33,"rows_kept":207,"cut":false,"hidden":true,"merged":[[8,25,8,26],[8,27,8,29],[66,30,66,31],[67,26,67,35],[66,32,66,33],[8,30,8,31],[8,32,8,33],[9,26,9,35],[37,25,37,26],[37,30,37,31],[96,26,96,35],[37,32,37,33],[95,27,95,29],[95,30,95,31],[125,26,125,35],[124,25,124,26],[124,27,124,29],[124,30,124,31],[124,32,124,33],[95,25,95,26],[37,27,37,29],[38,26,38,35],[66,25,66,26],[66,27,66,29],[95,32,95,33],[10,24,35,24],[126,24,151,24],[97,24,122,24],[68,24,93,24],[39,24,64,24],[8,14,8,15],[8,16,8,18],[8,19,8,20],[8,21,8,22],[9,15,9,23],[126,13,151,13],[95,14,95,15],[95,16,95,18],[95,19,95,20],[95,21,95,22],[96,15,96,23],[97,13,122,13],[124,14,124,15],[124,16,124,18],[125,15,125,23],[124,19,124,20],[124,21,124,22],[68,13,93,13],[37,14,37,15],[37,16,37,18],[37,19,37,20],[37,21,37,22],[39,13,64,13],[66,14,66,15],[66,16,66,18],[66,19,66,20],[66,21,66,22],[67,15,67,23],[38,15,38,23],[10,13,35,13],[171,0,206,0],[168,1,168,2],[168,3,168,5],[168,6,168,7],[168,8,168,9],[169,2,169,11],[128,6,128,7],[128,8,128,9],[129,2,129,11],[91,0,126,0],[88,1,88,2],[88,3,88,5],[88,6,88,7],[88,8,88,9],[89,2,89,11],[131,0,166,0],[128,1,128,2],[128,3,128,5],[11,0,46,0],[9,2,9,11],[51,0,86,0],[48,1,48,2],[48,3,48,5],[0,3,0,4],[48,6,48,7],[48,8,48,9],[49,2,49,11],[5,1,5,2],[0,1,0,2],[1,1,1,2],[2,1,2,2],[3,1,3,2],[4,1,4,2],[8,1,8,2],[8,3,8,5],[8,6,8,7],[8,8,8,9]]}
[null,"Type of ground loop",null,{"$f":"'GL Sizing'!F3","v":"Borehole"},null,null,"1200B","1800B","2400B","3000B","3600B","1200H","1800H","2400H","3000H","3600H"]
[null,"FLEQ run hours",null,{"$f":"'GL Sizing'!F8","v":0},null,null,{"$f":"VLOOKUP($D$4,B12:L47,$E$3,FALSE)","v":41},{"$f":"VLOOKUP($D$4,B52:L87,$E$3,FALSE)","v":37},{"$f":"VLOOKUP($D$4,B92:L127,$E$3,FALSE)","v":33},{"$f":"VLOOKUP($D$4,B132:L167,$E$3,FALSE)","v":30.200000000000003},{"$f":"VLOOKUP($D$4,B172:L207,$E$3,FALSE)","v":30},{"$f":"VLOOKUP($D$4,O12:V36,$E$3,FALSE)","v":27.25},{"$f":"VLOOKUP($D$4,O41:V65,$E$3,FALSE)","v":20.5},{"$f":"VLOOKUP($D$4,O70:V94,$E$3,FALSE)","v":15.5},{"$f":"VLOOKUP($D$4,O99:V123,$E$3,FALSE)","v":13.5},{"$f":"VLOOKUP($D$4,O128:V152,$E$3,FALSE)","v":10.725}]
[null,"Ground Temp",null,{"$f":"'GL Sizing'!F9","v":10},{"$f":"IF(D3<6.5,2,IF(AND(D3>=6.5,D3<7.5),3,IF(AND(D3>=7.5,D3<8.5),4,IF(AND(D3>=8.5,D3<9.5),5,IF(AND(D3>=9.5,D3<10.5),6,IF(AND(D3>=10.5,D3<11.5),7,IF(AND(D3>=11.5,D3<12.5),8,IF(AND(D3>=12.5,D3<13.5),9,IF(AND(D3>=13.5,D3<14.5),10,IF(D3>=14.5,11,0))))))))))","v":6}]
[null,"Thermal Conductivity",null,{"$f":"'GL Sizing'!F10","v":2.2999999999999998}]
[null,"Power extracted",null,{"$f":"IF(AND(D2<1500),G2,IF(AND(D2>=1500,D2<2100),H2,IF(AND(D2>=2100,D2<2700),I2,IF(AND(D2>=2700,D2<3300),J2,IF(AND(D2>=3300),K2,0)))))","v":41},"borehole"]
[null,"Power extracted",null,{"$f":"IF(AND(D2<1500),L2,IF(AND(D2>=1500,D2<2100),M2,IF(AND(D2>=2100,D2<2700),N2,IF(AND(D2>=2700,D2<3300),O2,IF(AND(D2>=3300),P2,0)))))","v":27.25},"Horizontal"]
[]
[]
[null,"Type of heat exchanger:",null,"Borehole",null,null,"FLEQ run hours:",null,1200,null,null,null,null,null,"Type of heat exchanger:",null," horizontal ground ",null,null,"FLEQ run hours:",null,1200,null,null,null,"Type of heat exchanger:",null," slinky ground ",null,null,"FLEQ run hours:",null,1200]
[null,null,"Mean Ground Temp",null,null,null,null,null,null,null,null,null,null,null,null,"Mean Ground Temp",null,null,null,null,null,null,null,null,null,null,"Mean Ground Temp"]
[null,null,6,7,8,9,10,11,12,13,14,15,null,"Ground Thermal Conductivity",null,6,7,8,9,10,11,12,null,null,"Ground Thermal Conductivity",null,6,7,8,9,10,11,12]
["Average Thermal Conductivity",4.5,37,41,47,52,57,62,67,72,77,83,null,null,2.4,12,17,20,24,28,31,34,null,null,null,2.4,49,62,74,86,97,107,118]
[null,4.4000000000000004,{"$f":"C12+((C$22-C$12)/(ROW(C$22)-ROW(C$12)))","v":36.6},{"$f":"D12+((D$22-D$12)/(ROW(D$22)-ROW(D$12)))","v":40.6},{"$f":"E12+((E$22-E$12)/(ROW(E$22)-ROW(E$12)))","v":46.5},{"$f":"F12+((F$22-F$12)/(ROW(F$22)-ROW(F$12)))","v":51.5},{"$f":"G12+((G$22-G$12)/(ROW(G$22)-ROW(G$12)))","v":56.4},{"$f":"H12+((H$22-H$12)/(ROW(H$22)-ROW(H$12)))","v":61.4},{"$f":"I12+((I$22-I$12)/(ROW(I$22)-ROW(I$12)))","v":66.400000000000006},{"$f":"J12+((J$22-J$12)/(ROW(J$22)-ROW(J$12)))","v":71.3},{"$f":"K12+((K$22-K$12)/(ROW(K$22)-ROW(K$12)))","v":76.2},{"$f":"L12+((L$22-L$12)/(ROW(L$22)-ROW(L$12)))","v":82.1},null,null,2.2999999999999998,{"$f":"P12+((P$16-P$12)/(ROW(P$16)-ROW(P$12)))","v":12},{"$f":"Q12+((Q$16-Q$12)/(ROW(Q$16)-ROW(Q$12)))","v":16.5},19.75,23.5,27.25,30.25,33.25,null,null,null,2.2999999999999998]
[null,4.3,36.200000000000003,40.200000000000003,46,51,55.8,60.8,65.800000000000011,70.599999999999994,75.400000000000006,81.199999999999989,null,null,2.2000000000000002,{"$f":"P13+((P$16-P$12)/(ROW(P$16)-ROW(P$12)))","v":12},{"$f":"Q13+((Q$16-Q$12)/(ROW(Q$16)-ROW(Q$12)))","v":16},{"$f":"R13+((R$16-R$12)/(ROW(R$16)-ROW(R$12)))","v":19.5},{"$f":"S13+((S$16-S$12)/(ROW(S$16)-ROW(S$12)))","v":23},{"$f":"T13+((T$16-T$12)/(ROW(T$16)-ROW(T$12)))","v":26.5},{"$f":"U13+((U$16-U$12)/(ROW(U$16)-ROW(U$12)))","v":29.5},{"$f":"V13+((V$16-V$12)/(ROW(V$16)-ROW(V$12)))","v":32.5},null,null,null,2.2000000000000002]
[null,4.2,35.800000000000004,39.800000000000004,45.5,50.5,55.199999999999996,60.199999999999996,65.200000000000017,69.899999999999991,74.600000000000009,80.299999999999983,null,null,2.1,12,15.5,19.25,22.5,25.75,28.75,31.75,null,null,null,2.1]
[null,4.0999999999999996,35.400000000000006,39.400000000000006,45,50,54.599999999999994,59.599999999999994,64.600000000000023,69.199999999999989,73.800000000000011,79.399999999999977,null,null,2,12,15,19,22,25,28,31,null,null,null,2,45,57,67,78,87,96,106]
[null,4,35.000000000000007,39.000000000000007,44.5,49.5,53.999999999999993,58.999999999999993,64.000000000000028,68.499999999999986,73.000000000000014,78.499999999999972,null,null,1.9,{"$f":"P16+((P$20-P$16)/(ROW(P$20)-ROW(P$16)))","v":11.75},{"$f":"Q16+((Q$20-Q$16)/(ROW(Q$20)-ROW(Q$16)))","v":14.75},18.5,21.5,24.25,27.25,30.25,null,null,null,1.9]
[null,3.9,34.600000000000009,38.600000000000009,44,49,53.399999999999991,58.399999999999991,63.400000000000027,67.799999999999983,72.200000000000017,77.599999999999966,null,null,1.8,{"$f":"P17+((P$20-P$16)/(ROW(P$20)-ROW(P$16)))","v":11.5},14.5,18,21,23.5,26.5,29.5,null,null,null,1.8]
[null,3.8,34.20000000000001,38.20000000000001,43.5,48.5,52.79999999999999,57.79999999999999,62.800000000000026,67.09999999999998,71.40000000000002,76.69999999999996,null,null,1.7,11.25,14.25,17.5,20.5,22.75,25.75,28.75,null,null,null,1.7]
[null,3.7,33.800000000000011,37.800000000000011,43,48,52.199999999999989,57.199999999999989,62.200000000000024,66.399999999999977,70.600000000000023,75.799999999999955,null,null,1.6,11,14,17,20,22,25,28,null,null,null,1.6,40,50,59,68,77,85,93]
[null,3.6,33.400000000000013,37.400000000000013,42.5,47.5,51.599999999999987,56.599999999999987,61.600000000000023,65.699999999999974,69.800000000000026,74.899999999999949,null,null,1.5,{"$f":"P20+((P$24-P$20)/(ROW(P$24)-ROW(P$20)))","v":10.425000000000001},{"$f":"Q20+((Q$24-Q$20)/(ROW(Q$24)-ROW(Q$20)))","v":13.25},16.25,19,21.25,24,26.75,null,null,null,1.5]
[null,3.5,33,37,42,47,51,56,61,65,69,74,null,null,1.4,{"$f":"P21+((P$24-P$20)/(ROW(P$24)-ROW(P$20)))","v":9.8500000000000014},{"$f":"Q21+((Q$24-Q$20)/(ROW(Q$24)-ROW(Q$20)))","v":12.5},{"$f":"R21+((R$24-R$20)/(ROW(R$24)-ROW(R$20)))","v":15.5},{"$f":"S21+((S$24-S$20)/(ROW(S$24)-ROW(S$20)))","v":18},{"$f":"T21+((T$24-T$20)/(ROW(T$24)-ROW(T$20)))","v":20.5},{"$f":"U21+((U$24-U$20)/(ROW(U$24)-ROW(U$20)))","v":23},{"$f":"V21+((V$24-V$20)/(ROW(V$24)-ROW(V$20)))","v":25.5},null,null,null,1.4]
[null,3.4,{"$f":"C22+((C$32-C$22)/(ROW(C$32)-ROW(C$22)))","v":32.5},{"$f":"D22+((D$32-D$22)/(ROW(D$32)-ROW(D$22)))","v":36.5},{"$f":"E22+((E$32-E$22)/(ROW(E$32)-ROW(E$22)))","v":41.4},{"$f":"F22+((F$32-F$22)/(ROW(F$32)-ROW(F$22)))","v":46.3},{"$f":"G22+((G$32-G$22)/(ROW(G$32)-ROW(G$22)))","v":50.2},{"$f":"H22+((H$32-H$22)/(ROW(H$32)-ROW(H$22)))","v":55.1},{"$f":"I22+((I$32-I$22)/(ROW(I$32)-ROW(I$22)))","v":60},{"$f":"J22+((J$32-J$22)/(ROW(J$32)-ROW(J$22)))","v":64},{"$f":"K22+((K$32-K$22)/(ROW(K$32)-ROW(K$22)))","v":68},{"$f":"L22+((L$32-L$22)/(ROW(L$32)-ROW(L$22)))","v":72.900000000000006},null,null,1.3,9.2750000000000021,11.75,14.75,17,19.75,22,24.25,null,null,null,1.3]
[null,3.3,32,36,40.799999999999997,45.599999999999994,49.400000000000006,54.2,59,63,67,71.800000000000011,null,null,1.2,8.6999999999999993,11,14,16,19,21,23,null,null,null,1.2,32,40,48,55,63,70,77]
[null,3.2,31.5,35.5,40.199999999999996,44.899999999999991,48.600000000000009,53.300000000000004,58,62,66,70.700000000000017,null,null,1.1000000000000001,{"$f":"P24+((P$28-P$24)/(ROW(P$28)-ROW(P$24)))","v":8.1499999999999986},{"$f":"Q24+((Q$28-Q$24)/(ROW(Q$28)-ROW(Q$24)))","v":10.25},13,15,17.75,19.75,21.5,null,null,null,1.1000000000000001]
[null,3.1,31,35,39.599999999999994,44.199999999999989,47.800000000000011,52.400000000000006,57,61,65,69.600000000000023,null,null,1,{"$f":"P25+((P$28-P$24)/(ROW(P$28)-ROW(P$24)))","v":7.5999999999999988},9.5,12,14,16.5,18.5,20,null,null,null,1]
[null,3,30.5,34.5,38.999999999999993,43.499999999999986,47.000000000000014,51.500000000000007,56,60,64,68.500000000000028,null,null,0.9,7.0499999999999989,8.75,11,13,15.25,17.25,18.5,null,null,null,0.9]
[null,2.9,30,34,38.399999999999991,42.799999999999983,46.200000000000017,50.600000000000009,55,59,63,67.400000000000034,null,null,0.8,6.4999999999999991,8,10,12,14,16,17,null,null,null,0.8,24,29,35,40,46,52,56]
[null,2.8,29.5,33.5,37.79999999999999,42.09999999999998,45.40000000000002,49.70000000000001,54,58,62,66.30000000000004,null,null,0.7,{"$f":"P28+((P$32-P$28)/(ROW(P$32)-ROW(P$28)))","v":5.9499999999999993},{"$f":"Q28+((Q$32-Q$28)/(ROW(Q$32)-ROW(Q$28)))","v":7.3250000000000002},9.125,10.875,12.65,14.425000000000001,15.25,null,null,null,0.7]
[null,2.7,29,33,37.199999999999989,41.399999999999977,44.600000000000023,48.800000000000011,53,57,61,65.200000000000045,null,null,0.6,{"$f":"P29+((P$32-P$28)/(ROW(P$32)-ROW(P$28)))","v":5.3999999999999995},6.65,8.25,9.75,11.3,12.850000000000001,13.5,null,null,null,0.6]
[null,2.6,28.5,32.5,36.599999999999987,40.699999999999974,43.800000000000026,47.900000000000013,52,56,60,64.100000000000051,null,null,0.5,4.8499999999999996,5.9750000000000005,7.375,8.625,9.9500000000000011,11.275000000000002,11.75,null,null,null,0.5]
[null,2.5,28,32,36,40,43,47,51,55,59,63,null,null,0.4,4.2999999999999989,5.3,6.5,7.5,8.6,9.6999999999999993,10,null,null,null,0.4,15,18,22,25,28,32,34]
[null,2.4,{"$f":"C32+((C$42-C$32)/(ROW(C$42)-ROW(C$32)))","v":27.3},{"$f":"D32+((D$42-D$32)/(ROW(D$42)-ROW(D$32)))","v":31.2},{"$f":"E32+((E$42-E$32)/(ROW(E$42)-ROW(E$32)))","v":35.1},{"$f":"F32+((F$42-F$32)/(ROW(F$42)-ROW(F$32)))","v":39},{"$f":"G32+((G$42-G$32)/(ROW(G$42)-ROW(G$32)))","v":42},{"$f":"H32+((H$42-H$32)/(ROW(H$42)-ROW(H$32)))","v":45.9},{"$f":"I32+((I$42-I$32)/(ROW(I$42)-ROW(I$32)))","v":49.8},{"$f":"J32+((J$42-J$32)/(ROW(J$42)-ROW(J$32)))","v":53.7},{"$f":"K32+((K$42-K$32)/(ROW(K$42)-ROW(K$32)))","v":57.6},{"$f":"L32+((L$42-L$32)/(ROW(L$42)-ROW(L$32)))","v":61.5},null,null,0.3,null,null,null,null,null,null,null,null,null,null,0.3]
[null,2.2999999999999998,26.6,30.4,34.200000000000003,38,41,44.8,48.599999999999994,52.400000000000006,56.2,60,null,null,0.2,null,null,null,null,null,null,null,null,null,null,0.2]
[null,2.2000000000000002,25.900000000000002,29.599999999999998,33.300000000000004,37,40,43.699999999999996,47.399999999999991,51.100000000000009,54.800000000000004,58.5,null,null,0.1,null,null,null,null,null,null,null,null,null,null,0.1]
[null,2.1,25.200000000000003,28.799999999999997,32.400000000000006,36,39,42.599999999999994,46.199999999999989,49.800000000000011,53.400000000000006,57,null,null,0,null,null,null,null,null,null,null,null,null,null,0]
[null,2,24.500000000000004,27.999999999999996,31.500000000000007,35,38,41.499999999999993,44.999999999999986,48.500000000000014,52.000000000000007,55.5]
[null,1.9,23.800000000000004,27.199999999999996,30.600000000000009,34,37,40.399999999999991,43.799999999999983,47.200000000000017,50.600000000000009,54,null,null,"Type of heat exchanger:",null," horizontal ground ",null,null,"FLEQ run hours:",null,1800,null,null,null,"Type of heat exchanger:",null," slinky ground ",null,null,"FLEQ run hours:",null,1800]
[null,1.8,23.100000000000005,26.399999999999995,29.70000000000001,33,36,39.29999999999999,42.59999999999998,45.90000000000002,49.20000000000001,52.5,null,null,null,"Mean Ground Temp",null,null,null,null,null,null,null,null,null,null,"Mean Ground Temp"]
[null,1.7,22.400000000000006,25.599999999999994,28.800000000000011,32,35,38.199999999999989,41.399999999999977,44.600000000000023,47.800000000000011,51,null,"Ground Thermal Conductivity",null,6,7,8,9,10,11,12,null,null,"Ground Thermal Conductivity",null,6,7,8,9,10,11,12]
[null,1.6,21.700000000000006,24.799999999999994,27.900000000000013,31,34,37.099999999999987,40.199999999999974,43.300000000000026,46.400000000000013,49.5,null,null,2.4,9.5,13,15,18,21,23,26,null,null,null,2.4,35,45,53,61,69,76,84]
[null,1.5,21,24,27,30,33,36,39,42,45,48,null,null,2.2999999999999998,{"$f":"P41+((P$45-P$41)/(ROW(P$45)-ROW(P$41)))","v":9.3000000000000007},{"$f":"Q41+((Q$45-Q$41)/(ROW(Q$45)-ROW(Q$41)))","v":12.5},14.75,17.5,20.5,22.25,25.25,null,null,null,2.2999999999999998]
[null,1.4,null,null,null,null,null,null,null,null,null,null,null,null,2.2000000000000002,{"$f":"P42+((P$45-P$41)/(ROW(P$45)-ROW(P$41)))","v":9.1000000000000014},12,14.5,17,20,21.5,24.5,null,null,null,2.2000000000000002]
[null,1.3,null,null,null,null,null,null,null,null,null,null,null,null,2.1,8.9000000000000021,11.5,14.25,16.5,19.5,20.75,23.75,null,null,null,2.1]
[null,1.2,null,null,null,null,null,null,null,null,null,null,null,null,2,8.6999999999999993,11,14,16,19,20,23,null,null,null,2,32,40,47,54,61,67,73]
[null,1.1000000000000001,null,null,null,null,null,null,null,null,null,null,null,null,1.9,{"$f":"P45+((P$49-P$45)/(ROW(P$49)-ROW(P$41)))","v":8.5749999999999993},{"$f":"Q45+((Q$49-Q$45)/(ROW(Q$49)-ROW(Q$41)))","v":10.875},13.75,15.75,18.625,19.75,22.625,null,null,null,1.9]
[null,1,null,null,null,null,null,null,null,null,null,null,null,null,1.8,{"$f":"P46+((P$49-P$45)/(ROW(P$49)-ROW(P$41)))","v":8.4499999999999993},10.75,13.5,15.5,18.25,19.5,22.25,null,null,null,1.8]
[null,null,null,null,null,null,null,null,null,null,null,null,null,null,1.7,8.3249999999999993,10.625,13.25,15.25,17.875,19.25,21.875,null,null,null,1.7]
[null,"Type of heat exchanger:",null,"Borehole",null,null,"FLEQ run hours:",null,1800,null,null,null,null,null,1.6,7.6999999999999993,10,12,14,16,18,20,null,null,null,1.6,28,34,41,47,52,58,63]
[null,null,"Mean Ground Temp",null,null,null,null,null,null,null,null,null,null,null,1.5,{"$f":"P49+((P$53-P$49)/(ROW(P$53)-ROW(P$49)))","v":7.3249999999999993},{"$f":"Q49+((Q$53-Q$49)/(ROW(Q$53)-ROW(Q$49)))","v":9.4749999999999996},11.425000000000001,13.25,15.25,17.25,19,null,null,null,1.5]
[null,null,6,7,8,9,10,11,12,13,14,15,null,null,1.4,{"$f":"P50+((P$53-P$49)/(ROW(P$53)-ROW(P$49)))","v":6.9499999999999993},8.9499999999999993,10.850000000000001,12.5,14.5,16.5,18,null,null,null,1.4]
["Average Thermal Conductivity",4.5,34,38,43,48,52,57,62,67,72,77,null,null,1.3,6.5749999999999993,8.4249999999999989,10.275000000000002,11.75,13.75,15.75,17,null,null,null,1.3]
[null,4.4000000000000004,{"$f":"C52+((C$62-C$52)/(ROW(C$62)-ROW(C$52)))","v":33.6},{"$f":"D52+((D$62-D$52)/(ROW(D$62)-ROW(D$52)))","v":37.6},{"$f":"E52+((E$62-E$52)/(ROW(E$62)-ROW(E$52)))","v":42.5},{"$f":"F52+((F$62-F$52)/(ROW(F$62)-ROW(F$52)))","v":47.4},{"$f":"G52+((G$62-G$52)/(ROW(G$62)-ROW(G$52)))","v":51.5},{"$f":"H52+((H$62-H$52)/(ROW(H$62)-ROW(H$52)))","v":56.4},{"$f":"I52+((I$62-I$52)/(ROW(I$62)-ROW(I$52)))","v":61.3},{"$f":"J52+((J$62-J$52)/(ROW(J$62)-ROW(J$52)))","v":66.2},{"$f":"K52+((K$62-K$52)/(ROW(K$62)-ROW(K$52)))","v":71.099999999999994},{"$f":"L52+((L$62-L$52)/(ROW(L$62)-ROW(L$52)))","v":76.099999999999994},null,null,1.2,6.1999999999999993,7.9,9.6999999999999993,11,13,15,16,null,null,null,1.2,22,27,32,37,42,47,51]
[null,4.3,33.200000000000003,37.200000000000003,42,46.8,51,55.8,60.599999999999994,65.400000000000006,70.199999999999989,75.199999999999989,null,null,1.1000000000000001,{"$f":"P53+((P$57-P$53)/(ROW(P$57)-ROW(P$53)))","v":5.7749999999999995},{"$f":"Q53+((Q$57-Q$53)/(ROW(Q$57)-ROW(Q$53)))","v":7.3000000000000007},9,10.275,12.1,14,15,null,null,null,1.1000000000000001]
[null,4.2,32.800000000000004,36.800000000000004,41.5,46.199999999999996,50.5,55.199999999999996,59.899999999999991,64.600000000000009,69.299999999999983,74.299999999999983,null,null,1,{"$f":"P54+((P$57-P$53)/(ROW(P$57)-ROW(P$53)))","v":5.35},6.7000000000000011,8.3000000000000007,9.5500000000000007,11.2,13,14,null,null,null,1]
[null,4.0999999999999996,32.400000000000006,36.400000000000006,41,45.599999999999994,50,54.599999999999994,59.199999999999989,63.800000000000011,68.399999999999977,73.399999999999977,null,null,0.9,4.9249999999999998,6.1000000000000014,7.6000000000000005,8.8250000000000011,10.299999999999999,12,13,null,null,null,0.9]
[null,4,32.000000000000007,36.000000000000007,40.5,44.999999999999993,49.5,53.999999999999993,58.499999999999986,63.000000000000014,67.499999999999972,72.499999999999972,null,null,0.8,4.4999999999999991,5.5,6.8999999999999995,8.1,9.4,11,12,null,null,null,0.8,16,19,23,26,30,34,36]
[null,3.9,31.600000000000009,35.600000000000009,40,44.399999999999991,49,53.399999999999991,57.799999999999983,62.200000000000017,66.599999999999966,71.599999999999966,null,null,0.7,{"$f":"P57+((P$61-P$57)/(ROW(P$61)-ROW(P$57)))","v":4.0749999999999993},{"$f":"Q57+((Q$61-Q$57)/(ROW(Q$61)-ROW(Q$57)))","v":4.9749999999999996},6.2249999999999996,7.3,8.4500000000000011,9.8249999999999993,10.7,null,null,null,0.7]
[null,3.8,31.20000000000001,35.20000000000001,39.5,43.79999999999999,48.5,52.79999999999999,57.09999999999998,61.40000000000002,65.69999999999996,70.69999999999996,null,null,0.6,{"$f":"P58+((P$61-P$57)/(ROW(P$61)-ROW(P$57)))","v":3.6499999999999995},4.4499999999999993,5.55,6.5,7.5000000000000009,8.6499999999999986,9.3999999999999986,null,null,null,0.6]
[null,3.7,30.800000000000011,34.800000000000011,39,43.199999999999989,48,52.199999999999989,56.399999999999977,60.600000000000023,64.799999999999955,69.799999999999955,null,null,0.5,3.2249999999999996,3.9249999999999994,4.875,5.7,6.5500000000000007,7.4749999999999988,8.0999999999999979,null,null,null,0.5]
[null,3.6,30.400000000000013,34.400000000000013,38.5,42.599999999999987,47.5,51.599999999999987,55.699999999999974,59.800000000000026,63.899999999999956,68.899999999999949,null,null,0.4,2.7999999999999989,3.4,4.1999999999999993,4.8999999999999995,5.6000000000000005,6.3,6.8,null,null,null,0.4,9.8000000000000007,11,14,16,18,20,21]
[null,3.5,30,34,38,42,47,51,55,59,63,68,null,null,0.3,null,null,null,null,null,null,null,null,null,null,0.3]
[null,3.4,{"$f":"C62+((C$72-C$62)/(ROW(C$72)-ROW(C$62)))","v":29.5},{"$f":"D62+((D$72-D$62)/(ROW(D$72)-ROW(D$62)))","v":33.4},{"$f":"E62+((E$72-E$62)/(ROW(E$72)-ROW(E$62)))","v":37.4},{"$f":"F62+((F$72-F$62)/(ROW(F$72)-ROW(F$62)))","v":41.3},{"$f":"G62+((G$72-G$62)/(ROW(G$72)-ROW(G$62)))","v":46.2},{"$f":"H62+((H$72-H$62)/(ROW(H$72)-ROW(H$62)))","v":50.1},{"$f":"I62+((I$72-I$62)/(ROW(I$72)-ROW(I$62)))","v":54.1},{"$f":"J62+((J$72-J$62)/(ROW(J$72)-ROW(J$62)))","v":58},{"$f":"K62+((K$72-K$62)/(ROW(K$72)-ROW(K$62)))","v":62},{"$f":"L62+((L$72-L$62)/(ROW(L$72)-ROW(L$62)))","v":66.8},null,null,0.2,null,null,null,null,null,null,null,null,null,null,0.2]
[null,3.3,29,32.799999999999997,36.799999999999997,40.599999999999994,45.400000000000006,49.2,53.2,57,61,65.599999999999994,null,null,0.1,null,null,null,null,null,null,null,null,null,null,0.1]
[null,3.2,28.5,32.199999999999996,36.199999999999996,39.899999999999991,44.600000000000009,48.300000000000004,52.300000000000004,56,60,64.399999999999991,null,null,0,null,null,null,null,null,null,null,null,null,null,0]
[null,3.1,28,31.599999999999994,35.599999999999994,39.199999999999989,43.800000000000011,47.400000000000006,51.400000000000006,55,59,63.199999999999989]
[null,3,27.5,30.999999999999993,34.999999999999993,38.499999999999986,43.000000000000014,46.500000000000007,50.500000000000007,54,58,61.999999999999986,null,null,"Type of heat exchange:",null," horizontal ground ",null,null,"FLEQ run hours:",null,2400,null,null,null,"Type of heat exchanger:",null," slinky ground ",null,null,"FLEQ run hours:",null,2400]
[null,2.9,27,30.399999999999991,34.399999999999991,37.799999999999983,42.200000000000017,45.600000000000009,49.600000000000009,53,57,60.799999999999983,null,null,null,"Mean Ground Temp",null,null,null,null,null,null,null,null,null,null,"Mean Ground Temp"]
[null,2.8,26.5,29.79999999999999,33.79999999999999,37.09999999999998,41.40000000000002,44.70000000000001,48.70000000000001,52,56,59.59999999999998,null,"Ground Thermal Conductivity",null,6,7,8,9,10,11,12,null,null,"Ground Thermal Conductivity",null,6,7,8,9,10,11,12]
[null,2.7,26,29.199999999999989,33.199999999999989,36.399999999999977,40.600000000000023,43.800000000000011,47.800000000000011,51,55,58.399999999999977,null,null,2.4,7.6,10,12,14,16,18,20,null,null,null,2.4,27,34,40,47,52,57,63]
[null,2.6,25.5,28.599999999999987,32.599999999999987,35.699999999999974,39.800000000000026,42.900000000000013,46.900000000000013,50,54,57.199999999999974,null,null,2.2999999999999998,{"$f":"P70+((P$74-P$70)/(ROW(P$74)-ROW(P$70)))","v":7.4249999999999998},{"$f":"Q70+((Q$74-Q$70)/(ROW(Q$74)-ROW(Q$70)))","v":9.75},11.75,13.75,15.5,17.5,19.5,null,null,null,2.2999999999999998]
[null,2.5,25,28,32,35,39,42,46,49,53,56,null,null,2.2000000000000002,{"$f":"P71+((P$74-P$70)/(ROW(P$74)-ROW(P$70)))","v":7.25},9.5,11.5,13.5,15,17,19,null,null,null,2.2000000000000002]
[null,2.4,{"$f":"C72+((C$82-C$72)/(ROW(C$82)-ROW(C$72)))","v":24.3},{"$f":"D72+((D$82-D$72)/(ROW(D$82)-ROW(D$72)))","v":27.3},{"$f":"E72+((E$82-E$72)/(ROW(E$82)-ROW(E$72)))","v":31.2},{"$f":"F72+((F$82-F$72)/(ROW(F$82)-ROW(F$72)))","v":34.1},{"$f":"G72+((G$82-G$72)/(ROW(G$82)-ROW(G$72)))","v":38},{"$f":"H72+((H$82-H$72)/(ROW(H$82)-ROW(H$72)))","v":40.9},{"$f":"I72+((I$82-I$72)/(ROW(I$82)-ROW(I$72)))","v":44.8},{"$f":"J72+((J$82-J$72)/(ROW(J$82)-ROW(J$72)))","v":47.7},{"$f":"K72+((K$82-K$72)/(ROW(K$82)-ROW(K$72)))","v":51.6},{"$f":"L72+((L$82-L$72)/(ROW(L$82)-ROW(L$72)))","v":54.5},null,null,2.1,7.0750000000000002,9.25,11.25,13.25,14.5,16.5,18.5,null,null,null,2.1]
[null,2.2999999999999998,23.6,26.6,30.4,33.200000000000003,37,39.799999999999997,43.599999999999994,46.400000000000006,50.2,53,null,null,2,6.8999999999999995,9,11,13,14,16,18,null,null,null,2,24,30,36,41,46,50,55]
[null,2.2000000000000002,22.900000000000002,25.900000000000002,29.599999999999998,32.300000000000004,36,38.699999999999996,42.399999999999991,45.100000000000009,48.800000000000004,51.5,null,null,1.9,6.6749999999999998,8.6750000000000007,10.6,12.5,13.5,15.5,17.25,null,null,null,1.9]
[null,2.1,22.200000000000003,25.200000000000003,28.799999999999997,31.400000000000006,35,37.599999999999994,41.199999999999989,43.800000000000011,47.400000000000006,50,null,null,1.8,6.4499999999999993,8.35,10.199999999999999,12,13,15,16.5,null,null,null,1.8]
[null,2,21.500000000000004,24.500000000000004,27.999999999999996,30.500000000000007,34,36.499999999999993,39.999999999999986,42.500000000000014,46.000000000000007,48.5,null,null,1.7,6.2249999999999996,8.0250000000000004,9.8000000000000007,11.5,12.5,14.5,15.75,null,null,null,1.7]
[null,1.9,20.800000000000004,23.800000000000004,27.199999999999996,29.600000000000009,33,35.399999999999991,38.799999999999983,41.200000000000017,44.600000000000009,47,null,null,1.6,5.9999999999999991,7.7,9.4,11,12,14,15,null,null,null,1.6,21,26,30,35,39,43,47]
[null,1.8,20.100000000000005,23.100000000000005,26.399999999999995,28.70000000000001,32,34.29999999999999,37.59999999999998,39.90000000000002,43.20000000000001,45.5,null,null,1.5,5.6749999999999989,7.2750000000000004,8.9,10.425000000000001,11.5,13.25,14.25,null,null,null,1.5]
[null,1.7,19.400000000000006,22.400000000000006,25.599999999999994,27.800000000000011,31,33.199999999999989,36.399999999999977,38.600000000000023,41.800000000000011,44,null,null,1.4,5.3499999999999988,6.8500000000000005,8.4,9.85,11,12.5,13.5,null,null,null,1.4]
[null,1.6,18.700000000000006,21.700000000000006,24.799999999999994,26.900000000000013,30,32.099999999999987,35.199999999999974,37.300000000000026,40.400000000000013,42.5,null,null,1.3,5.0249999999999986,6.4250000000000007,7.9,9.2750000000000004,10.5,11.75,12.75,null,null,null,1.3]
[null,1.5,18,21,24,26,29,31,34,36,39,41,null,null,1.2,4.6999999999999993,6,7.4,8.6999999999999993,10,11,12,null,null,null,1.2,16,20,24,28,31,35,38]
[null,1.4,null,null,null,null,null,null,null,null,null,null,null,null,1.1000000000000001,4.3749999999999991,5.55,6.8500000000000005,8.0499999999999989,9.2750000000000004,10.3,11.2,null,null,null,1.1000000000000001]
[null,1.3,null,null,null,null,null,null,null,null,null,null,null,null,1,4.0499999999999989,5.0999999999999996,6.3000000000000007,7.3999999999999995,8.5500000000000007,9.6,10.4,null,null,null,1]
[null,1.2,null,null,null,null,null,null,null,null,null,null,null,null,0.9,3.7249999999999992,4.6500000000000004,5.75,6.7499999999999991,7.8250000000000002,8.9,9.6,null,null,null,0.9]
[null,1.1000000000000001,null,null,null,null,null,null,null,null,null,null,null,null,0.8,3.3999999999999995,4.2,5.2,6.1,7.1,8.1999999999999993,8.8000000000000007,null,null,null,0.8,12,14,17,19,22,25,27]
[null,1,null,null,null,null,null,null,null,null,null,null,null,null,0.7,3.0749999999999993,3.7750000000000004,4.6749999999999998,5.4749999999999996,6.35,7.2999999999999989,7.8500000000000005,null,null,null,0.7]
[null,null,null,null,null,null,null,null,null,null,null,null,null,null,0.6,2.7499999999999996,3.35,4.1500000000000004,4.8499999999999996,5.6,6.3999999999999995,6.9,null,null,null,0.6]
[null,"Type of heat exchanger:",null,"Borehole",null,null,"FLEQ run hours:",null,2400,null,null,null,null,null,0.5,2.4249999999999994,2.9250000000000003,3.625,4.2249999999999996,4.8499999999999996,5.4999999999999991,5.9500000000000011,null,null,null,0.5]
[null,null,"Mean Ground Temp",null,null,null,null,null,null,null,null,null,null,null,0.4,2.0999999999999996,2.5,3.1,3.5999999999999996,4.0999999999999996,4.5999999999999996,5.0000000000000009,null,null,null,0.4,7,8.1999999999999993,9.9,11,13,14,15]
[null,null,6,7,8,9,10,11,12,13,14,15,null,null,0.3,null,null,null,null,null,null,null,null,null,null,0.3]
["Average Thermal Conductivity",4.5,31,35,40,44,48,53,57,62,66,71,null,null,0.2,null,null,null,null,null,null,null,null,null,null,0.2]
[null,4.4000000000000004,{"$f":"C92+((C$102-C$92)/(ROW(C$102)-ROW(C$92)))","v":30.6},{"$f":"D92+((D$102-D$92)/(ROW(D$102)-ROW(D$92)))","v":34.6},{"$f":"E92+((E$102-E$92)/(ROW(E$102)-ROW(E$92)))","v":39.5},{"$f":"F92+((F$102-F$92)/(ROW(F$102)-ROW(F$92)))","v":43.5},{"$f":"G92+((G$102-G$92)/(ROW(G$102)-ROW(G$92)))","v":47.5},{"$f":"H92+((H$102-H$92)/(ROW(H$102)-ROW(H$92)))","v":52.3},{"$f":"I92+((I$102-I$92)/(ROW(I$102)-ROW(I$92)))","v":56.3},{"$f":"J92+((J$102-J$92)/(ROW(J$102)-ROW(J$92)))","v":61.2},{"$f":"K92+((K$102-K$92)/(ROW(K$102)-ROW(K$92)))","v":65.2},{"$f":"L92+((L$102-L$92)/(ROW(L$102)-ROW(L$92)))","v":70.099999999999994},null,null,0.1,null,null,null,null,null,null,null,null,null,null,0.1]
[null,4.3,30.200000000000003,34.200000000000003,39,43,47,51.599999999999994,55.599999999999994,60.400000000000006,64.400000000000006,69.199999999999989,null,null,0,null,null,null,null,null,null,null,null,null,null,0]
[null,4.2,29.800000000000004,33.800000000000004,38.5,42.5,46.5,50.899999999999991,54.899999999999991,59.600000000000009,63.600000000000009,68.299999999999983]
[null,4.0999999999999996,29.400000000000006,33.400000000000006,38,42,46,50.199999999999989,54.199999999999989,58.800000000000011,62.800000000000011,67.399999999999977,null,null,"Type of heat exchange:",null," horizontal ground ",null,null,"FLEQ run hours:",null,3000,null,null,null,"Type of heat exchanger:",null," slinky ground ",null,null,"FLEQ run hours:",null,3000]
[null,4,29.000000000000007,33.000000000000007,37.5,41.5,45.5,49.499999999999986,53.499999999999986,58.000000000000014,62.000000000000014,66.499999999999972,null,null,null,"Mean Ground Temp",null,null,null,null,null,null,null,null,null,null,"Mean Ground Temp"]
[null,3.9,28.600000000000009,32.600000000000009,37,41,45,48.799999999999983,52.799999999999983,57.200000000000017,61.200000000000017,65.599999999999966,null,"Ground Thermal Conductivity",null,6,7,8,9,10,11,12,null,null,"Ground Thermal Conductivity",null,6,7,8,9,10,11,12]
[null,3.8,28.20000000000001,32.20000000000001,36.5,40.5,44.5,48.09999999999998,52.09999999999998,56.40000000000002,60.40000000000002,64.69999999999996,null,null,2.4,6.3,8.3000000000000007,10,12,14,15,17,null,null,null,2.4,22,27,32,38,42,46,51]
[null,3.7,27.800000000000011,31.800000000000011,36,40,44,47.399999999999977,51.399999999999977,55.600000000000023,59.600000000000023,63.799999999999962,null,null,2.2999999999999998,6.1499999999999995,8.0750000000000011,9.7249999999999996,11.5,13.5,14.5,16.5,null,null,null,2.2999999999999998]
[null,3.6,27.400000000000013,31.400000000000013,35.5,39.5,43.5,46.699999999999974,50.699999999999974,54.800000000000026,58.800000000000026,62.899999999999963,null,null,2.2000000000000002,6,7.8500000000000005,9.4499999999999993,11,13,14,16,null,null,null,2.2000000000000002]
[null,3.5,27,31,35,39,43,46,50,54,58,62,null,null,2.1,5.85,7.6250000000000009,9.1750000000000007,10.5,12.5,13.5,15.5,null,null,null,2.1]
[null,3.4,{"$f":"C102+((C$112-C$102)/(ROW(C$112)-ROW(C$102)))","v":26.5},{"$f":"D102+((D$112-D$102)/(ROW(D$112)-ROW(D$102)))","v":30.4},{"$f":"E102+((E$112-E$102)/(ROW(E$112)-ROW(E$102)))","v":34.4},{"$f":"F102+((F$112-F$102)/(ROW(F$112)-ROW(F$102)))","v":38.299999999999997},{"$f":"G102+((G$112-G$102)/(ROW(G$112)-ROW(G$102)))","v":42.2},{"$f":"H102+((H$112-H$102)/(ROW(H$112)-ROW(H$102)))","v":45.2},{"$f":"I102+((I$112-I$102)/(ROW(I$112)-ROW(I$102)))","v":49.1},{"$f":"J102+((J$112-J$102)/(ROW(J$112)-ROW(J$102)))","v":53},{"$f":"K102+((K$112-K$102)/(ROW(K$112)-ROW(K$102)))","v":56.9},{"$f":"L102+((L$112-L$102)/(ROW(L$112)-ROW(L$102)))","v":60.9},null,null,2,5.7,7.4,8.9,10,12,13,15,null,null,null,2,19,24,28,33,37,40,44]
[null,3.3,26,29.799999999999997,33.799999999999997,37.599999999999994,41.400000000000006,44.400000000000006,48.2,52,55.8,59.8,null,null,1.9,5.5,7.1000000000000005,8.5750000000000011,9.6999999999999993,11.5,12.5,14.25,null,null,null,1.9]
[null,3.2,25.5,29.199999999999996,33.199999999999996,36.899999999999991,40.600000000000009,43.600000000000009,47.300000000000004,51,54.699999999999996,58.699999999999996,null,null,1.8,5.3,6.8000000000000007,8.25,9.4,11,12,13.5,null,null,null,1.8]
[null,3.1,25,28.599999999999994,32.599999999999994,36.199999999999989,39.800000000000011,42.800000000000011,46.400000000000006,50,53.599999999999994,57.599999999999994,null,null,1.7,5.0999999999999996,6.5,7.9250000000000007,9.1,10.5,11.5,12.75,null,null,null,1.7]
[null,3,24.5,27.999999999999993,31.999999999999993,35.499999999999986,39.000000000000014,42.000000000000014,45.500000000000007,49,52.499999999999993,56.499999999999993,null,null,1.6,4.9000000000000004,6.2,7.6000000000000005,8.8000000000000007,10,11,12,null,null,null,1.6,16,20,24,27,31,34,37]
[null,2.9,24,27.399999999999991,31.399999999999991,34.799999999999983,38.200000000000017,41.200000000000017,44.600000000000009,48,51.399999999999991,55.399999999999991,null,null,1.5,4.625,5.8500000000000005,7.1750000000000007,8.3250000000000011,9.5,10.5,11.475,null,null,null,1.5]
[null,2.8,23.5,26.79999999999999,30.79999999999999,34.09999999999998,37.40000000000002,40.40000000000002,43.70000000000001,47,50.29999999999999,54.29999999999999,null,null,1.4,4.3500000000000005,5.5,6.7500000000000009,7.8500000000000005,9,10,10.95,null,null,null,1.4]
[null,2.7,23,26.199999999999989,30.199999999999989,33.399999999999977,36.600000000000023,39.600000000000023,42.800000000000011,46,49.199999999999989,53.199999999999989,null,null,1.3,4.0750000000000002,5.15,6.3250000000000011,7.3750000000000009,8.5,9.5,10.425000000000001,null,null,null,1.3]
[null,2.6,22.5,25.599999999999987,29.599999999999987,32.699999999999974,35.800000000000026,38.800000000000026,41.900000000000013,45,48.099999999999987,52.099999999999987,null,null,1.2,3.8000000000000003,4.8000000000000007,5.9,6.9,8,9,9.9,null,null,null,1.2,13,16,19,21,24,27,30]
[null,2.5,22,25,29,32,35,38,41,44,47,51,null,null,1.1000000000000001,3.5250000000000004,4.4250000000000007,5.45,6.375,7.4,8.375,9.15,null,null,null,1.1000000000000001]
[null,2.4,{"$f":"C112+((C$122-C$112)/(ROW(C$122)-ROW(C$112)))","v":21.4},{"$f":"D112+((D$122-D$112)/(ROW(D$122)-ROW(D$112)))","v":24.3},{"$f":"E112+((E$122-E$112)/(ROW(E$122)-ROW(E$112)))","v":28.2},{"$f":"F112+((F$122-F$112)/(ROW(F$122)-ROW(F$112)))","v":31.1},{"$f":"G112+((G$122-G$112)/(ROW(G$122)-ROW(G$112)))","v":34},{"$f":"H112+((H$122-H$112)/(ROW(H$122)-ROW(H$112)))","v":36.9},{"$f":"I112+((I$122-I$112)/(ROW(I$122)-ROW(I$112)))","v":39.9},{"$f":"J112+((J$122-J$112)/(ROW(J$122)-ROW(J$112)))","v":42.8},{"$f":"K112+((K$122-K$112)/(ROW(K$122)-ROW(K$112)))","v":45.7},{"$f":"L112+((L$122-L$112)/(ROW(L$122)-ROW(L$112)))","v":49.6},null,null,1,3.25,4.0500000000000007,5,5.8500000000000005,6.8,7.75,8.4,null,null,null,1]
[null,2.2999999999999998,20.799999999999997,23.6,27.4,30.200000000000003,33,35.799999999999997,38.799999999999997,41.599999999999994,44.400000000000006,48.2,null,null,0.9,2.9750000000000001,3.6750000000000007,4.5500000000000007,5.3250000000000002,6.2,7.125,7.65,null,null,null,0.9]
[null,2.2000000000000002,20.199999999999996,22.900000000000002,26.599999999999998,29.300000000000004,32,34.699999999999996,37.699999999999996,40.399999999999991,43.100000000000009,46.800000000000004,null,null,0.8,2.7,3.3000000000000007,4.1000000000000005,4.8000000000000007,5.6,6.5,6.9,null,null,null,0.8,9,11,13,15,17,19,21]
[null,2.1,19.599999999999994,22.200000000000003,25.799999999999997,28.400000000000006,31,33.599999999999994,36.599999999999994,39.199999999999989,41.800000000000011,45.400000000000006,null,null,0.7,2.4250000000000003,2.9500000000000006,3.6750000000000007,4.3000000000000007,5,5.7750000000000004,6.15,null,null,null,0.7]
[null,2,18.999999999999993,21.500000000000004,24.999999999999996,27.500000000000007,30,32.499999999999993,35.499999999999993,37.999999999999986,40.500000000000014,44.000000000000007,null,null,0.6,2.1500000000000004,2.6000000000000005,3.2500000000000004,3.8000000000000007,4.3999999999999995,5.05,5.4,null,null,null,0.6]
[null,1.9,18.399999999999991,20.800000000000004,24.199999999999996,26.600000000000009,29,31.399999999999991,34.399999999999991,36.799999999999983,39.200000000000017,42.600000000000009,null,null,0.5,1.875,2.2500000000000009,2.8250000000000006,3.3000000000000007,3.8,4.3250000000000002,4.6500000000000004,null,null,null,0.5]
[null,1.8,17.79999999999999,20.100000000000005,23.399999999999995,25.70000000000001,28,30.29999999999999,33.29999999999999,35.59999999999998,37.90000000000002,41.20000000000001,null,null,0.4,1.6,1.9000000000000008,2.4000000000000004,2.8000000000000007,3.1999999999999997,3.6,3.9000000000000004,null,null,null,0.4,5.3,6.3,7.5,8.5,9.6,11,12]
[null,1.7,17.199999999999989,19.400000000000006,22.599999999999994,24.800000000000011,27,29.199999999999989,32.199999999999989,34.399999999999977,36.600000000000023,39.800000000000011,null,null,0.3,null,null,null,null,null,null,null,null,null,null,0.3]
[null,1.6,16.599999999999987,18.700000000000006,21.799999999999994,23.900000000000013,26,28.099999999999987,31.099999999999987,33.199999999999974,35.300000000000026,38.400000000000013,null,null,0.2,null,null,null,null,null,null,null,null,null,null,0.2]
[null,1.5,16,18,21,23,25,27,30,32,34,37,null,null,0.1,null,null,null,null,null,null,null,null,null,null,0.1]
[null,1.4,null,null,null,null,null,null,null,null,null,null,null,null,0,null,null,null,null,null,null,null,null,null,null,0]
[null,1.3]
[null,1.2,null,null,null,null,null,null,null,null,null,null,null,null,"Type of heat exchange:",null," horizontal ground ",null,null,"FLEQ run hours:",null,3600,null,null,null,"Type of heat exchanger:",null," slinky ground ",null,null,"FLEQ run hours:",null,3600]
[null,1.1000000000000001,null,null,null,null,null,null,null,null,null,null,null,null,null,"Mean Ground Temp",null,null,null,null,null,null,null,null,null,null,"Mean Ground Temp"]
[null,1,null,null,null,null,null,null,null,null,null,null,null,"Ground Thermal Conductivity",null,6,7,8,9,10,11,12,null,null,"Ground Thermal Conductivity",null,6,7,8,9,10,11,12]
[null,null,null,null,null,null,null,null,null,null,null,null,null,null,2.4,5.4,7.2,8.6999999999999993,10,11,13,14,null,null,null,2.4,18,23,27,32,35,39,43]
[null,"Type of heat exchanger:",null,"Borehole",null,null,"FLEQ run hours:",null,3000,null,null,null,null,null,2.2999999999999998,5.25,7,8.4249999999999989,9.6999999999999993,10.725,12.5,13.5,null,null,null,2.2999999999999998]
[null,null,"Mean Ground Temp",null,null,null,null,null,null,null,null,null,null,null,2.2000000000000002,5.1000000000000005,6.8,8.1499999999999986,9.4,10.45,12,13,null,null,null,2.2000000000000002]
[null,null,6,7,8,9,10,11,12,13,14,15,null,null,2.1,4.95,6.6,7.8749999999999991,9.1,10.175000000000001,11.5,12.5,null,null,null,2.1]
["Average Thermal Conductivity",4.5,29,32,37,41,45,49,53,58,62,66,null,null,2,4.8000000000000007,6.4,7.6,8.8000000000000007,9.9,11,12,null,null,null,2,16,20,24,27,30,33,37]
[null,4.4000000000000004,{"$f":"C132+((C$142-C$132)/(ROW(C$142)-ROW(C$132)))","v":28.6},{"$f":"D132+((D$142-D$132)/(ROW(D$142)-ROW(D$132)))","v":31.6},{"$f":"E132+((E$142-E$132)/(ROW(E$142)-ROW(E$132)))","v":36.5},{"$f":"F132+((F$142-F$132)/(ROW(F$142)-ROW(F$132)))","v":40.5},{"$f":"G132+((G$142-G$132)/(ROW(G$142)-ROW(G$132)))","v":44.4},{"$f":"H132+((H$142-H$132)/(ROW(H$142)-ROW(H$132)))","v":48.4},{"$f":"I132+((I$142-I$132)/(ROW(I$142)-ROW(I$132)))","v":52.3},{"$f":"J132+((J$142-J$132)/(ROW(J$142)-ROW(J$132)))","v":57.2},{"$f":"K132+((K$142-K$132)/(ROW(K$142)-ROW(K$132)))","v":61.1},{"$f":"L132+((L$142-L$132)/(ROW(L$142)-ROW(L$132)))","v":65.099999999999994},null,null,1.9,4.6500000000000004,6.125,7.2749999999999995,8.4250000000000007,9.5,10.525,11.5,null,null,null,1.9]
[null,4.3,28.200000000000003,31.200000000000003,36,40,43.8,47.8,51.599999999999994,56.400000000000006,60.2,64.199999999999989,null,null,1.8,4.5000000000000009,5.8500000000000005,6.9499999999999993,8.0500000000000007,9.1,10.050000000000001,11,null,null,null,1.8]
[null,4.2,27.800000000000004,30.800000000000004,35.5,39.5,43.199999999999996,47.199999999999996,50.899999999999991,55.600000000000009,59.300000000000004,63.29999999999999,null,null,1.7,4.3500000000000005,5.5750000000000002,6.625,7.6750000000000007,8.6999999999999993,9.5749999999999993,10.5,null,null,null,1.7]
[null,4.0999999999999996,27.400000000000006,30.400000000000006,35,39,42.599999999999994,46.599999999999994,50.199999999999989,54.800000000000011,58.400000000000006,62.399999999999991,null,null,1.6,4.2000000000000011,5.3000000000000007,6.3,7.3000000000000007,8.3000000000000007,9.1,10,null,null,null,1.6,14,17,20,22,25,28,31]
[null,4,27.000000000000007,30.000000000000007,34.5,38.5,41.999999999999993,45.999999999999993,49.499999999999986,54.000000000000014,57.500000000000007,61.499999999999993,null,null,1.5,3.9500000000000011,5.0000000000000009,5.95,6.9,7.8500000000000005,8.625,9.4749999999999996,null,null,null,1.5]
[null,3.9,26.600000000000009,29.600000000000009,34,38,41.399999999999991,45.399999999999991,48.799999999999983,53.200000000000017,56.600000000000009,60.599999999999994,null,null,1.4,3.7000000000000011,4.7000000000000011,5.6,6.5000000000000009,7.4,8.15,8.9499999999999993,null,null,null,1.4]
[null,3.8,26.20000000000001,29.20000000000001,33.5,37.5,40.79999999999999,44.79999999999999,48.09999999999998,52.40000000000002,55.70000000000001,59.699999999999996,null,null,1.3,3.4500000000000011,4.4000000000000004,5.25,6.1000000000000005,6.9500000000000011,7.6749999999999998,8.4250000000000007,null,null,null,1.3]
[null,3.7,25.800000000000011,28.800000000000011,33,37,40.199999999999989,44.199999999999989,47.399999999999977,51.600000000000023,54.800000000000011,58.8,null,null,1.2,3.2000000000000011,4.1000000000000005,4.9000000000000004,5.7000000000000011,6.5000000000000009,7.1999999999999993,7.9,null,null,null,1.2,10,13,15,17,20,22,24]
[null,3.6,25.400000000000013,28.400000000000013,32.5,36.5,39.599999999999987,43.599999999999987,46.699999999999974,50.800000000000026,53.900000000000013,57.9,null,null,1.1000000000000001,2.975000000000001,3.7750000000000004,4.5250000000000004,5.2500000000000009,6.0000000000000009,6.6749999999999989,7.3250000000000002,null,null,null,1.1000000000000001]
[null,3.5,25,28,32,36,39,43,46,50,53,57,null,null,1,2.7500000000000009,3.4500000000000006,4.1500000000000004,4.8000000000000007,5.5000000000000009,6.1499999999999995,6.75,null,null,null,1]
[null,3.4,{"$f":"C142+((C$152-C$142)/(ROW(C$152)-ROW(C$142)))","v":24.5},{"$f":"D142+((D$152-D$142)/(ROW(D$152)-ROW(D$142)))","v":27.5},{"$f":"E142+((E$152-E$142)/(ROW(E$152)-ROW(E$142)))","v":31.4},{"$f":"F142+((F$152-F$142)/(ROW(F$152)-ROW(F$142)))","v":35.299999999999997},{"$f":"G142+((G$152-G$142)/(ROW(G$152)-ROW(G$142)))","v":38.299999999999997},{"$f":"H142+((H$152-H$142)/(ROW(H$152)-ROW(H$142)))","v":42.2},{"$f":"I142+((I$152-I$142)/(ROW(I$152)-ROW(I$142)))","v":45.2},{"$f":"J142+((J$152-J$142)/(ROW(J$152)-ROW(J$142)))","v":49},{"$f":"K142+((K$152-K$142)/(ROW(K$152)-ROW(K$142)))","v":52},{"$f":"L142+((L$152-L$142)/(ROW(L$152)-ROW(L$142)))","v":55.9},null,null,0.9,2.5250000000000012,3.1250000000000004,3.7750000000000004,4.3500000000000014,5.0000000000000009,5.6249999999999991,6.1750000000000007,null,null,null,0.9]
[null,3.3,24,27,30.799999999999997,34.599999999999994,37.599999999999994,41.400000000000006,44.400000000000006,48,51,54.8,null,null,0.8,2.3000000000000012,2.8000000000000007,3.4000000000000004,3.9000000000000012,4.5000000000000009,5.0999999999999996,5.6000000000000005,null,null,null,0.8,7.2,8.6,10,12,14,16,17]
[null,3.2,23.5,26.5,30.199999999999996,33.899999999999991,36.899999999999991,40.600000000000009,43.600000000000009,47,50,53.699999999999996,null,null,0.7,2.0750000000000011,2.5000000000000009,3.0500000000000003,3.5000000000000013,4.0000000000000009,4.55,5.0000000000000009,null,null,null,0.7]
[null,3.1,23,26,29.599999999999994,33.199999999999989,36.199999999999989,39.800000000000011,42.800000000000011,46,49,52.599999999999994,null,null,0.6,1.8500000000000012,2.2000000000000006,2.7,3.1000000000000014,3.5000000000000009,3.9999999999999996,4.4000000000000004,null,null,null,0.6]
[null,3,22.5,25.5,28.999999999999993,32.499999999999986,35.499999999999986,39.000000000000014,42.000000000000014,45,48,51.499999999999993,null,null,0.5,1.6250000000000011,1.9000000000000008,2.3500000000000005,2.7000000000000011,3.0000000000000009,3.4499999999999993,3.8000000000000007,null,null,null,0.5]
[null,2.9,22,25,28.399999999999991,31.799999999999986,34.799999999999983,38.200000000000017,41.200000000000017,44,47,50.399999999999991,null,null,0.4,1.4000000000000012,1.6000000000000008,2.0000000000000004,2.3000000000000012,2.5000000000000009,2.8999999999999995,3.2000000000000006,null,null,null,0.4,4.3,5,6,6.8,7.7,8.6999999999999993,9.3000000000000007]
[null,2.8,21.5,24.5,27.79999999999999,31.099999999999987,34.09999999999998,37.40000000000002,40.40000000000002,43,46,49.29999999999999,null,null,0.3,null,null,null,null,null,null,null,null,null,null,0.3]
[null,2.7,21,24,27.199999999999989,30.399999999999988,33.399999999999977,36.600000000000023,39.600000000000023,42,45,48.199999999999989,null,null,0.2,null,null,null,null,null,null,null,null,null,null,0.2]
[null,2.6,20.5,23.5,26.599999999999987,29.699999999999989,32.699999999999974,35.800000000000026,38.800000000000026,41,44,47.099999999999987,null,null,0.1,null,null,null,null,null,null,null,null,null,null,0.1]
[null,2.5,20,23,26,29,32,35,38,40,43,46,null,null,0,null,null,null,null,null,null,null,null,null,null,0]
[null,2.4,{"$f":"C152+((C$162-C$152)/(ROW(C$162)-ROW(C$152)))","v":19.399999999999999},{"$f":"D152+((D$162-D$152)/(ROW(D$162)-ROW(D$152)))","v":22.3},{"$f":"E152+((E$162-E$152)/(ROW(E$162)-ROW(E$152)))","v":25.2},{"$f":"F152+((F$162-F$152)/(ROW(F$162)-ROW(F$152)))","v":28.2},{"$f":"G152+((G$162-G$152)/(ROW(G$162)-ROW(G$152)))","v":31.1},{"$f":"H152+((H$162-H$152)/(ROW(H$162)-ROW(H$152)))","v":34},{"$f":"I152+((I$162-I$152)/(ROW(I$162)-ROW(I$152)))","v":36.9},{"$f":"J152+((J$162-J$152)/(ROW(J$162)-ROW(J$152)))","v":38.9},{"$f":"K152+((K$162-K$152)/(ROW(K$162)-ROW(K$152)))","v":41.8},{"$f":"L152+((L$162-L$152)/(ROW(L$162)-ROW(L$152)))","v":44.7}]
[null,2.2999999999999998,18.799999999999997,21.6,24.4,27.4,30.200000000000003,33,35.799999999999997,37.799999999999997,40.599999999999994,43.400000000000006]
[null,2.2000000000000002,18.199999999999996,20.900000000000002,23.599999999999998,26.599999999999998,29.300000000000004,32,34.699999999999996,36.699999999999996,39.399999999999991,42.100000000000009]
[null,2.1,17.599999999999994,20.200000000000003,22.799999999999997,25.799999999999997,28.400000000000006,31,33.599999999999994,35.599999999999994,38.199999999999989,40.800000000000011]
[null,2,16.999999999999993,19.500000000000004,21.999999999999996,24.999999999999996,27.500000000000007,30,32.499999999999993,34.499999999999993,36.999999999999986,39.500000000000014]
[null,1.9,16.399999999999991,18.800000000000004,21.199999999999996,24.199999999999996,26.600000000000009,29,31.399999999999991,33.399999999999991,35.799999999999983,38.200000000000017]
[null,1.8,15.799999999999992,18.100000000000005,20.399999999999995,23.399999999999995,25.70000000000001,28,30.29999999999999,32.29999999999999,34.59999999999998,36.90000000000002]
[null,1.7,15.199999999999992,17.400000000000006,19.599999999999994,22.599999999999994,24.800000000000011,27,29.199999999999989,31.199999999999989,33.399999999999977,35.600000000000023]
[null,1.6,14.599999999999993,16.700000000000006,18.799999999999994,21.799999999999994,23.900000000000013,26,28.099999999999987,30.099999999999987,32.199999999999974,34.300000000000026]
[null,1.5,14,16,18,21,23,25,27,29,31,33]
[null,1.4]
[null,1.3]
[null,1.2]
[null,1.1000000000000001]
[null,1]
[]
[null,"Type of heat exchanger:",null,"Borehole",null,null,"FLEQ run hours:",null,3600]
[null,null,"Mean Ground Temp"]
[null,null,6,7,8,9,10,11,12,13,14,15]
["Average Thermal Conductivity",4.5,29,32,37,41,45,49,53,57,61,66]
[null,4.4000000000000004,{"$f":"C172+((C$182-C$172)/(ROW(C$182)-ROW(C$172)))","v":28.6},{"$f":"D172+((D$182-D$172)/(ROW(D$182)-ROW(D$172)))","v":31.6},{"$f":"E172+((E$182-E$172)/(ROW(E$182)-ROW(E$172)))","v":36.5},{"$f":"F172+((F$182-F$172)/(ROW(F$182)-ROW(F$172)))","v":40.4},{"$f":"G172+((G$182-G$172)/(ROW(G$182)-ROW(G$172)))","v":44.4},{"$f":"H172+((H$182-H$172)/(ROW(H$182)-ROW(H$172)))","v":48.4},{"$f":"I172+((I$182-I$172)/(ROW(I$182)-ROW(I$172)))","v":52.3},{"$f":"J172+((J$182-J$172)/(ROW(J$182)-ROW(J$172)))","v":56.2},{"$f":"K172+((K$182-K$172)/(ROW(K$182)-ROW(K$172)))","v":60.2},{"$f":"L172+((L$182-L$172)/(ROW(L$182)-ROW(L$172)))","v":65.099999999999994}]
[null,4.3,28.200000000000003,31.200000000000003,36,39.799999999999997,43.8,47.8,51.599999999999994,55.400000000000006,59.400000000000006,64.199999999999989]
[null,4.2,27.800000000000004,30.800000000000004,35.5,39.199999999999996,43.199999999999996,47.199999999999996,50.899999999999991,54.600000000000009,58.600000000000009,63.29999999999999]
[null,4.0999999999999996,27.400000000000006,30.400000000000006,35,38.599999999999994,42.599999999999994,46.599999999999994,50.199999999999989,53.800000000000011,57.800000000000011,62.399999999999991]
[null,4,27.000000000000007,30.000000000000007,34.5,37.999999999999993,41.999999999999993,45.999999999999993,49.499999999999986,53.000000000000014,57.000000000000014,61.499999999999993]
[null,3.9,26.600000000000009,29.600000000000009,34,37.399999999999991,41.399999999999991,45.399999999999991,48.799999999999983,52.200000000000017,56.200000000000017,60.599999999999994]
[null,3.8,26.20000000000001,29.20000000000001,33.5,36.79999999999999,40.79999999999999,44.79999999999999,48.09999999999998,51.40000000000002,55.40000000000002,59.699999999999996]
[null,3.7,25.800000000000011,28.800000000000011,33,36.199999999999989,40.199999999999989,44.199999999999989,47.399999999999977,50.600000000000023,54.600000000000023,58.8]
[null,3.6,25.400000000000013,28.400000000000013,32.5,35.599999999999987,39.599999999999987,43.599999999999987,46.699999999999974,49.800000000000026,53.800000000000026,57.9]
[null,3.5,25,28,32,35,39,43,46,49,53,57]
[null,3.4,{"$f":"C182+((C$192-C$182)/(ROW(C$192)-ROW(C$182)))","v":24.5},{"$f":"D182+((D$192-D$182)/(ROW(D$192)-ROW(D$182)))","v":27.5},{"$f":"E182+((E$192-E$182)/(ROW(E$192)-ROW(E$182)))","v":31.4},{"$f":"F182+((F$192-F$182)/(ROW(F$192)-ROW(F$182)))","v":34.4},{"$f":"G182+((G$192-G$182)/(ROW(G$192)-ROW(G$182)))","v":38.299999999999997},{"$f":"H182+((H$192-H$182)/(ROW(H$192)-ROW(H$182)))","v":42.1},{"$f":"I182+((I$192-I$182)/(ROW(I$192)-ROW(I$182)))","v":45.1},{"$f":"J182+((J$192-J$182)/(ROW(J$192)-ROW(J$182)))","v":48.1},{"$f":"K182+((K$192-K$182)/(ROW(K$192)-ROW(K$182)))","v":52},{"$f":"L182+((L$192-L$182)/(ROW(L$192)-ROW(L$182)))","v":55.9}]
[null,3.3,24,27,30.799999999999997,33.799999999999997,37.599999999999994,41.2,44.2,47.2,51,54.8]
[null,3.2,23.5,26.5,30.199999999999996,33.199999999999996,36.899999999999991,40.300000000000004,43.300000000000004,46.300000000000004,50,53.699999999999996]
[null,3.1,23,26,29.599999999999994,32.599999999999994,36.199999999999989,39.400000000000006,42.400000000000006,45.400000000000006,49,52.599999999999994]
[null,3,22.5,25.5,28.999999999999993,31.999999999999993,35.499999999999986,38.500000000000007,41.500000000000007,44.500000000000007,48,51.499999999999993]
[null,2.9,22,25,28.399999999999991,31.399999999999991,34.799999999999983,37.600000000000009,40.600000000000009,43.600000000000009,47,50.399999999999991]
[null,2.8,21.5,24.5,27.79999999999999,30.79999999999999,34.09999999999998,36.70000000000001,39.70000000000001,42.70000000000001,46,49.29999999999999]
[null,2.7,21,24,27.199999999999989,30.199999999999989,33.399999999999977,35.800000000000011,38.800000000000011,41.800000000000011,45,48.199999999999989]
[null,2.6,20.5,23.5,26.599999999999987,29.599999999999987,32.699999999999974,34.900000000000013,37.900000000000013,40.900000000000013,44,47.099999999999987]
[null,2.5,20,23,26,29,32,34,37,40,43,46]
[null,2.4,{"$f":"C192+((C$202-C$192)/(ROW(C$202)-ROW(C$192)))","v":19.399999999999999},{"$f":"D192+((D$202-D$192)/(ROW(D$202)-ROW(D$192)))","v":22.3},{"$f":"E192+((E$202-E$192)/(ROW(E$202)-ROW(E$192)))","v":25.2},{"$f":"F192+((F$202-F$192)/(ROW(F$202)-ROW(F$192)))","v":28.2},{"$f":"G192+((G$202-G$192)/(ROW(G$202)-ROW(G$192)))","v":31},{"$f":"H192+((H$202-H$192)/(ROW(H$202)-ROW(H$192)))","v":33},{"$f":"I192+((I$202-I$192)/(ROW(I$202)-ROW(I$192)))","v":35.9},{"$f":"J192+((J$202-J$192)/(ROW(J$202)-ROW(J$192)))","v":38.799999999999997},{"$f":"K192+((K$202-K$192)/(ROW(K$202)-ROW(K$192)))","v":41.7},{"$f":"L192+((L$202-L$192)/(ROW(L$202)-ROW(L$192)))","v":44.6}]
[null,2.2999999999999998,18.799999999999997,21.6,24.4,27.4,30,32,34.799999999999997,37.599999999999994,40.400000000000006,43.2]
[null,2.2000000000000002,18.199999999999996,20.900000000000002,23.599999999999998,26.599999999999998,29,31,33.699999999999996,36.399999999999991,39.100000000000009,41.800000000000004]
[null,2.1,17.599999999999994,20.200000000000003,22.799999999999997,25.799999999999997,28,30,32.599999999999994,35.199999999999989,37.800000000000011,40.400000000000006]
[null,2,16.999999999999993,19.500000000000004,21.999999999999996,24.999999999999996,27,29,31.499999999999993,33.999999999999986,36.500000000000014,39.000000000000007]
[null,1.9,16.399999999999991,18.800000000000004,21.199999999999996,24.199999999999996,26,28,30.399999999999991,32.799999999999983,35.200000000000017,37.600000000000009]
[null,1.8,15.799999999999992,18.100000000000005,20.399999999999995,23.399999999999995,25,27,29.29999999999999,31.599999999999984,33.90000000000002,36.20000000000001]
[null,1.7,15.199999999999992,17.400000000000006,19.599999999999994,22.599999999999994,24,26,28.199999999999989,30.399999999999984,32.600000000000023,34.800000000000011]
[null,1.6,14.599999999999993,16.700000000000006,18.799999999999994,21.799999999999994,23,25,27.099999999999987,29.199999999999985,31.300000000000022,33.400000000000013]
[null,1.5,14,16,18,21,22,24,26,28,30,32]
[null,1.4]
[null,1.3]
[null,1.2]
[null,1.1000000000000001]
[null,1]

{"sheet":"GL Sizing","index":23,"n_rows":47,"n_cols":24,"rows_kept":47,"cut":false,"hidden":false,"merged":[[9,1,9,4],[38,1,38,4],[32,1,32,4],[33,1,33,4],[26,1,26,4],[27,1,27,4],[29,1,29,4],[30,1,30,4],[31,1,31,4],[28,1,28,4],[45,1,45,4],[46,1,46,4],[10,9,11,9],[43,1,43,4],[44,1,44,4],[25,1,25,4],[39,1,39,4],[40,0,41,5],[42,1,42,4],[34,1,34,4],[35,1,35,4],[36,1,36,4],[9,0,10,0],[10,1,10,4],[9,5,10,5],[37,1,37,4],[0,0,1,5],[2,1,2,4],[3,0,4,0],[3,1,4,4],[5,0,6,0],[5,1,6,4],[7,1,7,4],[8,1,8,4],[3,5,4,5],[5,5,6,5],[23,0,24,5],[21,1,21,4],[17,1,17,4],[18,1,18,4],[19,1,19,4],[15,1,15,4],[12,1,12,4],[20,1,20,4],[13,1,13,4],[14,1,14,4],[16,1,16,4],[11,1,11,4]]}
["Ground Loop Sizing",null,null,null,null,null,null,null,null,null,null,null,null,null,"Type of rock","Recommended thermal conductivity (/W/mK)"]
[null,null,null,null,null,null,null,null,null,null,"internal diameter",{"$f":"LOOKUP(F27,R9:X15,W9:W15)","v":3.2600000000000004E-2},"m/s",null,"Magmatites, Plutonite, acid to intermediate, Granite",3.4]
[1,"Type of collector",null,null,null,"Borehole",null,null,null,null,"velocity",{"$f":"F34/((LOOKUP($F27,$R9:X15,$X9:X15))*1000*3600*F18)","v":{"$error":"#VALUE!"}},"v^²",null,"Magmatites, Plutonite, acid to intermediate, Syenite",2.6]
[2,"Estimate of total heating energy consumption over a year for space heating and domestic hot water",null,null,null,{"$f":"'Design Details'!G26","v":0},null,null,null,null,null,{"$f":"POWER(L3,2)","v":{"$error":"#VALUE!"}},"m",null,"Magmatites, Plutonite, alkaline to ultra-alkaline, Diorite",2.6]
[null,null,null,null,null,null,"kWh",null,null,null,"Relative Roughness",{"$f":"L6/(L2*1000)","v":2.1472392638036808E-4},"mm",null,"Magmatites, Plutonite, alkaline to ultra-alkaline, Gabbro",1.9,null,"Borehole",{"$f":"F15*2","v":696.8641114982579},10]
[3,"HP heating capacity at 0⁰C ground return temperature and design emitter temperature",null,null,null,{"$f":"'Design Details'!C31","v":20},null,null,null,null,"Absolute Roughness",{"$f":"LOOKUP(F33,R17:S18,S17:S18)","v":7.0000000000000001E-3},null,null,"Magmatites, Tuff",1.1000000000000001,null,"Ground Loop",{"$f":"F15*1","v":348.43205574912895},2]
[null,null,null,null,null,null,"kW",null,null,null,"Friction Factor",{"$f":"POWER((1/((-1.8*LOG((6.9/F39)+(POWER(L5/3.7,1.1)))))),2)","v":{"$error":"#DIV/0!"}},"mbar",null,"Magmatites, Vulcanite, acid to intermediate, Latite, Dacite",2.6]
[4,"FLEQ run hours ",null,null,null,{"$f":"IFERROR(F4/F6,0)","v":0},"hrs",null,null,null,null,null,null,null,"Magmatites, Vulcanite, acid to intermediate, Rhyolite, Trachyte",3.3,null,"O/D","Wall thickness","Volume/m","I/D",null,"diameter","area"]
[5,"Estimated average ground temperature",null,null,null,{"$f":"'Design Details'!C21","v":10},"⁰C",null,null,null,null,null,null,null,"Magmatites, Vulcanite, alkaline to ultra-alkaline, ",1.7,null,25,2.2999999999999998,{"$f":"(PI()*U9*U9/4)/1000","v":0.32685129967948201},{"$f":"R9-(2*S9)","v":20.399999999999999},100,{"$f":"U9/1000","v":2.0399999999999998E-2},{"$f":"PI()*POWER(W9,2)/4","v":3.2685129967948199E-4}]
[6,"Estimated ground thermal conductivity - Please select below",null,null,null,{"$f":"IFERROR(LOOKUP(B11,O2:P36,P2:P36),\"Input Required\")","v":2.2999999999999998},null,null,null,null,"internal diameter",{"$f":"LOOKUP(F43,R9:X15,W9:W15)","v":4.0799999999999996E-2},"m/s",null,"Metamorphic rock, Moderately to highly metamorphic, Gneiss",2.2000000000000002,null,32,2.9,0.53912871528254436,26.2,100,2.6199999999999998E-2,5.3912871528254429E-4]
[null,"Solid sediments, Sandstone",null,null,null,null,"W/mK",null,null,null,"velocity",{"$f":"F34/((LOOKUP($F43,$R9:X15,$X9:X15))*1000*3600)","v":{"$error":"#VALUE!"}},"v^²",null,"Metamorphic rock, Moderately to highly metamorphic, Marble",2.5,null,40,3.7,0.83468975213227226,32.6,200,3.2600000000000004E-2,8.3468975213227237E-4]
[7,"Maximum power to be extracted per meter",null,null,null,{"$f":"IF(F3=\"Borehole\",'MCS022 data'!D5,IF(F3=\"Ground Loop\",'MCS022 data'!D6,\"Input Required\"))","v":41},"W/m",null,null,null,null,{"$f":"POWER(L11,2)","v":{"$error":"#VALUE!"}},"m/s",null,"Metamorphic rock, Slightly metamorphic, Chert",4.5,null,50,4.5999999999999996,1.307405198717928,40.799999999999997,200,4.0799999999999996E-2,1.3074051987179279E-3]
[8,"SCOP",null,null,null,{"$f":"'Design Details'!C33","v":3.5},null,null,null,null,"Gravity",9.81,"m",null,"Metamorphic rock, Slightly metamorphic, Clay shale",2.1,null,63,5.8,2.0749905317695223,51.4,200,5.1400000000000001E-2,2.0749905317695226E-3]
[9,"Maximum power extracted from the ground",null,null,null,{"$f":"IFERROR(F6*1000*(1-(1/F13)),0)","v":14285.714285714286},"W",null,null,null,"Relative Roughness",{"$f":"L15/(L10*1000)","v":1.715686274509804E-4},"mm",null,"Metamorphic rock, Slightly metamorphic, Mica schist",2.2000000000000002,null,75,6.9,2.9416616971153391,61.2,200,6.1200000000000004E-2,2.9416616971153389E-3]
[10,"Length of ground heat exchanger calculated using the look-up tables",null,null,null,{"$f":"IFERROR(F14/F12,0)","v":348.43205574912895},"m",null,null,null,"Absolute Roughness",{"$f":"LOOKUP(F33,R17:S18,S17:S18)","v":7.0000000000000001E-3},null,null,"Metamorphic rock, Vulcanite, acid to intermediate, Amphibolite",2.9,null,90,8.3000000000000007,4.2313797291935566,73.400000000000006,200,7.3400000000000007E-2,4.2313797291935575E-3]
[11,{"$f":"IF(F3=\"Ground Loop\",\"Minimum spacing between ground loops\",\"Minimum spacing between boreholes\")","v":"Minimum spacing between boreholes"},null,null,null,{"$f":"IF(F3=\"Ground Loop\",1,7)","v":7},"m",null,null,null,"Friction Factor",{"$f":"POWER((1/((-1.8*LOG((6.9/F47)+(POWER(L14/3.7,1.1)))))),2)","v":{"$error":"#DIV/0!"}},"mbar",null,"Metamorphic rock, Vulcanite, acid to intermediate, Quartzite",5.5]
[12,"Total length of ground heat exchanger active elements",null,null,null,{"$f":"IF(F3=\"Borehole\",S5,S6)","v":696.8641114982579},"m",null,null,null,null,null,null,null,"Metamorphic rock, Vulcanite, acid to intermediate, Rhyolite, Trachyte",2.9,null,"PE-100-RC",0.04]
[13,"Amount of loops",null,null,null,1,null,null,null,null,null,null,null,null,"Solid sediments, Anhydrite",4.0999999999999996,null,"PE-Xa",7.0000000000000001E-3]
[14,"Min length of loop",null,null,null,{"$f":"IFERROR(F17/F18,0)","v":696.8641114982579},"m",null,null,null,null,null,null,null,"Solid sediments, Conglomerates",2.2999999999999998]
[15,"Length of loop",null,null,null,80,"m",null,null,null,null,null,null,null,"Solid sediments, Dolomite",3.2,null,0.1]
[16,{"$f":"IF(F3=\"Ground Loop\",\"Length of trench for ground loop @ 1m spacing and depth\",\"Depth of borehole/s\")","v":"Depth of borehole/s"},null,null,null,{"$f":"IFERROR(F20/2,0)","v":40},"m",null,null,null,null,null,null,null,"Solid sediments, Gypsum",1.6,null,0.2]
[17,"Length of header",null,null,null,null,"m",null,null,null,null,null,null,null,"Solid sediments, Hard coal",0.4,null,0.3]
[null,null,null,null,null,null,null,null,null,null,null,null,null,null,"Solid sediments, Limestone",2.8,null,0.4]
["Pipe Sizing (Loops)",null,null,null,null,null,null,null,null,null,null,null,null,null,"Solid sediments, Marl",2.1,null,0.5]
[null,null,null,null,null,null,null,null,null,null,null,null,null,null,"Solid sediments, Salt",5.4]
[18,"Power Ground HX pump",null,null,null,"Input Required","W",null,null,null,null,null,null,null,"Solid sediments, Sandstone",2.2999999999999998]
[19,"Pipe Diameter",null,null,null,40,"mm",null,null,null,null,null,null,null,"Unconsolidated rock, Clay/silt, dry",0.5]
[20,"Antifreeze Manufacturer",null,null,null,"Input Required",null,null,null,null,null,null,null,null,"Unconsolidated rock, Clay/silt, water saturated",1.7]
[21,"Antifreeze type i.e. propylene, ethylene",null,null,null,"Input Required"]
[22,"Antifreeze %",null,null,null,"Input Required",null,null,null,null,null,null,null,null,"Unconsolidated rock, Claystone, siltstone",2.2000000000000002]
[23,"Protected to",null,null,null,"Input Required","⁰C",null,null,null,null,null,null,null,"Unconsolidated rock, Gravel, dry",0.4]
[24,"Viscosity @ 0 °C",null,null,null,"Input Required","mm2/s",null,null,null,null,null,null,null,"Unconsolidated rock, Gravel, water saturated",1.8]
[25,"Pipe Type",null,null,null,"PE-Xa",null,null,null,null,null,null,null,null,"Unconsolidated rock, Peat, soft lignite",0.4]
[26,"Brine Pump flow rate",null,null,null,"Input Required","l/hr",null,null,null,null,null,null,null,"Unconsolidated rock, Sand, dry",0.4]
[27,"Pressure Drop",null,null,null,{"$f":"L7*F20*L4*10/(2*L2)","v":{"$error":"#DIV/0!"}},"mbar",null,null,null,null,null,null,null,"Unconsolidated rock, Sand, water saturated",2.4]
[28,"Pressure Drop due to bends",null,null,null,0.2,null,null,null,null,null,null,null,null,"Other","Input Required"]
[29,"Pressure Drop due to bends",null,null,null,{"$f":"F35*F36","v":{"$error":"#DIV/0!"}},"mbar"]
[30,"Heat Pump head",null,null,null,"Input Required","mbar"]
[31,"Reynolds number",null,null,null,{"$f":"IFERROR(L3*L2*1000000/F32,0)","v":0},{"$f":"IFERROR(IF(F39>=2500,\"Flow is turbulent\",\"Flow is laminar\"),\"n/a\")","v":"Flow is laminar"}]
[32,"Total Pressure Drop (mbar)",null,null,null,{"$f":"IFERROR(ROUNDUP((F35+F37+F44+F46),0),0)","v":0},{"$f":"IFERROR(IF(F38>=F40,\"pressure drop ok\",\"pressure drop is too high\"),\"n/a\")","v":"pressure drop ok"}]
["Pipe Sizing (Header)"]
[]
[33,"Pipe Diameter",null,null,null,50,"mm"]
[34,"Pressure Drop",null,null,null,{"$f":"IFERROR(L16*(F22*2)*L12*10/(2*L10),0)","v":0}]
[35,"Pressure Drop due to bends",null,null,null,0.2]
[36,"Pressure Drop due to bends",null,null,null,{"$f":"F44*F45","v":0},"mbar"]
[37,"Reynolds number",null,null,null,{"$f":"IFERROR(L11*L10*1000000/F32,0)","v":0},{"$f":"IFERROR(IF(F47>=2500,\"Flow is turbulent\",\"Flow is laminar\"),\"n/a\")","v":"Flow is laminar"}]

{"sheet":"HP Rad sizing","index":24,"n_rows":74,"n_cols":33,"rows_kept":74,"cut":false,"hidden":false,"merged":[[33,12,33,13],[34,0,34,1],[33,0,33,3]]}
["Room","Room Temp (⁰C)","Heat Loss for room (Watts)","Mean Rad temp (⁰C)","Delta T (⁰C)","Radiator Height","Radiator Size (HxW)","Radiator Panel/Convector","No. of Rads in room","Output of Rad @ delta t 50⁰C (Watts)","Output of Rad at required delta t (Watts) ","Heat Loss for room (Watts)","Difference (Watts)","Min Rad Size Required @ Delta t 50⁰C"]
[{"$f":"'Design Details'!B87","v":"Bed/Study "},{"$f":"'Design Details'!E87","v":21},{"$f":"'Design Details'!C87","v":0},{"$f":"IFERROR('Design Details'!$G$31-4,0)","v":-4},{"$f":"D2-B2","v":-25},null,null,null,null,{"$f":"IF(H2=\"P1\",LOOKUP(G2,W$3:W$74,X$3:X$74),IF(H2=\"K1\",LOOKUP(G2,W$3:W$74,Y$3:Y$74),IF(H2=\"P+\",LOOKUP(G2,W$3:W$74,Z$3:Z$74),IF(H2=\"K2\",LOOKUP(G2,W$3:W$74,AA$3:AA$74),IF(H2=\"K3\",LOOKUP(G2,W$3:W$74,AB$3:AB$74),0)))))*I2","v":0},{"$f":"J2*IF(AND(E2>=4,E2<9),C$36,IF(AND(E2>=9,E2<14),C$37,IF(AND(E2>=14,E2<19),C$38,IF(AND(E2>=19,E2<24),C$39,IF(AND(E2>=24,E2<29),C$40,IF(AND(E2>=29,E2<34),C$41,IF(AND(E2>=34,E2<39),C$42,IF(AND(E2>=39,E2<44),C$43,IF(E2>=44,C$44,\"1\")))))))))","v":0},{"$f":"C2","v":0},{"$f":"K2-L2","v":0},{"$f":"L2/IF(D2=41,C$36,IF(D2=46,C$37,1))","v":0},null,null,null,null,null,null,null,null,null,"P1","K1","P+","K2","K3","P1","K1","P+","K2","K3"]
[{"$f":"'Design Details'!B88","v":" "},{"$f":"'Design Details'!E88","v":0},{"$f":"'Design Details'!C88","v":0},{"$f":"IFERROR('Design Details'!$G$31-4,0)","v":-4},-4,null,null,null,null,{"$f":"IF(H3=\"P1\",LOOKUP(G3,W$3:W$74,X$3:X$74),IF(H3=\"K1\",LOOKUP(G3,W$3:W$74,Y$3:Y$74),IF(H3=\"P+\",LOOKUP(G3,W$3:W$74,Z$3:Z$74),IF(H3=\"K2\",LOOKUP(G3,W$3:W$74,AA$3:AA$74),IF(H3=\"K3\",LOOKUP(G3,W$3:W$74,AB$3:AB$74),0)))))*I3","v":0},{"$f":"J3*IF(AND(E3>=4,E3<9),C$36,IF(AND(E3>=9,E3<14),C$37,IF(AND(E3>=14,E3<19),C$38,IF(AND(E3>=19,E3<24),C$39,IF(AND(E3>=24,E3<29),C$40,IF(AND(E3>=29,E3<34),C$41,IF(AND(E3>=34,E3<39),C$42,IF(AND(E3>=39,E3<44),C$43,IF(E3>=44,C$44,\"1\")))))))))","v":0},{"$f":"C3","v":0},0,{"$f":"L3/IF(D3=41,C$36,IF(D3=46,C$37,1))","v":0},null,null,null,null,null,300,null,300,"300x0500","-",255,373,491,"-",0,18.04,23.5,26.14,0]
[{"$f":"'Design Details'!B89","v":" "},{"$f":"'Design Details'!E89","v":0},{"$f":"'Design Details'!C89","v":0},{"$f":"IFERROR('Design Details'!$G$31-4,0)","v":-4},-4,null,null,null,null,0,{"$f":"J4*IF(AND(E4>=4,E4<9),C$36,IF(AND(E4>=9,E4<14),C$37,IF(AND(E4>=14,E4<19),C$38,IF(AND(E4>=19,E4<24),C$39,IF(AND(E4>=24,E4<29),C$40,IF(AND(E4>=29,E4<34),C$41,IF(AND(E4>=34,E4<39),C$42,IF(AND(E4>=39,E4<44),C$43,IF(E4>=44,C$44,\"1\")))))))))","v":0},{"$f":"C4","v":0},0,0,null,null,null,null,null,450,null,300,"300x1000","-",509,745,982,1349,0,28.9,40.049999999999997,45.11,92.62]
[{"$f":"'Design Details'!B90","v":" "},{"$f":"'Design Details'!E90","v":0},{"$f":"'Design Details'!C90","v":0},{"$f":"IFERROR('Design Details'!$G$31-4,0)","v":-4},-4,null,null,null,null,0,0,0,0,0,null,null,null,null,null,500,null,300,"300x1500","-",764,1118,1473,"-",0,39.69,56.14,63.79,0]
[{"$f":"'Design Details'!B91","v":" "},{"$f":"'Design Details'!E91","v":0},{"$f":"'Design Details'!C91","v":0},{"$f":"IFERROR('Design Details'!$G$31-4,0)","v":-4},-4,null,null,null,null,0,0,0,0,0,null,null,null,null,null,600,null,300,"300x2000","-",1018,1490,1964,2698,0,51.9,74.36,84.57,173.4]
[{"$f":"'Design Details'!B92","v":" "},{"$f":"'Design Details'!E92","v":0},{"$f":"'Design Details'!C92","v":0},{"$f":"IFERROR('Design Details'!$G$31-4,0)","v":-4},-4,null,null,null,null,0,0,0,0,0,null,null,null,null,null,700,null,300,"300x2500","-",1273,1863,2455,"-",0,87.11,126.48,143.84,0]
[{"$f":"'Design Details'!B93","v":" "},{"$f":"'Design Details'!E93","v":0},{"$f":"'Design Details'!C93","v":0},{"$f":"IFERROR('Design Details'!$G$31-4,0)","v":-4},-4,null,null,null,null,0,0,0,0,0,null,null,null,null,null,null,null,300,"300x3000","-",1527,2235,2946,"-",0,102.69,151.94999999999999,173.07,0]
[{"$f":"'Design Details'!B94","v":" "},{"$f":"'Design Details'!E94","v":0},{"$f":"'Design Details'!C94","v":0},{"$f":"IFERROR('Design Details'!$G$31-4,0)","v":-4},-4,null,null,null,null,0,0,0,0,0,null,null,null,null,"P1",null,null,450,"450x0400",190,302,422,548,"-",19.899999999999999,19.73,25.68,28.47,0]
[{"$f":"'Design Details'!B95","v":" "},{"$f":"'Design Details'!E95","v":0},{"$f":"'Design Details'!C95","v":0},{"$f":"IFERROR('Design Details'!$G$31-4,0)","v":-4},-4,null,null,null,null,0,0,0,0,0,null,null,null,null,"K1",null,null,450,"450x0500",237,378,528,686,"-",21.94,22.58,30.03,33.56,0]
[{"$f":"'Design Details'!B96","v":" "},{"$f":"'Design Details'!E96","v":0},{"$f":"'Design Details'!C96","v":0},{"$f":"IFERROR('Design Details'!$G$31-4,0)","v":-4},-4,null,null,null,null,0,0,0,0,0,null,null,null,null,"P+",null,null,450,"450x0600",284,454,633,823,"-",24.12,25.59,34.479999999999997,38.700000000000003,0]
[{"$f":"'Design Details'!B97","v":" "},{"$f":"'Design Details'!E97","v":0},{"$f":"'Design Details'!C97","v":0},{"$f":"IFERROR('Design Details'!$G$31-4,0)","v":-4},-4,null,null,null,null,0,0,0,0,0,null,null,null,null,"K2",null,null,450,"450x0700",332,529,739,960,"-",26.32,28.61,38.950000000000003,43.91,0]
[{"$f":"'Design Details'!B98","v":" "},{"$f":"'Design Details'!E98","v":0},{"$f":"'Design Details'!C98","v":0},{"$f":"IFERROR('Design Details'!$G$31-4,0)","v":-4},-4,null,null,null,null,0,0,0,0,0,null,null,null,null,"K3",null,null,450,"450x0800",379,605,844,1097,"-",30.61,31.64,43.46,49.14,0]
[{"$f":"'Design Details'!B99","v":" "},{"$f":"'Design Details'!E99","v":0},{"$f":"'Design Details'!C99","v":0},{"$f":"IFERROR('Design Details'!$G$31-4,0)","v":-4},-4,null,null,null,null,0,0,0,0,0,null,null,null,null,null,null,null,450,"450x0900",427,680,950,1234,"-",32.86,34.72,48.06,54.49,0]
[{"$f":"'Design Details'!B100","v":" "},{"$f":"'Design Details'!E100","v":0},{"$f":"'Design Details'!C100","v":0},{"$f":"IFERROR('Design Details'!$G$31-4,0)","v":-4},-4,null,null,null,null,0,0,0,0,0,null,null,null,null,18,null,null,450,"450x1000",474,756,1055,1371,"-",35.01,37.68,52.57,59.67,0]
[{"$f":"'Design Details'!B101","v":" "},{"$f":"'Design Details'!E101","v":0},{"$f":"'Design Details'!C101","v":0},{"$f":"IFERROR('Design Details'!$G$31-4,0)","v":-4},-4,null,null,null,null,0,0,0,0,0,null,null,null,null,21,null,null,450,"450x1100","-",832,1161,1508,"-",0,40.76,56.92,64.760000000000005,0]
[{"$f":"'Design Details'!B102","v":" "},{"$f":"'Design Details'!E102","v":0},{"$f":"'Design Details'!C102","v":0},{"$f":"IFERROR('Design Details'!$G$31-4,0)","v":-4},-4,null,null,null,null,0,0,0,0,0,null,null,null,null,22,null,null,450,"450x1200",569,907,1266,1645,"-",39.42,43.72,61.39,69.930000000000007,0]
[{"$f":"'Design Details'!B103","v":" "},{"$f":"'Design Details'!E103","v":0},{"$f":"'Design Details'!C103","v":0},{"$f":"IFERROR('Design Details'!$G$31-4,0)","v":-4},-4,null,null,null,null,0,0,0,0,0,null,null,null,null,null,null,null,450,"450x1400",664,1058,1477,1919,"-",43.79,49.74,70.19,80.150000000000006,0]
[{"$f":"'Design Details'!B104","v":" "},{"$f":"'Design Details'!E104","v":0},{"$f":"'Design Details'!C104","v":0},{"$f":"IFERROR('Design Details'!$G$31-4,0)","v":-4},-4,null,null,null,null,0,0,0,0,0,null,null,null,null,1,null,null,450,"450x1600",758,1210,1688,2194,"-",49.17,56.81,80.31,92.03,0]
[{"$f":"'Design Details'!B105","v":" "},{"$f":"'Design Details'!E105","v":0},{"$f":"'Design Details'!C105","v":0},{"$f":"IFERROR('Design Details'!$G$31-4,0)","v":-4},-4,null,null,null,null,0,0,0,0,0,null,null,null,null,2,null,null,450,"450x1800","-",1361,1899,2468,"-",0,63.37,89.99,103,0]
[{"$f":"'Design Details'!B106","v":" "},{"$f":"'Design Details'!E106","v":0},{"$f":"'Design Details'!C106","v":0},{"$f":"IFERROR('Design Details'!$G$31-4,0)","v":-4},-4,null,null,null,null,0,0,0,0,0,null,null,null,null,3,null,null,450,"450x2000","-",1512,2110,2742,"-",0,69.66,99.51,114.08,0]
[{"$f":"'Design Details'!B107","v":" "},{"$f":"'Design Details'!E107","v":0},{"$f":"'Design Details'!C107","v":0},{"$f":"IFERROR('Design Details'!$G$31-4,0)","v":-4},-4,null,null,null,null,0,0,0,0,0,null,null,null,null,4,null,null,450,"450x2200","-",1663,2321,3016,"-",0,98.56,141.62,162.55000000000001,0]
[{"$f":"'Design Details'!B108","v":" "},{"$f":"'Design Details'!E108","v":0},{"$f":"'Design Details'!C108","v":0},{"$f":"IFERROR('Design Details'!$G$31-4,0)","v":-4},-4,null,null,null,null,0,0,0,0,0,null,null,null,null,5,null,null,450,"450x2400","-",1814,2532,3290,"-",0,111.64,160.80000000000001,184.5,0]
[{"$f":"'Design Details'!B109","v":" "},{"$f":"'Design Details'!E109","v":0},{"$f":"'Design Details'!C109","v":0},{"$f":"IFERROR('Design Details'!$G$31-4,0)","v":-4},-4,null,null,null,null,0,0,0,0,0,null,null,null,null,null,null,null,450,"450x2600","-",1966,2743,3565,"-",0,121.65,175.74,201.91,0]
[{"$f":"'Design Details'!B110","v":" "},{"$f":"'Design Details'!E110","v":0},{"$f":"'Design Details'!C110","v":0},{"$f":"IFERROR('Design Details'!$G$31-4,0)","v":-4},-4,null,null,null,null,0,0,0,0,0,null,null,null,null,null,null,null,450,"450x2800","-",2117,2954,3939,"-",0,131.25,190.29,218.71,0]
[{"$f":"'Design Details'!B111","v":" "},{"$f":"'Design Details'!E111","v":0},{"$f":"'Design Details'!C111","v":0},{"$f":"IFERROR('Design Details'!$G$31-4,0)","v":-4},-4,null,null,null,null,0,0,0,0,0,null,null,null,null,null,null,null,450,"450x3000","-",2268,3165,4113,"-",0,140.22,204.25,234.97,0]
[{"$f":"'Design Details'!B112","v":" "},{"$f":"'Design Details'!E112","v":0},{"$f":"'Design Details'!C112","v":0},{"$f":"IFERROR('Design Details'!$G$31-4,0)","v":-4},-4,null,null,null,null,0,0,0,0,0,null,null,null,null,null,null,null,500,"500x0600","-","-","-","-",1234,0,0,0,0,81.63]
[{"$f":"'Design Details'!B113","v":" "},{"$f":"'Design Details'!E113","v":0},{"$f":"'Design Details'!C113","v":0},{"$f":"IFERROR('Design Details'!$G$31-4,0)","v":-4},-4,null,null,null,null,0,0,0,0,0,null,null,null,null,null,null,null,500,"500x0700","-","-","-","-",1439,0,0,0,0,92.44]
[{"$f":"'Design Details'!B114","v":" "},{"$f":"'Design Details'!E114","v":0},{"$f":"'Design Details'!C114","v":0},{"$f":"IFERROR('Design Details'!$G$31-4,0)","v":-4},-4,null,null,null,null,0,0,0,0,0,null,null,null,null,null,null,null,500,"500x0800","-","-","-","-",1645,0,0,0,0,103.22]
[{"$f":"'Design Details'!B115","v":" "},{"$f":"'Design Details'!E115","v":0},{"$f":"'Design Details'!C115","v":0},{"$f":"IFERROR('Design Details'!$G$31-4,0)","v":-4},-4,null,null,null,null,0,0,0,0,0,null,null,null,null,null,null,null,500,"500x0900","-","-","-","-",1850,0,0,0,0,114.92]
[{"$f":"'Design Details'!B116","v":" "},{"$f":"'Design Details'!E116","v":0},{"$f":"'Design Details'!C116","v":0},{"$f":"IFERROR('Design Details'!$G$31-4,0)","v":-4},-4,null,null,null,null,0,0,0,0,0,null,null,null,null,null,null,null,500,"500x1000","-","-","-","-",2056,0,0,0,0,127.1]
[null,null,null,null,null,null,null,null,null,"Total:",{"$f":"SUM(K2:K31)","v":0},{"$f":"SUM(L2:L31)","v":0},{"$f":"SUM(M2:M31)","v":0},{"$f":"IF(M32<-50,\"Up radiator sizes\",IF(AND(M32>=-50,M32<0),\"Look at radiator sizing\",\"Radiator sizing good\"))","v":"Radiator sizing good"},null,null,null,null,null,null,null,500,"500x1100","-","-","-","-",2262,0,0,0,0,137.86000000000001]
[null,null,null,null,null,null,null,null,null,null,null,null,null,null,null,null,null,null,null,null,null,500,"500x1200","-","-","-","-",2467,0,0,0,0,148.58000000000001]
["Stelrad Correction Factor ",null,null,null,null,null,null,null,null,null,null,null,null,null,null,null,null,null,null,null,null,500,"500x1400","-","-","-","-",2878,0,0,0,0,170.35]
["Delta T (⁰C)",null,null,null,null,null,null,null,null,null,null,null,null,null,null,null,null,null,null,null,null,500,"500x1600","-","-","-","-",3290,0,0,0,0,195.49]
[null,5,0.05,null,null,null,null,null,null,null,null,null,null,null,null,null,null,null,null,null,null,500,"500x1800","-","-","-","-",3701,0,0,0,0,217.92]
[null,10,0.123,null,null,null,null,null,null,null,null,null,null,null,null,null,null,null,null,null,null,500,"500x2000","-","-","-","-",4112,0,0,0,0,241.54]
[null,15,0.20899999999999999,null,null,null,null,null,null,null,null,null,null,null,null,null,null,null,null,null,null,500,"500x2400","-","-","-","-",4934,0,0,0,0,386.7]
[null,20,0.30399999999999999,null,null,null,null,null,null,null,null,null,null,null,null,null,null,null,null,null,null,600,"600x0400",248,392,538,693,956,22.76,22,32.78,34.65,66.39]
[null,25,0.40600000000000003,null,null,null,null,null,null,null,null,null,null,null,null,null,null,null,null,null,null,600,"600x0500",310,490,673,866,1195,25.34,24,36.28,41.32,78.75]
[null,30,0.51500000000000001,null,null,null,null,null,null,null,null,null,null,null,null,null,null,null,null,null,null,600,"600x0600",371,588,807,1039,1433,27.99,27,41.95,46.99,91.01]
[null,35,0.629,null,null,null,null,null,null,null,null,null,null,null,null,null,null,null,null,null,null,600,"600x0700",433,686,942,1212,1672,30.79,32.5,47.61,54.45,103.38]
[null,40,0.748,null,null,null,null,null,null,null,null,null,null,null,null,null,null,null,null,null,null,600,"600x0800",495,784,1076,1386,1911,35.56,35,53.3,61.1,115.68]
[null,45,0.872,null,null,null,null,null,null,null,null,null,null,null,null,null,null,null,null,null,null,600,"600x0900",557,882,1211,1559,2150,38.36,40,59.12,67.900000000000006,128.96]
[null,null,null,null,null,null,null,null,null,null,null,null,null,null,null,null,null,null,null,null,null,600,"600x1000",619,980,1345,1732,2389,41.03,43,64.83,73.989999999999995,142.65]
[null,null,null,null,null,null,null,null,null,null,null,null,null,null,null,null,null,null,null,null,null,600,"600x1100","-",1078,1480,1905,2628,0,49,70.38,81.06,154.91999999999999]
[null,null,null,null,null,null,null,null,null,null,null,null,null,null,null,null,null,null,null,null,null,600,"600x1200",743,1176,1614,2078,2867,46.48,52,76.05,87.66,167.18]
[null,null,null,null,null,null,null,null,null,null,null,null,null,null,null,null,null,null,null,null,null,600,"600x1400",867,1372,1883,2425,3345,51.89,61.64,87.24,100.75,191.97]
[null,null,null,null,null,null,null,null,null,null,null,null,null,null,null,null,null,null,null,null,null,600,"600x1600",990,1568,2152,2771,3822,58.37,70.42,99.82,115.68,220.3]
[null,null,null,null,null,null,null,null,null,null,null,null,null,null,null,null,null,null,null,null,null,600,"600x1800","-",1764,2421,3118,4300,0,78.87,112.19,129.82,245.8]
[null,null,null,null,null,null,null,null,null,null,null,null,null,null,null,null,null,null,null,null,null,600,"600x2000","-",1960,2690,3464,4778,0,86.94,124.32,144.02000000000001,272.7]
[null,null,null,null,null,null,null,null,null,null,null,null,null,null,null,null,null,null,null,null,null,600,"600x2200","-",2156,2959,3810,5734,0,123.19,177.11,205.37,436.95]
[null,null,null,null,null,null,null,null,null,null,null,null,null,null,null,null,null,null,null,null,null,600,"600x2400","-",2352,3228,4157,"-",0,139.71,201.42,233.38,0]
[null,null,null,null,null,null,null,null,null,null,null,null,null,null,null,null,null,null,null,null,null,600,"600x2600","-",2548,3497,4503,"-",0,152.44999999999999,220.48,255.63,0]
[null,null,null,null,null,null,null,null,null,null,null,null,null,null,null,null,null,null,null,null,null,600,"600x2800","-",2744,3766,4850,"-",0,164.62,238.85,277.02,0]
[null,null,null,null,null,null,null,null,null,null,null,null,null,null,null,null,null,null,null,null,null,600,"600x3000","-",2940,4035,5196,"-",0,176.1,256.51,297.73,0]
[null,null,null,null,null,null,null,null,null,null,null,null,null,null,null,null,null,null,null,null,null,700,"700x0400","-",447,612,784,"-",0,26.14,34.47,38.799999999999997,0]
[null,null,null,null,null,null,null,null,null,null,null,null,null,null,null,null,null,null,null,null,null,700,"700x0500","-",559,765,981,1356,0,30.34,40.82,46.28,87.49]
[null,null,null,null,null,null,null,null,null,null,null,null,null,null,null,null,null,null,null,null,null,700,"700x0600","-",670,918,1177,1627,0,34.67,47.24,53.78,101.3]
[null,null,null,null,null,null,null,null,null,null,null,null,null,null,null,null,null,null,null,null,null,700,"700x0700","-",782,1071,1373,1898,0,39.06,53.73,61.39,115.17]
[null,null,null,null,null,null,null,null,null,null,null,null,null,null,null,null,null,null,null,null,null,700,"700x0800","-",894,1224,1569,2170,0,43.36,60.16,68.930000000000007,129]
[null,null,null,null,null,null,null,null,null,null,null,null,null,null,null,null,null,null,null,null,null,700,"700x0900","-",1005,1377,1765,2441,0,47.78,66.75,76.650000000000006,143.88999999999999]
[null,null,null,null,null,null,null,null,null,null,null,null,null,null,null,null,null,null,null,null,null,700,"700x1000","-",1117,1530,1961,2712,0,52.1,73.260000000000005,84.22,159.08000000000001]
[null,null,null,null,null,null,null,null,null,null,null,null,null,null,null,null,null,null,null,null,null,700,"700x1100","-",1229,1683,2157,2983,0,56.49,79.58,91.67,172.87]
[null,null,null,null,null,null,null,null,null,null,null,null,null,null,null,null,null,null,null,null,null,700,"700x1200","-",1340,1836,2353,3254,0,60.78,86.02,99.19,186.65]
[null,null,null,null,null,null,null,null,null,null,null,null,null,null,null,null,null,null,null,null,null,700,"700x1400","-",1564,2142,2745,3797,0,69.44,98.76,114.12,214.5]
[null,null,null,null,null,null,null,null,null,null,null,null,null,null,null,null,null,null,null,null,null,700,"700x1600","-",1787,2448,3138,4339,0,79.31,112.98,130.99,246.04]
[null,null,null,null,null,null,null,null,null,null,null,null,null,null,null,null,null,null,null,null,null,700,"700x1800","-",2011,2754,3530,4882,0,89.02,127.12,147.19999999999999,274.64999999999998]
[null,null,null,null,null,null,null,null,null,null,null,null,null,null,null,null,null,null,null,null,null,700,"700x2000","-",2234,3060,3922,5424,0,98.17,140.9,163.36000000000001,304.82]
[null,null,null,null,null,null,null,null,null,null,null,null,null,null,null,null,null,null,null,null,null,700,"700x2200","-",2457,3366,4314,"-",0,139.22,200.79,233.03,0]
[null,null,null,null,null,null,null,null,null,null,null,null,null,null,null,null,null,null,null,null,null,700,"700x2400","-",2681,3672,4706,"-",0,157.94999999999999,228.4,264.93,0]
[null,null,null,null,null,null,null,null,null,null,null,null,null,null,null,null,null,null,null,null,null,700,"700x2600","-",2904,3978,5099,"-",0,172.43,250.05,290.26,0]
[null,null,null,null,null,null,null,null,null,null,null,null,null,null,null,null,null,null,null,null,null,700,"700x2800","-",3128,4284,5491,"-",0,186.3,270.95999999999998,315.2,0]
[null,null,null,null,null,null,null,null,null,null,null,null,null,null,null,null,null,null,null,null,null,700,"700x3000","-",3351,4590,5883,"-",0,199.36,290.99,338.16,0]

{"sheet":"Solid","index":25,"n_rows":142,"n_cols":25,"rows_kept":142,"cut":false,"hidden":true,"merged":[[34,15,34,16],[34,17,34,18],[34,19,34,20],[34,21,34,22],[34,23,34,24],[28,0,28,1],[29,0,29,1],[30,0,30,1],[33,0,33,11],[33,13,33,24],[34,2,34,3],[34,4,34,5],[34,6,34,7],[34,8,34,9],[34,10,34,11],[27,0,27,1],[16,0,16,1],[17,0,17,1],[18,0,18,1],[19,0,19,1],[20,0,20,1],[21,0,21,1],[22,0,22,1],[23,0,23,1],[24,0,24,1],[25,0,25,1],[26,0,26,1],[15,0,15,1],[4,0,4,1],[5,0,5,1],[6,0,6,1],[7,0,7,1],[8,0,8,1],[9,0,9,1],[10,0,10,1],[11,0,11,1],[12,0,12,1],[13,0,13,1],[14,0,14,1],[0,19,0,20],[0,21,0,22],[0,23,0,24],[1,0,1,1],[2,0,2,1],[0,15,0,16],[0,17,0,18],[3,0,3,1],[0,0,0,1],[0,9,0,10],[0,11,0,12],[0,13,0,14]]}
["Solid (In Screed)",null,"Pipe size","Flow temp","Room Temp","Pipe spacing","Floor Covering","Output (W/m2)","Surface Temp (°C)","0.00/16mm",null,"0.05/16mm",null,"0.1/16mm",null,"0.15/16mm",null,"0/20mm",null,"0.05/20mm",null,"0.1/20mm",null,"0.15/20mm"]
[{"$f":"'UFH Guide'!A2","v":"Bed/Study "},null,{"$f":"'UFH Guide'!H2","v":0},{"$f":"'UFH Guide'!E2","v":0},{"$f":"'UFH Guide'!B2","v":0},{"$f":"'UFH Guide'!I2","v":0},{"$f":"'UFH Guide'!J2","v":0},{"$f":"IF(AND($G2=0,$C2=16),J2,IF(AND($G2=0,$C2=20),R2,IF(AND($G2=0.05,$C2=16),L2,IF(AND($G2=0.05,$C2=20),T2,IF(AND($G2=0.1,$C2=16),N2,IF(AND($G2=0.1,$C2=20),V2,IF(AND($G2=0.15,$C2=16),P2,IF(AND($G2=0.15,$C2=20),X2,0))))))))","v":0},{"$f":"IF(AND($G2=0,$C2=16),K2,IF(AND($G2=0,$C2=20),S2,IF(AND($G2=0.05,$C2=16),M2,IF(AND($G2=0.05,$C2=20),U2,IF(AND($G2=0.1,$C2=16),O2,IF(AND($G2=0.1,$C2=20),W2,IF(AND($G2=0.15,$C2=16),Q2,IF(AND($G2=0.15,$C2=20),Y2,0))))))))","v":0},{"$f":"INDEX(A$37:L$61,MATCH(1,(A$37:A$61=D2)*(B$37:B$61=E2),0),IF(F2=100,3,IF(F2=150,5,IF(F2=200,7,IF(F2=250,9,IF(F2=300,11,0))))))","v":{"$error":"#N/A"}},{"$f":"INDEX(A$37:L$61,MATCH(1,(A$37:A$61=D2)*(B$37:B$61=E2),0),IF(F2=100,4,IF(F2=150,6,IF(F2=200,8,IF(F2=250,10,IF(F2=300,12,0))))))","v":{"$error":"#N/A"}},{"$f":"INDEX(A$64:L$88,MATCH(1,(A$64:A$88=D2)*(B$64:B$88=E2),0),IF(F2=100,3,IF(F2=150,5,IF(F2=200,7,IF(F2=250,9,IF(F2=300,11,0))))))","v":{"$error":"#N/A"}},{"$f":"INDEX(A$64:L$88,MATCH(1,(A$64:A$88=D2)*(B$64:B$88=E2),0),IF(F2=100,4,IF(F2=150,6,IF(F2=200,8,IF(F2=250,10,IF(F2=300,12,0))))))","v":{"$error":"#N/A"}},{"$f":"INDEX(A$91:L$115,MATCH(1,(A$91:A$115=D2)*(B$91:B$115=E2),0),IF(F2=100,3,IF(F2=150,5,IF(F2=200,7,IF(F2=250,9,IF(F2=300,11,0))))))","v":{"$error":"#N/A"}},{"$f":"INDEX(A$91:L$115,MATCH(1,(A$91:A$115=D2)*(B$91:B$115=E2),0),IF(F2=100,4,IF(F2=150,6,IF(F2=200,8,IF(F2=250,10,IF(F2=300,12,0))))))","v":{"$error":"#N/A"}},{"$f":"INDEX(A$118:L$142,MATCH(1,(A$118:A$142=D2)*(B$118:B$142=E2),0),IF(F2=100,3,IF(F2=150,5,IF(F2=200,7,IF(F2=250,9,IF(F2=300,11,0))))))","v":{"$error":"#N/A"}},{"$f":"INDEX(A$118:L$142,MATCH(1,(A$118:A$142=D2)*(B$118:B$142=E2),0),IF(F2=100,4,IF(F2=150,6,IF(F2=200,8,IF(F2=250,10,IF(F2=300,12,0))))))","v":{"$error":"#N/A"}},{"$f":"INDEX(N$37:Y$61,MATCH(1,(N$37:N$61=D2)*(O$37:O$61=E2),0),IF(F2=100,3,IF(F2=150,5,IF(F2=200,7,IF(F2=250,9,IF(F2=300,11,0))))))","v":{"$error":"#N/A"}},{"$f":"INDEX(N$37:Y$61,MATCH(1,(N$37:N$61=D2)*(O$37:O$61=E2),0),IF(F2=100,4,IF(F2=150,6,IF(F2=200,8,IF(F2=250,10,IF(F2=300,12,0))))))","v":{"$error":"#N/A"}},{"$f":"INDEX(N$64:Y$88,MATCH(1,(N$64:N$88=D2)*(O$64:O$88=E2),0),IF(F2=100,3,IF(F2=150,5,IF(F2=200,7,IF(F2=250,9,IF(F2=300,11,0))))))","v":{"$error":"#N/A"}},{"$f":"INDEX(N$64:Y$88,MATCH(1,(N$64:N$88=D2)*(O$64:O$88=E2),0),IF(F2=100,4,IF(F2=150,6,IF(F2=200,8,IF(F2=250,10,IF(F2=300,12,0))))))","v":{"$error":"#N/A"}},{"$f":"INDEX(N$91:Y$115,MATCH(1,(N$91:N$115=D2)*(O$91:O$115=E2),0),IF(F2=100,3,IF(F2=150,5,IF(F2=200,7,IF(F2=250,9,IF(F2=300,11,0))))))","v":{"$error":"#N/A"}},{"$f":"INDEX(N$91:Y$115,MATCH(1,(N$91:N$115=D2)*(O$91:O$115=E2),0),IF(F2=100,4,IF(F2=150,6,IF(F2=200,8,IF(F2=250,10,IF(F2=300,12,0))))))","v":{"$error":"#N/A"}},{"$f":"INDEX(N$118:Y$142,MATCH(1,(N$118:N$142=D2)*(O$118:O$142=E2),0),IF(F2=100,3,IF(F2=150,5,IF(F2=200,7,IF(F2=250,9,IF(F2=300,11,0))))))","v":{"$error":"#N/A"}},{"$f":"INDEX(N$118:Y$142,MATCH(1,(N$118:N$142=D2)*(O$118:O$142=E2),0),IF(F2=100,4,IF(F2=150,6,IF(F2=200,8,IF(F2=250,10,IF(F2=300,12,0))))))","v":{"$error":"#N/A"}}]
[{"$f":"'UFH Guide'!A3","v":" "},null,{"$f":"'UFH Guide'!H3","v":0},{"$f":"'UFH Guide'!E3","v":0},{"$f":"'UFH Guide'!B3","v":0},{"$f":"'UFH Guide'!I3","v":0},{"$f":"'UFH Guide'!J3","v":0},{"$f":"IF(AND($G3=0,$C3=16),J3,IF(AND($G3=0,$C3=20),R3,IF(AND($G3=0.05,$C3=16),L3,IF(AND($G3=0.05,$C3=20),T3,IF(AND($G3=0.1,$C3=16),N3,IF(AND($G3=0.1,$C3=20),V3,IF(AND($G3=0.15,$C3=16),P3,IF(AND($G3=0.15,$C3=20),X3,0))))))))","v":0},0,{"$f":"INDEX(A$37:L$61,MATCH(1,(A$37:A$61=D3)*(B$37:B$61=E3),0),IF(F3=100,3,IF(F3=150,5,IF(F3=200,7,IF(F3=250,9,IF(F3=300,11,0))))))","v":{"$error":"#N/A"}},{"$f":"INDEX(A$37:L$61,MATCH(1,(A$37:A$61=D3)*(B$37:B$61=E3),0),IF(F3=100,4,IF(F3=150,6,IF(F3=200,8,IF(F3=250,10,IF(F3=300,12,0))))))","v":{"$error":"#N/A"}},{"$f":"INDEX(A$64:L$88,MATCH(1,(A$64:A$88=D3)*(B$64:B$88=E3),0),IF(F3=100,3,IF(F3=150,5,IF(F3=200,7,IF(F3=250,9,IF(F3=300,11,0))))))","v":{"$error":"#N/A"}},{"$f":"INDEX(A$64:L$88,MATCH(1,(A$64:A$88=D3)*(B$64:B$88=E3),0),IF(F3=100,4,IF(F3=150,6,IF(F3=200,8,IF(F3=250,10,IF(F3=300,12,0))))))","v":{"$error":"#N/A"}},{"$f":"INDEX(A$91:L$115,MATCH(1,(A$91:A$115=D3)*(B$91:B$115=E3),0),IF(F3=100,3,IF(F3=150,5,IF(F3=200,7,IF(F3=250,9,IF(F3=300,11,0))))))","v":{"$error":"#N/A"}},{"$f":"INDEX(A$91:L$115,MATCH(1,(A$91:A$115=D3)*(B$91:B$115=E3),0),IF(F3=100,4,IF(F3=150,6,IF(F3=200,8,IF(F3=250,10,IF(F3=300,12,0))))))","v":{"$error":"#N/A"}},{"$f":"INDEX(A$118:L$142,MATCH(1,(A$118:A$142=D3)*(B$118:B$142=E3),0),IF(F3=100,3,IF(F3=150,5,IF(F3=200,7,IF(F3=250,9,IF(F3=300,11,0))))))","v":{"$error":"#N/A"}},{"$f":"INDEX(A$118:L$142,MATCH(1,(A$118:A$142=D3)*(B$118:B$142=E3),0),IF(F3=100,4,IF(F3=150,6,IF(F3=200,8,IF(F3=250,10,IF(F3=300,12,0))))))","v":{"$error":"#N/A"}},{"$f":"INDEX(N$37:Y$61,MATCH(1,(N$37:N$61=D3)*(O$37:O$61=E3),0),IF(F3=100,3,IF(F3=150,5,IF(F3=200,7,IF(F3=250,9,IF(F3=300,11,0))))))","v":{"$error":"#N/A"}},{"$f":"INDEX(N$37:Y$61,MATCH(1,(N$37:N$61=D3)*(O$37:O$61=E3),0),IF(F3=100,4,IF(F3=150,6,IF(F3=200,8,IF(F3=250,10,IF(F3=300,12,0))))))","v":{"$error":"#N/A"}},{"$f":"INDEX(N$64:Y$88,MATCH(1,(N$64:N$88=D3)*(O$64:O$88=E3),0),IF(F3=100,3,IF(F3=150,5,IF(F3=200,7,IF(F3=250,9,IF(F3=300,11,0))))))","v":{"$error":"#N/A"}},{"$f":"INDEX(N$64:Y$88,MATCH(1,(N$64:N$88=D3)*(O$64:O$88=E3),0),IF(F3=100,4,IF(F3=150,6,IF(F3=200,8,IF(F3=250,10,IF(F3=300,12,0))))))","v":{"$error":"#N/A"}},{"$f":"INDEX(N$91:Y$115,MATCH(1,(N$91:N$115=D3)*(O$91:O$115=E3),0),IF(F3=100,3,IF(F3=150,5,IF(F3=200,7,IF(F3=250,9,IF(F3=300,11,0))))))","v":{"$error":"#N/A"}},{"$f":"INDEX(N$91:Y$115,MATCH(1,(N$91:N$115=D3)*(O$91:O$115=E3),0),IF(F3=100,4,IF(F3=150,6,IF(F3=200,8,IF(F3=250,10,IF(F3=300,12,0))))))","v":{"$error":"#N/A"}},{"$f":"INDEX(N$118:Y$142,MATCH(1,(N$118:N$142=D3)*(O$118:O$142=E3),0),IF(F3=100,3,IF(F3=150,5,IF(F3=200,7,IF(F3=250,9,IF(F3=300,11,0))))))","v":{"$error":"#N/A"}},{"$f":"INDEX(N$118:Y$142,MATCH(1,(N$118:N$142=D3)*(O$118:O$142=E3),0),IF(F3=100,4,IF(F3=150,6,IF(F3=200,8,IF(F3=250,10,IF(F3=300,12,0))))))","v":{"$error":"#N/A"}}]
[{"$f":"'UFH Guide'!A4","v":" "},null,{"$f":"'UFH Guide'!H4","v":0},{"$f":"'UFH Guide'!E4","v":0},{"$f":"'UFH Guide'!B4","v":0},{"$f":"'UFH Guide'!I4","v":0},{"$f":"'UFH Guide'!J4","v":0},0,0,{"$f":"INDEX(A$37:L$61,MATCH(1,(A$37:A$61=D4)*(B$37:B$61=E4),0),IF(F4=100,3,IF(F4=150,5,IF(F4=200,7,IF(F4=250,9,IF(F4=300,11,0))))))","v":{"$error":"#N/A"}},{"$f":"INDEX(A$37:L$61,MATCH(1,(A$37:A$61=D4)*(B$37:B$61=E4),0),IF(F4=100,4,IF(F4=150,6,IF(F4=200,8,IF(F4=250,10,IF(F4=300,12,0))))))","v":{"$error":"#N/A"}},{"$f":"INDEX(A$64:L$88,MATCH(1,(A$64:A$88=D4)*(B$64:B$88=E4),0),IF(F4=100,3,IF(F4=150,5,IF(F4=200,7,IF(F4=250,9,IF(F4=300,11,0))))))","v":{"$error":"#N/A"}},{"$f":"INDEX(A$64:L$88,MATCH(1,(A$64:A$88=D4)*(B$64:B$88=E4),0),IF(F4=100,4,IF(F4=150,6,IF(F4=200,8,IF(F4=250,10,IF(F4=300,12,0))))))","v":{"$error":"#N/A"}},{"$f":"INDEX(A$91:L$115,MATCH(1,(A$91:A$115=D4)*(B$91:B$115=E4),0),IF(F4=100,3,IF(F4=150,5,IF(F4=200,7,IF(F4=250,9,IF(F4=300,11,0))))))","v":{"$error":"#N/A"}},{"$f":"INDEX(A$91:L$115,MATCH(1,(A$91:A$115=D4)*(B$91:B$115=E4),0),IF(F4=100,4,IF(F4=150,6,IF(F4=200,8,IF(F4=250,10,IF(F4=300,12,0))))))","v":{"$error":"#N/A"}},{"$f":"INDEX(A$118:L$142,MATCH(1,(A$118:A$142=D4)*(B$118:B$142=E4),0),IF(F4=100,3,IF(F4=150,5,IF(F4=200,7,IF(F4=250,9,IF(F4=300,11,0))))))","v":{"$error":"#N/A"}},{"$f":"INDEX(A$118:L$142,MATCH(1,(A$118:A$142=D4)*(B$118:B$142=E4),0),IF(F4=100,4,IF(F4=150,6,IF(F4=200,8,IF(F4=250,10,IF(F4=300,12,0))))))","v":{"$error":"#N/A"}},{"$f":"INDEX(N$37:Y$61,MATCH(1,(N$37:N$61=D4)*(O$37:O$61=E4),0),IF(F4=100,3,IF(F4=150,5,IF(F4=200,7,IF(F4=250,9,IF(F4=300,11,0))))))","v":{"$error":"#N/A"}},{"$f":"INDEX(N$37:Y$61,MATCH(1,(N$37:N$61=D4)*(O$37:O$61=E4),0),IF(F4=100,4,IF(F4=150,6,IF(F4=200,8,IF(F4=250,10,IF(F4=300,12,0))))))","v":{"$error":"#N/A"}},{"$f":"INDEX(N$64:Y$88,MATCH(1,(N$64:N$88=D4)*(O$64:O$88=E4),0),IF(F4=100,3,IF(F4=150,5,IF(F4=200,7,IF(F4=250,9,IF(F4=300,11,0))))))","v":{"$error":"#N/A"}},{"$f":"INDEX(N$64:Y$88,MATCH(1,(N$64:N$88=D4)*(O$64:O$88=E4),0),IF(F4=100,4,IF(F4=150,6,IF(F4=200,8,IF(F4=250,10,IF(F4=300,12,0))))))","v":{"$error":"#N/A"}},{"$f":"INDEX(N$91:Y$115,MATCH(1,(N$91:N$115=D4)*(O$91:O$115=E4),0),IF(F4=100,3,IF(F4=150,5,IF(F4=200,7,IF(F4=250,9,IF(F4=300,11,0))))))","v":{"$error":"#N/A"}},{"$f":"INDEX(N$91:Y$115,MATCH(1,(N$91:N$115=D4)*(O$91:O$115=E4),0),IF(F4=100,4,IF(F4=150,6,IF(F4=200,8,IF(F4=250,10,IF(F4=300,12,0))))))","v":{"$error":"#N/A"}},{"$f":"INDEX(N$118:Y$142,MATCH(1,(N$118:N$142=D4)*(O$118:O$142=E4),0),IF(F4=100,3,IF(F4=150,5,IF(F4=200,7,IF(F4=250,9,IF(F4=300,11,0))))))","v":{"$error":"#N/A"}},{"$f":"INDEX(N$118:Y$142,MATCH(1,(N$118:N$142=D4)*(O$118:O$142=E4),0),IF(F4=100,4,IF(F4=150,6,IF(F4=200,8,IF(F4=250,10,IF(F4=300,12,0))))))","v":{"$error":"#N/A"}}]
[{"$f":"'UFH Guide'!A5","v":" "},null,{"$f":"'UFH Guide'!H5","v":0},{"$f":"'UFH Guide'!E5","v":0},{"$f":"'UFH Guide'!B5","v":0},{"$f":"'UFH Guide'!I5","v":0},{"$f":"'UFH Guide'!J5","v":0},0,0,{"$f":"INDEX(A$37:L$61,MATCH(1,(A$37:A$61=D5)*(B$37:B$61=E5),0),IF(F5=100,3,IF(F5=150,5,IF(F5=200,7,IF(F5=250,9,IF(F5=300,11,0))))))","v":{"$error":"#N/A"}},{"$f":"INDEX(A$37:L$61,MATCH(1,(A$37:A$61=D5)*(B$37:B$61=E5),0),IF(F5=100,4,IF(F5=150,6,IF(F5=200,8,IF(F5=250,10,IF(F5=300,12,0))))))","v":{"$error":"#N/A"}},{"$f":"INDEX(A$64:L$88,MATCH(1,(A$64:A$88=D5)*(B$64:B$88=E5),0),IF(F5=100,3,IF(F5=150,5,IF(F5=200,7,IF(F5=250,9,IF(F5=300,11,0))))))","v":{"$error":"#N/A"}},{"$f":"INDEX(A$64:L$88,MATCH(1,(A$64:A$88=D5)*(B$64:B$88=E5),0),IF(F5=100,4,IF(F5=150,6,IF(F5=200,8,IF(F5=250,10,IF(F5=300,12,0))))))","v":{"$error":"#N/A"}},{"$f":"INDEX(A$91:L$115,MATCH(1,(A$91:A$115=D5)*(B$91:B$115=E5),0),IF(F5=100,3,IF(F5=150,5,IF(F5=200,7,IF(F5=250,9,IF(F5=300,11,0))))))","v":{"$error":"#N/A"}},{"$f":"INDEX(A$91:L$115,MATCH(1,(A$91:A$115=D5)*(B$91:B$115=E5),0),IF(F5=100,4,IF(F5=150,6,IF(F5=200,8,IF(F5=250,10,IF(F5=300,12,0))))))","v":{"$error":"#N/A"}},{"$f":"INDEX(A$118:L$142,MATCH(1,(A$118:A$142=D5)*(B$118:B$142=E5),0),IF(F5=100,3,IF(F5=150,5,IF(F5=200,7,IF(F5=250,9,IF(F5=300,11,0))))))","v":{"$error":"#N/A"}},{"$f":"INDEX(A$118:L$142,MATCH(1,(A$118:A$142=D5)*(B$118:B$142=E5),0),IF(F5=100,4,IF(F5=150,6,IF(F5=200,8,IF(F5=250,10,IF(F5=300,12,0))))))","v":{"$error":"#N/A"}},{"$f":"INDEX(N$37:Y$61,MATCH(1,(N$37:N$61=D5)*(O$37:O$61=E5),0),IF(F5=100,3,IF(F5=150,5,IF(F5=200,7,IF(F5=250,9,IF(F5=300,11,0))))))","v":{"$error":"#N/A"}},{"$f":"INDEX(N$37:Y$61,MATCH(1,(N$37:N$61=D5)*(O$37:O$61=E5),0),IF(F5=100,4,IF(F5=150,6,IF(F5=200,8,IF(F5=250,10,IF(F5=300,12,0))))))","v":{"$error":"#N/A"}},{"$f":"INDEX(N$64:Y$88,MATCH(1,(N$64:N$88=D5)*(O$64:O$88=E5),0),IF(F5=100,3,IF(F5=150,5,IF(F5=200,7,IF(F5=250,9,IF(F5=300,11,0))))))","v":{"$error":"#N/A"}},{"$f":"INDEX(N$64:Y$88,MATCH(1,(N$64:N$88=D5)*(O$64:O$88=E5),0),IF(F5=100,4,IF(F5=150,6,IF(F5=200,8,IF(F5=250,10,IF(F5=300,12,0))))))","v":{"$error":"#N/A"}},{"$f":"INDEX(N$91:Y$115,MATCH(1,(N$91:N$115=D5)*(O$91:O$115=E5),0),IF(F5=100,3,IF(F5=150,5,IF(F5=200,7,IF(F5=250,9,IF(F5=300,11,0))))))","v":{"$error":"#N/A"}},{"$f":"INDEX(N$91:Y$115,MATCH(1,(N$91:N$115=D5)*(O$91:O$115=E5),0),IF(F5=100,4,IF(F5=150,6,IF(F5=200,8,IF(F5=250,10,IF(F5=300,12,0))))))","v":{"$error":"#N/A"}},{"$f":"INDEX(N$118:Y$142,MATCH(1,(N$118:N$142=D5)*(O$118:O$142=E5),0),IF(F5=100,3,IF(F5=150,5,IF(F5=200,7,IF(F5=250,9,IF(F5=300,11,0))))))","v":{"$error":"#N/A"}},{"$f":"INDEX(N$118:Y$142,MATCH(1,(N$118:N$142=D5)*(O$118:O$142=E5),0),IF(F5=100,4,IF(F5=150,6,IF(F5=200,8,IF(F5=250,10,IF(F5=300,12,0))))))","v":{"$error":"#N/A"}}]
[{"$f":"'UFH Guide'!A6","v":" "},null,{"$f":"'UFH Guide'!H6","v":0},{"$f":"'UFH Guide'!E6","v":0},{"$f":"'UFH Guide'!B6","v":0},{"$f":"'UFH Guide'!I6","v":0},{"$f":"'UFH Guide'!J6","v":0},0,0,{"$f":"INDEX(A$37:L$61,MATCH(1,(A$37:A$61=D6)*(B$37:B$61=E6),0),IF(F6=100,3,IF(F6=150,5,IF(F6=200,7,IF(F6=250,9,IF(F6=300,11,0))))))","v":{"$error":"#N/A"}},{"$f":"INDEX(A$37:L$61,MATCH(1,(A$37:A$61=D6)*(B$37:B$61=E6),0),IF(F6=100,4,IF(F6=150,6,IF(F6=200,8,IF(F6=250,10,IF(F6=300,12,0))))))","v":{"$error":"#N/A"}},{"$f":"INDEX(A$64:L$88,MATCH(1,(A$64:A$88=D6)*(B$64:B$88=E6),0),IF(F6=100,3,IF(F6=150,5,IF(F6=200,7,IF(F6=250,9,IF(F6=300,11,0))))))","v":{"$error":"#N/A"}},{"$f":"INDEX(A$64:L$88,MATCH(1,(A$64:A$88=D6)*(B$64:B$88=E6),0),IF(F6=100,4,IF(F6=150,6,IF(F6=200,8,IF(F6=250,10,IF(F6=300,12,0))))))","v":{"$error":"#N/A"}},{"$f":"INDEX(A$91:L$115,MATCH(1,(A$91:A$115=D6)*(B$91:B$115=E6),0),IF(F6=100,3,IF(F6=150,5,IF(F6=200,7,IF(F6=250,9,IF(F6=300,11,0))))))","v":{"$error":"#N/A"}},{"$f":"INDEX(A$91:L$115,MATCH(1,(A$91:A$115=D6)*(B$91:B$115=E6),0),IF(F6=100,4,IF(F6=150,6,IF(F6=200,8,IF(F6=250,10,IF(F6=300,12,0))))))","v":{"$error":"#N/A"}},{"$f":"INDEX(A$118:L$142,MATCH(1,(A$118:A$142=D6)*(B$118:B$142=E6),0),IF(F6=100,3,IF(F6=150,5,IF(F6=200,7,IF(F6=250,9,IF(F6=300,11,0))))))","v":{"$error":"#N/A"}},{"$f":"INDEX(A$118:L$142,MATCH(1,(A$118:A$142=D6)*(B$118:B$142=E6),0),IF(F6=100,4,IF(F6=150,6,IF(F6=200,8,IF(F6=250,10,IF(F6=300,12,0))))))","v":{"$error":"#N/A"}},{"$f":"INDEX(N$37:Y$61,MATCH(1,(N$37:N$61=D6)*(O$37:O$61=E6),0),IF(F6=100,3,IF(F6=150,5,IF(F6=200,7,IF(F6=250,9,IF(F6=300,11,0))))))","v":{"$error":"#N/A"}},{"$f":"INDEX(N$37:Y$61,MATCH(1,(N$37:N$61=D6)*(O$37:O$61=E6),0),IF(F6=100,4,IF(F6=150,6,IF(F6=200,8,IF(F6=250,10,IF(F6=300,12,0))))))","v":{"$error":"#N/A"}},{"$f":"INDEX(N$64:Y$88,MATCH(1,(N$64:N$88=D6)*(O$64:O$88=E6),0),IF(F6=100,3,IF(F6=150,5,IF(F6=200,7,IF(F6=250,9,IF(F6=300,11,0))))))","v":{"$error":"#N/A"}},{"$f":"INDEX(N$64:Y$88,MATCH(1,(N$64:N$88=D6)*(O$64:O$88=E6),0),IF(F6=100,4,IF(F6=150,6,IF(F6=200,8,IF(F6=250,10,IF(F6=300,12,0))))))","v":{"$error":"#N/A"}},{"$f":"INDEX(N$91:Y$115,MATCH(1,(N$91:N$115=D6)*(O$91:O$115=E6),0),IF(F6=100,3,IF(F6=150,5,IF(F6=200,7,IF(F6=250,9,IF(F6=300,11,0))))))","v":{"$error":"#N/A"}},{"$f":"INDEX(N$91:Y$115,MATCH(1,(N$91:N$115=D6)*(O$91:O$115=E6),0),IF(F6=100,4,IF(F6=150,6,IF(F6=200,8,IF(F6=250,10,IF(F6=300,12,0))))))","v":{"$error":"#N/A"}},{"$f":"INDEX(N$118:Y$142,MATCH(1,(N$118:N$142=D6)*(O$118:O$142=E6),0),IF(F6=100,3,IF(F6=150,5,IF(F6=200,7,IF(F6=250,9,IF(F6=300,11,0))))))","v":{"$error":"#N/A"}},{"$f":"INDEX(N$118:Y$142,MATCH(1,(N$118:N$142=D6)*(O$118:O$142=E6),0),IF(F6=100,4,IF(F6=150,6,IF(F6=200,8,IF(F6=250,10,IF(F6=300,12,0))))))","v":{"$error":"#N/A"}}]
[{"$f":"'UFH Guide'!A7","v":" "},null,{"$f":"'UFH Guide'!H7","v":0},{"$f":"'UFH Guide'!E7","v":0},{"$f":"'UFH Guide'!B7","v":0},{"$f":"'UFH Guide'!I7","v":0},{"$f":"'UFH Guide'!J7","v":0},0,0,{"$f":"INDEX(A$37:L$61,MATCH(1,(A$37:A$61=D7)*(B$37:B$61=E7),0),IF(F7=100,3,IF(F7=150,5,IF(F7=200,7,IF(F7=250,9,IF(F7=300,11,0))))))","v":{"$error":"#N/A"}},{"$f":"INDEX(A$37:L$61,MATCH(1,(A$37:A$61=D7)*(B$37:B$61=E7),0),IF(F7=100,4,IF(F7=150,6,IF(F7=200,8,IF(F7=250,10,IF(F7=300,12,0))))))","v":{"$error":"#N/A"}},{"$f":"INDEX(A$64:L$88,MATCH(1,(A$64:A$88=D7)*(B$64:B$88=E7),0),IF(F7=100,3,IF(F7=150,5,IF(F7=200,7,IF(F7=250,9,IF(F7=300,11,0))))))","v":{"$error":"#N/A"}},{"$f":"INDEX(A$64:L$88,MATCH(1,(A$64:A$88=D7)*(B$64:B$88=E7),0),IF(F7=100,4,IF(F7=150,6,IF(F7=200,8,IF(F7=250,10,IF(F7=300,12,0))))))","v":{"$error":"#N/A"}},{"$f":"INDEX(A$91:L$115,MATCH(1,(A$91:A$115=D7)*(B$91:B$115=E7),0),IF(F7=100,3,IF(F7=150,5,IF(F7=200,7,IF(F7=250,9,IF(F7=300,11,0))))))","v":{"$error":"#N/A"}},{"$f":"INDEX(A$91:L$115,MATCH(1,(A$91:A$115=D7)*(B$91:B$115=E7),0),IF(F7=100,4,IF(F7=150,6,IF(F7=200,8,IF(F7=250,10,IF(F7=300,12,0))))))","v":{"$error":"#N/A"}},{"$f":"INDEX(A$118:L$142,MATCH(1,(A$118:A$142=D7)*(B$118:B$142=E7),0),IF(F7=100,3,IF(F7=150,5,IF(F7=200,7,IF(F7=250,9,IF(F7=300,11,0))))))","v":{"$error":"#N/A"}},{"$f":"INDEX(A$118:L$142,MATCH(1,(A$118:A$142=D7)*(B$118:B$142=E7),0),IF(F7=100,4,IF(F7=150,6,IF(F7=200,8,IF(F7=250,10,IF(F7=300,12,0))))))","v":{"$error":"#N/A"}},{"$f":"INDEX(N$37:Y$61,MATCH(1,(N$37:N$61=D7)*(O$37:O$61=E7),0),IF(F7=100,3,IF(F7=150,5,IF(F7=200,7,IF(F7=250,9,IF(F7=300,11,0))))))","v":{"$error":"#N/A"}},{"$f":"INDEX(N$37:Y$61,MATCH(1,(N$37:N$61=D7)*(O$37:O$61=E7),0),IF(F7=100,4,IF(F7=150,6,IF(F7=200,8,IF(F7=250,10,IF(F7=300,12,0))))))","v":{"$error":"#N/A"}},{"$f":"INDEX(N$64:Y$88,MATCH(1,(N$64:N$88=D7)*(O$64:O$88=E7),0),IF(F7=100,3,IF(F7=150,5,IF(F7=200,7,IF(F7=250,9,IF(F7=300,11,0))))))","v":{"$error":"#N/A"}},{"$f":"INDEX(N$64:Y$88,MATCH(1,(N$64:N$88=D7)*(O$64:O$88=E7),0),IF(F7=100,4,IF(F7=150,6,IF(F7=200,8,IF(F7=250,10,IF(F7=300,12,0))))))","v":{"$error":"#N/A"}},{"$f":"INDEX(N$91:Y$115,MATCH(1,(N$91:N$115=D7)*(O$91:O$115=E7),0),IF(F7=100,3,IF(F7=150,5,IF(F7=200,7,IF(F7=250,9,IF(F7=300,11,0))))))","v":{"$error":"#N/A"}},{"$f":"INDEX(N$91:Y$115,MATCH(1,(N$91:N$115=D7)*(O$91:O$115=E7),0),IF(F7=100,4,IF(F7=150,6,IF(F7=200,8,IF(F7=250,10,IF(F7=300,12,0))))))","v":{"$error":"#N/A"}},{"$f":"INDEX(N$118:Y$142,MATCH(1,(N$118:N$142=D7)*(O$118:O$142=E7),0),IF(F7=100,3,IF(F7=150,5,IF(F7=200,7,IF(F7=250,9,IF(F7=300,11,0))))))","v":{"$error":"#N/A"}},{"$f":"INDEX(N$118:Y$142,MATCH(1,(N$118:N$142=D7)*(O$118:O$142=E7),0),IF(F7=100,4,IF(F7=150,6,IF(F7=200,8,IF(F7=250,10,IF(F7=300,12,0))))))","v":{"$error":"#N/A"}}]
[{"$f":"'UFH Guide'!A8","v":" "},null,{"$f":"'UFH Guide'!H8","v":0},{"$f":"'UFH Guide'!E8","v":0},{"$f":"'UFH Guide'!B8","v":0},{"$f":"'UFH Guide'!I8","v":0},{"$f":"'UFH Guide'!J8","v":0},0,0,{"$f":"INDEX(A$37:L$61,MATCH(1,(A$37:A$61=D8)*(B$37:B$61=E8),0),IF(F8=100,3,IF(F8=150,5,IF(F8=200,7,IF(F8=250,9,IF(F8=300,11,0))))))","v":{"$error":"#N/A"}},{"$f":"INDEX(A$37:L$61,MATCH(1,(A$37:A$61=D8)*(B$37:B$61=E8),0),IF(F8=100,4,IF(F8=150,6,IF(F8=200,8,IF(F8=250,10,IF(F8=300,12,0))))))","v":{"$error":"#N/A"}},{"$f":"INDEX(A$64:L$88,MATCH(1,(A$64:A$88=D8)*(B$64:B$88=E8),0),IF(F8=100,3,IF(F8=150,5,IF(F8=200,7,IF(F8=250,9,IF(F8=300,11,0))))))","v":{"$error":"#N/A"}},{"$f":"INDEX(A$64:L$88,MATCH(1,(A$64:A$88=D8)*(B$64:B$88=E8),0),IF(F8=100,4,IF(F8=150,6,IF(F8=200,8,IF(F8=250,10,IF(F8=300,12,0))))))","v":{"$error":"#N/A"}},{"$f":"INDEX(A$91:L$115,MATCH(1,(A$91:A$115=D8)*(B$91:B$115=E8),0),IF(F8=100,3,IF(F8=150,5,IF(F8=200,7,IF(F8=250,9,IF(F8=300,11,0))))))","v":{"$error":"#N/A"}},{"$f":"INDEX(A$91:L$115,MATCH(1,(A$91:A$115=D8)*(B$91:B$115=E8),0),IF(F8=100,4,IF(F8=150,6,IF(F8=200,8,IF(F8=250,10,IF(F8=300,12,0))))))","v":{"$error":"#N/A"}},{"$f":"INDEX(A$118:L$142,MATCH(1,(A$118:A$142=D8)*(B$118:B$142=E8),0),IF(F8=100,3,IF(F8=150,5,IF(F8=200,7,IF(F8=250,9,IF(F8=300,11,0))))))","v":{"$error":"#N/A"}},{"$f":"INDEX(A$118:L$142,MATCH(1,(A$118:A$142=D8)*(B$118:B$142=E8),0),IF(F8=100,4,IF(F8=150,6,IF(F8=200,8,IF(F8=250,10,IF(F8=300,12,0))))))","v":{"$error":"#N/A"}},{"$f":"INDEX(N$37:Y$61,MATCH(1,(N$37:N$61=D8)*(O$37:O$61=E8),0),IF(F8=100,3,IF(F8=150,5,IF(F8=200,7,IF(F8=250,9,IF(F8=300,11,0))))))","v":{"$error":"#N/A"}},{"$f":"INDEX(N$37:Y$61,MATCH(1,(N$37:N$61=D8)*(O$37:O$61=E8),0),IF(F8=100,4,IF(F8=150,6,IF(F8=200,8,IF(F8=250,10,IF(F8=300,12,0))))))","v":{"$error":"#N/A"}},{"$f":"INDEX(N$64:Y$88,MATCH(1,(N$64:N$88=D8)*(O$64:O$88=E8),0),IF(F8=100,3,IF(F8=150,5,IF(F8=200,7,IF(F8=250,9,IF(F8=300,11,0))))))","v":{"$error":"#N/A"}},{"$f":"INDEX(N$64:Y$88,MATCH(1,(N$64:N$88=D8)*(O$64:O$88=E8),0),IF(F8=100,4,IF(F8=150,6,IF(F8=200,8,IF(F8=250,10,IF(F8=300,12,0))))))","v":{"$error":"#N/A"}},{"$f":"INDEX(N$91:Y$115,MATCH(1,(N$91:N$115=D8)*(O$91:O$115=E8),0),IF(F8=100,3,IF(F8=150,5,IF(F8=200,7,IF(F8=250,9,IF(F8=300,11,0))))))","v":{"$error":"#N/A"}},{"$f":"INDEX(N$91:Y$115,MATCH(1,(N$91:N$115=D8)*(O$91:O$115=E8),0),IF(F8=100,4,IF(F8=150,6,IF(F8=200,8,IF(F8=250,10,IF(F8=300,12,0))))))","v":{"$error":"#N/A"}},{"$f":"INDEX(N$118:Y$142,MATCH(1,(N$118:N$142=D8)*(O$118:O$142=E8),0),IF(F8=100,3,IF(F8=150,5,IF(F8=200,7,IF(F8=250,9,IF(F8=300,11,0))))))","v":{"$error":"#N/A"}},{"$f":"INDEX(N$118:Y$142,MATCH(1,(N$118:N$142=D8)*(O$118:O$142=E8),0),IF(F8=100,4,IF(F8=150,6,IF(F8=200,8,IF(F8=250,10,IF(F8=300,12,0))))))","v":{"$error":"#N/A"}}]
[{"$f":"'UFH Guide'!A9","v":" "},null,{"$f":"'UFH Guide'!H9","v":0},{"$f":"'UFH Guide'!E9","v":0},{"$f":"'UFH Guide'!B9","v":0},{"$f":"'UFH Guide'!I9","v":0},{"$f":"'UFH Guide'!J9","v":0},0,0,{"$f":"INDEX(A$37:L$61,MATCH(1,(A$37:A$61=D9)*(B$37:B$61=E9),0),IF(F9=100,3,IF(F9=150,5,IF(F9=200,7,IF(F9=250,9,IF(F9=300,11,0))))))","v":{"$error":"#N/A"}},{"$f":"INDEX(A$37:L$61,MATCH(1,(A$37:A$61=D9)*(B$37:B$61=E9),0),IF(F9=100,4,IF(F9=150,6,IF(F9=200,8,IF(F9=250,10,IF(F9=300,12,0))))))","v":{"$error":"#N/A"}},{"$f":"INDEX(A$64:L$88,MATCH(1,(A$64:A$88=D9)*(B$64:B$88=E9),0),IF(F9=100,3,IF(F9=150,5,IF(F9=200,7,IF(F9=250,9,IF(F9=300,11,0))))))","v":{"$error":"#N/A"}},{"$f":"INDEX(A$64:L$88,MATCH(1,(A$64:A$88=D9)*(B$64:B$88=E9),0),IF(F9=100,4,IF(F9=150,6,IF(F9=200,8,IF(F9=250,10,IF(F9=300,12,0))))))","v":{"$error":"#N/A"}},{"$f":"INDEX(A$91:L$115,MATCH(1,(A$91:A$115=D9)*(B$91:B$115=E9),0),IF(F9=100,3,IF(F9=150,5,IF(F9=200,7,IF(F9=250,9,IF(F9=300,11,0))))))","v":{"$error":"#N/A"}},{"$f":"INDEX(A$91:L$115,MATCH(1,(A$91:A$115=D9)*(B$91:B$115=E9),0),IF(F9=100,4,IF(F9=150,6,IF(F9=200,8,IF(F9=250,10,IF(F9=300,12,0))))))","v":{"$error":"#N/A"}},{"$f":"INDEX(A$118:L$142,MATCH(1,(A$118:A$142=D9)*(B$118:B$142=E9),0),IF(F9=100,3,IF(F9=150,5,IF(F9=200,7,IF(F9=250,9,IF(F9=300,11,0))))))","v":{"$error":"#N/A"}},{"$f":"INDEX(A$118:L$142,MATCH(1,(A$118:A$142=D9)*(B$118:B$142=E9),0),IF(F9=100,4,IF(F9=150,6,IF(F9=200,8,IF(F9=250,10,IF(F9=300,12,0))))))","v":{"$error":"#N/A"}},{"$f":"INDEX(N$37:Y$61,MATCH(1,(N$37:N$61=D9)*(O$37:O$61=E9),0),IF(F9=100,3,IF(F9=150,5,IF(F9=200,7,IF(F9=250,9,IF(F9=300,11,0))))))","v":{"$error":"#N/A"}},{"$f":"INDEX(N$37:Y$61,MATCH(1,(N$37:N$61=D9)*(O$37:O$61=E9),0),IF(F9=100,4,IF(F9=150,6,IF(F9=200,8,IF(F9=250,10,IF(F9=300,12,0))))))","v":{"$error":"#N/A"}},{"$f":"INDEX(N$64:Y$88,MATCH(1,(N$64:N$88=D9)*(O$64:O$88=E9),0),IF(F9=100,3,IF(F9=150,5,IF(F9=200,7,IF(F9=250,9,IF(F9=300,11,0))))))","v":{"$error":"#N/A"}},{"$f":"INDEX(N$64:Y$88,MATCH(1,(N$64:N$88=D9)*(O$64:O$88=E9),0),IF(F9=100,4,IF(F9=150,6,IF(F9=200,8,IF(F9=250,10,IF(F9=300,12,0))))))","v":{"$error":"#N/A"}},{"$f":"INDEX(N$91:Y$115,MATCH(1,(N$91:N$115=D9)*(O$91:O$115=E9),0),IF(F9=100,3,IF(F9=150,5,IF(F9=200,7,IF(F9=250,9,IF(F9=300,11,0))))))","v":{"$error":"#N/A"}},{"$f":"INDEX(N$91:Y$115,MATCH(1,(N$91:N$115=D9)*(O$91:O$115=E9),0),IF(F9=100,4,IF(F9=150,6,IF(F9=200,8,IF(F9=250,10,IF(F9=300,12,0))))))","v":{"$error":"#N/A"}},{"$f":"INDEX(N$118:Y$142,MATCH(1,(N$118:N$142=D9)*(O$118:O$142=E9),0),IF(F9=100,3,IF(F9=150,5,IF(F9=200,7,IF(F9=250,9,IF(F9=300,11,0))))))","v":{"$error":"#N/A"}},{"$f":"INDEX(N$118:Y$142,MATCH(1,(N$118:N$142=D9)*(O$118:O$142=E9),0),IF(F9=100,4,IF(F9=150,6,IF(F9=200,8,IF(F9=250,10,IF(F9=300,12,0))))))","v":{"$error":"#N/A"}}]
[{"$f":"'UFH Guide'!A10","v":" "},null,{"$f":"'UFH Guide'!H10","v":0},{"$f":"'UFH Guide'!E10","v":0},{"$f":"'UFH Guide'!B10","v":0},{"$f":"'UFH Guide'!I10","v":0},{"$f":"'UFH Guide'!J10","v":0},0,0,{"$f":"INDEX(A$37:L$61,MATCH(1,(A$37:A$61=D10)*(B$37:B$61=E10),0),IF(F10=100,3,IF(F10=150,5,IF(F10=200,7,IF(F10=250,9,IF(F10=300,11,0))))))","v":{"$error":"#N/A"}},{"$f":"INDEX(A$37:L$61,MATCH(1,(A$37:A$61=D10)*(B$37:B$61=E10),0),IF(F10=100,4,IF(F10=150,6,IF(F10=200,8,IF(F10=250,10,IF(F10=300,12,0))))))","v":{"$error":"#N/A"}},{"$f":"INDEX(A$64:L$88,MATCH(1,(A$64:A$88=D10)*(B$64:B$88=E10),0),IF(F10=100,3,IF(F10=150,5,IF(F10=200,7,IF(F10=250,9,IF(F10=300,11,0))))))","v":{"$error":"#N/A"}},{"$f":"INDEX(A$64:L$88,MATCH(1,(A$64:A$88=D10)*(B$64:B$88=E10),0),IF(F10=100,4,IF(F10=150,6,IF(F10=200,8,IF(F10=250,10,IF(F10=300,12,0))))))","v":{"$error":"#N/A"}},{"$f":"INDEX(A$91:L$115,MATCH(1,(A$91:A$115=D10)*(B$91:B$115=E10),0),IF(F10=100,3,IF(F10=150,5,IF(F10=200,7,IF(F10=250,9,IF(F10=300,11,0))))))","v":{"$error":"#N/A"}},{"$f":"INDEX(A$91:L$115,MATCH(1,(A$91:A$115=D10)*(B$91:B$115=E10),0),IF(F10=100,4,IF(F10=150,6,IF(F10=200,8,IF(F10=250,10,IF(F10=300,12,0))))))","v":{"$error":"#N/A"}},{"$f":"INDEX(A$118:L$142,MATCH(1,(A$118:A$142=D10)*(B$118:B$142=E10),0),IF(F10=100,3,IF(F10=150,5,IF(F10=200,7,IF(F10=250,9,IF(F10=300,11,0))))))","v":{"$error":"#N/A"}},{"$f":"INDEX(A$118:L$142,MATCH(1,(A$118:A$142=D10)*(B$118:B$142=E10),0),IF(F10=100,4,IF(F10=150,6,IF(F10=200,8,IF(F10=250,10,IF(F10=300,12,0))))))","v":{"$error":"#N/A"}},{"$f":"INDEX(N$37:Y$61,MATCH(1,(N$37:N$61=D10)*(O$37:O$61=E10),0),IF(F10=100,3,IF(F10=150,5,IF(F10=200,7,IF(F10=250,9,IF(F10=300,11,0))))))","v":{"$error":"#N/A"}},{"$f":"INDEX(N$37:Y$61,MATCH(1,(N$37:N$61=D10)*(O$37:O$61=E10),0),IF(F10=100,4,IF(F10=150,6,IF(F10=200,8,IF(F10=250,10,IF(F10=300,12,0))))))","v":{"$error":"#N/A"}},{"$f":"INDEX(N$64:Y$88,MATCH(1,(N$64:N$88=D10)*(O$64:O$88=E10),0),IF(F10=100,3,IF(F10=150,5,IF(F10=200,7,IF(F10=250,9,IF(F10=300,11,0))))))","v":{"$error":"#N/A"}},{"$f":"INDEX(N$64:Y$88,MATCH(1,(N$64:N$88=D10)*(O$64:O$88=E10),0),IF(F10=100,4,IF(F10=150,6,IF(F10=200,8,IF(F10=250,10,IF(F10=300,12,0))))))","v":{"$error":"#N/A"}},{"$f":"INDEX(N$91:Y$115,MATCH(1,(N$91:N$115=D10)*(O$91:O$115=E10),0),IF(F10=100,3,IF(F10=150,5,IF(F10=200,7,IF(F10=250,9,IF(F10=300,11,0))))))","v":{"$error":"#N/A"}},{"$f":"INDEX(N$91:Y$115,MATCH(1,(N$91:N$115=D10)*(O$91:O$115=E10),0),IF(F10=100,4,IF(F10=150,6,IF(F10=200,8,IF(F10=250,10,IF(F10=300,12,0))))))","v":{"$error":"#N/A"}},{"$f":"INDEX(N$118:Y$142,MATCH(1,(N$118:N$142=D10)*(O$118:O$142=E10),0),IF(F10=100,3,IF(F10=150,5,IF(F10=200,7,IF(F10=250,9,IF(F10=300,11,0))))))","v":{"$error":"#N/A"}},{"$f":"INDEX(N$118:Y$142,MATCH(1,(N$118:N$142=D10)*(O$118:O$142=E10),0),IF(F10=100,4,IF(F10=150,6,IF(F10=200,8,IF(F10=250,10,IF(F10=300,12,0))))))","v":{"$error":"#N/A"}}]
[{"$f":"'UFH Guide'!A11","v":" "},null,{"$f":"'UFH Guide'!H11","v":0},{"$f":"'UFH Guide'!E11","v":0},{"$f":"'UFH Guide'!B11","v":0},{"$f":"'UFH Guide'!I11","v":0},{"$f":"'UFH Guide'!J11","v":0},0,0,{"$f":"INDEX(A$37:L$61,MATCH(1,(A$37:A$61=D11)*(B$37:B$61=E11),0),IF(F11=100,3,IF(F11=150,5,IF(F11=200,7,IF(F11=250,9,IF(F11=300,11,0))))))","v":{"$error":"#N/A"}},{"$f":"INDEX(A$37:L$61,MATCH(1,(A$37:A$61=D11)*(B$37:B$61=E11),0),IF(F11=100,4,IF(F11=150,6,IF(F11=200,8,IF(F11=250,10,IF(F11=300,12,0))))))","v":{"$error":"#N/A"}},{"$f":"INDEX(A$64:L$88,MATCH(1,(A$64:A$88=D11)*(B$64:B$88=E11),0),IF(F11=100,3,IF(F11=150,5,IF(F11=200,7,IF(F11=250,9,IF(F11=300,11,0))))))","v":{"$error":"#N/A"}},{"$f":"INDEX(A$64:L$88,MATCH(1,(A$64:A$88=D11)*(B$64:B$88=E11),0),IF(F11=100,4,IF(F11=150,6,IF(F11=200,8,IF(F11=250,10,IF(F11=300,12,0))))))","v":{"$error":"#N/A"}},{"$f":"INDEX(A$91:L$115,MATCH(1,(A$91:A$115=D11)*(B$91:B$115=E11),0),IF(F11=100,3,IF(F11=150,5,IF(F11=200,7,IF(F11=250,9,IF(F11=300,11,0))))))","v":{"$error":"#N/A"}},{"$f":"INDEX(A$91:L$115,MATCH(1,(A$91:A$115=D11)*(B$91:B$115=E11),0),IF(F11=100,4,IF(F11=150,6,IF(F11=200,8,IF(F11=250,10,IF(F11=300,12,0))))))","v":{"$error":"#N/A"}},{"$f":"INDEX(A$118:L$142,MATCH(1,(A$118:A$142=D11)*(B$118:B$142=E11),0),IF(F11=100,3,IF(F11=150,5,IF(F11=200,7,IF(F11=250,9,IF(F11=300,11,0))))))","v":{"$error":"#N/A"}},{"$f":"INDEX(A$118:L$142,MATCH(1,(A$118:A$142=D11)*(B$118:B$142=E11),0),IF(F11=100,4,IF(F11=150,6,IF(F11=200,8,IF(F11=250,10,IF(F11=300,12,0))))))","v":{"$error":"#N/A"}},{"$f":"INDEX(N$37:Y$61,MATCH(1,(N$37:N$61=D11)*(O$37:O$61=E11),0),IF(F11=100,3,IF(F11=150,5,IF(F11=200,7,IF(F11=250,9,IF(F11=300,11,0))))))","v":{"$error":"#N/A"}},{"$f":"INDEX(N$37:Y$61,MATCH(1,(N$37:N$61=D11)*(O$37:O$61=E11),0),IF(F11=100,4,IF(F11=150,6,IF(F11=200,8,IF(F11=250,10,IF(F11=300,12,0))))))","v":{"$error":"#N/A"}},{"$f":"INDEX(N$64:Y$88,MATCH(1,(N$64:N$88=D11)*(O$64:O$88=E11),0),IF(F11=100,3,IF(F11=150,5,IF(F11=200,7,IF(F11=250,9,IF(F11=300,11,0))))))","v":{"$error":"#N/A"}},{"$f":"INDEX(N$64:Y$88,MATCH(1,(N$64:N$88=D11)*(O$64:O$88=E11),0),IF(F11=100,4,IF(F11=150,6,IF(F11=200,8,IF(F11=250,10,IF(F11=300,12,0))))))","v":{"$error":"#N/A"}},{"$f":"INDEX(N$91:Y$115,MATCH(1,(N$91:N$115=D11)*(O$91:O$115=E11),0),IF(F11=100,3,IF(F11=150,5,IF(F11=200,7,IF(F11=250,9,IF(F11=300,11,0))))))","v":{"$error":"#N/A"}},{"$f":"INDEX(N$91:Y$115,MATCH(1,(N$91:N$115=D11)*(O$91:O$115=E11),0),IF(F11=100,4,IF(F11=150,6,IF(F11=200,8,IF(F11=250,10,IF(F11=300,12,0))))))","v":{"$error":"#N/A"}},{"$f":"INDEX(N$118:Y$142,MATCH(1,(N$118:N$142=D11)*(O$118:O$142=E11),0),IF(F11=100,3,IF(F11=150,5,IF(F11=200,7,IF(F11=250,9,IF(F11=300,11,0))))))","v":{"$error":"#N/A"}},{"$f":"INDEX(N$118:Y$142,MATCH(1,(N$118:N$142=D11)*(O$118:O$142=E11),0),IF(F11=100,4,IF(F11=150,6,IF(F11=200,8,IF(F11=250,10,IF(F11=300,12,0))))))","v":{"$error":"#N/A"}}]
[{"$f":"'UFH Guide'!A12","v":" "},null,{"$f":"'UFH Guide'!H12","v":0},{"$f":"'UFH Guide'!E12","v":0},{"$f":"'UFH Guide'!B12","v":0},{"$f":"'UFH Guide'!I12","v":0},{"$f":"'UFH Guide'!J12","v":0},0,0,{"$f":"INDEX(A$37:L$61,MATCH(1,(A$37:A$61=D12)*(B$37:B$61=E12),0),IF(F12=100,3,IF(F12=150,5,IF(F12=200,7,IF(F12=250,9,IF(F12=300,11,0))))))","v":{"$error":"#N/A"}},{"$f":"INDEX(A$37:L$61,MATCH(1,(A$37:A$61=D12)*(B$37:B$61=E12),0),IF(F12=100,4,IF(F12=150,6,IF(F12=200,8,IF(F12=250,10,IF(F12=300,12,0))))))","v":{"$error":"#N/A"}},{"$f":"INDEX(A$64:L$88,MATCH(1,(A$64:A$88=D12)*(B$64:B$88=E12),0),IF(F12=100,3,IF(F12=150,5,IF(F12=200,7,IF(F12=250,9,IF(F12=300,11,0))))))","v":{"$error":"#N/A"}},{"$f":"INDEX(A$64:L$88,MATCH(1,(A$64:A$88=D12)*(B$64:B$88=E12),0),IF(F12=100,4,IF(F12=150,6,IF(F12=200,8,IF(F12=250,10,IF(F12=300,12,0))))))","v":{"$error":"#N/A"}},{"$f":"INDEX(A$91:L$115,MATCH(1,(A$91:A$115=D12)*(B$91:B$115=E12),0),IF(F12=100,3,IF(F12=150,5,IF(F12=200,7,IF(F12=250,9,IF(F12=300,11,0))))))","v":{"$error":"#N/A"}},{"$f":"INDEX(A$91:L$115,MATCH(1,(A$91:A$115=D12)*(B$91:B$115=E12),0),IF(F12=100,4,IF(F12=150,6,IF(F12=200,8,IF(F12=250,10,IF(F12=300,12,0))))))","v":{"$error":"#N/A"}},{"$f":"INDEX(A$118:L$142,MATCH(1,(A$118:A$142=D12)*(B$118:B$142=E12),0),IF(F12=100,3,IF(F12=150,5,IF(F12=200,7,IF(F12=250,9,IF(F12=300,11,0))))))","v":{"$error":"#N/A"}},{"$f":"INDEX(A$118:L$142,MATCH(1,(A$118:A$142=D12)*(B$118:B$142=E12),0),IF(F12=100,4,IF(F12=150,6,IF(F12=200,8,IF(F12=250,10,IF(F12=300,12,0))))))","v":{"$error":"#N/A"}},{"$f":"INDEX(N$37:Y$61,MATCH(1,(N$37:N$61=D12)*(O$37:O$61=E12),0),IF(F12=100,3,IF(F12=150,5,IF(F12=200,7,IF(F12=250,9,IF(F12=300,11,0))))))","v":{"$error":"#N/A"}},{"$f":"INDEX(N$37:Y$61,MATCH(1,(N$37:N$61=D12)*(O$37:O$61=E12),0),IF(F12=100,4,IF(F12=150,6,IF(F12=200,8,IF(F12=250,10,IF(F12=300,12,0))))))","v":{"$error":"#N/A"}},{"$f":"INDEX(N$64:Y$88,MATCH(1,(N$64:N$88=D12)*(O$64:O$88=E12),0),IF(F12=100,3,IF(F12=150,5,IF(F12=200,7,IF(F12=250,9,IF(F12=300,11,0))))))","v":{"$error":"#N/A"}},{"$f":"INDEX(N$64:Y$88,MATCH(1,(N$64:N$88=D12)*(O$64:O$88=E12),0),IF(F12=100,4,IF(F12=150,6,IF(F12=200,8,IF(F12=250,10,IF(F12=300,12,0))))))","v":{"$error":"#N/A"}},{"$f":"INDEX(N$91:Y$115,MATCH(1,(N$91:N$115=D12)*(O$91:O$115=E12),0),IF(F12=100,3,IF(F12=150,5,IF(F12=200,7,IF(F12=250,9,IF(F12=300,11,0))))))","v":{"$error":"#N/A"}},{"$f":"INDEX(N$91:Y$115,MATCH(1,(N$91:N$115=D12)*(O$91:O$115=E12),0),IF(F12=100,4,IF(F12=150,6,IF(F12=200,8,IF(F12=250,10,IF(F12=300,12,0))))))","v":{"$error":"#N/A"}},{"$f":"INDEX(N$118:Y$142,MATCH(1,(N$118:N$142=D12)*(O$118:O$142=E12),0),IF(F12=100,3,IF(F12=150,5,IF(F12=200,7,IF(F12=250,9,IF(F12=300,11,0))))))","v":{"$error":"#N/A"}},{"$f":"INDEX(N$118:Y$142,MATCH(1,(N$118:N$142=D12)*(O$118:O$142=E12),0),IF(F12=100,4,IF(F12=150,6,IF(F12=200,8,IF(F12=250,10,IF(F12=300,12,0))))))","v":{"$error":"#N/A"}}]
[{"$f":"'UFH Guide'!A13","v":" "},null,{"$f":"'UFH Guide'!H13","v":0},{"$f":"'UFH Guide'!E13","v":0},{"$f":"'UFH Guide'!B13","v":0},{"$f":"'UFH Guide'!I13","v":0},{"$f":"'UFH Guide'!J13","v":0},0,0,{"$f":"INDEX(A$37:L$61,MATCH(1,(A$37:A$61=D13)*(B$37:B$61=E13),0),IF(F13=100,3,IF(F13=150,5,IF(F13=200,7,IF(F13=250,9,IF(F13=300,11,0))))))","v":{"$error":"#N/A"}},{"$f":"INDEX(A$37:L$61,MATCH(1,(A$37:A$61=D13)*(B$37:B$61=E13),0),IF(F13=100,4,IF(F13=150,6,IF(F13=200,8,IF(F13=250,10,IF(F13=300,12,0))))))","v":{"$error":"#N/A"}},{"$f":"INDEX(A$64:L$88,MATCH(1,(A$64:A$88=D13)*(B$64:B$88=E13),0),IF(F13=100,3,IF(F13=150,5,IF(F13=200,7,IF(F13=250,9,IF(F13=300,11,0))))))","v":{"$error":"#N/A"}},{"$f":"INDEX(A$64:L$88,MATCH(1,(A$64:A$88=D13)*(B$64:B$88=E13),0),IF(F13=100,4,IF(F13=150,6,IF(F13=200,8,IF(F13=250,10,IF(F13=300,12,0))))))","v":{"$error":"#N/A"}},{"$f":"INDEX(A$91:L$115,MATCH(1,(A$91:A$115=D13)*(B$91:B$115=E13),0),IF(F13=100,3,IF(F13=150,5,IF(F13=200,7,IF(F13=250,9,IF(F13=300,11,0))))))","v":{"$error":"#N/A"}},{"$f":"INDEX(A$91:L$115,MATCH(1,(A$91:A$115=D13)*(B$91:B$115=E13),0),IF(F13=100,4,IF(F13=150,6,IF(F13=200,8,IF(F13=250,10,IF(F13=300,12,0))))))","v":{"$error":"#N/A"}},{"$f":"INDEX(A$118:L$142,MATCH(1,(A$118:A$142=D13)*(B$118:B$142=E13),0),IF(F13=100,3,IF(F13=150,5,IF(F13=200,7,IF(F13=250,9,IF(F13=300,11,0))))))","v":{"$error":"#N/A"}},{"$f":"INDEX(A$118:L$142,MATCH(1,(A$118:A$142=D13)*(B$118:B$142=E13),0),IF(F13=100,4,IF(F13=150,6,IF(F13=200,8,IF(F13=250,10,IF(F13=300,12,0))))))","v":{"$error":"#N/A"}},{"$f":"INDEX(N$37:Y$61,MATCH(1,(N$37:N$61=D13)*(O$37:O$61=E13),0),IF(F13=100,3,IF(F13=150,5,IF(F13=200,7,IF(F13=250,9,IF(F13=300,11,0))))))","v":{"$error":"#N/A"}},{"$f":"INDEX(N$37:Y$61,MATCH(1,(N$37:N$61=D13)*(O$37:O$61=E13),0),IF(F13=100,4,IF(F13=150,6,IF(F13=200,8,IF(F13=250,10,IF(F13=300,12,0))))))","v":{"$error":"#N/A"}},{"$f":"INDEX(N$64:Y$88,MATCH(1,(N$64:N$88=D13)*(O$64:O$88=E13),0),IF(F13=100,3,IF(F13=150,5,IF(F13=200,7,IF(F13=250,9,IF(F13=300,11,0))))))","v":{"$error":"#N/A"}},{"$f":"INDEX(N$64:Y$88,MATCH(1,(N$64:N$88=D13)*(O$64:O$88=E13),0),IF(F13=100,4,IF(F13=150,6,IF(F13=200,8,IF(F13=250,10,IF(F13=300,12,0))))))","v":{"$error":"#N/A"}},{"$f":"INDEX(N$91:Y$115,MATCH(1,(N$91:N$115=D13)*(O$91:O$115=E13),0),IF(F13=100,3,IF(F13=150,5,IF(F13=200,7,IF(F13=250,9,IF(F13=300,11,0))))))","v":{"$error":"#N/A"}},{"$f":"INDEX(N$91:Y$115,MATCH(1,(N$91:N$115=D13)*(O$91:O$115=E13),0),IF(F13=100,4,IF(F13=150,6,IF(F13=200,8,IF(F13=250,10,IF(F13=300,12,0))))))","v":{"$error":"#N/A"}},{"$f":"INDEX(N$118:Y$142,MATCH(1,(N$118:N$142=D13)*(O$118:O$142=E13),0),IF(F13=100,3,IF(F13=150,5,IF(F13=200,7,IF(F13=250,9,IF(F13=300,11,0))))))","v":{"$error":"#N/A"}},{"$f":"INDEX(N$118:Y$142,MATCH(1,(N$118:N$142=D13)*(O$118:O$142=E13),0),IF(F13=100,4,IF(F13=150,6,IF(F13=200,8,IF(F13=250,10,IF(F13=300,12,0))))))","v":{"$error":"#N/A"}}]
[{"$f":"'UFH Guide'!A14","v":" "},null,{"$f":"'UFH Guide'!H14","v":0},{"$f":"'UFH Guide'!E14","v":0},{"$f":"'UFH Guide'!B14","v":0},{"$f":"'UFH Guide'!I14","v":0},{"$f":"'UFH Guide'!J14","v":0},0,0,{"$f":"INDEX(A$37:L$61,MATCH(1,(A$37:A$61=D14)*(B$37:B$61=E14),0),IF(F14=100,3,IF(F14=150,5,IF(F14=200,7,IF(F14=250,9,IF(F14=300,11,0))))))","v":{"$error":"#N/A"}},{"$f":"INDEX(A$37:L$61,MATCH(1,(A$37:A$61=D14)*(B$37:B$61=E14),0),IF(F14=100,4,IF(F14=150,6,IF(F14=200,8,IF(F14=250,10,IF(F14=300,12,0))))))","v":{"$error":"#N/A"}},{"$f":"INDEX(A$64:L$88,MATCH(1,(A$64:A$88=D14)*(B$64:B$88=E14),0),IF(F14=100,3,IF(F14=150,5,IF(F14=200,7,IF(F14=250,9,IF(F14=300,11,0))))))","v":{"$error":"#N/A"}},{"$f":"INDEX(A$64:L$88,MATCH(1,(A$64:A$88=D14)*(B$64:B$88=E14),0),IF(F14=100,4,IF(F14=150,6,IF(F14=200,8,IF(F14=250,10,IF(F14=300,12,0))))))","v":{"$error":"#N/A"}},{"$f":"INDEX(A$91:L$115,MATCH(1,(A$91:A$115=D14)*(B$91:B$115=E14),0),IF(F14=100,3,IF(F14=150,5,IF(F14=200,7,IF(F14=250,9,IF(F14=300,11,0))))))","v":{"$error":"#N/A"}},{"$f":"INDEX(A$91:L$115,MATCH(1,(A$91:A$115=D14)*(B$91:B$115=E14),0),IF(F14=100,4,IF(F14=150,6,IF(F14=200,8,IF(F14=250,10,IF(F14=300,12,0))))))","v":{"$error":"#N/A"}},{"$f":"INDEX(A$118:L$142,MATCH(1,(A$118:A$142=D14)*(B$118:B$142=E14),0),IF(F14=100,3,IF(F14=150,5,IF(F14=200,7,IF(F14=250,9,IF(F14=300,11,0))))))","v":{"$error":"#N/A"}},{"$f":"INDEX(A$118:L$142,MATCH(1,(A$118:A$142=D14)*(B$118:B$142=E14),0),IF(F14=100,4,IF(F14=150,6,IF(F14=200,8,IF(F14=250,10,IF(F14=300,12,0))))))","v":{"$error":"#N/A"}},{"$f":"INDEX(N$37:Y$61,MATCH(1,(N$37:N$61=D14)*(O$37:O$61=E14),0),IF(F14=100,3,IF(F14=150,5,IF(F14=200,7,IF(F14=250,9,IF(F14=300,11,0))))))","v":{"$error":"#N/A"}},{"$f":"INDEX(N$37:Y$61,MATCH(1,(N$37:N$61=D14)*(O$37:O$61=E14),0),IF(F14=100,4,IF(F14=150,6,IF(F14=200,8,IF(F14=250,10,IF(F14=300,12,0))))))","v":{"$error":"#N/A"}},{"$f":"INDEX(N$64:Y$88,MATCH(1,(N$64:N$88=D14)*(O$64:O$88=E14),0),IF(F14=100,3,IF(F14=150,5,IF(F14=200,7,IF(F14=250,9,IF(F14=300,11,0))))))","v":{"$error":"#N/A"}},{"$f":"INDEX(N$64:Y$88,MATCH(1,(N$64:N$88=D14)*(O$64:O$88=E14),0),IF(F14=100,4,IF(F14=150,6,IF(F14=200,8,IF(F14=250,10,IF(F14=300,12,0))))))","v":{"$error":"#N/A"}},{"$f":"INDEX(N$91:Y$115,MATCH(1,(N$91:N$115=D14)*(O$91:O$115=E14),0),IF(F14=100,3,IF(F14=150,5,IF(F14=200,7,IF(F14=250,9,IF(F14=300,11,0))))))","v":{"$error":"#N/A"}},{"$f":"INDEX(N$91:Y$115,MATCH(1,(N$91:N$115=D14)*(O$91:O$115=E14),0),IF(F14=100,4,IF(F14=150,6,IF(F14=200,8,IF(F14=250,10,IF(F14=300,12,0))))))","v":{"$error":"#N/A"}},{"$f":"INDEX(N$118:Y$142,MATCH(1,(N$118:N$142=D14)*(O$118:O$142=E14),0),IF(F14=100,3,IF(F14=150,5,IF(F14=200,7,IF(F14=250,9,IF(F14=300,11,0))))))","v":{"$error":"#N/A"}},{"$f":"INDEX(N$118:Y$142,MATCH(1,(N$118:N$142=D14)*(O$118:O$142=E14),0),IF(F14=100,4,IF(F14=150,6,IF(F14=200,8,IF(F14=250,10,IF(F14=300,12,0))))))","v":{"$error":"#N/A"}}]
[{"$f":"'UFH Guide'!A15","v":" "},null,{"$f":"'UFH Guide'!H15","v":0},{"$f":"'UFH Guide'!E15","v":0},{"$f":"'UFH Guide'!B15","v":0},{"$f":"'UFH Guide'!I15","v":0},{"$f":"'UFH Guide'!J15","v":0},0,0,{"$f":"INDEX(A$37:L$61,MATCH(1,(A$37:A$61=D15)*(B$37:B$61=E15),0),IF(F15=100,3,IF(F15=150,5,IF(F15=200,7,IF(F15=250,9,IF(F15=300,11,0))))))","v":{"$error":"#N/A"}},{"$f":"INDEX(A$37:L$61,MATCH(1,(A$37:A$61=D15)*(B$37:B$61=E15),0),IF(F15=100,4,IF(F15=150,6,IF(F15=200,8,IF(F15=250,10,IF(F15=300,12,0))))))","v":{"$error":"#N/A"}},{"$f":"INDEX(A$64:L$88,MATCH(1,(A$64:A$88=D15)*(B$64:B$88=E15),0),IF(F15=100,3,IF(F15=150,5,IF(F15=200,7,IF(F15=250,9,IF(F15=300,11,0))))))","v":{"$error":"#N/A"}},{"$f":"INDEX(A$64:L$88,MATCH(1,(A$64:A$88=D15)*(B$64:B$88=E15),0),IF(F15=100,4,IF(F15=150,6,IF(F15=200,8,IF(F15=250,10,IF(F15=300,12,0))))))","v":{"$error":"#N/A"}},{"$f":"INDEX(A$91:L$115,MATCH(1,(A$91:A$115=D15)*(B$91:B$115=E15),0),IF(F15=100,3,IF(F15=150,5,IF(F15=200,7,IF(F15=250,9,IF(F15=300,11,0))))))","v":{"$error":"#N/A"}},{"$f":"INDEX(A$91:L$115,MATCH(1,(A$91:A$115=D15)*(B$91:B$115=E15),0),IF(F15=100,4,IF(F15=150,6,IF(F15=200,8,IF(F15=250,10,IF(F15=300,12,0))))))","v":{"$error":"#N/A"}},{"$f":"INDEX(A$118:L$142,MATCH(1,(A$118:A$142=D15)*(B$118:B$142=E15),0),IF(F15=100,3,IF(F15=150,5,IF(F15=200,7,IF(F15=250,9,IF(F15=300,11,0))))))","v":{"$error":"#N/A"}},{"$f":"INDEX(A$118:L$142,MATCH(1,(A$118:A$142=D15)*(B$118:B$142=E15),0),IF(F15=100,4,IF(F15=150,6,IF(F15=200,8,IF(F15=250,10,IF(F15=300,12,0))))))","v":{"$error":"#N/A"}},{"$f":"INDEX(N$37:Y$61,MATCH(1,(N$37:N$61=D15)*(O$37:O$61=E15),0),IF(F15=100,3,IF(F15=150,5,IF(F15=200,7,IF(F15=250,9,IF(F15=300,11,0))))))","v":{"$error":"#N/A"}},{"$f":"INDEX(N$37:Y$61,MATCH(1,(N$37:N$61=D15)*(O$37:O$61=E15),0),IF(F15=100,4,IF(F15=150,6,IF(F15=200,8,IF(F15=250,10,IF(F15=300,12,0))))))","v":{"$error":"#N/A"}},{"$f":"INDEX(N$64:Y$88,MATCH(1,(N$64:N$88=D15)*(O$64:O$88=E15),0),IF(F15=100,3,IF(F15=150,5,IF(F15=200,7,IF(F15=250,9,IF(F15=300,11,0))))))","v":{"$error":"#N/A"}},{"$f":"INDEX(N$64:Y$88,MATCH(1,(N$64:N$88=D15)*(O$64:O$88=E15),0),IF(F15=100,4,IF(F15=150,6,IF(F15=200,8,IF(F15=250,10,IF(F15=300,12,0))))))","v":{"$error":"#N/A"}},{"$f":"INDEX(N$91:Y$115,MATCH(1,(N$91:N$115=D15)*(O$91:O$115=E15),0),IF(F15=100,3,IF(F15=150,5,IF(F15=200,7,IF(F15=250,9,IF(F15=300,11,0))))))","v":{"$error":"#N/A"}},{"$f":"INDEX(N$91:Y$115,MATCH(1,(N$91:N$115=D15)*(O$91:O$115=E15),0),IF(F15=100,4,IF(F15=150,6,IF(F15=200,8,IF(F15=250,10,IF(F15=300,12,0))))))","v":{"$error":"#N/A"}},{"$f":"INDEX(N$118:Y$142,MATCH(1,(N$118:N$142=D15)*(O$118:O$142=E15),0),IF(F15=100,3,IF(F15=150,5,IF(F15=200,7,IF(F15=250,9,IF(F15=300,11,0))))))","v":{"$error":"#N/A"}},{"$f":"INDEX(N$118:Y$142,MATCH(1,(N$118:N$142=D15)*(O$118:O$142=E15),0),IF(F15=100,4,IF(F15=150,6,IF(F15=200,8,IF(F15=250,10,IF(F15=300,12,0))))))","v":{"$error":"#N/A"}}]
[{"$f":"'UFH Guide'!A16","v":" "},null,{"$f":"'UFH Guide'!H16","v":0},{"$f":"'UFH Guide'!E16","v":0},{"$f":"'UFH Guide'!B16","v":0},{"$f":"'UFH Guide'!I16","v":0},{"$f":"'UFH Guide'!J16","v":0},0,0,{"$f":"INDEX(A$37:L$61,MATCH(1,(A$37:A$61=D16)*(B$37:B$61=E16),0),IF(F16=100,3,IF(F16=150,5,IF(F16=200,7,IF(F16=250,9,IF(F16=300,11,0))))))","v":{"$error":"#N/A"}},{"$f":"INDEX(A$37:L$61,MATCH(1,(A$37:A$61=D16)*(B$37:B$61=E16),0),IF(F16=100,4,IF(F16=150,6,IF(F16=200,8,IF(F16=250,10,IF(F16=300,12,0))))))","v":{"$error":"#N/A"}},{"$f":"INDEX(A$64:L$88,MATCH(1,(A$64:A$88=D16)*(B$64:B$88=E16),0),IF(F16=100,3,IF(F16=150,5,IF(F16=200,7,IF(F16=250,9,IF(F16=300,11,0))))))","v":{"$error":"#N/A"}},{"$f":"INDEX(A$64:L$88,MATCH(1,(A$64:A$88=D16)*(B$64:B$88=E16),0),IF(F16=100,4,IF(F16=150,6,IF(F16=200,8,IF(F16=250,10,IF(F16=300,12,0))))))","v":{"$error":"#N/A"}},{"$f":"INDEX(A$91:L$115,MATCH(1,(A$91:A$115=D16)*(B$91:B$115=E16),0),IF(F16=100,3,IF(F16=150,5,IF(F16=200,7,IF(F16=250,9,IF(F16=300,11,0))))))","v":{"$error":"#N/A"}},{"$f":"INDEX(A$91:L$115,MATCH(1,(A$91:A$115=D16)*(B$91:B$115=E16),0),IF(F16=100,4,IF(F16=150,6,IF(F16=200,8,IF(F16=250,10,IF(F16=300,12,0))))))","v":{"$error":"#N/A"}},{"$f":"INDEX(A$118:L$142,MATCH(1,(A$118:A$142=D16)*(B$118:B$142=E16),0),IF(F16=100,3,IF(F16=150,5,IF(F16=200,7,IF(F16=250,9,IF(F16=300,11,0))))))","v":{"$error":"#N/A"}},{"$f":"INDEX(A$118:L$142,MATCH(1,(A$118:A$142=D16)*(B$118:B$142=E16),0),IF(F16=100,4,IF(F16=150,6,IF(F16=200,8,IF(F16=250,10,IF(F16=300,12,0))))))","v":{"$error":"#N/A"}},{"$f":"INDEX(N$37:Y$61,MATCH(1,(N$37:N$61=D16)*(O$37:O$61=E16),0),IF(F16=100,3,IF(F16=150,5,IF(F16=200,7,IF(F16=250,9,IF(F16=300,11,0))))))","v":{"$error":"#N/A"}},{"$f":"INDEX(N$37:Y$61,MATCH(1,(N$37:N$61=D16)*(O$37:O$61=E16),0),IF(F16=100,4,IF(F16=150,6,IF(F16=200,8,IF(F16=250,10,IF(F16=300,12,0))))))","v":{"$error":"#N/A"}},{"$f":"INDEX(N$64:Y$88,MATCH(1,(N$64:N$88=D16)*(O$64:O$88=E16),0),IF(F16=100,3,IF(F16=150,5,IF(F16=200,7,IF(F16=250,9,IF(F16=300,11,0))))))","v":{"$error":"#N/A"}},{"$f":"INDEX(N$64:Y$88,MATCH(1,(N$64:N$88=D16)*(O$64:O$88=E16),0),IF(F16=100,4,IF(F16=150,6,IF(F16=200,8,IF(F16=250,10,IF(F16=300,12,0))))))","v":{"$error":"#N/A"}},{"$f":"INDEX(N$91:Y$115,MATCH(1,(N$91:N$115=D16)*(O$91:O$115=E16),0),IF(F16=100,3,IF(F16=150,5,IF(F16=200,7,IF(F16=250,9,IF(F16=300,11,0))))))","v":{"$error":"#N/A"}},{"$f":"INDEX(N$91:Y$115,MATCH(1,(N$91:N$115=D16)*(O$91:O$115=E16),0),IF(F16=100,4,IF(F16=150,6,IF(F16=200,8,IF(F16=250,10,IF(F16=300,12,0))))))","v":{"$error":"#N/A"}},{"$f":"INDEX(N$118:Y$142,MATCH(1,(N$118:N$142=D16)*(O$118:O$142=E16),0),IF(F16=100,3,IF(F16=150,5,IF(F16=200,7,IF(F16=250,9,IF(F16=300,11,0))))))","v":{"$error":"#N/A"}},{"$f":"INDEX(N$118:Y$142,MATCH(1,(N$118:N$142=D16)*(O$118:O$142=E16),0),IF(F16=100,4,IF(F16=150,6,IF(F16=200,8,IF(F16=250,10,IF(F16=300,12,0))))))","v":{"$error":"#N/A"}}]
[{"$f":"'UFH Guide'!A17","v":" "},null,{"$f":"'UFH Guide'!H17","v":0},{"$f":"'UFH Guide'!E17","v":0},{"$f":"'UFH Guide'!B17","v":0},{"$f":"'UFH Guide'!I17","v":0},{"$f":"'UFH Guide'!J17","v":0},0,0,{"$f":"INDEX(A$37:L$61,MATCH(1,(A$37:A$61=D17)*(B$37:B$61=E17),0),IF(F17=100,3,IF(F17=150,5,IF(F17=200,7,IF(F17=250,9,IF(F17=300,11,0))))))","v":{"$error":"#N/A"}},{"$f":"INDEX(A$37:L$61,MATCH(1,(A$37:A$61=D17)*(B$37:B$61=E17),0),IF(F17=100,4,IF(F17=150,6,IF(F17=200,8,IF(F17=250,10,IF(F17=300,12,0))))))","v":{"$error":"#N/A"}},{"$f":"INDEX(A$64:L$88,MATCH(1,(A$64:A$88=D17)*(B$64:B$88=E17),0),IF(F17=100,3,IF(F17=150,5,IF(F17=200,7,IF(F17=250,9,IF(F17=300,11,0))))))","v":{"$error":"#N/A"}},{"$f":"INDEX(A$64:L$88,MATCH(1,(A$64:A$88=D17)*(B$64:B$88=E17),0),IF(F17=100,4,IF(F17=150,6,IF(F17=200,8,IF(F17=250,10,IF(F17=300,12,0))))))","v":{"$error":"#N/A"}},{"$f":"INDEX(A$91:L$115,MATCH(1,(A$91:A$115=D17)*(B$91:B$115=E17),0),IF(F17=100,3,IF(F17=150,5,IF(F17=200,7,IF(F17=250,9,IF(F17=300,11,0))))))","v":{"$error":"#N/A"}},{"$f":"INDEX(A$91:L$115,MATCH(1,(A$91:A$115=D17)*(B$91:B$115=E17),0),IF(F17=100,4,IF(F17=150,6,IF(F17=200,8,IF(F17=250,10,IF(F17=300,12,0))))))","v":{"$error":"#N/A"}},{"$f":"INDEX(A$118:L$142,MATCH(1,(A$118:A$142=D17)*(B$118:B$142=E17),0),IF(F17=100,3,IF(F17=150,5,IF(F17=200,7,IF(F17=250,9,IF(F17=300,11,0))))))","v":{"$error":"#N/A"}},{"$f":"INDEX(A$118:L$142,MATCH(1,(A$118:A$142=D17)*(B$118:B$142=E17),0),IF(F17=100,4,IF(F17=150,6,IF(F17=200,8,IF(F17=250,10,IF(F17=300,12,0))))))","v":{"$error":"#N/A"}},{"$f":"INDEX(N$37:Y$61,MATCH(1,(N$37:N$61=D17)*(O$37:O$61=E17),0),IF(F17=100,3,IF(F17=150,5,IF(F17=200,7,IF(F17=250,9,IF(F17=300,11,0))))))","v":{"$error":"#N/A"}},{"$f":"INDEX(N$37:Y$61,MATCH(1,(N$37:N$61=D17)*(O$37:O$61=E17),0),IF(F17=100,4,IF(F17=150,6,IF(F17=200,8,IF(F17=250,10,IF(F17=300,12,0))))))","v":{"$error":"#N/A"}},{"$f":"INDEX(N$64:Y$88,MATCH(1,(N$64:N$88=D17)*(O$64:O$88=E17),0),IF(F17=100,3,IF(F17=150,5,IF(F17=200,7,IF(F17=250,9,IF(F17=300,11,0))))))","v":{"$error":"#N/A"}},{"$f":"INDEX(N$64:Y$88,MATCH(1,(N$64:N$88=D17)*(O$64:O$88=E17),0),IF(F17=100,4,IF(F17=150,6,IF(F17=200,8,IF(F17=250,10,IF(F17=300,12,0))))))","v":{"$error":"#N/A"}},{"$f":"INDEX(N$91:Y$115,MATCH(1,(N$91:N$115=D17)*(O$91:O$115=E17),0),IF(F17=100,3,IF(F17=150,5,IF(F17=200,7,IF(F17=250,9,IF(F17=300,11,0))))))","v":{"$error":"#N/A"}},{"$f":"INDEX(N$91:Y$115,MATCH(1,(N$91:N$115=D17)*(O$91:O$115=E17),0),IF(F17=100,4,IF(F17=150,6,IF(F17=200,8,IF(F17=250,10,IF(F17=300,12,0))))))","v":{"$error":"#N/A"}},{"$f":"INDEX(N$118:Y$142,MATCH(1,(N$118:N$142=D17)*(O$118:O$142=E17),0),IF(F17=100,3,IF(F17=150,5,IF(F17=200,7,IF(F17=250,9,IF(F17=300,11,0))))))","v":{"$error":"#N/A"}},{"$f":"INDEX(N$118:Y$142,MATCH(1,(N$118:N$142=D17)*(O$118:O$142=E17),0),IF(F17=100,4,IF(F17=150,6,IF(F17=200,8,IF(F17=250,10,IF(F17=300,12,0))))))","v":{"$error":"#N/A"}}]
[{"$f":"'UFH Guide'!A18","v":" "},null,{"$f":"'UFH Guide'!H18","v":0},{"$f":"'UFH Guide'!E18","v":0},{"$f":"'UFH Guide'!B18","v":0},{"$f":"'UFH Guide'!I18","v":0},{"$f":"'UFH Guide'!J18","v":0},0,0,{"$f":"INDEX(A$37:L$61,MATCH(1,(A$37:A$61=D18)*(B$37:B$61=E18),0),IF(F18=100,3,IF(F18=150,5,IF(F18=200,7,IF(F18=250,9,IF(F18=300,11,0))))))","v":{"$error":"#N/A"}},{"$f":"INDEX(A$37:L$61,MATCH(1,(A$37:A$61=D18)*(B$37:B$61=E18),0),IF(F18=100,4,IF(F18=150,6,IF(F18=200,8,IF(F18=250,10,IF(F18=300,12,0))))))","v":{"$error":"#N/A"}},{"$f":"INDEX(A$64:L$88,MATCH(1,(A$64:A$88=D18)*(B$64:B$88=E18),0),IF(F18=100,3,IF(F18=150,5,IF(F18=200,7,IF(F18=250,9,IF(F18=300,11,0))))))","v":{"$error":"#N/A"}},{"$f":"INDEX(A$64:L$88,MATCH(1,(A$64:A$88=D18)*(B$64:B$88=E18),0),IF(F18=100,4,IF(F18=150,6,IF(F18=200,8,IF(F18=250,10,IF(F18=300,12,0))))))","v":{"$error":"#N/A"}},{"$f":"INDEX(A$91:L$115,MATCH(1,(A$91:A$115=D18)*(B$91:B$115=E18),0),IF(F18=100,3,IF(F18=150,5,IF(F18=200,7,IF(F18=250,9,IF(F18=300,11,0))))))","v":{"$error":"#N/A"}},{"$f":"INDEX(A$91:L$115,MATCH(1,(A$91:A$115=D18)*(B$91:B$115=E18),0),IF(F18=100,4,IF(F18=150,6,IF(F18=200,8,IF(F18=250,10,IF(F18=300,12,0))))))","v":{"$error":"#N/A"}},{"$f":"INDEX(A$118:L$142,MATCH(1,(A$118:A$142=D18)*(B$118:B$142=E18),0),IF(F18=100,3,IF(F18=150,5,IF(F18=200,7,IF(F18=250,9,IF(F18=300,11,0))))))","v":{"$error":"#N/A"}},{"$f":"INDEX(A$118:L$142,MATCH(1,(A$118:A$142=D18)*(B$118:B$142=E18),0),IF(F18=100,4,IF(F18=150,6,IF(F18=200,8,IF(F18=250,10,IF(F18=300,12,0))))))","v":{"$error":"#N/A"}},{"$f":"INDEX(N$37:Y$61,MATCH(1,(N$37:N$61=D18)*(O$37:O$61=E18),0),IF(F18=100,3,IF(F18=150,5,IF(F18=200,7,IF(F18=250,9,IF(F18=300,11,0))))))","v":{"$error":"#N/A"}},{"$f":"INDEX(N$37:Y$61,MATCH(1,(N$37:N$61=D18)*(O$37:O$61=E18),0),IF(F18=100,4,IF(F18=150,6,IF(F18=200,8,IF(F18=250,10,IF(F18=300,12,0))))))","v":{"$error":"#N/A"}},{"$f":"INDEX(N$64:Y$88,MATCH(1,(N$64:N$88=D18)*(O$64:O$88=E18),0),IF(F18=100,3,IF(F18=150,5,IF(F18=200,7,IF(F18=250,9,IF(F18=300,11,0))))))","v":{"$error":"#N/A"}},{"$f":"INDEX(N$64:Y$88,MATCH(1,(N$64:N$88=D18)*(O$64:O$88=E18),0),IF(F18=100,4,IF(F18=150,6,IF(F18=200,8,IF(F18=250,10,IF(F18=300,12,0))))))","v":{"$error":"#N/A"}},{"$f":"INDEX(N$91:Y$115,MATCH(1,(N$91:N$115=D18)*(O$91:O$115=E18),0),IF(F18=100,3,IF(F18=150,5,IF(F18=200,7,IF(F18=250,9,IF(F18=300,11,0))))))","v":{"$error":"#N/A"}},{"$f":"INDEX(N$91:Y$115,MATCH(1,(N$91:N$115=D18)*(O$91:O$115=E18),0),IF(F18=100,4,IF(F18=150,6,IF(F18=200,8,IF(F18=250,10,IF(F18=300,12,0))))))","v":{"$error":"#N/A"}},{"$f":"INDEX(N$118:Y$142,MATCH(1,(N$118:N$142=D18)*(O$118:O$142=E18),0),IF(F18=100,3,IF(F18=150,5,IF(F18=200,7,IF(F18=250,9,IF(F18=300,11,0))))))","v":{"$error":"#N/A"}},{"$f":"INDEX(N$118:Y$142,MATCH(1,(N$118:N$142=D18)*(O$118:O$142=E18),0),IF(F18=100,4,IF(F18=150,6,IF(F18=200,8,IF(F18=250,10,IF(F18=300,12,0))))))","v":{"$error":"#N/A"}}]
[{"$f":"'UFH Guide'!A19","v":" "},null,{"$f":"'UFH Guide'!H19","v":0},{"$f":"'UFH Guide'!E19","v":0},{"$f":"'UFH Guide'!B19","v":0},{"$f":"'UFH Guide'!I19","v":0},{"$f":"'UFH Guide'!J19","v":0},0,0,{"$f":"INDEX(A$37:L$61,MATCH(1,(A$37:A$61=D19)*(B$37:B$61=E19),0),IF(F19=100,3,IF(F19=150,5,IF(F19=200,7,IF(F19=250,9,IF(F19=300,11,0))))))","v":{"$error":"#N/A"}},{"$f":"INDEX(A$37:L$61,MATCH(1,(A$37:A$61=D19)*(B$37:B$61=E19),0),IF(F19=100,4,IF(F19=150,6,IF(F19=200,8,IF(F19=250,10,IF(F19=300,12,0))))))","v":{"$error":"#N/A"}},{"$f":"INDEX(A$64:L$88,MATCH(1,(A$64:A$88=D19)*(B$64:B$88=E19),0),IF(F19=100,3,IF(F19=150,5,IF(F19=200,7,IF(F19=250,9,IF(F19=300,11,0))))))","v":{"$error":"#N/A"}},{"$f":"INDEX(A$64:L$88,MATCH(1,(A$64:A$88=D19)*(B$64:B$88=E19),0),IF(F19=100,4,IF(F19=150,6,IF(F19=200,8,IF(F19=250,10,IF(F19=300,12,0))))))","v":{"$error":"#N/A"}},{"$f":"INDEX(A$91:L$115,MATCH(1,(A$91:A$115=D19)*(B$91:B$115=E19),0),IF(F19=100,3,IF(F19=150,5,IF(F19=200,7,IF(F19=250,9,IF(F19=300,11,0))))))","v":{"$error":"#N/A"}},{"$f":"INDEX(A$91:L$115,MATCH(1,(A$91:A$115=D19)*(B$91:B$115=E19),0),IF(F19=100,4,IF(F19=150,6,IF(F19=200,8,IF(F19=250,10,IF(F19=300,12,0))))))","v":{"$error":"#N/A"}},{"$f":"INDEX(A$118:L$142,MATCH(1,(A$118:A$142=D19)*(B$118:B$142=E19),0),IF(F19=100,3,IF(F19=150,5,IF(F19=200,7,IF(F19=250,9,IF(F19=300,11,0))))))","v":{"$error":"#N/A"}},{"$f":"INDEX(A$118:L$142,MATCH(1,(A$118:A$142=D19)*(B$118:B$142=E19),0),IF(F19=100,4,IF(F19=150,6,IF(F19=200,8,IF(F19=250,10,IF(F19=300,12,0))))))","v":{"$error":"#N/A"}},{"$f":"INDEX(N$37:Y$61,MATCH(1,(N$37:N$61=D19)*(O$37:O$61=E19),0),IF(F19=100,3,IF(F19=150,5,IF(F19=200,7,IF(F19=250,9,IF(F19=300,11,0))))))","v":{"$error":"#N/A"}},{"$f":"INDEX(N$37:Y$61,MATCH(1,(N$37:N$61=D19)*(O$37:O$61=E19),0),IF(F19=100,4,IF(F19=150,6,IF(F19=200,8,IF(F19=250,10,IF(F19=300,12,0))))))","v":{"$error":"#N/A"}},{"$f":"INDEX(N$64:Y$88,MATCH(1,(N$64:N$88=D19)*(O$64:O$88=E19),0),IF(F19=100,3,IF(F19=150,5,IF(F19=200,7,IF(F19=250,9,IF(F19=300,11,0))))))","v":{"$error":"#N/A"}},{"$f":"INDEX(N$64:Y$88,MATCH(1,(N$64:N$88=D19)*(O$64:O$88=E19),0),IF(F19=100,4,IF(F19=150,6,IF(F19=200,8,IF(F19=250,10,IF(F19=300,12,0))))))","v":{"$error":"#N/A"}},{"$f":"INDEX(N$91:Y$115,MATCH(1,(N$91:N$115=D19)*(O$91:O$115=E19),0),IF(F19=100,3,IF(F19=150,5,IF(F19=200,7,IF(F19=250,9,IF(F19=300,11,0))))))","v":{"$error":"#N/A"}},{"$f":"INDEX(N$91:Y$115,MATCH(1,(N$91:N$115=D19)*(O$91:O$115=E19),0),IF(F19=100,4,IF(F19=150,6,IF(F19=200,8,IF(F19=250,10,IF(F19=300,12,0))))))","v":{"$error":"#N/A"}},{"$f":"INDEX(N$118:Y$142,MATCH(1,(N$118:N$142=D19)*(O$118:O$142=E19),0),IF(F19=100,3,IF(F19=150,5,IF(F19=200,7,IF(F19=250,9,IF(F19=300,11,0))))))","v":{"$error":"#N/A"}},{"$f":"INDEX(N$118:Y$142,MATCH(1,(N$118:N$142=D19)*(O$118:O$142=E19),0),IF(F19=100,4,IF(F19=150,6,IF(F19=200,8,IF(F19=250,10,IF(F19=300,12,0))))))","v":{"$error":"#N/A"}}]
[{"$f":"'UFH Guide'!A20","v":" "},null,{"$f":"'UFH Guide'!H20","v":0},{"$f":"'UFH Guide'!E20","v":0},{"$f":"'UFH Guide'!B20","v":0},{"$f":"'UFH Guide'!I20","v":0},{"$f":"'UFH Guide'!J20","v":0},0,0,{"$f":"INDEX(A$37:L$61,MATCH(1,(A$37:A$61=D20)*(B$37:B$61=E20),0),IF(F20=100,3,IF(F20=150,5,IF(F20=200,7,IF(F20=250,9,IF(F20=300,11,0))))))","v":{"$error":"#N/A"}},{"$f":"INDEX(A$37:L$61,MATCH(1,(A$37:A$61=D20)*(B$37:B$61=E20),0),IF(F20=100,4,IF(F20=150,6,IF(F20=200,8,IF(F20=250,10,IF(F20=300,12,0))))))","v":{"$error":"#N/A"}},{"$f":"INDEX(A$64:L$88,MATCH(1,(A$64:A$88=D20)*(B$64:B$88=E20),0),IF(F20=100,3,IF(F20=150,5,IF(F20=200,7,IF(F20=250,9,IF(F20=300,11,0))))))","v":{"$error":"#N/A"}},{"$f":"INDEX(A$64:L$88,MATCH(1,(A$64:A$88=D20)*(B$64:B$88=E20),0),IF(F20=100,4,IF(F20=150,6,IF(F20=200,8,IF(F20=250,10,IF(F20=300,12,0))))))","v":{"$error":"#N/A"}},{"$f":"INDEX(A$91:L$115,MATCH(1,(A$91:A$115=D20)*(B$91:B$115=E20),0),IF(F20=100,3,IF(F20=150,5,IF(F20=200,7,IF(F20=250,9,IF(F20=300,11,0))))))","v":{"$error":"#N/A"}},{"$f":"INDEX(A$91:L$115,MATCH(1,(A$91:A$115=D20)*(B$91:B$115=E20),0),IF(F20=100,4,IF(F20=150,6,IF(F20=200,8,IF(F20=250,10,IF(F20=300,12,0))))))","v":{"$error":"#N/A"}},{"$f":"INDEX(A$118:L$142,MATCH(1,(A$118:A$142=D20)*(B$118:B$142=E20),0),IF(F20=100,3,IF(F20=150,5,IF(F20=200,7,IF(F20=250,9,IF(F20=300,11,0))))))","v":{"$error":"#N/A"}},{"$f":"INDEX(A$118:L$142,MATCH(1,(A$118:A$142=D20)*(B$118:B$142=E20),0),IF(F20=100,4,IF(F20=150,6,IF(F20=200,8,IF(F20=250,10,IF(F20=300,12,0))))))","v":{"$error":"#N/A"}},{"$f":"INDEX(N$37:Y$61,MATCH(1,(N$37:N$61=D20)*(O$37:O$61=E20),0),IF(F20=100,3,IF(F20=150,5,IF(F20=200,7,IF(F20=250,9,IF(F20=300,11,0))))))","v":{"$error":"#N/A"}},{"$f":"INDEX(N$37:Y$61,MATCH(1,(N$37:N$61=D20)*(O$37:O$61=E20),0),IF(F20=100,4,IF(F20=150,6,IF(F20=200,8,IF(F20=250,10,IF(F20=300,12,0))))))","v":{"$error":"#N/A"}},{"$f":"INDEX(N$64:Y$88,MATCH(1,(N$64:N$88=D20)*(O$64:O$88=E20),0),IF(F20=100,3,IF(F20=150,5,IF(F20=200,7,IF(F20=250,9,IF(F20=300,11,0))))))","v":{"$error":"#N/A"}},{"$f":"INDEX(N$64:Y$88,MATCH(1,(N$64:N$88=D20)*(O$64:O$88=E20),0),IF(F20=100,4,IF(F20=150,6,IF(F20=200,8,IF(F20=250,10,IF(F20=300,12,0))))))","v":{"$error":"#N/A"}},{"$f":"INDEX(N$91:Y$115,MATCH(1,(N$91:N$115=D20)*(O$91:O$115=E20),0),IF(F20=100,3,IF(F20=150,5,IF(F20=200,7,IF(F20=250,9,IF(F20=300,11,0))))))","v":{"$error":"#N/A"}},{"$f":"INDEX(N$91:Y$115,MATCH(1,(N$91:N$115=D20)*(O$91:O$115=E20),0),IF(F20=100,4,IF(F20=150,6,IF(F20=200,8,IF(F20=250,10,IF(F20=300,12,0))))))","v":{"$error":"#N/A"}},{"$f":"INDEX(N$118:Y$142,MATCH(1,(N$118:N$142=D20)*(O$118:O$142=E20),0),IF(F20=100,3,IF(F20=150,5,IF(F20=200,7,IF(F20=250,9,IF(F20=300,11,0))))))","v":{"$error":"#N/A"}},{"$f":"INDEX(N$118:Y$142,MATCH(1,(N$118:N$142=D20)*(O$118:O$142=E20),0),IF(F20=100,4,IF(F20=150,6,IF(F20=200,8,IF(F20=250,10,IF(F20=300,12,0))))))","v":{"$error":"#N/A"}}]
[{"$f":"'UFH Guide'!A21","v":" "},null,{"$f":"'UFH Guide'!H21","v":0},{"$f":"'UFH Guide'!E21","v":0},{"$f":"'UFH Guide'!B21","v":0},{"$f":"'UFH Guide'!I21","v":0},{"$f":"'UFH Guide'!J21","v":0},0,0,{"$f":"INDEX(A$37:L$61,MATCH(1,(A$37:A$61=D21)*(B$37:B$61=E21),0),IF(F21=100,3,IF(F21=150,5,IF(F21=200,7,IF(F21=250,9,IF(F21=300,11,0))))))","v":{"$error":"#N/A"}},{"$f":"INDEX(A$37:L$61,MATCH(1,(A$37:A$61=D21)*(B$37:B$61=E21),0),IF(F21=100,4,IF(F21=150,6,IF(F21=200,8,IF(F21=250,10,IF(F21=300,12,0))))))","v":{"$error":"#N/A"}},{"$f":"INDEX(A$64:L$88,MATCH(1,(A$64:A$88=D21)*(B$64:B$88=E21),0),IF(F21=100,3,IF(F21=150,5,IF(F21=200,7,IF(F21=250,9,IF(F21=300,11,0))))))","v":{"$error":"#N/A"}},{"$f":"INDEX(A$64:L$88,MATCH(1,(A$64:A$88=D21)*(B$64:B$88=E21),0),IF(F21=100,4,IF(F21=150,6,IF(F21=200,8,IF(F21=250,10,IF(F21=300,12,0))))))","v":{"$error":"#N/A"}},{"$f":"INDEX(A$91:L$115,MATCH(1,(A$91:A$115=D21)*(B$91:B$115=E21),0),IF(F21=100,3,IF(F21=150,5,IF(F21=200,7,IF(F21=250,9,IF(F21=300,11,0))))))","v":{"$error":"#N/A"}},{"$f":"INDEX(A$91:L$115,MATCH(1,(A$91:A$115=D21)*(B$91:B$115=E21),0),IF(F21=100,4,IF(F21=150,6,IF(F21=200,8,IF(F21=250,10,IF(F21=300,12,0))))))","v":{"$error":"#N/A"}},{"$f":"INDEX(A$118:L$142,MATCH(1,(A$118:A$142=D21)*(B$118:B$142=E21),0),IF(F21=100,3,IF(F21=150,5,IF(F21=200,7,IF(F21=250,9,IF(F21=300,11,0))))))","v":{"$error":"#N/A"}},{"$f":"INDEX(A$118:L$142,MATCH(1,(A$118:A$142=D21)*(B$118:B$142=E21),0),IF(F21=100,4,IF(F21=150,6,IF(F21=200,8,IF(F21=250,10,IF(F21=300,12,0))))))","v":{"$error":"#N/A"}},{"$f":"INDEX(N$37:Y$61,MATCH(1,(N$37:N$61=D21)*(O$37:O$61=E21),0),IF(F21=100,3,IF(F21=150,5,IF(F21=200,7,IF(F21=250,9,IF(F21=300,11,0))))))","v":{"$error":"#N/A"}},{"$f":"INDEX(N$37:Y$61,MATCH(1,(N$37:N$61=D21)*(O$37:O$61=E21),0),IF(F21=100,4,IF(F21=150,6,IF(F21=200,8,IF(F21=250,10,IF(F21=300,12,0))))))","v":{"$error":"#N/A"}},{"$f":"INDEX(N$64:Y$88,MATCH(1,(N$64:N$88=D21)*(O$64:O$88=E21),0),IF(F21=100,3,IF(F21=150,5,IF(F21=200,7,IF(F21=250,9,IF(F21=300,11,0))))))","v":{"$error":"#N/A"}},{"$f":"INDEX(N$64:Y$88,MATCH(1,(N$64:N$88=D21)*(O$64:O$88=E21),0),IF(F21=100,4,IF(F21=150,6,IF(F21=200,8,IF(F21=250,10,IF(F21=300,12,0))))))","v":{"$error":"#N/A"}},{"$f":"INDEX(N$91:Y$115,MATCH(1,(N$91:N$115=D21)*(O$91:O$115=E21),0),IF(F21=100,3,IF(F21=150,5,IF(F21=200,7,IF(F21=250,9,IF(F21=300,11,0))))))","v":{"$error":"#N/A"}},{"$f":"INDEX(N$91:Y$115,MATCH(1,(N$91:N$115=D21)*(O$91:O$115=E21),0),IF(F21=100,4,IF(F21=150,6,IF(F21=200,8,IF(F21=250,10,IF(F21=300,12,0))))))","v":{"$error":"#N/A"}},{"$f":"INDEX(N$118:Y$142,MATCH(1,(N$118:N$142=D21)*(O$118:O$142=E21),0),IF(F21=100,3,IF(F21=150,5,IF(F21=200,7,IF(F21=250,9,IF(F21=300,11,0))))))","v":{"$error":"#N/A"}},{"$f":"INDEX(N$118:Y$142,MATCH(1,(N$118:N$142=D21)*(O$118:O$142=E21),0),IF(F21=100,4,IF(F21=150,6,IF(F21=200,8,IF(F21=250,10,IF(F21=300,12,0))))))","v":{"$error":"#N/A"}}]
[{"$f":"'UFH Guide'!A22","v":" "},null,{"$f":"'UFH Guide'!H22","v":0},{"$f":"'UFH Guide'!E22","v":0},{"$f":"'UFH Guide'!B22","v":0},{"$f":"'UFH Guide'!I22","v":0},{"$f":"'UFH Guide'!J22","v":0},0,0,{"$f":"INDEX(A$37:L$61,MATCH(1,(A$37:A$61=D22)*(B$37:B$61=E22),0),IF(F22=100,3,IF(F22=150,5,IF(F22=200,7,IF(F22=250,9,IF(F22=300,11,0))))))","v":{"$error":"#N/A"}},{"$f":"INDEX(A$37:L$61,MATCH(1,(A$37:A$61=D22)*(B$37:B$61=E22),0),IF(F22=100,4,IF(F22=150,6,IF(F22=200,8,IF(F22=250,10,IF(F22=300,12,0))))))","v":{"$error":"#N/A"}},{"$f":"INDEX(A$64:L$88,MATCH(1,(A$64:A$88=D22)*(B$64:B$88=E22),0),IF(F22=100,3,IF(F22=150,5,IF(F22=200,7,IF(F22=250,9,IF(F22=300,11,0))))))","v":{"$error":"#N/A"}},{"$f":"INDEX(A$64:L$88,MATCH(1,(A$64:A$88=D22)*(B$64:B$88=E22),0),IF(F22=100,4,IF(F22=150,6,IF(F22=200,8,IF(F22=250,10,IF(F22=300,12,0))))))","v":{"$error":"#N/A"}},{"$f":"INDEX(A$91:L$115,MATCH(1,(A$91:A$115=D22)*(B$91:B$115=E22),0),IF(F22=100,3,IF(F22=150,5,IF(F22=200,7,IF(F22=250,9,IF(F22=300,11,0))))))","v":{"$error":"#N/A"}},{"$f":"INDEX(A$91:L$115,MATCH(1,(A$91:A$115=D22)*(B$91:B$115=E22),0),IF(F22=100,4,IF(F22=150,6,IF(F22=200,8,IF(F22=250,10,IF(F22=300,12,0))))))","v":{"$error":"#N/A"}},{"$f":"INDEX(A$118:L$142,MATCH(1,(A$118:A$142=D22)*(B$118:B$142=E22),0),IF(F22=100,3,IF(F22=150,5,IF(F22=200,7,IF(F22=250,9,IF(F22=300,11,0))))))","v":{"$error":"#N/A"}},{"$f":"INDEX(A$118:L$142,MATCH(1,(A$118:A$142=D22)*(B$118:B$142=E22),0),IF(F22=100,4,IF(F22=150,6,IF(F22=200,8,IF(F22=250,10,IF(F22=300,12,0))))))","v":{"$error":"#N/A"}},{"$f":"INDEX(N$37:Y$61,MATCH(1,(N$37:N$61=D22)*(O$37:O$61=E22),0),IF(F22=100,3,IF(F22=150,5,IF(F22=200,7,IF(F22=250,9,IF(F22=300,11,0))))))","v":{"$error":"#N/A"}},{"$f":"INDEX(N$37:Y$61,MATCH(1,(N$37:N$61=D22)*(O$37:O$61=E22),0),IF(F22=100,4,IF(F22=150,6,IF(F22=200,8,IF(F22=250,10,IF(F22=300,12,0))))))","v":{"$error":"#N/A"}},{"$f":"INDEX(N$64:Y$88,MATCH(1,(N$64:N$88=D22)*(O$64:O$88=E22),0),IF(F22=100,3,IF(F22=150,5,IF(F22=200,7,IF(F22=250,9,IF(F22=300,11,0))))))","v":{"$error":"#N/A"}},{"$f":"INDEX(N$64:Y$88,MATCH(1,(N$64:N$88=D22)*(O$64:O$88=E22),0),IF(F22=100,4,IF(F22=150,6,IF(F22=200,8,IF(F22=250,10,IF(F22=300,12,0))))))","v":{"$error":"#N/A"}},{"$f":"INDEX(N$91:Y$115,MATCH(1,(N$91:N$115=D22)*(O$91:O$115=E22),0),IF(F22=100,3,IF(F22=150,5,IF(F22=200,7,IF(F22=250,9,IF(F22=300,11,0))))))","v":{"$error":"#N/A"}},{"$f":"INDEX(N$91:Y$115,MATCH(1,(N$91:N$115=D22)*(O$91:O$115=E22),0),IF(F22=100,4,IF(F22=150,6,IF(F22=200,8,IF(F22=250,10,IF(F22=300,12,0))))))","v":{"$error":"#N/A"}},{"$f":"INDEX(N$118:Y$142,MATCH(1,(N$118:N$142=D22)*(O$118:O$142=E22),0),IF(F22=100,3,IF(F22=150,5,IF(F22=200,7,IF(F22=250,9,IF(F22=300,11,0))))))","v":{"$error":"#N/A"}},{"$f":"INDEX(N$118:Y$142,MATCH(1,(N$118:N$142=D22)*(O$118:O$142=E22),0),IF(F22=100,4,IF(F22=150,6,IF(F22=200,8,IF(F22=250,10,IF(F22=300,12,0))))))","v":{"$error":"#N/A"}}]
[{"$f":"'UFH Guide'!A23","v":" "},null,{"$f":"'UFH Guide'!H23","v":0},{"$f":"'UFH Guide'!E23","v":0},{"$f":"'UFH Guide'!B23","v":0},{"$f":"'UFH Guide'!I23","v":0},{"$f":"'UFH Guide'!J23","v":0},0,0,{"$f":"INDEX(A$37:L$61,MATCH(1,(A$37:A$61=D23)*(B$37:B$61=E23),0),IF(F23=100,3,IF(F23=150,5,IF(F23=200,7,IF(F23=250,9,IF(F23=300,11,0))))))","v":{"$error":"#N/A"}},{"$f":"INDEX(A$37:L$61,MATCH(1,(A$37:A$61=D23)*(B$37:B$61=E23),0),IF(F23=100,4,IF(F23=150,6,IF(F23=200,8,IF(F23=250,10,IF(F23=300,12,0))))))","v":{"$error":"#N/A"}},{"$f":"INDEX(A$64:L$88,MATCH(1,(A$64:A$88=D23)*(B$64:B$88=E23),0),IF(F23=100,3,IF(F23=150,5,IF(F23=200,7,IF(F23=250,9,IF(F23=300,11,0))))))","v":{"$error":"#N/A"}},{"$f":"INDEX(A$64:L$88,MATCH(1,(A$64:A$88=D23)*(B$64:B$88=E23),0),IF(F23=100,4,IF(F23=150,6,IF(F23=200,8,IF(F23=250,10,IF(F23=300,12,0))))))","v":{"$error":"#N/A"}},{"$f":"INDEX(A$91:L$115,MATCH(1,(A$91:A$115=D23)*(B$91:B$115=E23),0),IF(F23=100,3,IF(F23=150,5,IF(F23=200,7,IF(F23=250,9,IF(F23=300,11,0))))))","v":{"$error":"#N/A"}},{"$f":"INDEX(A$91:L$115,MATCH(1,(A$91:A$115=D23)*(B$91:B$115=E23),0),IF(F23=100,4,IF(F23=150,6,IF(F23=200,8,IF(F23=250,10,IF(F23=300,12,0))))))","v":{"$error":"#N/A"}},{"$f":"INDEX(A$118:L$142,MATCH(1,(A$118:A$142=D23)*(B$118:B$142=E23),0),IF(F23=100,3,IF(F23=150,5,IF(F23=200,7,IF(F23=250,9,IF(F23=300,11,0))))))","v":{"$error":"#N/A"}},{"$f":"INDEX(A$118:L$142,MATCH(1,(A$118:A$142=D23)*(B$118:B$142=E23),0),IF(F23=100,4,IF(F23=150,6,IF(F23=200,8,IF(F23=250,10,IF(F23=300,12,0))))))","v":{"$error":"#N/A"}},{"$f":"INDEX(N$37:Y$61,MATCH(1,(N$37:N$61=D23)*(O$37:O$61=E23),0),IF(F23=100,3,IF(F23=150,5,IF(F23=200,7,IF(F23=250,9,IF(F23=300,11,0))))))","v":{"$error":"#N/A"}},{"$f":"INDEX(N$37:Y$61,MATCH(1,(N$37:N$61=D23)*(O$37:O$61=E23),0),IF(F23=100,4,IF(F23=150,6,IF(F23=200,8,IF(F23=250,10,IF(F23=300,12,0))))))","v":{"$error":"#N/A"}},{"$f":"INDEX(N$64:Y$88,MATCH(1,(N$64:N$88=D23)*(O$64:O$88=E23),0),IF(F23=100,3,IF(F23=150,5,IF(F23=200,7,IF(F23=250,9,IF(F23=300,11,0))))))","v":{"$error":"#N/A"}},{"$f":"INDEX(N$64:Y$88,MATCH(1,(N$64:N$88=D23)*(O$64:O$88=E23),0),IF(F23=100,4,IF(F23=150,6,IF(F23=200,8,IF(F23=250,10,IF(F23=300,12,0))))))","v":{"$error":"#N/A"}},{"$f":"INDEX(N$91:Y$115,MATCH(1,(N$91:N$115=D23)*(O$91:O$115=E23),0),IF(F23=100,3,IF(F23=150,5,IF(F23=200,7,IF(F23=250,9,IF(F23=300,11,0))))))","v":{"$error":"#N/A"}},{"$f":"INDEX(N$91:Y$115,MATCH(1,(N$91:N$115=D23)*(O$91:O$115=E23),0),IF(F23=100,4,IF(F23=150,6,IF(F23=200,8,IF(F23=250,10,IF(F23=300,12,0))))))","v":{"$error":"#N/A"}},{"$f":"INDEX(N$118:Y$142,MATCH(1,(N$118:N$142=D23)*(O$118:O$142=E23),0),IF(F23=100,3,IF(F23=150,5,IF(F23=200,7,IF(F23=250,9,IF(F23=300,11,0))))))","v":{"$error":"#N/A"}},{"$f":"INDEX(N$118:Y$142,MATCH(1,(N$118:N$142=D23)*(O$118:O$142=E23),0),IF(F23=100,4,IF(F23=150,6,IF(F23=200,8,IF(F23=250,10,IF(F23=300,12,0))))))","v":{"$error":"#N/A"}}]
[{"$f":"'UFH Guide'!A24","v":" "},null,{"$f":"'UFH Guide'!H24","v":0},{"$f":"'UFH Guide'!E24","v":0},{"$f":"'UFH Guide'!B24","v":0},{"$f":"'UFH Guide'!I24","v":0},{"$f":"'UFH Guide'!J24","v":0},0,0,{"$f":"INDEX(A$37:L$61,MATCH(1,(A$37:A$61=D24)*(B$37:B$61=E24),0),IF(F24=100,3,IF(F24=150,5,IF(F24=200,7,IF(F24=250,9,IF(F24=300,11,0))))))","v":{"$error":"#N/A"}},{"$f":"INDEX(A$37:L$61,MATCH(1,(A$37:A$61=D24)*(B$37:B$61=E24),0),IF(F24=100,4,IF(F24=150,6,IF(F24=200,8,IF(F24=250,10,IF(F24=300,12,0))))))","v":{"$error":"#N/A"}},{"$f":"INDEX(A$64:L$88,MATCH(1,(A$64:A$88=D24)*(B$64:B$88=E24),0),IF(F24=100,3,IF(F24=150,5,IF(F24=200,7,IF(F24=250,9,IF(F24=300,11,0))))))","v":{"$error":"#N/A"}},{"$f":"INDEX(A$64:L$88,MATCH(1,(A$64:A$88=D24)*(B$64:B$88=E24),0),IF(F24=100,4,IF(F24=150,6,IF(F24=200,8,IF(F24=250,10,IF(F24=300,12,0))))))","v":{"$error":"#N/A"}},{"$f":"INDEX(A$91:L$115,MATCH(1,(A$91:A$115=D24)*(B$91:B$115=E24),0),IF(F24=100,3,IF(F24=150,5,IF(F24=200,7,IF(F24=250,9,IF(F24=300,11,0))))))","v":{"$error":"#N/A"}},{"$f":"INDEX(A$91:L$115,MATCH(1,(A$91:A$115=D24)*(B$91:B$115=E24),0),IF(F24=100,4,IF(F24=150,6,IF(F24=200,8,IF(F24=250,10,IF(F24=300,12,0))))))","v":{"$error":"#N/A"}},{"$f":"INDEX(A$118:L$142,MATCH(1,(A$118:A$142=D24)*(B$118:B$142=E24),0),IF(F24=100,3,IF(F24=150,5,IF(F24=200,7,IF(F24=250,9,IF(F24=300,11,0))))))","v":{"$error":"#N/A"}},{"$f":"INDEX(A$118:L$142,MATCH(1,(A$118:A$142=D24)*(B$118:B$142=E24),0),IF(F24=100,4,IF(F24=150,6,IF(F24=200,8,IF(F24=250,10,IF(F24=300,12,0))))))","v":{"$error":"#N/A"}},{"$f":"INDEX(N$37:Y$61,MATCH(1,(N$37:N$61=D24)*(O$37:O$61=E24),0),IF(F24=100,3,IF(F24=150,5,IF(F24=200,7,IF(F24=250,9,IF(F24=300,11,0))))))","v":{"$error":"#N/A"}},{"$f":"INDEX(N$37:Y$61,MATCH(1,(N$37:N$61=D24)*(O$37:O$61=E24),0),IF(F24=100,4,IF(F24=150,6,IF(F24=200,8,IF(F24=250,10,IF(F24=300,12,0))))))","v":{"$error":"#N/A"}},{"$f":"INDEX(N$64:Y$88,MATCH(1,(N$64:N$88=D24)*(O$64:O$88=E24),0),IF(F24=100,3,IF(F24=150,5,IF(F24=200,7,IF(F24=250,9,IF(F24=300,11,0))))))","v":{"$error":"#N/A"}},{"$f":"INDEX(N$64:Y$88,MATCH(1,(N$64:N$88=D24)*(O$64:O$88=E24),0),IF(F24=100,4,IF(F24=150,6,IF(F24=200,8,IF(F24=250,10,IF(F24=300,12,0))))))","v":{"$error":"#N/A"}},{"$f":"INDEX(N$91:Y$115,MATCH(1,(N$91:N$115=D24)*(O$91:O$115=E24),0),IF(F24=100,3,IF(F24=150,5,IF(F24=200,7,IF(F24=250,9,IF(F24=300,11,0))))))","v":{"$error":"#N/A"}},{"$f":"INDEX(N$91:Y$115,MATCH(1,(N$91:N$115=D24)*(O$91:O$115=E24),0),IF(F24=100,4,IF(F24=150,6,IF(F24=200,8,IF(F24=250,10,IF(F24=300,12,0))))))","v":{"$error":"#N/A"}},{"$f":"INDEX(N$118:Y$142,MATCH(1,(N$118:N$142=D24)*(O$118:O$142=E24),0),IF(F24=100,3,IF(F24=150,5,IF(F24=200,7,IF(F24=250,9,IF(F24=300,11,0))))))","v":{"$error":"#N/A"}},{"$f":"INDEX(N$118:Y$142,MATCH(1,(N$118:N$142=D24)*(O$118:O$142=E24),0),IF(F24=100,4,IF(F24=150,6,IF(F24=200,8,IF(F24=250,10,IF(F24=300,12,0))))))","v":{"$error":"#N/A"}}]
[{"$f":"'UFH Guide'!A25","v":" "},null,{"$f":"'UFH Guide'!H25","v":0},{"$f":"'UFH Guide'!E25","v":0},{"$f":"'UFH Guide'!B25","v":0},{"$f":"'UFH Guide'!I25","v":0},{"$f":"'UFH Guide'!J25","v":0},0,0,{"$f":"INDEX(A$37:L$61,MATCH(1,(A$37:A$61=D25)*(B$37:B$61=E25),0),IF(F25=100,3,IF(F25=150,5,IF(F25=200,7,IF(F25=250,9,IF(F25=300,11,0))))))","v":{"$error":"#N/A"}},{"$f":"INDEX(A$37:L$61,MATCH(1,(A$37:A$61=D25)*(B$37:B$61=E25),0),IF(F25=100,4,IF(F25=150,6,IF(F25=200,8,IF(F25=250,10,IF(F25=300,12,0))))))","v":{"$error":"#N/A"}},{"$f":"INDEX(A$64:L$88,MATCH(1,(A$64:A$88=D25)*(B$64:B$88=E25),0),IF(F25=100,3,IF(F25=150,5,IF(F25=200,7,IF(F25=250,9,IF(F25=300,11,0))))))","v":{"$error":"#N/A"}},{"$f":"INDEX(A$64:L$88,MATCH(1,(A$64:A$88=D25)*(B$64:B$88=E25),0),IF(F25=100,4,IF(F25=150,6,IF(F25=200,8,IF(F25=250,10,IF(F25=300,12,0))))))","v":{"$error":"#N/A"}},{"$f":"INDEX(A$91:L$115,MATCH(1,(A$91:A$115=D25)*(B$91:B$115=E25),0),IF(F25=100,3,IF(F25=150,5,IF(F25=200,7,IF(F25=250,9,IF(F25=300,11,0))))))","v":{"$error":"#N/A"}},{"$f":"INDEX(A$91:L$115,MATCH(1,(A$91:A$115=D25)*(B$91:B$115=E25),0),IF(F25=100,4,IF(F25=150,6,IF(F25=200,8,IF(F25=250,10,IF(F25=300,12,0))))))","v":{"$error":"#N/A"}},{"$f":"INDEX(A$118:L$142,MATCH(1,(A$118:A$142=D25)*(B$118:B$142=E25),0),IF(F25=100,3,IF(F25=150,5,IF(F25=200,7,IF(F25=250,9,IF(F25=300,11,0))))))","v":{"$error":"#N/A"}},{"$f":"INDEX(A$118:L$142,MATCH(1,(A$118:A$142=D25)*(B$118:B$142=E25),0),IF(F25=100,4,IF(F25=150,6,IF(F25=200,8,IF(F25=250,10,IF(F25=300,12,0))))))","v":{"$error":"#N/A"}},{"$f":"INDEX(N$37:Y$61,MATCH(1,(N$37:N$61=D25)*(O$37:O$61=E25),0),IF(F25=100,3,IF(F25=150,5,IF(F25=200,7,IF(F25=250,9,IF(F25=300,11,0))))))","v":{"$error":"#N/A"}},{"$f":"INDEX(N$37:Y$61,MATCH(1,(N$37:N$61=D25)*(O$37:O$61=E25),0),IF(F25=100,4,IF(F25=150,6,IF(F25=200,8,IF(F25=250,10,IF(F25=300,12,0))))))","v":{"$error":"#N/A"}},{"$f":"INDEX(N$64:Y$88,MATCH(1,(N$64:N$88=D25)*(O$64:O$88=E25),0),IF(F25=100,3,IF(F25=150,5,IF(F25=200,7,IF(F25=250,9,IF(F25=300,11,0))))))","v":{"$error":"#N/A"}},{"$f":"INDEX(N$64:Y$88,MATCH(1,(N$64:N$88=D25)*(O$64:O$88=E25),0),IF(F25=100,4,IF(F25=150,6,IF(F25=200,8,IF(F25=250,10,IF(F25=300,12,0))))))","v":{"$error":"#N/A"}},{"$f":"INDEX(N$91:Y$115,MATCH(1,(N$91:N$115=D25)*(O$91:O$115=E25),0),IF(F25=100,3,IF(F25=150,5,IF(F25=200,7,IF(F25=250,9,IF(F25=300,11,0))))))","v":{"$error":"#N/A"}},{"$f":"INDEX(N$91:Y$115,MATCH(1,(N$91:N$115=D25)*(O$91:O$115=E25),0),IF(F25=100,4,IF(F25=150,6,IF(F25=200,8,IF(F25=250,10,IF(F25=300,12,0))))))","v":{"$error":"#N/A"}},{"$f":"INDEX(N$118:Y$142,MATCH(1,(N$118:N$142=D25)*(O$118:O$142=E25),0),IF(F25=100,3,IF(F25=150,5,IF(F25=200,7,IF(F25=250,9,IF(F25=300,11,0))))))","v":{"$error":"#N/A"}},{"$f":"INDEX(N$118:Y$142,MATCH(1,(N$118:N$142=D25)*(O$118:O$142=E25),0),IF(F25=100,4,IF(F25=150,6,IF(F25=200,8,IF(F25=250,10,IF(F25=300,12,0))))))","v":{"$error":"#N/A"}}]
[{"$f":"'UFH Guide'!A26","v":" "},null,{"$f":"'UFH Guide'!H26","v":0},{"$f":"'UFH Guide'!E26","v":0},{"$f":"'UFH Guide'!B26","v":0},{"$f":"'UFH Guide'!I26","v":0},{"$f":"'UFH Guide'!J26","v":0},0,0,{"$f":"INDEX(A$37:L$61,MATCH(1,(A$37:A$61=D26)*(B$37:B$61=E26),0),IF(F26=100,3,IF(F26=150,5,IF(F26=200,7,IF(F26=250,9,IF(F26=300,11,0))))))","v":{"$error":"#N/A"}},{"$f":"INDEX(A$37:L$61,MATCH(1,(A$37:A$61=D26)*(B$37:B$61=E26),0),IF(F26=100,4,IF(F26=150,6,IF(F26=200,8,IF(F26=250,10,IF(F26=300,12,0))))))","v":{"$error":"#N/A"}},{"$f":"INDEX(A$64:L$88,MATCH(1,(A$64:A$88=D26)*(B$64:B$88=E26),0),IF(F26=100,3,IF(F26=150,5,IF(F26=200,7,IF(F26=250,9,IF(F26=300,11,0))))))","v":{"$error":"#N/A"}},{"$f":"INDEX(A$64:L$88,MATCH(1,(A$64:A$88=D26)*(B$64:B$88=E26),0),IF(F26=100,4,IF(F26=150,6,IF(F26=200,8,IF(F26=250,10,IF(F26=300,12,0))))))","v":{"$error":"#N/A"}},{"$f":"INDEX(A$91:L$115,MATCH(1,(A$91:A$115=D26)*(B$91:B$115=E26),0),IF(F26=100,3,IF(F26=150,5,IF(F26=200,7,IF(F26=250,9,IF(F26=300,11,0))))))","v":{"$error":"#N/A"}},{"$f":"INDEX(A$91:L$115,MATCH(1,(A$91:A$115=D26)*(B$91:B$115=E26),0),IF(F26=100,4,IF(F26=150,6,IF(F26=200,8,IF(F26=250,10,IF(F26=300,12,0))))))","v":{"$error":"#N/A"}},{"$f":"INDEX(A$118:L$142,MATCH(1,(A$118:A$142=D26)*(B$118:B$142=E26),0),IF(F26=100,3,IF(F26=150,5,IF(F26=200,7,IF(F26=250,9,IF(F26=300,11,0))))))","v":{"$error":"#N/A"}},{"$f":"INDEX(A$118:L$142,MATCH(1,(A$118:A$142=D26)*(B$118:B$142=E26),0),IF(F26=100,4,IF(F26=150,6,IF(F26=200,8,IF(F26=250,10,IF(F26=300,12,0))))))","v":{"$error":"#N/A"}},{"$f":"INDEX(N$37:Y$61,MATCH(1,(N$37:N$61=D26)*(O$37:O$61=E26),0),IF(F26=100,3,IF(F26=150,5,IF(F26=200,7,IF(F26=250,9,IF(F26=300,11,0))))))","v":{"$error":"#N/A"}},{"$f":"INDEX(N$37:Y$61,MATCH(1,(N$37:N$61=D26)*(O$37:O$61=E26),0),IF(F26=100,4,IF(F26=150,6,IF(F26=200,8,IF(F26=250,10,IF(F26=300,12,0))))))","v":{"$error":"#N/A"}},{"$f":"INDEX(N$64:Y$88,MATCH(1,(N$64:N$88=D26)*(O$64:O$88=E26),0),IF(F26=100,3,IF(F26=150,5,IF(F26=200,7,IF(F26=250,9,IF(F26=300,11,0))))))","v":{"$error":"#N/A"}},{"$f":"INDEX(N$64:Y$88,MATCH(1,(N$64:N$88=D26)*(O$64:O$88=E26),0),IF(F26=100,4,IF(F26=150,6,IF(F26=200,8,IF(F26=250,10,IF(F26=300,12,0))))))","v":{"$error":"#N/A"}},{"$f":"INDEX(N$91:Y$115,MATCH(1,(N$91:N$115=D26)*(O$91:O$115=E26),0),IF(F26=100,3,IF(F26=150,5,IF(F26=200,7,IF(F26=250,9,IF(F26=300,11,0))))))","v":{"$error":"#N/A"}},{"$f":"INDEX(N$91:Y$115,MATCH(1,(N$91:N$115=D26)*(O$91:O$115=E26),0),IF(F26=100,4,IF(F26=150,6,IF(F26=200,8,IF(F26=250,10,IF(F26=300,12,0))))))","v":{"$error":"#N/A"}},{"$f":"INDEX(N$118:Y$142,MATCH(1,(N$118:N$142=D26)*(O$118:O$142=E26),0),IF(F26=100,3,IF(F26=150,5,IF(F26=200,7,IF(F26=250,9,IF(F26=300,11,0))))))","v":{"$error":"#N/A"}},{"$f":"INDEX(N$118:Y$142,MATCH(1,(N$118:N$142=D26)*(O$118:O$142=E26),0),IF(F26=100,4,IF(F26=150,6,IF(F26=200,8,IF(F26=250,10,IF(F26=300,12,0))))))","v":{"$error":"#N/A"}}]
[{"$f":"'UFH Guide'!A27","v":" "},null,{"$f":"'UFH Guide'!H27","v":0},{"$f":"'UFH Guide'!E27","v":0},{"$f":"'UFH Guide'!B27","v":0},{"$f":"'UFH Guide'!I27","v":0},{"$f":"'UFH Guide'!J27","v":0},0,0,{"$f":"INDEX(A$37:L$61,MATCH(1,(A$37:A$61=D27)*(B$37:B$61=E27),0),IF(F27=100,3,IF(F27=150,5,IF(F27=200,7,IF(F27=250,9,IF(F27=300,11,0))))))","v":{"$error":"#N/A"}},{"$f":"INDEX(A$37:L$61,MATCH(1,(A$37:A$61=D27)*(B$37:B$61=E27),0),IF(F27=100,4,IF(F27=150,6,IF(F27=200,8,IF(F27=250,10,IF(F27=300,12,0))))))","v":{"$error":"#N/A"}},{"$f":"INDEX(A$64:L$88,MATCH(1,(A$64:A$88=D27)*(B$64:B$88=E27),0),IF(F27=100,3,IF(F27=150,5,IF(F27=200,7,IF(F27=250,9,IF(F27=300,11,0))))))","v":{"$error":"#N/A"}},{"$f":"INDEX(A$64:L$88,MATCH(1,(A$64:A$88=D27)*(B$64:B$88=E27),0),IF(F27=100,4,IF(F27=150,6,IF(F27=200,8,IF(F27=250,10,IF(F27=300,12,0))))))","v":{"$error":"#N/A"}},{"$f":"INDEX(A$91:L$115,MATCH(1,(A$91:A$115=D27)*(B$91:B$115=E27),0),IF(F27=100,3,IF(F27=150,5,IF(F27=200,7,IF(F27=250,9,IF(F27=300,11,0))))))","v":{"$error":"#N/A"}},{"$f":"INDEX(A$91:L$115,MATCH(1,(A$91:A$115=D27)*(B$91:B$115=E27),0),IF(F27=100,4,IF(F27=150,6,IF(F27=200,8,IF(F27=250,10,IF(F27=300,12,0))))))","v":{"$error":"#N/A"}},{"$f":"INDEX(A$118:L$142,MATCH(1,(A$118:A$142=D27)*(B$118:B$142=E27),0),IF(F27=100,3,IF(F27=150,5,IF(F27=200,7,IF(F27=250,9,IF(F27=300,11,0))))))","v":{"$error":"#N/A"}},{"$f":"INDEX(A$118:L$142,MATCH(1,(A$118:A$142=D27)*(B$118:B$142=E27),0),IF(F27=100,4,IF(F27=150,6,IF(F27=200,8,IF(F27=250,10,IF(F27=300,12,0))))))","v":{"$error":"#N/A"}},{"$f":"INDEX(N$37:Y$61,MATCH(1,(N$37:N$61=D27)*(O$37:O$61=E27),0),IF(F27=100,3,IF(F27=150,5,IF(F27=200,7,IF(F27=250,9,IF(F27=300,11,0))))))","v":{"$error":"#N/A"}},{"$f":"INDEX(N$37:Y$61,MATCH(1,(N$37:N$61=D27)*(O$37:O$61=E27),0),IF(F27=100,4,IF(F27=150,6,IF(F27=200,8,IF(F27=250,10,IF(F27=300,12,0))))))","v":{"$error":"#N/A"}},{"$f":"INDEX(N$64:Y$88,MATCH(1,(N$64:N$88=D27)*(O$64:O$88=E27),0),IF(F27=100,3,IF(F27=150,5,IF(F27=200,7,IF(F27=250,9,IF(F27=300,11,0))))))","v":{"$error":"#N/A"}},{"$f":"INDEX(N$64:Y$88,MATCH(1,(N$64:N$88=D27)*(O$64:O$88=E27),0),IF(F27=100,4,IF(F27=150,6,IF(F27=200,8,IF(F27=250,10,IF(F27=300,12,0))))))","v":{"$error":"#N/A"}},{"$f":"INDEX(N$91:Y$115,MATCH(1,(N$91:N$115=D27)*(O$91:O$115=E27),0),IF(F27=100,3,IF(F27=150,5,IF(F27=200,7,IF(F27=250,9,IF(F27=300,11,0))))))","v":{"$error":"#N/A"}},{"$f":"INDEX(N$91:Y$115,MATCH(1,(N$91:N$115=D27)*(O$91:O$115=E27),0),IF(F27=100,4,IF(F27=150,6,IF(F27=200,8,IF(F27=250,10,IF(F27=300,12,0))))))","v":{"$error":"#N/A"}},{"$f":"INDEX(N$118:Y$142,MATCH(1,(N$118:N$142=D27)*(O$118:O$142=E27),0),IF(F27=100,3,IF(F27=150,5,IF(F27=200,7,IF(F27=250,9,IF(F27=300,11,0))))))","v":{"$error":"#N/A"}},{"$f":"INDEX(N$118:Y$142,MATCH(1,(N$118:N$142=D27)*(O$118:O$142=E27),0),IF(F27=100,4,IF(F27=150,6,IF(F27=200,8,IF(F27=250,10,IF(F27=300,12,0))))))","v":{"$error":"#N/A"}}]
[{"$f":"'UFH Guide'!A28","v":" "},null,{"$f":"'UFH Guide'!H28","v":0},{"$f":"'UFH Guide'!E28","v":0},{"$f":"'UFH Guide'!B28","v":0},{"$f":"'UFH Guide'!I28","v":0},{"$f":"'UFH Guide'!J28","v":0},0,0,{"$f":"INDEX(A$37:L$61,MATCH(1,(A$37:A$61=D28)*(B$37:B$61=E28),0),IF(F28=100,3,IF(F28=150,5,IF(F28=200,7,IF(F28=250,9,IF(F28=300,11,0))))))","v":{"$error":"#N/A"}},{"$f":"INDEX(A$37:L$61,MATCH(1,(A$37:A$61=D28)*(B$37:B$61=E28),0),IF(F28=100,4,IF(F28=150,6,IF(F28=200,8,IF(F28=250,10,IF(F28=300,12,0))))))","v":{"$error":"#N/A"}},{"$f":"INDEX(A$64:L$88,MATCH(1,(A$64:A$88=D28)*(B$64:B$88=E28),0),IF(F28=100,3,IF(F28=150,5,IF(F28=200,7,IF(F28=250,9,IF(F28=300,11,0))))))","v":{"$error":"#N/A"}},{"$f":"INDEX(A$64:L$88,MATCH(1,(A$64:A$88=D28)*(B$64:B$88=E28),0),IF(F28=100,4,IF(F28=150,6,IF(F28=200,8,IF(F28=250,10,IF(F28=300,12,0))))))","v":{"$error":"#N/A"}},{"$f":"INDEX(A$91:L$115,MATCH(1,(A$91:A$115=D28)*(B$91:B$115=E28),0),IF(F28=100,3,IF(F28=150,5,IF(F28=200,7,IF(F28=250,9,IF(F28=300,11,0))))))","v":{"$error":"#N/A"}},{"$f":"INDEX(A$91:L$115,MATCH(1,(A$91:A$115=D28)*(B$91:B$115=E28),0),IF(F28=100,4,IF(F28=150,6,IF(F28=200,8,IF(F28=250,10,IF(F28=300,12,0))))))","v":{"$error":"#N/A"}},{"$f":"INDEX(A$118:L$142,MATCH(1,(A$118:A$142=D28)*(B$118:B$142=E28),0),IF(F28=100,3,IF(F28=150,5,IF(F28=200,7,IF(F28=250,9,IF(F28=300,11,0))))))","v":{"$error":"#N/A"}},{"$f":"INDEX(A$118:L$142,MATCH(1,(A$118:A$142=D28)*(B$118:B$142=E28),0),IF(F28=100,4,IF(F28=150,6,IF(F28=200,8,IF(F28=250,10,IF(F28=300,12,0))))))","v":{"$error":"#N/A"}},{"$f":"INDEX(N$37:Y$61,MATCH(1,(N$37:N$61=D28)*(O$37:O$61=E28),0),IF(F28=100,3,IF(F28=150,5,IF(F28=200,7,IF(F28=250,9,IF(F28=300,11,0))))))","v":{"$error":"#N/A"}},{"$f":"INDEX(N$37:Y$61,MATCH(1,(N$37:N$61=D28)*(O$37:O$61=E28),0),IF(F28=100,4,IF(F28=150,6,IF(F28=200,8,IF(F28=250,10,IF(F28=300,12,0))))))","v":{"$error":"#N/A"}},{"$f":"INDEX(N$64:Y$88,MATCH(1,(N$64:N$88=D28)*(O$64:O$88=E28),0),IF(F28=100,3,IF(F28=150,5,IF(F28=200,7,IF(F28=250,9,IF(F28=300,11,0))))))","v":{"$error":"#N/A"}},{"$f":"INDEX(N$64:Y$88,MATCH(1,(N$64:N$88=D28)*(O$64:O$88=E28),0),IF(F28=100,4,IF(F28=150,6,IF(F28=200,8,IF(F28=250,10,IF(F28=300,12,0))))))","v":{"$error":"#N/A"}},{"$f":"INDEX(N$91:Y$115,MATCH(1,(N$91:N$115=D28)*(O$91:O$115=E28),0),IF(F28=100,3,IF(F28=150,5,IF(F28=200,7,IF(F28=250,9,IF(F28=300,11,0))))))","v":{"$error":"#N/A"}},{"$f":"INDEX(N$91:Y$115,MATCH(1,(N$91:N$115=D28)*(O$91:O$115=E28),0),IF(F28=100,4,IF(F28=150,6,IF(F28=200,8,IF(F28=250,10,IF(F28=300,12,0))))))","v":{"$error":"#N/A"}},{"$f":"INDEX(N$118:Y$142,MATCH(1,(N$118:N$142=D28)*(O$118:O$142=E28),0),IF(F28=100,3,IF(F28=150,5,IF(F28=200,7,IF(F28=250,9,IF(F28=300,11,0))))))","v":{"$error":"#N/A"}},{"$f":"INDEX(N$118:Y$142,MATCH(1,(N$118:N$142=D28)*(O$118:O$142=E28),0),IF(F28=100,4,IF(F28=150,6,IF(F28=200,8,IF(F28=250,10,IF(F28=300,12,0))))))","v":{"$error":"#N/A"}}]
[{"$f":"'UFH Guide'!A29","v":" "},null,{"$f":"'UFH Guide'!H29","v":0},{"$f":"'UFH Guide'!E29","v":0},{"$f":"'UFH Guide'!B29","v":0},{"$f":"'UFH Guide'!I29","v":0},{"$f":"'UFH Guide'!J29","v":0},0,0,{"$f":"INDEX(A$37:L$61,MATCH(1,(A$37:A$61=D29)*(B$37:B$61=E29),0),IF(F29=100,3,IF(F29=150,5,IF(F29=200,7,IF(F29=250,9,IF(F29=300,11,0))))))","v":{"$error":"#N/A"}},{"$f":"INDEX(A$37:L$61,MATCH(1,(A$37:A$61=D29)*(B$37:B$61=E29),0),IF(F29=100,4,IF(F29=150,6,IF(F29=200,8,IF(F29=250,10,IF(F29=300,12,0))))))","v":{"$error":"#N/A"}},{"$f":"INDEX(A$64:L$88,MATCH(1,(A$64:A$88=D29)*(B$64:B$88=E29),0),IF(F29=100,3,IF(F29=150,5,IF(F29=200,7,IF(F29=250,9,IF(F29=300,11,0))))))","v":{"$error":"#N/A"}},{"$f":"INDEX(A$64:L$88,MATCH(1,(A$64:A$88=D29)*(B$64:B$88=E29),0),IF(F29=100,4,IF(F29=150,6,IF(F29=200,8,IF(F29=250,10,IF(F29=300,12,0))))))","v":{"$error":"#N/A"}},{"$f":"INDEX(A$91:L$115,MATCH(1,(A$91:A$115=D29)*(B$91:B$115=E29),0),IF(F29=100,3,IF(F29=150,5,IF(F29=200,7,IF(F29=250,9,IF(F29=300,11,0))))))","v":{"$error":"#N/A"}},{"$f":"INDEX(A$91:L$115,MATCH(1,(A$91:A$115=D29)*(B$91:B$115=E29),0),IF(F29=100,4,IF(F29=150,6,IF(F29=200,8,IF(F29=250,10,IF(F29=300,12,0))))))","v":{"$error":"#N/A"}},{"$f":"INDEX(A$118:L$142,MATCH(1,(A$118:A$142=D29)*(B$118:B$142=E29),0),IF(F29=100,3,IF(F29=150,5,IF(F29=200,7,IF(F29=250,9,IF(F29=300,11,0))))))","v":{"$error":"#N/A"}},{"$f":"INDEX(A$118:L$142,MATCH(1,(A$118:A$142=D29)*(B$118:B$142=E29),0),IF(F29=100,4,IF(F29=150,6,IF(F29=200,8,IF(F29=250,10,IF(F29=300,12,0))))))","v":{"$error":"#N/A"}},{"$f":"INDEX(N$37:Y$61,MATCH(1,(N$37:N$61=D29)*(O$37:O$61=E29),0),IF(F29=100,3,IF(F29=150,5,IF(F29=200,7,IF(F29=250,9,IF(F29=300,11,0))))))","v":{"$error":"#N/A"}},{"$f":"INDEX(N$37:Y$61,MATCH(1,(N$37:N$61=D29)*(O$37:O$61=E29),0),IF(F29=100,4,IF(F29=150,6,IF(F29=200,8,IF(F29=250,10,IF(F29=300,12,0))))))","v":{"$error":"#N/A"}},{"$f":"INDEX(N$64:Y$88,MATCH(1,(N$64:N$88=D29)*(O$64:O$88=E29),0),IF(F29=100,3,IF(F29=150,5,IF(F29=200,7,IF(F29=250,9,IF(F29=300,11,0))))))","v":{"$error":"#N/A"}},{"$f":"INDEX(N$64:Y$88,MATCH(1,(N$64:N$88=D29)*(O$64:O$88=E29),0),IF(F29=100,4,IF(F29=150,6,IF(F29=200,8,IF(F29=250,10,IF(F29=300,12,0))))))","v":{"$error":"#N/A"}},{"$f":"INDEX(N$91:Y$115,MATCH(1,(N$91:N$115=D29)*(O$91:O$115=E29),0),IF(F29=100,3,IF(F29=150,5,IF(F29=200,7,IF(F29=250,9,IF(F29=300,11,0))))))","v":{"$error":"#N/A"}},{"$f":"INDEX(N$91:Y$115,MATCH(1,(N$91:N$115=D29)*(O$91:O$115=E29),0),IF(F29=100,4,IF(F29=150,6,IF(F29=200,8,IF(F29=250,10,IF(F29=300,12,0))))))","v":{"$error":"#N/A"}},{"$f":"INDEX(N$118:Y$142,MATCH(1,(N$118:N$142=D29)*(O$118:O$142=E29),0),IF(F29=100,3,IF(F29=150,5,IF(F29=200,7,IF(F29=250,9,IF(F29=300,11,0))))))","v":{"$error":"#N/A"}},{"$f":"INDEX(N$118:Y$142,MATCH(1,(N$118:N$142=D29)*(O$118:O$142=E29),0),IF(F29=100,4,IF(F29=150,6,IF(F29=200,8,IF(F29=250,10,IF(F29=300,12,0))))))","v":{"$error":"#N/A"}}]
[{"$f":"'UFH Guide'!A30","v":" "},null,{"$f":"'UFH Guide'!H30","v":0},{"$f":"'UFH Guide'!E30","v":0},{"$f":"'UFH Guide'!B30","v":0},{"$f":"'UFH Guide'!I30","v":0},{"$f":"'UFH Guide'!J30","v":0},0,0,{"$f":"INDEX(A$37:L$61,MATCH(1,(A$37:A$61=D30)*(B$37:B$61=E30),0),IF(F30=100,3,IF(F30=150,5,IF(F30=200,7,IF(F30=250,9,IF(F30=300,11,0))))))","v":{"$error":"#N/A"}},{"$f":"INDEX(A$37:L$61,MATCH(1,(A$37:A$61=D30)*(B$37:B$61=E30),0),IF(F30=100,4,IF(F30=150,6,IF(F30=200,8,IF(F30=250,10,IF(F30=300,12,0))))))","v":{"$error":"#N/A"}},{"$f":"INDEX(A$64:L$88,MATCH(1,(A$64:A$88=D30)*(B$64:B$88=E30),0),IF(F30=100,3,IF(F30=150,5,IF(F30=200,7,IF(F30=250,9,IF(F30=300,11,0))))))","v":{"$error":"#N/A"}},{"$f":"INDEX(A$64:L$88,MATCH(1,(A$64:A$88=D30)*(B$64:B$88=E30),0),IF(F30=100,4,IF(F30=150,6,IF(F30=200,8,IF(F30=250,10,IF(F30=300,12,0))))))","v":{"$error":"#N/A"}},{"$f":"INDEX(A$91:L$115,MATCH(1,(A$91:A$115=D30)*(B$91:B$115=E30),0),IF(F30=100,3,IF(F30=150,5,IF(F30=200,7,IF(F30=250,9,IF(F30=300,11,0))))))","v":{"$error":"#N/A"}},{"$f":"INDEX(A$91:L$115,MATCH(1,(A$91:A$115=D30)*(B$91:B$115=E30),0),IF(F30=100,4,IF(F30=150,6,IF(F30=200,8,IF(F30=250,10,IF(F30=300,12,0))))))","v":{"$error":"#N/A"}},{"$f":"INDEX(A$118:L$142,MATCH(1,(A$118:A$142=D30)*(B$118:B$142=E30),0),IF(F30=100,3,IF(F30=150,5,IF(F30=200,7,IF(F30=250,9,IF(F30=300,11,0))))))","v":{"$error":"#N/A"}},{"$f":"INDEX(A$118:L$142,MATCH(1,(A$118:A$142=D30)*(B$118:B$142=E30),0),IF(F30=100,4,IF(F30=150,6,IF(F30=200,8,IF(F30=250,10,IF(F30=300,12,0))))))","v":{"$error":"#N/A"}},{"$f":"INDEX(N$37:Y$61,MATCH(1,(N$37:N$61=D30)*(O$37:O$61=E30),0),IF(F30=100,3,IF(F30=150,5,IF(F30=200,7,IF(F30=250,9,IF(F30=300,11,0))))))","v":{"$error":"#N/A"}},{"$f":"INDEX(N$37:Y$61,MATCH(1,(N$37:N$61=D30)*(O$37:O$61=E30),0),IF(F30=100,4,IF(F30=150,6,IF(F30=200,8,IF(F30=250,10,IF(F30=300,12,0))))))","v":{"$error":"#N/A"}},{"$f":"INDEX(N$64:Y$88,MATCH(1,(N$64:N$88=D30)*(O$64:O$88=E30),0),IF(F30=100,3,IF(F30=150,5,IF(F30=200,7,IF(F30=250,9,IF(F30=300,11,0))))))","v":{"$error":"#N/A"}},{"$f":"INDEX(N$64:Y$88,MATCH(1,(N$64:N$88=D30)*(O$64:O$88=E30),0),IF(F30=100,4,IF(F30=150,6,IF(F30=200,8,IF(F30=250,10,IF(F30=300,12,0))))))","v":{"$error":"#N/A"}},{"$f":"INDEX(N$91:Y$115,MATCH(1,(N$91:N$115=D30)*(O$91:O$115=E30),0),IF(F30=100,3,IF(F30=150,5,IF(F30=200,7,IF(F30=250,9,IF(F30=300,11,0))))))","v":{"$error":"#N/A"}},{"$f":"INDEX(N$91:Y$115,MATCH(1,(N$91:N$115=D30)*(O$91:O$115=E30),0),IF(F30=100,4,IF(F30=150,6,IF(F30=200,8,IF(F30=250,10,IF(F30=300,12,0))))))","v":{"$error":"#N/A"}},{"$f":"INDEX(N$118:Y$142,MATCH(1,(N$118:N$142=D30)*(O$118:O$142=E30),0),IF(F30=100,3,IF(F30=150,5,IF(F30=200,7,IF(F30=250,9,IF(F30=300,11,0))))))","v":{"$error":"#N/A"}},{"$f":"INDEX(N$118:Y$142,MATCH(1,(N$118:N$142=D30)*(O$118:O$142=E30),0),IF(F30=100,4,IF(F30=150,6,IF(F30=200,8,IF(F30=250,10,IF(F30=300,12,0))))))","v":{"$error":"#N/A"}}]
[{"$f":"'UFH Guide'!A31","v":" "},null,{"$f":"'UFH Guide'!H31","v":0},{"$f":"'UFH Guide'!E31","v":0},{"$f":"'UFH Guide'!B31","v":0},{"$f":"'UFH Guide'!I31","v":0},{"$f":"'UFH Guide'!J31","v":0},0,0,{"$f":"INDEX(A$37:L$61,MATCH(1,(A$37:A$61=D31)*(B$37:B$61=E31),0),IF(F31=100,3,IF(F31=150,5,IF(F31=200,7,IF(F31=250,9,IF(F31=300,11,0))))))","v":{"$error":"#N/A"}},{"$f":"INDEX(A$37:L$61,MATCH(1,(A$37:A$61=D31)*(B$37:B$61=E31),0),IF(F31=100,4,IF(F31=150,6,IF(F31=200,8,IF(F31=250,10,IF(F31=300,12,0))))))","v":{"$error":"#N/A"}},{"$f":"INDEX(A$64:L$88,MATCH(1,(A$64:A$88=D31)*(B$64:B$88=E31),0),IF(F31=100,3,IF(F31=150,5,IF(F31=200,7,IF(F31=250,9,IF(F31=300,11,0))))))","v":{"$error":"#N/A"}},{"$f":"INDEX(A$64:L$88,MATCH(1,(A$64:A$88=D31)*(B$64:B$88=E31),0),IF(F31=100,4,IF(F31=150,6,IF(F31=200,8,IF(F31=250,10,IF(F31=300,12,0))))))","v":{"$error":"#N/A"}},{"$f":"INDEX(A$91:L$115,MATCH(1,(A$91:A$115=D31)*(B$91:B$115=E31),0),IF(F31=100,3,IF(F31=150,5,IF(F31=200,7,IF(F31=250,9,IF(F31=300,11,0))))))","v":{"$error":"#N/A"}},{"$f":"INDEX(A$91:L$115,MATCH(1,(A$91:A$115=D31)*(B$91:B$115=E31),0),IF(F31=100,4,IF(F31=150,6,IF(F31=200,8,IF(F31=250,10,IF(F31=300,12,0))))))","v":{"$error":"#N/A"}},{"$f":"INDEX(A$118:L$142,MATCH(1,(A$118:A$142=D31)*(B$118:B$142=E31),0),IF(F31=100,3,IF(F31=150,5,IF(F31=200,7,IF(F31=250,9,IF(F31=300,11,0))))))","v":{"$error":"#N/A"}},{"$f":"INDEX(A$118:L$142,MATCH(1,(A$118:A$142=D31)*(B$118:B$142=E31),0),IF(F31=100,4,IF(F31=150,6,IF(F31=200,8,IF(F31=250,10,IF(F31=300,12,0))))))","v":{"$error":"#N/A"}},{"$f":"INDEX(N$37:Y$61,MATCH(1,(N$37:N$61=D31)*(O$37:O$61=E31),0),IF(F31=100,3,IF(F31=150,5,IF(F31=200,7,IF(F31=250,9,IF(F31=300,11,0))))))","v":{"$error":"#N/A"}},{"$f":"INDEX(N$37:Y$61,MATCH(1,(N$37:N$61=D31)*(O$37:O$61=E31),0),IF(F31=100,4,IF(F31=150,6,IF(F31=200,8,IF(F31=250,10,IF(F31=300,12,0))))))","v":{"$error":"#N/A"}},{"$f":"INDEX(N$64:Y$88,MATCH(1,(N$64:N$88=D31)*(O$64:O$88=E31),0),IF(F31=100,3,IF(F31=150,5,IF(F31=200,7,IF(F31=250,9,IF(F31=300,11,0))))))","v":{"$error":"#N/A"}},{"$f":"INDEX(N$64:Y$88,MATCH(1,(N$64:N$88=D31)*(O$64:O$88=E31),0),IF(F31=100,4,IF(F31=150,6,IF(F31=200,8,IF(F31=250,10,IF(F31=300,12,0))))))","v":{"$error":"#N/A"}},{"$f":"INDEX(N$91:Y$115,MATCH(1,(N$91:N$115=D31)*(O$91:O$115=E31),0),IF(F31=100,3,IF(F31=150,5,IF(F31=200,7,IF(F31=250,9,IF(F31=300,11,0))))))","v":{"$error":"#N/A"}},{"$f":"INDEX(N$91:Y$115,MATCH(1,(N$91:N$115=D31)*(O$91:O$115=E31),0),IF(F31=100,4,IF(F31=150,6,IF(F31=200,8,IF(F31=250,10,IF(F31=300,12,0))))))","v":{"$error":"#N/A"}},{"$f":"INDEX(N$118:Y$142,MATCH(1,(N$118:N$142=D31)*(O$118:O$142=E31),0),IF(F31=100,3,IF(F31=150,5,IF(F31=200,7,IF(F31=250,9,IF(F31=300,11,0))))))","v":{"$error":"#N/A"}},{"$f":"INDEX(N$118:Y$142,MATCH(1,(N$118:N$142=D31)*(O$118:O$142=E31),0),IF(F31=100,4,IF(F31=150,6,IF(F31=200,8,IF(F31=250,10,IF(F31=300,12,0))))))","v":{"$error":"#N/A"}}]
[]
[]
["16mm",null,null,null,null,null,null,null,null,null,null,null,null,"20mm"]
[0,"W/(m2xK)",100,null,150,null,200,null,250,null,300,null,null,0,"W/(m2xK)",100,null,150,null,200,null,250,null,300]
["Flow temp ","Room temp","Output (W/m2)","surface temp","Output (W/m2)","surface temp","Output (W/m2)","surface temp","Output (W/m2)","surface temp","Output (W/m2)","surface temp",null,"Flow temp ","Room temp","Output (W/m2)","surface temp","Output (W/m2)","surface temp","Output (W/m2)","surface temp","Output (W/m2)","surface temp","Output (W/m2)","surface temp"]
[35,15,100.3,24,86.4,22.9,74.900000000000006,21.9,64.900000000000006,21.1,56.4,20.3,null,35,15]
[35,18,80.2,25.4,69.099999999999994,24.4,59.9,23.6,51.9,23,45.1,22.4,null,35,18]
[35,20,66.8,26.2,57.6,25.5,49.9,24.8,43.3,24.2,37.6,23.6,null,35,20]
[35,22,53.5,27.1,46.1,26.5,39.9,25.9,34.6,25.4,30.1,25,null,35,22]
[35,24,40.1,27.9,34.6,27.4,29.9,27,26,26.6,22.6,26.3,null,35,24]
[40,15,133.69999999999999,26.7,115.2,25.2,99.8,24,86.5,22.9,75.2,21.9,null,40,15]
[40,18,113.6,28.1,97.9,26.8,84.8,25.7,73.5,24.8,63.9,24,null,40,18]
[40,20,100.3,29,86.4,27.9,74.900000000000006,26.9,64.900000000000006,26.1,56.4,25.3,null,40,20]
[40,22,86.9,29.9,74.900000000000006,28.9,64.900000000000006,28.1,56.2,27.3,48.9,26.7,null,40,22]
[40,24,73.5,30.8,63.4,29.9,54.9,29.2,47.6,28.6,41.4,28,null,40,24]
[45,15,167.1,29.4,144,27.5,124.8,26,108.2,24.7,94,23.5,null,45,15]
[45,18,147,30.8,126.7,29.2,109.8,27.8,95.2,26.6,82.7,25.6,null,45,18]
[45,20,133.69999999999999,31.7,115.2,30.2,99.8,29,86.5,27.9,75.2,26.9,null,45,20]
[45,22,120.3,32.6,103.7,31.3,89.8,30.2,77.900000000000006,29.2,67.7,28.3,null,45,22]
[45,24,106.9,33.6,92.2,32.4,79.8,31.3,69.2,30.4,60.2,29.7,null,45,24]
[50,15,200.5,31.9,172.8,29.8,149.69999999999999,28,129.80000000000001,26.4,112.8,25,null,50,15]
[50,18,180.5,33.4,155.5,31.4,134.69999999999999,29.8,116.8,28.4,101.5,27.1,null,50,18]
[50,20,167.1,34.4,144,32.5,124.8,31,108.2,29.7,94,28.5,null,50,20]
[50,22,153.69999999999999,35.299999999999997,132.5,33.6,114.8,32.200000000000003,99.5,31,86.5,29.9,null,50,22]
[50,24,140.4,36.299999999999997,121,34.700000000000003,104.8,33.4,90.8,32.200000000000003,79,31.3,null,50,24]
[55,15,233.9,34.5,201.6,32,174.7,29.9,151.4,28.1,131.6,26.6,null,55,15]
[55,18,213.9,36,184.4,33.700000000000003,159.69999999999999,31.8,138.4,30.1,120.4,28.7,null,55,18]
[55,20,200.5,36.9,172.8,34.799999999999997,149.69999999999999,33,129.80000000000001,31.4,112.8,30,null,55,20]
[55,22,187.2,37.9,161.30000000000001,35.9,139.69999999999999,34.200000000000003,121.1,32.700000000000003,105.3,31.4,null,55,22]
[55,24,173.8,38.9,149.80000000000001,37,129.69999999999999,35.4,112.5,34,97.8,32.799999999999997,null,55,24]
[0.05,"W/(m2xK)",null,null,null,null,null,null,null,null,null,null,null,0.05,"W/(m2xK)"]
["Flow temp ","Room temp","Output (W/m2)","surface temp","Output (W/m2)","surface temp","Output (W/m2)","surface temp","Output (W/m2)","surface temp","Output (W/m2)","surface temp",null,"Flow temp ","Room temp","Output (W/m2)","surface temp","Output (W/m2)","surface temp","Output (W/m2)","surface temp","Output (W/m2)","surface temp","Output (W/m2)","surface temp"]
[35,15,73.599999999999994,21.8,65,21.1,57.6,20.5,51.1,19.899999999999999,45.4,19.399999999999999,null,35,15]
[35,18,58.8,23.6,52,23,46.1,22.5,40.9,22,36.299999999999997,21.6,null,35,18]
[35,20,49,24.7,43.3,24.2,38.4,23.8,34.1,23.4,30.3,23,null,35,20]
[35,22,39.200000000000003,25.8,34.700000000000003,25.4,30.7,25.1,27.2,24.8,24.2,24.5,null,35,22]
[35,24,29.4,27,26,26.6,23,26.4,20.399999999999999,26.1,18.2,25.9,null,35,24]
[40,15,98.1,23.8,86.7,22.9,76.8,22.1,68.099999999999994,21.3,60.5,20.7,null,40,15]
[40,18,83.4,25.6,73.7,24.8,65.3,24.1,57.9,23.5,51.5,22.9,null,40,18]
[40,20,73.599999999999994,26.8,65,26.1,57.6,25.5,51.1,24.9,45.4,24.4,null,40,20]
[40,22,63.8,28,56.3,27.3,49.9,26.8,44.3,26.3,39.4,25.9,null,40,22]
[40,24,53.9,29.1,47.7,28.6,42.3,28.1,37.5,27.7,33.299999999999997,27.3,null,40,24]
[45,15,122.6,25.8,108.4,24.7,96,23.7,85.2,22.8,75.7,22,null,45,15]
[45,18,107.9,27.7,95.3,26.6,84.5,25.7,74.900000000000006,24.9,66.599999999999994,24.2,null,45,18]
[45,20,98.1,28.8,86.7,27.9,76.8,27.1,68.099999999999994,26.3,60.5,25.7,null,45,20]
[45,22,88.3,30,78,29.2,69.099999999999994,28.4,61.3,27.8,54.5,27.2,null,45,22]
[45,24,78.5,31.2,69.3,30.4,61.5,29.8,54.5,29.2,48.4,28.7,null,45,24]
[50,15,147.1,27.8,130,26.4,115.2,25.2,102.2,24.2,90.8,23.2,null,50,15]
[50,18,132.4,29.6,117,28.4,103.7,27.3,92,26.3,81.7,25.5,null,50,18]
[50,20,122.6,30.8,108.4,29.7,96,28.7,85.2,27.8,75.7,27,null,50,20]
[50,22,112.8,32,99.7,31,88.3,30,78.3,29.2,69.599999999999994,28.5,null,50,22]
[50,24,103,33.200000000000003,91,32.299999999999997,80.7,31.4,71.5,30.6,63.6,30,null,50,24]
[55,15,171.6,29.7,151.69999999999999,28.1,134.4,26.8,119.2,25.6,105.9,24.5,null,55,15]
[55,18,156.9,31.6,138.69999999999999,30.1,122.9,28.9,109,27.7,96.9,26.7,null,55,18]
[55,20,147.1,32.799999999999997,130,31.4,115.2,30.2,102.2,29.2,90.8,28.2,null,55,20]
[55,22,137.30000000000001,34,121.4,32.700000000000003,107.5,31.6,95.4,30.6,84.8,29.7,null,55,22]
[55,24,127.5,35.200000000000003,112.7,34,99.9,33,88.6,32.1,78.7,31.2,null,55,24]
[0.1,"W/(m2xK)",null,null,null,null,null,null,null,null,null,null,null,0.1,"W/(m2xK)"]
["Flow temp ","Room temp","Output (W/m2)","surface temp","Output (W/m2)","surface temp","Output (W/m2)","surface temp","Output (W/m2)","surface temp","Output (W/m2)","surface temp",null,"Flow temp ","Room temp","Output (W/m2)","surface temp","Output (W/m2)","surface temp","Output (W/m2)","surface temp","Output (W/m2)","surface temp","Output (W/m2)","surface temp"]
[35,15,58.3,20.5,52.5,20,47.4,19.600000000000001,42.8,19.2,38.799999999999997,18.8,null,35,15]
[35,18,46.6,22.5,42,22.1,37.9,21.7,34.299999999999997,21.4,31,21.1,null,35,18]
[35,20,38.9,23.8,35,23.5,31.6,23.2,28.6,22.9,25.8,22.6,null,35,20]
[35,22,31.1,25.1,28,24.8,25.3,24.6,22.8,24.3,20.7,24.1,null,35,22]
[35,24,23.3,26.4,21,26.2,19,26,17.100000000000001,25.8,15.5,25.7,null,35,24]
[40,15,77.7,22.2,70.099999999999994,21.5,63.2,20.9,57.1,20.399999999999999,51.7,19.899999999999999,null,40,15]
[40,18,66,24.2,59.6,23.6,53.8,23.1,48.5,22.7,43.9,22.3,null,40,18]
[40,20,58.3,25.5,52.5,25,47.4,24.6,42.8,24.2,38.799999999999997,23.8,null,40,20]
[40,22,50.5,26.8,45.5,26.4,41.1,26,37.1,25.7,33.6,25.3,null,40,22]
[40,24,42.7,28.2,38.5,27.8,34.799999999999997,27.4,31.4,27.1,28.4,26.9,null,40,24]
[45,15,97.1,23.8,87.6,23,79.099999999999994,22.3,71.400000000000006,21.6,64.599999999999994,21,null,45,15]
[45,18,85.5,25.8,77.099999999999994,25.1,69.599999999999994,24.5,62.8,23.9,56.8,23.4,null,45,18]
[45,20,77.7,27.2,70.099999999999994,26.5,63.2,25.9,57.1,25.4,51.7,24.9,null,45,20]
[45,22,69.900000000000006,28.5,63.1,27.9,56.9,27.4,51.4,26.9,46.5,26.5,null,45,22]
[45,24,62.2,29.8,56,29.3,50.6,28.8,45.7,28.4,41.3,28,null,45,24]
[50,15,116.6,25.3,105.1,24.4,94.9,23.6,85.7,22.8,77.5,22.1,null,50,15]
[50,18,104.9,27.4,94.6,26.6,85.4,25.8,77.099999999999994,25.1,69.8,24.5,null,50,18]
[50,20,97.1,28.8,87.6,28,79.099999999999994,27.3,71.400000000000006,26.6,64.599999999999994,26,null,50,20]
[50,22,89.4,30.1,80.599999999999994,29.4,72.7,28.7,65.7,28.1,59.4,27.6,null,50,22]
[50,24,81.599999999999994,31.5,73.599999999999994,30.8,66.400000000000006,30.2,60,29.7,54.3,29.2,null,50,24]
[55,15,136,26.9,122.6,25.8,110.7,24.9,99.9,24,90.4,23.2,null,55,15]
[55,18,124.3,29,112.1,28,101.2,27.1,91.4,26.3,82.7,25.6,null,55,18]
[55,20,116.6,30.3,105.1,29.4,94.9,28.6,85.7,27.8,77.5,27.1,null,55,20]
[55,22,108.8,31.7,98.1,30.8,88.5,30.1,79.900000000000006,29.3,72.400000000000006,28.7,null,55,22]
[55,24,101,33.1,91.1,32.299999999999997,82.2,31.5,74.2,30.9,67.2,30.3,null,55,24]
[0.15,"W/(m2xK)",null,null,null,null,null,null,null,null,null,null,null,0.15,"W/(m2xK)"]
["Flow temp ","Room temp","Output (W/m2)","surface temp","Output (W/m2)","surface temp","Output (W/m2)","surface temp","Output (W/m2)","surface temp","Output (W/m2)","surface temp",null,"Flow temp ","Room temp","Output (W/m2)","surface temp","Output (W/m2)","surface temp","Output (W/m2)","surface temp","Output (W/m2)","surface temp","Output (W/m2)","surface temp"]
[35,15,48.4,19.7,44.2,19.3,40.4,18.899999999999999,37,18.600000000000001,33.9,18.399999999999999,null,35,15]
[35,18,38.700000000000003,21.8,35.4,21.5,32.299999999999997,21.2,29.6,21,27.1,20.7,null,35,18]
[35,20,32.200000000000003,23.2,29.5,23,27,22.7,24.7,22.5,22.6,22.3,null,35,20]
[35,22,25.8,24.6,23.6,24.4,21.6,24.2,19.7,24.1,18.100000000000001,23.9,null,35,22]
[35,24,19.3,26,17.7,25.9,16.2,25.7,14.8,25.6,13.6,25.5,null,35,24]
[40,15,64.5,21,59,20.6,53.9,20.100000000000001,49.3,19.7,45.2,19.399999999999999,null,40,15]
[40,18,54.8,23.2,50.1,22.8,45.8,22.4,41.9,22.1,38.4,21.8,null,40,18]
[40,20,48.4,24.7,44.2,24.3,40.4,23.9,37,23.6,33.9,23.4,null,40,20]
[40,22,41.9,26.1,38.299999999999997,25.8,35,25.5,32,25.2,29.4,25,null,40,22]
[40,24,35.5,27.5,32.4,27.2,29.6,27,27.1,26.7,24.8,26.5,null,40,24]
[45,15,80.599999999999994,22.4,73.7,21.8,67.400000000000006,21.3,61.6,20.8,56.5,20.399999999999999,null,45,15]
[45,18,70.900000000000006,24.6,64.900000000000006,24.1,59.3,23.6,54.2,23.2,49.7,22.8,null,45,18]
[45,20,64.5,26,59,25.6,53.9,25.1,49.3,24.7,45.2,24.4,null,45,20]
[45,22,58,27.5,53.1,27.1,48.5,26.7,44.4,26.3,40.700000000000003,26,null,45,22]
[45,24,51.6,28.9,47.2,28.5,43.1,28.2,39.4,27.9,36.1,27.6,null,45,24]
[50,15,96.7,23.7,88.4,23,80.900000000000006,22.4,74,21.8,67.8,21.3,null,50,15]
[50,18,87,25.9,79.599999999999994,25.3,72.8,24.7,66.599999999999994,24.2,61,23.7,null,50,18]
[50,20,80.599999999999994,27.4,73.7,26.8,67.400000000000006,26.3,61.6,25.8,56.5,25.4,null,50,20]
[50,22,74.2,28.9,67.8,28.3,62,27.8,56.7,27.4,52,27,null,50,22]
[50,24,67.7,30.3,61.9,29.8,56.6,29.4,51.8,28.9,47.4,28.6,null,50,24]
[55,15,112.8,25,103.2,24.3,94.3,23.5,86.3,22.9,79.099999999999994,22.3,null,55,15]
[55,18,103.2,27.3,94.3,26.5,86.2,25.9,78.900000000000006,25.3,72.3,24.7,null,55,18]
[55,20,96.7,28.7,88.4,28,80.900000000000006,27.4,74,26.8,67.8,26.3,null,55,20]
[55,22,90.3,30.2,82.5,29.6,75.5,29,69,28.4,63.3,27.9,null,55,22]
[55,24,83.8,31.7,76.599999999999994,31.1,70.099999999999994,30.5,64.099999999999994,30,58.7,29.5,null,55,24]

{"sheet":"Suspended","index":26,"n_rows":142,"n_cols":25,"rows_kept":142,"cut":false,"hidden":true,"merged":[[34,15,34,16],[34,17,34,18],[34,19,34,20],[34,21,34,22],[34,23,34,24],[28,0,28,1],[29,0,29,1],[30,0,30,1],[33,0,33,11],[33,13,33,24],[34,2,34,3],[34,4,34,5],[34,6,34,7],[34,8,34,9],[34,10,34,11],[27,0,27,1],[16,0,16,1],[17,0,17,1],[18,0,18,1],[19,0,19,1],[20,0,20,1],[21,0,21,1],[22,0,22,1],[23,0,23,1],[24,0,24,1],[25,0,25,1],[26,0,26,1],[15,0,15,1],[4,0,4,1],[5,0,5,1],[6,0,6,1],[7,0,7,1],[8,0,8,1],[9,0,9,1],[10,0,10,1],[11,0,11,1],[12,0,12,1],[13,0,13,1],[14,0,14,1],[0,19,0,20],[0,21,0,22],[0,23,0,24],[1,0,1,1],[2,0,2,1],[0,15,0,16],[0,17,0,18],[3,0,3,1],[0,0,0,1],[0,9,0,10],[0,11,0,12],[0,13,0,14]]}
["Suspended (HEP)",null,"Pipe size","Flow temp","Room Temp","Pipe spacing","Floor Covering","Output (W/m2)","Surface Temp (°C)","0.00/16mm",null,"0.05/16mm",null,"0.1/16mm",null,"0.15/16mm",null,"0/20mm",null,"0.05/20mm",null,"0.1/20mm",null,"0.15/20mm"]
[{"$f":"'UFH Guide'!A2","v":"Bed/Study "},null,{"$f":"'UFH Guide'!H2","v":0},{"$f":"'UFH Guide'!E2","v":0},{"$f":"'UFH Guide'!B2","v":0},{"$f":"'UFH Guide'!I2","v":0},{"$f":"'UFH Guide'!J2","v":0},{"$f":"IF(AND($G2=0,$C2=16),J2,IF(AND($G2=0,$C2=20),R2,IF(AND($G2=0.05,$C2=16),L2,IF(AND($G2=0.05,$C2=20),T2,IF(AND($G2=0.1,$C2=16),N2,IF(AND($G2=0.1,$C2=20),V2,IF(AND($G2=0.2,$C2=16),P2,IF(AND($G2=0.2,$C2=20),X2,0))))))))","v":0},{"$f":"IF(AND($G2=0,$C2=16),K2,IF(AND($G2=0,$C2=20),S2,IF(AND($G2=0.05,$C2=16),M2,IF(AND($G2=0.05,$C2=20),U2,IF(AND($G2=0.1,$C2=16),O2,IF(AND($G2=0.1,$C2=20),W2,IF(AND($G2=0.2,$C2=16),Q2,IF(AND($G2=0.2,$C2=20),Y2,0))))))))","v":0},{"$f":"INDEX(A$37:L$61,MATCH(1,(A$37:A$61=D2)*(B$37:B$61=E2),0),IF(F2=100,3,IF(F2=150,5,IF(F2=200,7,IF(F2=250,9,IF(F2=300,11,0))))))","v":{"$error":"#N/A"}},{"$f":"INDEX(A$37:L$61,MATCH(1,(A$37:A$61=D2)*(B$37:B$61=E2),0),IF(F2=100,4,IF(F2=150,6,IF(F2=200,8,IF(F2=250,10,IF(F2=300,12,0))))))","v":{"$error":"#N/A"}},{"$f":"INDEX(A$64:L$88,MATCH(1,(A$64:A$88=D2)*(B$64:B$88=E2),0),IF(F2=100,3,IF(F2=150,5,IF(F2=200,7,IF(F2=250,9,IF(F2=300,11,0))))))","v":{"$error":"#N/A"}},{"$f":"INDEX(A$64:L$88,MATCH(1,(A$64:A$88=D2)*(B$64:B$88=E2),0),IF(F2=100,4,IF(F2=150,6,IF(F2=200,8,IF(F2=250,10,IF(F2=300,12,0))))))","v":{"$error":"#N/A"}},{"$f":"INDEX(A$91:L$115,MATCH(1,(A$91:A$115=D2)*(B$91:B$115=E2),0),IF(F2=100,3,IF(F2=150,5,IF(F2=200,7,IF(F2=250,9,IF(F2=300,11,0))))))","v":{"$error":"#N/A"}},{"$f":"INDEX(A$91:L$115,MATCH(1,(A$91:A$115=D2)*(B$91:B$115=E2),0),IF(F2=100,4,IF(F2=150,6,IF(F2=200,8,IF(F2=250,10,IF(F2=300,12,0))))))","v":{"$error":"#N/A"}},{"$f":"INDEX(A$118:L$142,MATCH(1,(A$118:A$142=D2)*(B$118:B$142=E2),0),IF(F2=100,3,IF(F2=150,5,IF(F2=200,7,IF(F2=250,9,IF(F2=300,11,0))))))","v":{"$error":"#N/A"}},{"$f":"INDEX(A$118:L$142,MATCH(1,(A$118:A$142=D2)*(B$118:B$142=E2),0),IF(F2=100,4,IF(F2=150,6,IF(F2=200,8,IF(F2=250,10,IF(F2=300,12,0))))))","v":{"$error":"#N/A"}},{"$f":"INDEX(N$37:Y$61,MATCH(1,(N$37:N$61=D2)*(O$37:O$61=E2),0),IF(F2=100,3,IF(F2=150,5,IF(F2=200,7,IF(F2=250,9,IF(F2=300,11,0))))))","v":{"$error":"#N/A"}},{"$f":"INDEX(N$37:Y$61,MATCH(1,(N$37:N$61=D2)*(O$37:O$61=E2),0),IF(F2=100,4,IF(F2=150,6,IF(F2=200,8,IF(F2=250,10,IF(F2=300,12,0))))))","v":{"$error":"#N/A"}},{"$f":"INDEX(N$64:Y$88,MATCH(1,(N$64:N$88=D2)*(O$64:O$88=E2),0),IF(F2=100,3,IF(F2=150,5,IF(F2=200,7,IF(F2=250,9,IF(F2=300,11,0))))))","v":{"$error":"#N/A"}},{"$f":"INDEX(N$64:Y$88,MATCH(1,(N$64:N$88=D2)*(O$64:O$88=E2),0),IF(F2=100,4,IF(F2=150,6,IF(F2=200,8,IF(F2=250,10,IF(F2=300,12,0))))))","v":{"$error":"#N/A"}},{"$f":"INDEX(N$91:Y$115,MATCH(1,(N$91:N$115=D2)*(O$91:O$115=E2),0),IF(F2=100,3,IF(F2=150,5,IF(F2=200,7,IF(F2=250,9,IF(F2=300,11,0))))))","v":{"$error":"#N/A"}},{"$f":"INDEX(N$91:Y$115,MATCH(1,(N$91:N$115=D2)*(O$91:O$115=E2),0),IF(F2=100,4,IF(F2=150,6,IF(F2=200,8,IF(F2=250,10,IF(F2=300,12,0))))))","v":{"$error":"#N/A"}},{"$f":"INDEX(N$118:Y$142,MATCH(1,(N$118:N$142=D2)*(O$118:O$142=E2),0),IF(F2=100,3,IF(F2=150,5,IF(F2=200,7,IF(F2=250,9,IF(F2=300,11,0))))))","v":{"$error":"#N/A"}},{"$f":"INDEX(N$118:Y$142,MATCH(1,(N$118:N$142=D2)*(O$118:O$142=E2),0),IF(F2=100,4,IF(F2=150,6,IF(F2=200,8,IF(F2=250,10,IF(F2=300,12,0))))))","v":{"$error":"#N/A"}}]
[{"$f":"'UFH Guide'!A3","v":" "},null,{"$f":"'UFH Guide'!H3","v":0},{"$f":"'UFH Guide'!E3","v":0},{"$f":"'UFH Guide'!B3","v":0},{"$f":"'UFH Guide'!I3","v":0},{"$f":"'UFH Guide'!J3","v":0},{"$f":"IF(AND($G3=0,$C3=16),J3,IF(AND($G3=0,$C3=20),R3,IF(AND($G3=0.05,$C3=16),L3,IF(AND($G3=0.05,$C3=20),T3,IF(AND($G3=0.1,$C3=16),N3,IF(AND($G3=0.1,$C3=20),V3,IF(AND($G3=0.2,$C3=16),P3,IF(AND($G3=0.2,$C3=20),X3,0))))))))","v":0},0,{"$f":"INDEX(A$37:L$61,MATCH(1,(A$37:A$61=D3)*(B$37:B$61=E3),0),IF(F3=100,3,IF(F3=150,5,IF(F3=200,7,IF(F3=250,9,IF(F3=300,11,0))))))","v":{"$error":"#N/A"}},{"$f":"INDEX(A$37:L$61,MATCH(1,(A$37:A$61=D3)*(B$37:B$61=E3),0),IF(F3=100,4,IF(F3=150,6,IF(F3=200,8,IF(F3=250,10,IF(F3=300,12,0))))))","v":{"$error":"#N/A"}},{"$f":"INDEX(A$64:L$88,MATCH(1,(A$64:A$88=D3)*(B$64:B$88=E3),0),IF(F3=100,3,IF(F3=150,5,IF(F3=200,7,IF(F3=250,9,IF(F3=300,11,0))))))","v":{"$error":"#N/A"}},{"$f":"INDEX(A$64:L$88,MATCH(1,(A$64:A$88=D3)*(B$64:B$88=E3),0),IF(F3=100,4,IF(F3=150,6,IF(F3=200,8,IF(F3=250,10,IF(F3=300,12,0))))))","v":{"$error":"#N/A"}},{"$f":"INDEX(A$91:L$115,MATCH(1,(A$91:A$115=D3)*(B$91:B$115=E3),0),IF(F3=100,3,IF(F3=150,5,IF(F3=200,7,IF(F3=250,9,IF(F3=300,11,0))))))","v":{"$error":"#N/A"}},{"$f":"INDEX(A$91:L$115,MATCH(1,(A$91:A$115=D3)*(B$91:B$115=E3),0),IF(F3=100,4,IF(F3=150,6,IF(F3=200,8,IF(F3=250,10,IF(F3=300,12,0))))))","v":{"$error":"#N/A"}},{"$f":"INDEX(A$118:L$142,MATCH(1,(A$118:A$142=D3)*(B$118:B$142=E3),0),IF(F3=100,3,IF(F3=150,5,IF(F3=200,7,IF(F3=250,9,IF(F3=300,11,0))))))","v":{"$error":"#N/A"}},{"$f":"INDEX(A$118:L$142,MATCH(1,(A$118:A$142=D3)*(B$118:B$142=E3),0),IF(F3=100,4,IF(F3=150,6,IF(F3=200,8,IF(F3=250,10,IF(F3=300,12,0))))))","v":{"$error":"#N/A"}},{"$f":"INDEX(N$37:Y$61,MATCH(1,(N$37:N$61=D3)*(O$37:O$61=E3),0),IF(F3=100,3,IF(F3=150,5,IF(F3=200,7,IF(F3=250,9,IF(F3=300,11,0))))))","v":{"$error":"#N/A"}},{"$f":"INDEX(N$37:Y$61,MATCH(1,(N$37:N$61=D3)*(O$37:O$61=E3),0),IF(F3=100,4,IF(F3=150,6,IF(F3=200,8,IF(F3=250,10,IF(F3=300,12,0))))))","v":{"$error":"#N/A"}},{"$f":"INDEX(N$64:Y$88,MATCH(1,(N$64:N$88=D3)*(O$64:O$88=E3),0),IF(F3=100,3,IF(F3=150,5,IF(F3=200,7,IF(F3=250,9,IF(F3=300,11,0))))))","v":{"$error":"#N/A"}},{"$f":"INDEX(N$64:Y$88,MATCH(1,(N$64:N$88=D3)*(O$64:O$88=E3),0),IF(F3=100,4,IF(F3=150,6,IF(F3=200,8,IF(F3=250,10,IF(F3=300,12,0))))))","v":{"$error":"#N/A"}},{"$f":"INDEX(N$91:Y$115,MATCH(1,(N$91:N$115=D3)*(O$91:O$115=E3),0),IF(F3=100,3,IF(F3=150,5,IF(F3=200,7,IF(F3=250,9,IF(F3=300,11,0))))))","v":{"$error":"#N/A"}},{"$f":"INDEX(N$91:Y$115,MATCH(1,(N$91:N$115=D3)*(O$91:O$115=E3),0),IF(F3=100,4,IF(F3=150,6,IF(F3=200,8,IF(F3=250,10,IF(F3=300,12,0))))))","v":{"$error":"#N/A"}},{"$f":"INDEX(N$118:Y$142,MATCH(1,(N$118:N$142=D3)*(O$118:O$142=E3),0),IF(F3=100,3,IF(F3=150,5,IF(F3=200,7,IF(F3=250,9,IF(F3=300,11,0))))))","v":{"$error":"#N/A"}},{"$f":"INDEX(N$118:Y$142,MATCH(1,(N$118:N$142=D3)*(O$118:O$142=E3),0),IF(F3=100,4,IF(F3=150,6,IF(F3=200,8,IF(F3=250,10,IF(F3=300,12,0))))))","v":{"$error":"#N/A"}}]
[{"$f":"'UFH Guide'!A4","v":" "},null,{"$f":"'UFH Guide'!H4","v":0},{"$f":"'UFH Guide'!E4","v":0},{"$f":"'UFH Guide'!B4","v":0},{"$f":"'UFH Guide'!I4","v":0},{"$f":"'UFH Guide'!J4","v":0},0,0,{"$f":"INDEX(A$37:L$61,MATCH(1,(A$37:A$61=D4)*(B$37:B$61=E4),0),IF(F4=100,3,IF(F4=150,5,IF(F4=200,7,IF(F4=250,9,IF(F4=300,11,0))))))","v":{"$error":"#N/A"}},{"$f":"INDEX(A$37:L$61,MATCH(1,(A$37:A$61=D4)*(B$37:B$61=E4),0),IF(F4=100,4,IF(F4=150,6,IF(F4=200,8,IF(F4=250,10,IF(F4=300,12,0))))))","v":{"$error":"#N/A"}},{"$f":"INDEX(A$64:L$88,MATCH(1,(A$64:A$88=D4)*(B$64:B$88=E4),0),IF(F4=100,3,IF(F4=150,5,IF(F4=200,7,IF(F4=250,9,IF(F4=300,11,0))))))","v":{"$error":"#N/A"}},{"$f":"INDEX(A$64:L$88,MATCH(1,(A$64:A$88=D4)*(B$64:B$88=E4),0),IF(F4=100,4,IF(F4=150,6,IF(F4=200,8,IF(F4=250,10,IF(F4=300,12,0))))))","v":{"$error":"#N/A"}},{"$f":"INDEX(A$91:L$115,MATCH(1,(A$91:A$115=D4)*(B$91:B$115=E4),0),IF(F4=100,3,IF(F4=150,5,IF(F4=200,7,IF(F4=250,9,IF(F4=300,11,0))))))","v":{"$error":"#N/A"}},{"$f":"INDEX(A$91:L$115,MATCH(1,(A$91:A$115=D4)*(B$91:B$115=E4),0),IF(F4=100,4,IF(F4=150,6,IF(F4=200,8,IF(F4=250,10,IF(F4=300,12,0))))))","v":{"$error":"#N/A"}},{"$f":"INDEX(A$118:L$142,MATCH(1,(A$118:A$142=D4)*(B$118:B$142=E4),0),IF(F4=100,3,IF(F4=150,5,IF(F4=200,7,IF(F4=250,9,IF(F4=300,11,0))))))","v":{"$error":"#N/A"}},{"$f":"INDEX(A$118:L$142,MATCH(1,(A$118:A$142=D4)*(B$118:B$142=E4),0),IF(F4=100,4,IF(F4=150,6,IF(F4=200,8,IF(F4=250,10,IF(F4=300,12,0))))))","v":{"$error":"#N/A"}},{"$f":"INDEX(N$37:Y$61,MATCH(1,(N$37:N$61=D4)*(O$37:O$61=E4),0),IF(F4=100,3,IF(F4=150,5,IF(F4=200,7,IF(F4=250,9,IF(F4=300,11,0))))))","v":{"$error":"#N/A"}},{"$f":"INDEX(N$37:Y$61,MATCH(1,(N$37:N$61=D4)*(O$37:O$61=E4),0),IF(F4=100,4,IF(F4=150,6,IF(F4=200,8,IF(F4=250,10,IF(F4=300,12,0))))))","v":{"$error":"#N/A"}},{"$f":"INDEX(N$64:Y$88,MATCH(1,(N$64:N$88=D4)*(O$64:O$88=E4),0),IF(F4=100,3,IF(F4=150,5,IF(F4=200,7,IF(F4=250,9,IF(F4=300,11,0))))))","v":{"$error":"#N/A"}},{"$f":"INDEX(N$64:Y$88,MATCH(1,(N$64:N$88=D4)*(O$64:O$88=E4),0),IF(F4=100,4,IF(F4=150,6,IF(F4=200,8,IF(F4=250,10,IF(F4=300,12,0))))))","v":{"$error":"#N/A"}},{"$f":"INDEX(N$91:Y$115,MATCH(1,(N$91:N$115=D4)*(O$91:O$115=E4),0),IF(F4=100,3,IF(F4=150,5,IF(F4=200,7,IF(F4=250,9,IF(F4=300,11,0))))))","v":{"$error":"#N/A"}},{"$f":"INDEX(N$91:Y$115,MATCH(1,(N$91:N$115=D4)*(O$91:O$115=E4),0),IF(F4=100,4,IF(F4=150,6,IF(F4=200,8,IF(F4=250,10,IF(F4=300,12,0))))))","v":{"$error":"#N/A"}},{"$f":"INDEX(N$118:Y$142,MATCH(1,(N$118:N$142=D4)*(O$118:O$142=E4),0),IF(F4=100,3,IF(F4=150,5,IF(F4=200,7,IF(F4=250,9,IF(F4=300,11,0))))))","v":{"$error":"#N/A"}},{"$f":"INDEX(N$118:Y$142,MATCH(1,(N$118:N$142=D4)*(O$118:O$142=E4),0),IF(F4=100,4,IF(F4=150,6,IF(F4=200,8,IF(F4=250,10,IF(F4=300,12,0))))))","v":{"$error":"#N/A"}}]
[{"$f":"'UFH Guide'!A5","v":" "},null,{"$f":"'UFH Guide'!H5","v":0},{"$f":"'UFH Guide'!E5","v":0},{"$f":"'UFH Guide'!B5","v":0},{"$f":"'UFH Guide'!I5","v":0},{"$f":"'UFH Guide'!J5","v":0},0,0,{"$f":"INDEX(A$37:L$61,MATCH(1,(A$37:A$61=D5)*(B$37:B$61=E5),0),IF(F5=100,3,IF(F5=150,5,IF(F5=200,7,IF(F5=250,9,IF(F5=300,11,0))))))","v":{"$error":"#N/A"}},{"$f":"INDEX(A$37:L$61,MATCH(1,(A$37:A$61=D5)*(B$37:B$61=E5),0),IF(F5=100,4,IF(F5=150,6,IF(F5=200,8,IF(F5=250,10,IF(F5=300,12,0))))))","v":{"$error":"#N/A"}},{"$f":"INDEX(A$64:L$88,MATCH(1,(A$64:A$88=D5)*(B$64:B$88=E5),0),IF(F5=100,3,IF(F5=150,5,IF(F5=200,7,IF(F5=250,9,IF(F5=300,11,0))))))","v":{"$error":"#N/A"}},{"$f":"INDEX(A$64:L$88,MATCH(1,(A$64:A$88=D5)*(B$64:B$88=E5),0),IF(F5=100,4,IF(F5=150,6,IF(F5=200,8,IF(F5=250,10,IF(F5=300,12,0))))))","v":{"$error":"#N/A"}},{"$f":"INDEX(A$91:L$115,MATCH(1,(A$91:A$115=D5)*(B$91:B$115=E5),0),IF(F5=100,3,IF(F5=150,5,IF(F5=200,7,IF(F5=250,9,IF(F5=300,11,0))))))","v":{"$error":"#N/A"}},{"$f":"INDEX(A$91:L$115,MATCH(1,(A$91:A$115=D5)*(B$91:B$115=E5),0),IF(F5=100,4,IF(F5=150,6,IF(F5=200,8,IF(F5=250,10,IF(F5=300,12,0))))))","v":{"$error":"#N/A"}},{"$f":"INDEX(A$118:L$142,MATCH(1,(A$118:A$142=D5)*(B$118:B$142=E5),0),IF(F5=100,3,IF(F5=150,5,IF(F5=200,7,IF(F5=250,9,IF(F5=300,11,0))))))","v":{"$error":"#N/A"}},{"$f":"INDEX(A$118:L$142,MATCH(1,(A$118:A$142=D5)*(B$118:B$142=E5),0),IF(F5=100,4,IF(F5=150,6,IF(F5=200,8,IF(F5=250,10,IF(F5=300,12,0))))))","v":{"$error":"#N/A"}},{"$f":"INDEX(N$37:Y$61,MATCH(1,(N$37:N$61=D5)*(O$37:O$61=E5),0),IF(F5=100,3,IF(F5=150,5,IF(F5=200,7,IF(F5=250,9,IF(F5=300,11,0))))))","v":{"$error":"#N/A"}},{"$f":"INDEX(N$37:Y$61,MATCH(1,(N$37:N$61=D5)*(O$37:O$61=E5),0),IF(F5=100,4,IF(F5=150,6,IF(F5=200,8,IF(F5=250,10,IF(F5=300,12,0))))))","v":{"$error":"#N/A"}},{"$f":"INDEX(N$64:Y$88,MATCH(1,(N$64:N$88=D5)*(O$64:O$88=E5),0),IF(F5=100,3,IF(F5=150,5,IF(F5=200,7,IF(F5=250,9,IF(F5=300,11,0))))))","v":{"$error":"#N/A"}},{"$f":"INDEX(N$64:Y$88,MATCH(1,(N$64:N$88=D5)*(O$64:O$88=E5),0),IF(F5=100,4,IF(F5=150,6,IF(F5=200,8,IF(F5=250,10,IF(F5=300,12,0))))))","v":{"$error":"#N/A"}},{"$f":"INDEX(N$91:Y$115,MATCH(1,(N$91:N$115=D5)*(O$91:O$115=E5),0),IF(F5=100,3,IF(F5=150,5,IF(F5=200,7,IF(F5=250,9,IF(F5=300,11,0))))))","v":{"$error":"#N/A"}},{"$f":"INDEX(N$91:Y$115,MATCH(1,(N$91:N$115=D5)*(O$91:O$115=E5),0),IF(F5=100,4,IF(F5=150,6,IF(F5=200,8,IF(F5=250,10,IF(F5=300,12,0))))))","v":{"$error":"#N/A"}},{"$f":"INDEX(N$118:Y$142,MATCH(1,(N$118:N$142=D5)*(O$118:O$142=E5),0),IF(F5=100,3,IF(F5=150,5,IF(F5=200,7,IF(F5=250,9,IF(F5=300,11,0))))))","v":{"$error":"#N/A"}},{"$f":"INDEX(N$118:Y$142,MATCH(1,(N$118:N$142=D5)*(O$118:O$142=E5),0),IF(F5=100,4,IF(F5=150,6,IF(F5=200,8,IF(F5=250,10,IF(F5=300,12,0))))))","v":{"$error":"#N/A"}}]
[{"$f":"'UFH Guide'!A6","v":" "},null,{"$f":"'UFH Guide'!H6","v":0},{"$f":"'UFH Guide'!E6","v":0},{"$f":"'UFH Guide'!B6","v":0},{"$f":"'UFH Guide'!I6","v":0},{"$f":"'UFH Guide'!J6","v":0},0,0,{"$f":"INDEX(A$37:L$61,MATCH(1,(A$37:A$61=D6)*(B$37:B$61=E6),0),IF(F6=100,3,IF(F6=150,5,IF(F6=200,7,IF(F6=250,9,IF(F6=300,11,0))))))","v":{"$error":"#N/A"}},{"$f":"INDEX(A$37:L$61,MATCH(1,(A$37:A$61=D6)*(B$37:B$61=E6),0),IF(F6=100,4,IF(F6=150,6,IF(F6=200,8,IF(F6=250,10,IF(F6=300,12,0))))))","v":{"$error":"#N/A"}},{"$f":"INDEX(A$64:L$88,MATCH(1,(A$64:A$88=D6)*(B$64:B$88=E6),0),IF(F6=100,3,IF(F6=150,5,IF(F6=200,7,IF(F6=250,9,IF(F6=300,11,0))))))","v":{"$error":"#N/A"}},{"$f":"INDEX(A$64:L$88,MATCH(1,(A$64:A$88=D6)*(B$64:B$88=E6),0),IF(F6=100,4,IF(F6=150,6,IF(F6=200,8,IF(F6=250,10,IF(F6=300,12,0))))))","v":{"$error":"#N/A"}},{"$f":"INDEX(A$91:L$115,MATCH(1,(A$91:A$115=D6)*(B$91:B$115=E6),0),IF(F6=100,3,IF(F6=150,5,IF(F6=200,7,IF(F6=250,9,IF(F6=300,11,0))))))","v":{"$error":"#N/A"}},{"$f":"INDEX(A$91:L$115,MATCH(1,(A$91:A$115=D6)*(B$91:B$115=E6),0),IF(F6=100,4,IF(F6=150,6,IF(F6=200,8,IF(F6=250,10,IF(F6=300,12,0))))))","v":{"$error":"#N/A"}},{"$f":"INDEX(A$118:L$142,MATCH(1,(A$118:A$142=D6)*(B$118:B$142=E6),0),IF(F6=100,3,IF(F6=150,5,IF(F6=200,7,IF(F6=250,9,IF(F6=300,11,0))))))","v":{"$error":"#N/A"}},{"$f":"INDEX(A$118:L$142,MATCH(1,(A$118:A$142=D6)*(B$118:B$142=E6),0),IF(F6=100,4,IF(F6=150,6,IF(F6=200,8,IF(F6=250,10,IF(F6=300,12,0))))))","v":{"$error":"#N/A"}},{"$f":"INDEX(N$37:Y$61,MATCH(1,(N$37:N$61=D6)*(O$37:O$61=E6),0),IF(F6=100,3,IF(F6=150,5,IF(F6=200,7,IF(F6=250,9,IF(F6=300,11,0))))))","v":{"$error":"#N/A"}},{"$f":"INDEX(N$37:Y$61,MATCH(1,(N$37:N$61=D6)*(O$37:O$61=E6),0),IF(F6=100,4,IF(F6=150,6,IF(F6=200,8,IF(F6=250,10,IF(F6=300,12,0))))))","v":{"$error":"#N/A"}},{"$f":"INDEX(N$64:Y$88,MATCH(1,(N$64:N$88=D6)*(O$64:O$88=E6),0),IF(F6=100,3,IF(F6=150,5,IF(F6=200,7,IF(F6=250,9,IF(F6=300,11,0))))))","v":{"$error":"#N/A"}},{"$f":"INDEX(N$64:Y$88,MATCH(1,(N$64:N$88=D6)*(O$64:O$88=E6),0),IF(F6=100,4,IF(F6=150,6,IF(F6=200,8,IF(F6=250,10,IF(F6=300,12,0))))))","v":{"$error":"#N/A"}},{"$f":"INDEX(N$91:Y$115,MATCH(1,(N$91:N$115=D6)*(O$91:O$115=E6),0),IF(F6=100,3,IF(F6=150,5,IF(F6=200,7,IF(F6=250,9,IF(F6=300,11,0))))))","v":{"$error":"#N/A"}},{"$f":"INDEX(N$91:Y$115,MATCH(1,(N$91:N$115=D6)*(O$91:O$115=E6),0),IF(F6=100,4,IF(F6=150,6,IF(F6=200,8,IF(F6=250,10,IF(F6=300,12,0))))))","v":{"$error":"#N/A"}},{"$f":"INDEX(N$118:Y$142,MATCH(1,(N$118:N$142=D6)*(O$118:O$142=E6),0),IF(F6=100,3,IF(F6=150,5,IF(F6=200,7,IF(F6=250,9,IF(F6=300,11,0))))))","v":{"$error":"#N/A"}},{"$f":"INDEX(N$118:Y$142,MATCH(1,(N$118:N$142=D6)*(O$118:O$142=E6),0),IF(F6=100,4,IF(F6=150,6,IF(F6=200,8,IF(F6=250,10,IF(F6=300,12,0))))))","v":{"$error":"#N/A"}}]
[{"$f":"'UFH Guide'!A7","v":" "},null,{"$f":"'UFH Guide'!H7","v":0},{"$f":"'UFH Guide'!E7","v":0},{"$f":"'UFH Guide'!B7","v":0},{"$f":"'UFH Guide'!I7","v":0},{"$f":"'UFH Guide'!J7","v":0},0,0,{"$f":"INDEX(A$37:L$61,MATCH(1,(A$37:A$61=D7)*(B$37:B$61=E7),0),IF(F7=100,3,IF(F7=150,5,IF(F7=200,7,IF(F7=250,9,IF(F7=300,11,0))))))","v":{"$error":"#N/A"}},{"$f":"INDEX(A$37:L$61,MATCH(1,(A$37:A$61=D7)*(B$37:B$61=E7),0),IF(F7=100,4,IF(F7=150,6,IF(F7=200,8,IF(F7=250,10,IF(F7=300,12,0))))))","v":{"$error":"#N/A"}},{"$f":"INDEX(A$64:L$88,MATCH(1,(A$64:A$88=D7)*(B$64:B$88=E7),0),IF(F7=100,3,IF(F7=150,5,IF(F7=200,7,IF(F7=250,9,IF(F7=300,11,0))))))","v":{"$error":"#N/A"}},{"$f":"INDEX(A$64:L$88,MATCH(1,(A$64:A$88=D7)*(B$64:B$88=E7),0),IF(F7=100,4,IF(F7=150,6,IF(F7=200,8,IF(F7=250,10,IF(F7=300,12,0))))))","v":{"$error":"#N/A"}},{"$f":"INDEX(A$91:L$115,MATCH(1,(A$91:A$115=D7)*(B$91:B$115=E7),0),IF(F7=100,3,IF(F7=150,5,IF(F7=200,7,IF(F7=250,9,IF(F7=300,11,0))))))","v":{"$error":"#N/A"}},{"$f":"INDEX(A$91:L$115,MATCH(1,(A$91:A$115=D7)*(B$91:B$115=E7),0),IF(F7=100,4,IF(F7=150,6,IF(F7=200,8,IF(F7=250,10,IF(F7=300,12,0))))))","v":{"$error":"#N/A"}},{"$f":"INDEX(A$118:L$142,MATCH(1,(A$118:A$142=D7)*(B$118:B$142=E7),0),IF(F7=100,3,IF(F7=150,5,IF(F7=200,7,IF(F7=250,9,IF(F7=300,11,0))))))","v":{"$error":"#N/A"}},{"$f":"INDEX(A$118:L$142,MATCH(1,(A$118:A$142=D7)*(B$118:B$142=E7),0),IF(F7=100,4,IF(F7=150,6,IF(F7=200,8,IF(F7=250,10,IF(F7=300,12,0))))))","v":{"$error":"#N/A"}},{"$f":"INDEX(N$37:Y$61,MATCH(1,(N$37:N$61=D7)*(O$37:O$61=E7),0),IF(F7=100,3,IF(F7=150,5,IF(F7=200,7,IF(F7=250,9,IF(F7=300,11,0))))))","v":{"$error":"#N/A"}},{"$f":"INDEX(N$37:Y$61,MATCH(1,(N$37:N$61=D7)*(O$37:O$61=E7),0),IF(F7=100,4,IF(F7=150,6,IF(F7=200,8,IF(F7=250,10,IF(F7=300,12,0))))))","v":{"$error":"#N/A"}},{"$f":"INDEX(N$64:Y$88,MATCH(1,(N$64:N$88=D7)*(O$64:O$88=E7),0),IF(F7=100,3,IF(F7=150,5,IF(F7=200,7,IF(F7=250,9,IF(F7=300,11,0))))))","v":{"$error":"#N/A"}},{"$f":"INDEX(N$64:Y$88,MATCH(1,(N$64:N$88=D7)*(O$64:O$88=E7),0),IF(F7=100,4,IF(F7=150,6,IF(F7=200,8,IF(F7=250,10,IF(F7=300,12,0))))))","v":{"$error":"#N/A"}},{"$f":"INDEX(N$91:Y$115,MATCH(1,(N$91:N$115=D7)*(O$91:O$115=E7),0),IF(F7=100,3,IF(F7=150,5,IF(F7=200,7,IF(F7=250,9,IF(F7=300,11,0))))))","v":{"$error":"#N/A"}},{"$f":"INDEX(N$91:Y$115,MATCH(1,(N$91:N$115=D7)*(O$91:O$115=E7),0),IF(F7=100,4,IF(F7=150,6,IF(F7=200,8,IF(F7=250,10,IF(F7=300,12,0))))))","v":{"$error":"#N/A"}},{"$f":"INDEX(N$118:Y$142,MATCH(1,(N$118:N$142=D7)*(O$118:O$142=E7),0),IF(F7=100,3,IF(F7=150,5,IF(F7=200,7,IF(F7=250,9,IF(F7=300,11,0))))))","v":{"$error":"#N/A"}},{"$f":"INDEX(N$118:Y$142,MATCH(1,(N$118:N$142=D7)*(O$118:O$142=E7),0),IF(F7=100,4,IF(F7=150,6,IF(F7=200,8,IF(F7=250,10,IF(F7=300,12,0))))))","v":{"$error":"#N/A"}}]
[{"$f":"'UFH Guide'!A8","v":" "},null,{"$f":"'UFH Guide'!H8","v":0},{"$f":"'UFH Guide'!E8","v":0},{"$f":"'UFH Guide'!B8","v":0},{"$f":"'UFH Guide'!I8","v":0},{"$f":"'UFH Guide'!J8","v":0},0,0,{"$f":"INDEX(A$37:L$61,MATCH(1,(A$37:A$61=D8)*(B$37:B$61=E8),0),IF(F8=100,3,IF(F8=150,5,IF(F8=200,7,IF(F8=250,9,IF(F8=300,11,0))))))","v":{"$error":"#N/A"}},{"$f":"INDEX(A$37:L$61,MATCH(1,(A$37:A$61=D8)*(B$37:B$61=E8),0),IF(F8=100,4,IF(F8=150,6,IF(F8=200,8,IF(F8=250,10,IF(F8=300,12,0))))))","v":{"$error":"#N/A"}},{"$f":"INDEX(A$64:L$88,MATCH(1,(A$64:A$88=D8)*(B$64:B$88=E8),0),IF(F8=100,3,IF(F8=150,5,IF(F8=200,7,IF(F8=250,9,IF(F8=300,11,0))))))","v":{"$error":"#N/A"}},{"$f":"INDEX(A$64:L$88,MATCH(1,(A$64:A$88=D8)*(B$64:B$88=E8),0),IF(F8=100,4,IF(F8=150,6,IF(F8=200,8,IF(F8=250,10,IF(F8=300,12,0))))))","v":{"$error":"#N/A"}},{"$f":"INDEX(A$91:L$115,MATCH(1,(A$91:A$115=D8)*(B$91:B$115=E8),0),IF(F8=100,3,IF(F8=150,5,IF(F8=200,7,IF(F8=250,9,IF(F8=300,11,0))))))","v":{"$error":"#N/A"}},{"$f":"INDEX(A$91:L$115,MATCH(1,(A$91:A$115=D8)*(B$91:B$115=E8),0),IF(F8=100,4,IF(F8=150,6,IF(F8=200,8,IF(F8=250,10,IF(F8=300,12,0))))))","v":{"$error":"#N/A"}},{"$f":"INDEX(A$118:L$142,MATCH(1,(A$118:A$142=D8)*(B$118:B$142=E8),0),IF(F8=100,3,IF(F8=150,5,IF(F8=200,7,IF(F8=250,9,IF(F8=300,11,0))))))","v":{"$error":"#N/A"}},{"$f":"INDEX(A$118:L$142,MATCH(1,(A$118:A$142=D8)*(B$118:B$142=E8),0),IF(F8=100,4,IF(F8=150,6,IF(F8=200,8,IF(F8=250,10,IF(F8=300,12,0))))))","v":{"$error":"#N/A"}},{"$f":"INDEX(N$37:Y$61,MATCH(1,(N$37:N$61=D8)*(O$37:O$61=E8),0),IF(F8=100,3,IF(F8=150,5,IF(F8=200,7,IF(F8=250,9,IF(F8=300,11,0))))))","v":{"$error":"#N/A"}},{"$f":"INDEX(N$37:Y$61,MATCH(1,(N$37:N$61=D8)*(O$37:O$61=E8),0),IF(F8=100,4,IF(F8=150,6,IF(F8=200,8,IF(F8=250,10,IF(F8=300,12,0))))))","v":{"$error":"#N/A"}},{"$f":"INDEX(N$64:Y$88,MATCH(1,(N$64:N$88=D8)*(O$64:O$88=E8),0),IF(F8=100,3,IF(F8=150,5,IF(F8=200,7,IF(F8=250,9,IF(F8=300,11,0))))))","v":{"$error":"#N/A"}},{"$f":"INDEX(N$64:Y$88,MATCH(1,(N$64:N$88=D8)*(O$64:O$88=E8),0),IF(F8=100,4,IF(F8=150,6,IF(F8=200,8,IF(F8=250,10,IF(F8=300,12,0))))))","v":{"$error":"#N/A"}},{"$f":"INDEX(N$91:Y$115,MATCH(1,(N$91:N$115=D8)*(O$91:O$115=E8),0),IF(F8=100,3,IF(F8=150,5,IF(F8=200,7,IF(F8=250,9,IF(F8=300,11,0))))))","v":{"$error":"#N/A"}},{"$f":"INDEX(N$91:Y$115,MATCH(1,(N$91:N$115=D8)*(O$91:O$115=E8),0),IF(F8=100,4,IF(F8=150,6,IF(F8=200,8,IF(F8=250,10,IF(F8=300,12,0))))))","v":{"$error":"#N/A"}},{"$f":"INDEX(N$118:Y$142,MATCH(1,(N$118:N$142=D8)*(O$118:O$142=E8),0),IF(F8=100,3,IF(F8=150,5,IF(F8=200,7,IF(F8=250,9,IF(F8=300,11,0))))))","v":{"$error":"#N/A"}},{"$f":"INDEX(N$118:Y$142,MATCH(1,(N$118:N$142=D8)*(O$118:O$142=E8),0),IF(F8=100,4,IF(F8=150,6,IF(F8=200,8,IF(F8=250,10,IF(F8=300,12,0))))))","v":{"$error":"#N/A"}}]
[{"$f":"'UFH Guide'!A9","v":" "},null,{"$f":"'UFH Guide'!H9","v":0},{"$f":"'UFH Guide'!E9","v":0},{"$f":"'UFH Guide'!B9","v":0},{"$f":"'UFH Guide'!I9","v":0},{"$f":"'UFH Guide'!J9","v":0},0,0,{"$f":"INDEX(A$37:L$61,MATCH(1,(A$37:A$61=D9)*(B$37:B$61=E9),0),IF(F9=100,3,IF(F9=150,5,IF(F9=200,7,IF(F9=250,9,IF(F9=300,11,0))))))","v":{"$error":"#N/A"}},{"$f":"INDEX(A$37:L$61,MATCH(1,(A$37:A$61=D9)*(B$37:B$61=E9),0),IF(F9=100,4,IF(F9=150,6,IF(F9=200,8,IF(F9=250,10,IF(F9=300,12,0))))))","v":{"$error":"#N/A"}},{"$f":"INDEX(A$64:L$88,MATCH(1,(A$64:A$88=D9)*(B$64:B$88=E9),0),IF(F9=100,3,IF(F9=150,5,IF(F9=200,7,IF(F9=250,9,IF(F9=300,11,0))))))","v":{"$error":"#N/A"}},{"$f":"INDEX(A$64:L$88,MATCH(1,(A$64:A$88=D9)*(B$64:B$88=E9),0),IF(F9=100,4,IF(F9=150,6,IF(F9=200,8,IF(F9=250,10,IF(F9=300,12,0))))))","v":{"$error":"#N/A"}},{"$f":"INDEX(A$91:L$115,MATCH(1,(A$91:A$115=D9)*(B$91:B$115=E9),0),IF(F9=100,3,IF(F9=150,5,IF(F9=200,7,IF(F9=250,9,IF(F9=300,11,0))))))","v":{"$error":"#N/A"}},{"$f":"INDEX(A$91:L$115,MATCH(1,(A$91:A$115=D9)*(B$91:B$115=E9),0),IF(F9=100,4,IF(F9=150,6,IF(F9=200,8,IF(F9=250,10,IF(F9=300,12,0))))))","v":{"$error":"#N/A"}},{"$f":"INDEX(A$118:L$142,MATCH(1,(A$118:A$142=D9)*(B$118:B$142=E9),0),IF(F9=100,3,IF(F9=150,5,IF(F9=200,7,IF(F9=250,9,IF(F9=300,11,0))))))","v":{"$error":"#N/A"}},{"$f":"INDEX(A$118:L$142,MATCH(1,(A$118:A$142=D9)*(B$118:B$142=E9),0),IF(F9=100,4,IF(F9=150,6,IF(F9=200,8,IF(F9=250,10,IF(F9=300,12,0))))))","v":{"$error":"#N/A"}},{"$f":"INDEX(N$37:Y$61,MATCH(1,(N$37:N$61=D9)*(O$37:O$61=E9),0),IF(F9=100,3,IF(F9=150,5,IF(F9=200,7,IF(F9=250,9,IF(F9=300,11,0))))))","v":{"$error":"#N/A"}},{"$f":"INDEX(N$37:Y$61,MATCH(1,(N$37:N$61=D9)*(O$37:O$61=E9),0),IF(F9=100,4,IF(F9=150,6,IF(F9=200,8,IF(F9=250,10,IF(F9=300,12,0))))))","v":{"$error":"#N/A"}},{"$f":"INDEX(N$64:Y$88,MATCH(1,(N$64:N$88=D9)*(O$64:O$88=E9),0),IF(F9=100,3,IF(F9=150,5,IF(F9=200,7,IF(F9=250,9,IF(F9=300,11,0))))))","v":{"$error":"#N/A"}},{"$f":"INDEX(N$64:Y$88,MATCH(1,(N$64:N$88=D9)*(O$64:O$88=E9),0),IF(F9=100,4,IF(F9=150,6,IF(F9=200,8,IF(F9=250,10,IF(F9=300,12,0))))))","v":{"$error":"#N/A"}},{"$f":"INDEX(N$91:Y$115,MATCH(1,(N$91:N$115=D9)*(O$91:O$115=E9),0),IF(F9=100,3,IF(F9=150,5,IF(F9=200,7,IF(F9=250,9,IF(F9=300,11,0))))))","v":{"$error":"#N/A"}},{"$f":"INDEX(N$91:Y$115,MATCH(1,(N$91:N$115=D9)*(O$91:O$115=E9),0),IF(F9=100,4,IF(F9=150,6,IF(F9=200,8,IF(F9=250,10,IF(F9=300,12,0))))))","v":{"$error":"#N/A"}},{"$f":"INDEX(N$118:Y$142,MATCH(1,(N$118:N$142=D9)*(O$118:O$142=E9),0),IF(F9=100,3,IF(F9=150,5,IF(F9=200,7,IF(F9=250,9,IF(F9=300,11,0))))))","v":{"$error":"#N/A"}},{"$f":"INDEX(N$118:Y$142,MATCH(1,(N$118:N$142=D9)*(O$118:O$142=E9),0),IF(F9=100,4,IF(F9=150,6,IF(F9=200,8,IF(F9=250,10,IF(F9=300,12,0))))))","v":{"$error":"#N/A"}}]
[{"$f":"'UFH Guide'!A10","v":" "},null,{"$f":"'UFH Guide'!H10","v":0},{"$f":"'UFH Guide'!E10","v":0},{"$f":"'UFH Guide'!B10","v":0},{"$f":"'UFH Guide'!I10","v":0},{"$f":"'UFH Guide'!J10","v":0},0,0,{"$f":"INDEX(A$37:L$61,MATCH(1,(A$37:A$61=D10)*(B$37:B$61=E10),0),IF(F10=100,3,IF(F10=150,5,IF(F10=200,7,IF(F10=250,9,IF(F10=300,11,0))))))","v":{"$error":"#N/A"}},{"$f":"INDEX(A$37:L$61,MATCH(1,(A$37:A$61=D10)*(B$37:B$61=E10),0),IF(F10=100,4,IF(F10=150,6,IF(F10=200,8,IF(F10=250,10,IF(F10=300,12,0))))))","v":{"$error":"#N/A"}},{"$f":"INDEX(A$64:L$88,MATCH(1,(A$64:A$88=D10)*(B$64:B$88=E10),0),IF(F10=100,3,IF(F10=150,5,IF(F10=200,7,IF(F10=250,9,IF(F10=300,11,0))))))","v":{"$error":"#N/A"}},{"$f":"INDEX(A$64:L$88,MATCH(1,(A$64:A$88=D10)*(B$64:B$88=E10),0),IF(F10=100,4,IF(F10=150,6,IF(F10=200,8,IF(F10=250,10,IF(F10=300,12,0))))))","v":{"$error":"#N/A"}},{"$f":"INDEX(A$91:L$115,MATCH(1,(A$91:A$115=D10)*(B$91:B$115=E10),0),IF(F10=100,3,IF(F10=150,5,IF(F10=200,7,IF(F10=250,9,IF(F10=300,11,0))))))","v":{"$error":"#N/A"}},{"$f":"INDEX(A$91:L$115,MATCH(1,(A$91:A$115=D10)*(B$91:B$115=E10),0),IF(F10=100,4,IF(F10=150,6,IF(F10=200,8,IF(F10=250,10,IF(F10=300,12,0))))))","v":{"$error":"#N/A"}},{"$f":"INDEX(A$118:L$142,MATCH(1,(A$118:A$142=D10)*(B$118:B$142=E10),0),IF(F10=100,3,IF(F10=150,5,IF(F10=200,7,IF(F10=250,9,IF(F10=300,11,0))))))","v":{"$error":"#N/A"}},{"$f":"INDEX(A$118:L$142,MATCH(1,(A$118:A$142=D10)*(B$118:B$142=E10),0),IF(F10=100,4,IF(F10=150,6,IF(F10=200,8,IF(F10=250,10,IF(F10=300,12,0))))))","v":{"$error":"#N/A"}},{"$f":"INDEX(N$37:Y$61,MATCH(1,(N$37:N$61=D10)*(O$37:O$61=E10),0),IF(F10=100,3,IF(F10=150,5,IF(F10=200,7,IF(F10=250,9,IF(F10=300,11,0))))))","v":{"$error":"#N/A"}},{"$f":"INDEX(N$37:Y$61,MATCH(1,(N$37:N$61=D10)*(O$37:O$61=E10),0),IF(F10=100,4,IF(F10=150,6,IF(F10=200,8,IF(F10=250,10,IF(F10=300,12,0))))))","v":{"$error":"#N/A"}},{"$f":"INDEX(N$64:Y$88,MATCH(1,(N$64:N$88=D10)*(O$64:O$88=E10),0),IF(F10=100,3,IF(F10=150,5,IF(F10=200,7,IF(F10=250,9,IF(F10=300,11,0))))))","v":{"$error":"#N/A"}},{"$f":"INDEX(N$64:Y$88,MATCH(1,(N$64:N$88=D10)*(O$64:O$88=E10),0),IF(F10=100,4,IF(F10=150,6,IF(F10=200,8,IF(F10=250,10,IF(F10=300,12,0))))))","v":{"$error":"#N/A"}},{"$f":"INDEX(N$91:Y$115,MATCH(1,(N$91:N$115=D10)*(O$91:O$115=E10),0),IF(F10=100,3,IF(F10=150,5,IF(F10=200,7,IF(F10=250,9,IF(F10=300,11,0))))))","v":{"$error":"#N/A"}},{"$f":"INDEX(N$91:Y$115,MATCH(1,(N$91:N$115=D10)*(O$91:O$115=E10),0),IF(F10=100,4,IF(F10=150,6,IF(F10=200,8,IF(F10=250,10,IF(F10=300,12,0))))))","v":{"$error":"#N/A"}},{"$f":"INDEX(N$118:Y$142,MATCH(1,(N$118:N$142=D10)*(O$118:O$142=E10),0),IF(F10=100,3,IF(F10=150,5,IF(F10=200,7,IF(F10=250,9,IF(F10=300,11,0))))))","v":{"$error":"#N/A"}},{"$f":"INDEX(N$118:Y$142,MATCH(1,(N$118:N$142=D10)*(O$118:O$142=E10),0),IF(F10=100,4,IF(F10=150,6,IF(F10=200,8,IF(F10=250,10,IF(F10=300,12,0))))))","v":{"$error":"#N/A"}}]
[{"$f":"'UFH Guide'!A11","v":" "},null,{"$f":"'UFH Guide'!H11","v":0},{"$f":"'UFH Guide'!E11","v":0},{"$f":"'UFH Guide'!B11","v":0},{"$f":"'UFH Guide'!I11","v":0},{"$f":"'UFH Guide'!J11","v":0},0,0,{"$f":"INDEX(A$37:L$61,MATCH(1,(A$37:A$61=D11)*(B$37:B$61=E11),0),IF(F11=100,3,IF(F11=150,5,IF(F11=200,7,IF(F11=250,9,IF(F11=300,11,0))))))","v":{"$error":"#N/A"}},{"$f":"INDEX(A$37:L$61,MATCH(1,(A$37:A$61=D11)*(B$37:B$61=E11),0),IF(F11=100,4,IF(F11=150,6,IF(F11=200,8,IF(F11=250,10,IF(F11=300,12,0))))))","v":{"$error":"#N/A"}},{"$f":"INDEX(A$64:L$88,MATCH(1,(A$64:A$88=D11)*(B$64:B$88=E11),0),IF(F11=100,3,IF(F11=150,5,IF(F11=200,7,IF(F11=250,9,IF(F11=300,11,0))))))","v":{"$error":"#N/A"}},{"$f":"INDEX(A$64:L$88,MATCH(1,(A$64:A$88=D11)*(B$64:B$88=E11),0),IF(F11=100,4,IF(F11=150,6,IF(F11=200,8,IF(F11=250,10,IF(F11=300,12,0))))))","v":{"$error":"#N/A"}},{"$f":"INDEX(A$91:L$115,MATCH(1,(A$91:A$115=D11)*(B$91:B$115=E11),0),IF(F11=100,3,IF(F11=150,5,IF(F11=200,7,IF(F11=250,9,IF(F11=300,11,0))))))","v":{"$error":"#N/A"}},{"$f":"INDEX(A$91:L$115,MATCH(1,(A$91:A$115=D11)*(B$91:B$115=E11),0),IF(F11=100,4,IF(F11=150,6,IF(F11=200,8,IF(F11=250,10,IF(F11=300,12,0))))))","v":{"$error":"#N/A"}},{"$f":"INDEX(A$118:L$142,MATCH(1,(A$118:A$142=D11)*(B$118:B$142=E11),0),IF(F11=100,3,IF(F11=150,5,IF(F11=200,7,IF(F11=250,9,IF(F11=300,11,0))))))","v":{"$error":"#N/A"}},{"$f":"INDEX(A$118:L$142,MATCH(1,(A$118:A$142=D11)*(B$118:B$142=E11),0),IF(F11=100,4,IF(F11=150,6,IF(F11=200,8,IF(F11=250,10,IF(F11=300,12,0))))))","v":{"$error":"#N/A"}},{"$f":"INDEX(N$37:Y$61,MATCH(1,(N$37:N$61=D11)*(O$37:O$61=E11),0),IF(F11=100,3,IF(F11=150,5,IF(F11=200,7,IF(F11=250,9,IF(F11=300,11,0))))))","v":{"$error":"#N/A"}},{"$f":"INDEX(N$37:Y$61,MATCH(1,(N$37:N$61=D11)*(O$37:O$61=E11),0),IF(F11=100,4,IF(F11=150,6,IF(F11=200,8,IF(F11=250,10,IF(F11=300,12,0))))))","v":{"$error":"#N/A"}},{"$f":"INDEX(N$64:Y$88,MATCH(1,(N$64:N$88=D11)*(O$64:O$88=E11),0),IF(F11=100,3,IF(F11=150,5,IF(F11=200,7,IF(F11=250,9,IF(F11=300,11,0))))))","v":{"$error":"#N/A"}},{"$f":"INDEX(N$64:Y$88,MATCH(1,(N$64:N$88=D11)*(O$64:O$88=E11),0),IF(F11=100,4,IF(F11=150,6,IF(F11=200,8,IF(F11=250,10,IF(F11=300,12,0))))))","v":{"$error":"#N/A"}},{"$f":"INDEX(N$91:Y$115,MATCH(1,(N$91:N$115=D11)*(O$91:O$115=E11),0),IF(F11=100,3,IF(F11=150,5,IF(F11=200,7,IF(F11=250,9,IF(F11=300,11,0))))))","v":{"$error":"#N/A"}},{"$f":"INDEX(N$91:Y$115,MATCH(1,(N$91:N$115=D11)*(O$91:O$115=E11),0),IF(F11=100,4,IF(F11=150,6,IF(F11=200,8,IF(F11=250,10,IF(F11=300,12,0))))))","v":{"$error":"#N/A"}},{"$f":"INDEX(N$118:Y$142,MATCH(1,(N$118:N$142=D11)*(O$118:O$142=E11),0),IF(F11=100,3,IF(F11=150,5,IF(F11=200,7,IF(F11=250,9,IF(F11=300,11,0))))))","v":{"$error":"#N/A"}},{"$f":"INDEX(N$118:Y$142,MATCH(1,(N$118:N$142=D11)*(O$118:O$142=E11),0),IF(F11=100,4,IF(F11=150,6,IF(F11=200,8,IF(F11=250,10,IF(F11=300,12,0))))))","v":{"$error":"#N/A"}}]
[{"$f":"'UFH Guide'!A12","v":" "},null,{"$f":"'UFH Guide'!H12","v":0},{"$f":"'UFH Guide'!E12","v":0},{"$f":"'UFH Guide'!B12","v":0},{"$f":"'UFH Guide'!I12","v":0},{"$f":"'UFH Guide'!J12","v":0},0,0,{"$f":"INDEX(A$37:L$61,MATCH(1,(A$37:A$61=D12)*(B$37:B$61=E12),0),IF(F12=100,3,IF(F12=150,5,IF(F12=200,7,IF(F12=250,9,IF(F12=300,11,0))))))","v":{"$error":"#N/A"}},{"$f":"INDEX(A$37:L$61,MATCH(1,(A$37:A$61=D12)*(B$37:B$61=E12),0),IF(F12=100,4,IF(F12=150,6,IF(F12=200,8,IF(F12=250,10,IF(F12=300,12,0))))))","v":{"$error":"#N/A"}},{"$f":"INDEX(A$64:L$88,MATCH(1,(A$64:A$88=D12)*(B$64:B$88=E12),0),IF(F12=100,3,IF(F12=150,5,IF(F12=200,7,IF(F12=250,9,IF(F12=300,11,0))))))","v":{"$error":"#N/A"}},{"$f":"INDEX(A$64:L$88,MATCH(1,(A$64:A$88=D12)*(B$64:B$88=E12),0),IF(F12=100,4,IF(F12=150,6,IF(F12=200,8,IF(F12=250,10,IF(F12=300,12,0))))))","v":{"$error":"#N/A"}},{"$f":"INDEX(A$91:L$115,MATCH(1,(A$91:A$115=D12)*(B$91:B$115=E12),0),IF(F12=100,3,IF(F12=150,5,IF(F12=200,7,IF(F12=250,9,IF(F12=300,11,0))))))","v":{"$error":"#N/A"}},{"$f":"INDEX(A$91:L$115,MATCH(1,(A$91:A$115=D12)*(B$91:B$115=E12),0),IF(F12=100,4,IF(F12=150,6,IF(F12=200,8,IF(F12=250,10,IF(F12=300,12,0))))))","v":{"$error":"#N/A"}},{"$f":"INDEX(A$118:L$142,MATCH(1,(A$118:A$142=D12)*(B$118:B$142=E12),0),IF(F12=100,3,IF(F12=150,5,IF(F12=200,7,IF(F12=250,9,IF(F12=300,11,0))))))","v":{"$error":"#N/A"}},{"$f":"INDEX(A$118:L$142,MATCH(1,(A$118:A$142=D12)*(B$118:B$142=E12),0),IF(F12=100,4,IF(F12=150,6,IF(F12=200,8,IF(F12=250,10,IF(F12=300,12,0))))))","v":{"$error":"#N/A"}},{"$f":"INDEX(N$37:Y$61,MATCH(1,(N$37:N$61=D12)*(O$37:O$61=E12),0),IF(F12=100,3,IF(F12=150,5,IF(F12=200,7,IF(F12=250,9,IF(F12=300,11,0))))))","v":{"$error":"#N/A"}},{"$f":"INDEX(N$37:Y$61,MATCH(1,(N$37:N$61=D12)*(O$37:O$61=E12),0),IF(F12=100,4,IF(F12=150,6,IF(F12=200,8,IF(F12=250,10,IF(F12=300,12,0))))))","v":{"$error":"#N/A"}},{"$f":"INDEX(N$64:Y$88,MATCH(1,(N$64:N$88=D12)*(O$64:O$88=E12),0),IF(F12=100,3,IF(F12=150,5,IF(F12=200,7,IF(F12=250,9,IF(F12=300,11,0))))))","v":{"$error":"#N/A"}},{"$f":"INDEX(N$64:Y$88,MATCH(1,(N$64:N$88=D12)*(O$64:O$88=E12),0),IF(F12=100,4,IF(F12=150,6,IF(F12=200,8,IF(F12=250,10,IF(F12=300,12,0))))))","v":{"$error":"#N/A"}},{"$f":"INDEX(N$91:Y$115,MATCH(1,(N$91:N$115=D12)*(O$91:O$115=E12),0),IF(F12=100,3,IF(F12=150,5,IF(F12=200,7,IF(F12=250,9,IF(F12=300,11,0))))))","v":{"$error":"#N/A"}},{"$f":"INDEX(N$91:Y$115,MATCH(1,(N$91:N$115=D12)*(O$91:O$115=E12),0),IF(F12=100,4,IF(F12=150,6,IF(F12=200,8,IF(F12=250,10,IF(F12=300,12,0))))))","v":{"$error":"#N/A"}},{"$f":"INDEX(N$118:Y$142,MATCH(1,(N$118:N$142=D12)*(O$118:O$142=E12),0),IF(F12=100,3,IF(F12=150,5,IF(F12=200,7,IF(F12=250,9,IF(F12=300,11,0))))))","v":{"$error":"#N/A"}},{"$f":"INDEX(N$118:Y$142,MATCH(1,(N$118:N$142=D12)*(O$118:O$142=E12),0),IF(F12=100,4,IF(F12=150,6,IF(F12=200,8,IF(F12=250,10,IF(F12=300,12,0))))))","v":{"$error":"#N/A"}}]
[{"$f":"'UFH Guide'!A13","v":" "},null,{"$f":"'UFH Guide'!H13","v":0},{"$f":"'UFH Guide'!E13","v":0},{"$f":"'UFH Guide'!B13","v":0},{"$f":"'UFH Guide'!I13","v":0},{"$f":"'UFH Guide'!J13","v":0},0,0,{"$f":"INDEX(A$37:L$61,MATCH(1,(A$37:A$61=D13)*(B$37:B$61=E13),0),IF(F13=100,3,IF(F13=150,5,IF(F13=200,7,IF(F13=250,9,IF(F13=300,11,0))))))","v":{"$error":"#N/A"}},{"$f":"INDEX(A$37:L$61,MATCH(1,(A$37:A$61=D13)*(B$37:B$61=E13),0),IF(F13=100,4,IF(F13=150,6,IF(F13=200,8,IF(F13=250,10,IF(F13=300,12,0))))))","v":{"$error":"#N/A"}},{"$f":"INDEX(A$64:L$88,MATCH(1,(A$64:A$88=D13)*(B$64:B$88=E13),0),IF(F13=100,3,IF(F13=150,5,IF(F13=200,7,IF(F13=250,9,IF(F13=300,11,0))))))","v":{"$error":"#N/A"}},{"$f":"INDEX(A$64:L$88,MATCH(1,(A$64:A$88=D13)*(B$64:B$88=E13),0),IF(F13=100,4,IF(F13=150,6,IF(F13=200,8,IF(F13=250,10,IF(F13=300,12,0))))))","v":{"$error":"#N/A"}},{"$f":"INDEX(A$91:L$115,MATCH(1,(A$91:A$115=D13)*(B$91:B$115=E13),0),IF(F13=100,3,IF(F13=150,5,IF(F13=200,7,IF(F13=250,9,IF(F13=300,11,0))))))","v":{"$error":"#N/A"}},{"$f":"INDEX(A$91:L$115,MATCH(1,(A$91:A$115=D13)*(B$91:B$115=E13),0),IF(F13=100,4,IF(F13=150,6,IF(F13=200,8,IF(F13=250,10,IF(F13=300,12,0))))))","v":{"$error":"#N/A"}},{"$f":"INDEX(A$118:L$142,MATCH(1,(A$118:A$142=D13)*(B$118:B$142=E13),0),IF(F13=100,3,IF(F13=150,5,IF(F13=200,7,IF(F13=250,9,IF(F13=300,11,0))))))","v":{"$error":"#N/A"}},{"$f":"INDEX(A$118:L$142,MATCH(1,(A$118:A$142=D13)*(B$118:B$142=E13),0),IF(F13=100,4,IF(F13=150,6,IF(F13=200,8,IF(F13=250,10,IF(F13=300,12,0))))))","v":{"$error":"#N/A"}},{"$f":"INDEX(N$37:Y$61,MATCH(1,(N$37:N$61=D13)*(O$37:O$61=E13),0),IF(F13=100,3,IF(F13=150,5,IF(F13=200,7,IF(F13=250,9,IF(F13=300,11,0))))))","v":{"$error":"#N/A"}},{"$f":"INDEX(N$37:Y$61,MATCH(1,(N$37:N$61=D13)*(O$37:O$61=E13),0),IF(F13=100,4,IF(F13=150,6,IF(F13=200,8,IF(F13=250,10,IF(F13=300,12,0))))))","v":{"$error":"#N/A"}},{"$f":"INDEX(N$64:Y$88,MATCH(1,(N$64:N$88=D13)*(O$64:O$88=E13),0),IF(F13=100,3,IF(F13=150,5,IF(F13=200,7,IF(F13=250,9,IF(F13=300,11,0))))))","v":{"$error":"#N/A"}},{"$f":"INDEX(N$64:Y$88,MATCH(1,(N$64:N$88=D13)*(O$64:O$88=E13),0),IF(F13=100,4,IF(F13=150,6,IF(F13=200,8,IF(F13=250,10,IF(F13=300,12,0))))))","v":{"$error":"#N/A"}},{"$f":"INDEX(N$91:Y$115,MATCH(1,(N$91:N$115=D13)*(O$91:O$115=E13),0),IF(F13=100,3,IF(F13=150,5,IF(F13=200,7,IF(F13=250,9,IF(F13=300,11,0))))))","v":{"$error":"#N/A"}},{"$f":"INDEX(N$91:Y$115,MATCH(1,(N$91:N$115=D13)*(O$91:O$115=E13),0),IF(F13=100,4,IF(F13=150,6,IF(F13=200,8,IF(F13=250,10,IF(F13=300,12,0))))))","v":{"$error":"#N/A"}},{"$f":"INDEX(N$118:Y$142,MATCH(1,(N$118:N$142=D13)*(O$118:O$142=E13),0),IF(F13=100,3,IF(F13=150,5,IF(F13=200,7,IF(F13=250,9,IF(F13=300,11,0))))))","v":{"$error":"#N/A"}},{"$f":"INDEX(N$118:Y$142,MATCH(1,(N$118:N$142=D13)*(O$118:O$142=E13),0),IF(F13=100,4,IF(F13=150,6,IF(F13=200,8,IF(F13=250,10,IF(F13=300,12,0))))))","v":{"$error":"#N/A"}}]
[{"$f":"'UFH Guide'!A14","v":" "},null,{"$f":"'UFH Guide'!H14","v":0},{"$f":"'UFH Guide'!E14","v":0},{"$f":"'UFH Guide'!B14","v":0},{"$f":"'UFH Guide'!I14","v":0},{"$f":"'UFH Guide'!J14","v":0},0,0,{"$f":"INDEX(A$37:L$61,MATCH(1,(A$37:A$61=D14)*(B$37:B$61=E14),0),IF(F14=100,3,IF(F14=150,5,IF(F14=200,7,IF(F14=250,9,IF(F14=300,11,0))))))","v":{"$error":"#N/A"}},{"$f":"INDEX(A$37:L$61,MATCH(1,(A$37:A$61=D14)*(B$37:B$61=E14),0),IF(F14=100,4,IF(F14=150,6,IF(F14=200,8,IF(F14=250,10,IF(F14=300,12,0))))))","v":{"$error":"#N/A"}},{"$f":"INDEX(A$64:L$88,MATCH(1,(A$64:A$88=D14)*(B$64:B$88=E14),0),IF(F14=100,3,IF(F14=150,5,IF(F14=200,7,IF(F14=250,9,IF(F14=300,11,0))))))","v":{"$error":"#N/A"}},{"$f":"INDEX(A$64:L$88,MATCH(1,(A$64:A$88=D14)*(B$64:B$88=E14),0),IF(F14=100,4,IF(F14=150,6,IF(F14=200,8,IF(F14=250,10,IF(F14=300,12,0))))))","v":{"$error":"#N/A"}},{"$f":"INDEX(A$91:L$115,MATCH(1,(A$91:A$115=D14)*(B$91:B$115=E14),0),IF(F14=100,3,IF(F14=150,5,IF(F14=200,7,IF(F14=250,9,IF(F14=300,11,0))))))","v":{"$error":"#N/A"}},{"$f":"INDEX(A$91:L$115,MATCH(1,(A$91:A$115=D14)*(B$91:B$115=E14),0),IF(F14=100,4,IF(F14=150,6,IF(F14=200,8,IF(F14=250,10,IF(F14=300,12,0))))))","v":{"$error":"#N/A"}},{"$f":"INDEX(A$118:L$142,MATCH(1,(A$118:A$142=D14)*(B$118:B$142=E14),0),IF(F14=100,3,IF(F14=150,5,IF(F14=200,7,IF(F14=250,9,IF(F14=300,11,0))))))","v":{"$error":"#N/A"}},{"$f":"INDEX(A$118:L$142,MATCH(1,(A$118:A$142=D14)*(B$118:B$142=E14),0),IF(F14=100,4,IF(F14=150,6,IF(F14=200,8,IF(F14=250,10,IF(F14=300,12,0))))))","v":{"$error":"#N/A"}},{"$f":"INDEX(N$37:Y$61,MATCH(1,(N$37:N$61=D14)*(O$37:O$61=E14),0),IF(F14=100,3,IF(F14=150,5,IF(F14=200,7,IF(F14=250,9,IF(F14=300,11,0))))))","v":{"$error":"#N/A"}},{"$f":"INDEX(N$37:Y$61,MATCH(1,(N$37:N$61=D14)*(O$37:O$61=E14),0),IF(F14=100,4,IF(F14=150,6,IF(F14=200,8,IF(F14=250,10,IF(F14=300,12,0))))))","v":{"$error":"#N/A"}},{"$f":"INDEX(N$64:Y$88,MATCH(1,(N$64:N$88=D14)*(O$64:O$88=E14),0),IF(F14=100,3,IF(F14=150,5,IF(F14=200,7,IF(F14=250,9,IF(F14=300,11,0))))))","v":{"$error":"#N/A"}},{"$f":"INDEX(N$64:Y$88,MATCH(1,(N$64:N$88=D14)*(O$64:O$88=E14),0),IF(F14=100,4,IF(F14=150,6,IF(F14=200,8,IF(F14=250,10,IF(F14=300,12,0))))))","v":{"$error":"#N/A"}},{"$f":"INDEX(N$91:Y$115,MATCH(1,(N$91:N$115=D14)*(O$91:O$115=E14),0),IF(F14=100,3,IF(F14=150,5,IF(F14=200,7,IF(F14=250,9,IF(F14=300,11,0))))))","v":{"$error":"#N/A"}},{"$f":"INDEX(N$91:Y$115,MATCH(1,(N$91:N$115=D14)*(O$91:O$115=E14),0),IF(F14=100,4,IF(F14=150,6,IF(F14=200,8,IF(F14=250,10,IF(F14=300,12,0))))))","v":{"$error":"#N/A"}},{"$f":"INDEX(N$118:Y$142,MATCH(1,(N$118:N$142=D14)*(O$118:O$142=E14),0),IF(F14=100,3,IF(F14=150,5,IF(F14=200,7,IF(F14=250,9,IF(F14=300,11,0))))))","v":{"$error":"#N/A"}},{"$f":"INDEX(N$118:Y$142,MATCH(1,(N$118:N$142=D14)*(O$118:O$142=E14),0),IF(F14=100,4,IF(F14=150,6,IF(F14=200,8,IF(F14=250,10,IF(F14=300,12,0))))))","v":{"$error":"#N/A"}}]
[{"$f":"'UFH Guide'!A15","v":" "},null,{"$f":"'UFH Guide'!H15","v":0},{"$f":"'UFH Guide'!E15","v":0},{"$f":"'UFH Guide'!B15","v":0},{"$f":"'UFH Guide'!I15","v":0},{"$f":"'UFH Guide'!J15","v":0},0,0,{"$f":"INDEX(A$37:L$61,MATCH(1,(A$37:A$61=D15)*(B$37:B$61=E15),0),IF(F15=100,3,IF(F15=150,5,IF(F15=200,7,IF(F15=250,9,IF(F15=300,11,0))))))","v":{"$error":"#N/A"}},{"$f":"INDEX(A$37:L$61,MATCH(1,(A$37:A$61=D15)*(B$37:B$61=E15),0),IF(F15=100,4,IF(F15=150,6,IF(F15=200,8,IF(F15=250,10,IF(F15=300,12,0))))))","v":{"$error":"#N/A"}},{"$f":"INDEX(A$64:L$88,MATCH(1,(A$64:A$88=D15)*(B$64:B$88=E15),0),IF(F15=100,3,IF(F15=150,5,IF(F15=200,7,IF(F15=250,9,IF(F15=300,11,0))))))","v":{"$error":"#N/A"}},{"$f":"INDEX(A$64:L$88,MATCH(1,(A$64:A$88=D15)*(B$64:B$88=E15),0),IF(F15=100,4,IF(F15=150,6,IF(F15=200,8,IF(F15=250,10,IF(F15=300,12,0))))))","v":{"$error":"#N/A"}},{"$f":"INDEX(A$91:L$115,MATCH(1,(A$91:A$115=D15)*(B$91:B$115=E15),0),IF(F15=100,3,IF(F15=150,5,IF(F15=200,7,IF(F15=250,9,IF(F15=300,11,0))))))","v":{"$error":"#N/A"}},{"$f":"INDEX(A$91:L$115,MATCH(1,(A$91:A$115=D15)*(B$91:B$115=E15),0),IF(F15=100,4,IF(F15=150,6,IF(F15=200,8,IF(F15=250,10,IF(F15=300,12,0))))))","v":{"$error":"#N/A"}},{"$f":"INDEX(A$118:L$142,MATCH(1,(A$118:A$142=D15)*(B$118:B$142=E15),0),IF(F15=100,3,IF(F15=150,5,IF(F15=200,7,IF(F15=250,9,IF(F15=300,11,0))))))","v":{"$error":"#N/A"}},{"$f":"INDEX(A$118:L$142,MATCH(1,(A$118:A$142=D15)*(B$118:B$142=E15),0),IF(F15=100,4,IF(F15=150,6,IF(F15=200,8,IF(F15=250,10,IF(F15=300,12,0))))))","v":{"$error":"#N/A"}},{"$f":"INDEX(N$37:Y$61,MATCH(1,(N$37:N$61=D15)*(O$37:O$61=E15),0),IF(F15=100,3,IF(F15=150,5,IF(F15=200,7,IF(F15=250,9,IF(F15=300,11,0))))))","v":{"$error":"#N/A"}},{"$f":"INDEX(N$37:Y$61,MATCH(1,(N$37:N$61=D15)*(O$37:O$61=E15),0),IF(F15=100,4,IF(F15=150,6,IF(F15=200,8,IF(F15=250,10,IF(F15=300,12,0))))))","v":{"$error":"#N/A"}},{"$f":"INDEX(N$64:Y$88,MATCH(1,(N$64:N$88=D15)*(O$64:O$88=E15),0),IF(F15=100,3,IF(F15=150,5,IF(F15=200,7,IF(F15=250,9,IF(F15=300,11,0))))))","v":{"$error":"#N/A"}},{"$f":"INDEX(N$64:Y$88,MATCH(1,(N$64:N$88=D15)*(O$64:O$88=E15),0),IF(F15=100,4,IF(F15=150,6,IF(F15=200,8,IF(F15=250,10,IF(F15=300,12,0))))))","v":{"$error":"#N/A"}},{"$f":"INDEX(N$91:Y$115,MATCH(1,(N$91:N$115=D15)*(O$91:O$115=E15),0),IF(F15=100,3,IF(F15=150,5,IF(F15=200,7,IF(F15=250,9,IF(F15=300,11,0))))))","v":{"$error":"#N/A"}},{"$f":"INDEX(N$91:Y$115,MATCH(1,(N$91:N$115=D15)*(O$91:O$115=E15),0),IF(F15=100,4,IF(F15=150,6,IF(F15=200,8,IF(F15=250,10,IF(F15=300,12,0))))))","v":{"$error":"#N/A"}},{"$f":"INDEX(N$118:Y$142,MATCH(1,(N$118:N$142=D15)*(O$118:O$142=E15),0),IF(F15=100,3,IF(F15=150,5,IF(F15=200,7,IF(F15=250,9,IF(F15=300,11,0))))))","v":{"$error":"#N/A"}},{"$f":"INDEX(N$118:Y$142,MATCH(1,(N$118:N$142=D15)*(O$118:O$142=E15),0),IF(F15=100,4,IF(F15=150,6,IF(F15=200,8,IF(F15=250,10,IF(F15=300,12,0))))))","v":{"$error":"#N/A"}}]
[{"$f":"'UFH Guide'!A16","v":" "},null,{"$f":"'UFH Guide'!H16","v":0},{"$f":"'UFH Guide'!E16","v":0},{"$f":"'UFH Guide'!B16","v":0},{"$f":"'UFH Guide'!I16","v":0},{"$f":"'UFH Guide'!J16","v":0},0,0,{"$f":"INDEX(A$37:L$61,MATCH(1,(A$37:A$61=D16)*(B$37:B$61=E16),0),IF(F16=100,3,IF(F16=150,5,IF(F16=200,7,IF(F16=250,9,IF(F16=300,11,0))))))","v":{"$error":"#N/A"}},{"$f":"INDEX(A$37:L$61,MATCH(1,(A$37:A$61=D16)*(B$37:B$61=E16),0),IF(F16=100,4,IF(F16=150,6,IF(F16=200,8,IF(F16=250,10,IF(F16=300,12,0))))))","v":{"$error":"#N/A"}},{"$f":"INDEX(A$64:L$88,MATCH(1,(A$64:A$88=D16)*(B$64:B$88=E16),0),IF(F16=100,3,IF(F16=150,5,IF(F16=200,7,IF(F16=250,9,IF(F16=300,11,0))))))","v":{"$error":"#N/A"}},{"$f":"INDEX(A$64:L$88,MATCH(1,(A$64:A$88=D16)*(B$64:B$88=E16),0),IF(F16=100,4,IF(F16=150,6,IF(F16=200,8,IF(F16=250,10,IF(F16=300,12,0))))))","v":{"$error":"#N/A"}},{"$f":"INDEX(A$91:L$115,MATCH(1,(A$91:A$115=D16)*(B$91:B$115=E16),0),IF(F16=100,3,IF(F16=150,5,IF(F16=200,7,IF(F16=250,9,IF(F16=300,11,0))))))","v":{"$error":"#N/A"}},{"$f":"INDEX(A$91:L$115,MATCH(1,(A$91:A$115=D16)*(B$91:B$115=E16),0),IF(F16=100,4,IF(F16=150,6,IF(F16=200,8,IF(F16=250,10,IF(F16=300,12,0))))))","v":{"$error":"#N/A"}},{"$f":"INDEX(A$118:L$142,MATCH(1,(A$118:A$142=D16)*(B$118:B$142=E16),0),IF(F16=100,3,IF(F16=150,5,IF(F16=200,7,IF(F16=250,9,IF(F16=300,11,0))))))","v":{"$error":"#N/A"}},{"$f":"INDEX(A$118:L$142,MATCH(1,(A$118:A$142=D16)*(B$118:B$142=E16),0),IF(F16=100,4,IF(F16=150,6,IF(F16=200,8,IF(F16=250,10,IF(F16=300,12,0))))))","v":{"$error":"#N/A"}},{"$f":"INDEX(N$37:Y$61,MATCH(1,(N$37:N$61=D16)*(O$37:O$61=E16),0),IF(F16=100,3,IF(F16=150,5,IF(F16=200,7,IF(F16=250,9,IF(F16=300,11,0))))))","v":{"$error":"#N/A"}},{"$f":"INDEX(N$37:Y$61,MATCH(1,(N$37:N$61=D16)*(O$37:O$61=E16),0),IF(F16=100,4,IF(F16=150,6,IF(F16=200,8,IF(F16=250,10,IF(F16=300,12,0))))))","v":{"$error":"#N/A"}},{"$f":"INDEX(N$64:Y$88,MATCH(1,(N$64:N$88=D16)*(O$64:O$88=E16),0),IF(F16=100,3,IF(F16=150,5,IF(F16=200,7,IF(F16=250,9,IF(F16=300,11,0))))))","v":{"$error":"#N/A"}},{"$f":"INDEX(N$64:Y$88,MATCH(1,(N$64:N$88=D16)*(O$64:O$88=E16),0),IF(F16=100,4,IF(F16=150,6,IF(F16=200,8,IF(F16=250,10,IF(F16=300,12,0))))))","v":{"$error":"#N/A"}},{"$f":"INDEX(N$91:Y$115,MATCH(1,(N$91:N$115=D16)*(O$91:O$115=E16),0),IF(F16=100,3,IF(F16=150,5,IF(F16=200,7,IF(F16=250,9,IF(F16=300,11,0))))))","v":{"$error":"#N/A"}},{"$f":"INDEX(N$91:Y$115,MATCH(1,(N$91:N$115=D16)*(O$91:O$115=E16),0),IF(F16=100,4,IF(F16=150,6,IF(F16=200,8,IF(F16=250,10,IF(F16=300,12,0))))))","v":{"$error":"#N/A"}},{"$f":"INDEX(N$118:Y$142,MATCH(1,(N$118:N$142=D16)*(O$118:O$142=E16),0),IF(F16=100,3,IF(F16=150,5,IF(F16=200,7,IF(F16=250,9,IF(F16=300,11,0))))))","v":{"$error":"#N/A"}},{"$f":"INDEX(N$118:Y$142,MATCH(1,(N$118:N$142=D16)*(O$118:O$142=E16),0),IF(F16=100,4,IF(F16=150,6,IF(F16=200,8,IF(F16=250,10,IF(F16=300,12,0))))))","v":{"$error":"#N/A"}}]
[{"$f":"'UFH Guide'!A17","v":" "},null,{"$f":"'UFH Guide'!H17","v":0},{"$f":"'UFH Guide'!E17","v":0},{"$f":"'UFH Guide'!B17","v":0},{"$f":"'UFH Guide'!I17","v":0},{"$f":"'UFH Guide'!J17","v":0},0,0,{"$f":"INDEX(A$37:L$61,MATCH(1,(A$37:A$61=D17)*(B$37:B$61=E17),0),IF(F17=100,3,IF(F17=150,5,IF(F17=200,7,IF(F17=250,9,IF(F17=300,11,0))))))","v":{"$error":"#N/A"}},{"$f":"INDEX(A$37:L$61,MATCH(1,(A$37:A$61=D17)*(B$37:B$61=E17),0),IF(F17=100,4,IF(F17=150,6,IF(F17=200,8,IF(F17=250,10,IF(F17=300,12,0))))))","v":{"$error":"#N/A"}},{"$f":"INDEX(A$64:L$88,MATCH(1,(A$64:A$88=D17)*(B$64:B$88=E17),0),IF(F17=100,3,IF(F17=150,5,IF(F17=200,7,IF(F17=250,9,IF(F17=300,11,0))))))","v":{"$error":"#N/A"}},{"$f":"INDEX(A$64:L$88,MATCH(1,(A$64:A$88=D17)*(B$64:B$88=E17),0),IF(F17=100,4,IF(F17=150,6,IF(F17=200,8,IF(F17=250,10,IF(F17=300,12,0))))))","v":{"$error":"#N/A"}},{"$f":"INDEX(A$91:L$115,MATCH(1,(A$91:A$115=D17)*(B$91:B$115=E17),0),IF(F17=100,3,IF(F17=150,5,IF(F17=200,7,IF(F17=250,9,IF(F17=300,11,0))))))","v":{"$error":"#N/A"}},{"$f":"INDEX(A$91:L$115,MATCH(1,(A$91:A$115=D17)*(B$91:B$115=E17),0),IF(F17=100,4,IF(F17=150,6,IF(F17=200,8,IF(F17=250,10,IF(F17=300,12,0))))))","v":{"$error":"#N/A"}},{"$f":"INDEX(A$118:L$142,MATCH(1,(A$118:A$142=D17)*(B$118:B$142=E17),0),IF(F17=100,3,IF(F17=150,5,IF(F17=200,7,IF(F17=250,9,IF(F17=300,11,0))))))","v":{"$error":"#N/A"}},{"$f":"INDEX(A$118:L$142,MATCH(1,(A$118:A$142=D17)*(B$118:B$142=E17),0),IF(F17=100,4,IF(F17=150,6,IF(F17=200,8,IF(F17=250,10,IF(F17=300,12,0))))))","v":{"$error":"#N/A"}},{"$f":"INDEX(N$37:Y$61,MATCH(1,(N$37:N$61=D17)*(O$37:O$61=E17),0),IF(F17=100,3,IF(F17=150,5,IF(F17=200,7,IF(F17=250,9,IF(F17=300,11,0))))))","v":{"$error":"#N/A"}},{"$f":"INDEX(N$37:Y$61,MATCH(1,(N$37:N$61=D17)*(O$37:O$61=E17),0),IF(F17=100,4,IF(F17=150,6,IF(F17=200,8,IF(F17=250,10,IF(F17=300,12,0))))))","v":{"$error":"#N/A"}},{"$f":"INDEX(N$64:Y$88,MATCH(1,(N$64:N$88=D17)*(O$64:O$88=E17),0),IF(F17=100,3,IF(F17=150,5,IF(F17=200,7,IF(F17=250,9,IF(F17=300,11,0))))))","v":{"$error":"#N/A"}},{"$f":"INDEX(N$64:Y$88,MATCH(1,(N$64:N$88=D17)*(O$64:O$88=E17),0),IF(F17=100,4,IF(F17=150,6,IF(F17=200,8,IF(F17=250,10,IF(F17=300,12,0))))))","v":{"$error":"#N/A"}},{"$f":"INDEX(N$91:Y$115,MATCH(1,(N$91:N$115=D17)*(O$91:O$115=E17),0),IF(F17=100,3,IF(F17=150,5,IF(F17=200,7,IF(F17=250,9,IF(F17=300,11,0))))))","v":{"$error":"#N/A"}},{"$f":"INDEX(N$91:Y$115,MATCH(1,(N$91:N$115=D17)*(O$91:O$115=E17),0),IF(F17=100,4,IF(F17=150,6,IF(F17=200,8,IF(F17=250,10,IF(F17=300,12,0))))))","v":{"$error":"#N/A"}},{"$f":"INDEX(N$118:Y$142,MATCH(1,(N$118:N$142=D17)*(O$118:O$142=E17),0),IF(F17=100,3,IF(F17=150,5,IF(F17=200,7,IF(F17=250,9,IF(F17=300,11,0))))))","v":{"$error":"#N/A"}},{"$f":"INDEX(N$118:Y$142,MATCH(1,(N$118:N$142=D17)*(O$118:O$142=E17),0),IF(F17=100,4,IF(F17=150,6,IF(F17=200,8,IF(F17=250,10,IF(F17=300,12,0))))))","v":{"$error":"#N/A"}}]
[{"$f":"'UFH Guide'!A18","v":" "},null,{"$f":"'UFH Guide'!H18","v":0},{"$f":"'UFH Guide'!E18","v":0},{"$f":"'UFH Guide'!B18","v":0},{"$f":"'UFH Guide'!I18","v":0},{"$f":"'UFH Guide'!J18","v":0},0,0,{"$f":"INDEX(A$37:L$61,MATCH(1,(A$37:A$61=D18)*(B$37:B$61=E18),0),IF(F18=100,3,IF(F18=150,5,IF(F18=200,7,IF(F18=250,9,IF(F18=300,11,0))))))","v":{"$error":"#N/A"}},{"$f":"INDEX(A$37:L$61,MATCH(1,(A$37:A$61=D18)*(B$37:B$61=E18),0),IF(F18=100,4,IF(F18=150,6,IF(F18=200,8,IF(F18=250,10,IF(F18=300,12,0))))))","v":{"$error":"#N/A"}},{"$f":"INDEX(A$64:L$88,MATCH(1,(A$64:A$88=D18)*(B$64:B$88=E18),0),IF(F18=100,3,IF(F18=150,5,IF(F18=200,7,IF(F18=250,9,IF(F18=300,11,0))))))","v":{"$error":"#N/A"}},{"$f":"INDEX(A$64:L$88,MATCH(1,(A$64:A$88=D18)*(B$64:B$88=E18),0),IF(F18=100,4,IF(F18=150,6,IF(F18=200,8,IF(F18=250,10,IF(F18=300,12,0))))))","v":{"$error":"#N/A"}},{"$f":"INDEX(A$91:L$115,MATCH(1,(A$91:A$115=D18)*(B$91:B$115=E18),0),IF(F18=100,3,IF(F18=150,5,IF(F18=200,7,IF(F18=250,9,IF(F18=300,11,0))))))","v":{"$error":"#N/A"}},{"$f":"INDEX(A$91:L$115,MATCH(1,(A$91:A$115=D18)*(B$91:B$115=E18),0),IF(F18=100,4,IF(F18=150,6,IF(F18=200,8,IF(F18=250,10,IF(F18=300,12,0))))))","v":{"$error":"#N/A"}},{"$f":"INDEX(A$118:L$142,MATCH(1,(A$118:A$142=D18)*(B$118:B$142=E18),0),IF(F18=100,3,IF(F18=150,5,IF(F18=200,7,IF(F18=250,9,IF(F18=300,11,0))))))","v":{"$error":"#N/A"}},{"$f":"INDEX(A$118:L$142,MATCH(1,(A$118:A$142=D18)*(B$118:B$142=E18),0),IF(F18=100,4,IF(F18=150,6,IF(F18=200,8,IF(F18=250,10,IF(F18=300,12,0))))))","v":{"$error":"#N/A"}},{"$f":"INDEX(N$37:Y$61,MATCH(1,(N$37:N$61=D18)*(O$37:O$61=E18),0),IF(F18=100,3,IF(F18=150,5,IF(F18=200,7,IF(F18=250,9,IF(F18=300,11,0))))))","v":{"$error":"#N/A"}},{"$f":"INDEX(N$37:Y$61,MATCH(1,(N$37:N$61=D18)*(O$37:O$61=E18),0),IF(F18=100,4,IF(F18=150,6,IF(F18=200,8,IF(F18=250,10,IF(F18=300,12,0))))))","v":{"$error":"#N/A"}},{"$f":"INDEX(N$64:Y$88,MATCH(1,(N$64:N$88=D18)*(O$64:O$88=E18),0),IF(F18=100,3,IF(F18=150,5,IF(F18=200,7,IF(F18=250,9,IF(F18=300,11,0))))))","v":{"$error":"#N/A"}},{"$f":"INDEX(N$64:Y$88,MATCH(1,(N$64:N$88=D18)*(O$64:O$88=E18),0),IF(F18=100,4,IF(F18=150,6,IF(F18=200,8,IF(F18=250,10,IF(F18=300,12,0))))))","v":{"$error":"#N/A"}},{"$f":"INDEX(N$91:Y$115,MATCH(1,(N$91:N$115=D18)*(O$91:O$115=E18),0),IF(F18=100,3,IF(F18=150,5,IF(F18=200,7,IF(F18=250,9,IF(F18=300,11,0))))))","v":{"$error":"#N/A"}},{"$f":"INDEX(N$91:Y$115,MATCH(1,(N$91:N$115=D18)*(O$91:O$115=E18),0),IF(F18=100,4,IF(F18=150,6,IF(F18=200,8,IF(F18=250,10,IF(F18=300,12,0))))))","v":{"$error":"#N/A"}},{"$f":"INDEX(N$118:Y$142,MATCH(1,(N$118:N$142=D18)*(O$118:O$142=E18),0),IF(F18=100,3,IF(F18=150,5,IF(F18=200,7,IF(F18=250,9,IF(F18=300,11,0))))))","v":{"$error":"#N/A"}},{"$f":"INDEX(N$118:Y$142,MATCH(1,(N$118:N$142=D18)*(O$118:O$142=E18),0),IF(F18=100,4,IF(F18=150,6,IF(F18=200,8,IF(F18=250,10,IF(F18=300,12,0))))))","v":{"$error":"#N/A"}}]
[{"$f":"'UFH Guide'!A19","v":" "},null,{"$f":"'UFH Guide'!H19","v":0},{"$f":"'UFH Guide'!E19","v":0},{"$f":"'UFH Guide'!B19","v":0},{"$f":"'UFH Guide'!I19","v":0},{"$f":"'UFH Guide'!J19","v":0},0,0,{"$f":"INDEX(A$37:L$61,MATCH(1,(A$37:A$61=D19)*(B$37:B$61=E19),0),IF(F19=100,3,IF(F19=150,5,IF(F19=200,7,IF(F19=250,9,IF(F19=300,11,0))))))","v":{"$error":"#N/A"}},{"$f":"INDEX(A$37:L$61,MATCH(1,(A$37:A$61=D19)*(B$37:B$61=E19),0),IF(F19=100,4,IF(F19=150,6,IF(F19=200,8,IF(F19=250,10,IF(F19=300,12,0))))))","v":{"$error":"#N/A"}},{"$f":"INDEX(A$64:L$88,MATCH(1,(A$64:A$88=D19)*(B$64:B$88=E19),0),IF(F19=100,3,IF(F19=150,5,IF(F19=200,7,IF(F19=250,9,IF(F19=300,11,0))))))","v":{"$error":"#N/A"}},{"$f":"INDEX(A$64:L$88,MATCH(1,(A$64:A$88=D19)*(B$64:B$88=E19),0),IF(F19=100,4,IF(F19=150,6,IF(F19=200,8,IF(F19=250,10,IF(F19=300,12,0))))))","v":{"$error":"#N/A"}},{"$f":"INDEX(A$91:L$115,MATCH(1,(A$91:A$115=D19)*(B$91:B$115=E19),0),IF(F19=100,3,IF(F19=150,5,IF(F19=200,7,IF(F19=250,9,IF(F19=300,11,0))))))","v":{"$error":"#N/A"}},{"$f":"INDEX(A$91:L$115,MATCH(1,(A$91:A$115=D19)*(B$91:B$115=E19),0),IF(F19=100,4,IF(F19=150,6,IF(F19=200,8,IF(F19=250,10,IF(F19=300,12,0))))))","v":{"$error":"#N/A"}},{"$f":"INDEX(A$118:L$142,MATCH(1,(A$118:A$142=D19)*(B$118:B$142=E19),0),IF(F19=100,3,IF(F19=150,5,IF(F19=200,7,IF(F19=250,9,IF(F19=300,11,0))))))","v":{"$error":"#N/A"}},{"$f":"INDEX(A$118:L$142,MATCH(1,(A$118:A$142=D19)*(B$118:B$142=E19),0),IF(F19=100,4,IF(F19=150,6,IF(F19=200,8,IF(F19=250,10,IF(F19=300,12,0))))))","v":{"$error":"#N/A"}},{"$f":"INDEX(N$37:Y$61,MATCH(1,(N$37:N$61=D19)*(O$37:O$61=E19),0),IF(F19=100,3,IF(F19=150,5,IF(F19=200,7,IF(F19=250,9,IF(F19=300,11,0))))))","v":{"$error":"#N/A"}},{"$f":"INDEX(N$37:Y$61,MATCH(1,(N$37:N$61=D19)*(O$37:O$61=E19),0),IF(F19=100,4,IF(F19=150,6,IF(F19=200,8,IF(F19=250,10,IF(F19=300,12,0))))))","v":{"$error":"#N/A"}},{"$f":"INDEX(N$64:Y$88,MATCH(1,(N$64:N$88=D19)*(O$64:O$88=E19),0),IF(F19=100,3,IF(F19=150,5,IF(F19=200,7,IF(F19=250,9,IF(F19=300,11,0))))))","v":{"$error":"#N/A"}},{"$f":"INDEX(N$64:Y$88,MATCH(1,(N$64:N$88=D19)*(O$64:O$88=E19),0),IF(F19=100,4,IF(F19=150,6,IF(F19=200,8,IF(F19=250,10,IF(F19=300,12,0))))))","v":{"$error":"#N/A"}},{"$f":"INDEX(N$91:Y$115,MATCH(1,(N$91:N$115=D19)*(O$91:O$115=E19),0),IF(F19=100,3,IF(F19=150,5,IF(F19=200,7,IF(F19=250,9,IF(F19=300,11,0))))))","v":{"$error":"#N/A"}},{"$f":"INDEX(N$91:Y$115,MATCH(1,(N$91:N$115=D19)*(O$91:O$115=E19),0),IF(F19=100,4,IF(F19=150,6,IF(F19=200,8,IF(F19=250,10,IF(F19=300,12,0))))))","v":{"$error":"#N/A"}},{"$f":"INDEX(N$118:Y$142,MATCH(1,(N$118:N$142=D19)*(O$118:O$142=E19),0),IF(F19=100,3,IF(F19=150,5,IF(F19=200,7,IF(F19=250,9,IF(F19=300,11,0))))))","v":{"$error":"#N/A"}},{"$f":"INDEX(N$118:Y$142,MATCH(1,(N$118:N$142=D19)*(O$118:O$142=E19),0),IF(F19=100,4,IF(F19=150,6,IF(F19=200,8,IF(F19=250,10,IF(F19=300,12,0))))))","v":{"$error":"#N/A"}}]
[{"$f":"'UFH Guide'!A20","v":" "},null,{"$f":"'UFH Guide'!H20","v":0},{"$f":"'UFH Guide'!E20","v":0},{"$f":"'UFH Guide'!B20","v":0},{"$f":"'UFH Guide'!I20","v":0},{"$f":"'UFH Guide'!J20","v":0},0,0,{"$f":"INDEX(A$37:L$61,MATCH(1,(A$37:A$61=D20)*(B$37:B$61=E20),0),IF(F20=100,3,IF(F20=150,5,IF(F20=200,7,IF(F20=250,9,IF(F20=300,11,0))))))","v":{"$error":"#N/A"}},{"$f":"INDEX(A$37:L$61,MATCH(1,(A$37:A$61=D20)*(B$37:B$61=E20),0),IF(F20=100,4,IF(F20=150,6,IF(F20=200,8,IF(F20=250,10,IF(F20=300,12,0))))))","v":{"$error":"#N/A"}},{"$f":"INDEX(A$64:L$88,MATCH(1,(A$64:A$88=D20)*(B$64:B$88=E20),0),IF(F20=100,3,IF(F20=150,5,IF(F20=200,7,IF(F20=250,9,IF(F20=300,11,0))))))","v":{"$error":"#N/A"}},{"$f":"INDEX(A$64:L$88,MATCH(1,(A$64:A$88=D20)*(B$64:B$88=E20),0),IF(F20=100,4,IF(F20=150,6,IF(F20=200,8,IF(F20=250,10,IF(F20=300,12,0))))))","v":{"$error":"#N/A"}},{"$f":"INDEX(A$91:L$115,MATCH(1,(A$91:A$115=D20)*(B$91:B$115=E20),0),IF(F20=100,3,IF(F20=150,5,IF(F20=200,7,IF(F20=250,9,IF(F20=300,11,0))))))","v":{"$error":"#N/A"}},{"$f":"INDEX(A$91:L$115,MATCH(1,(A$91:A$115=D20)*(B$91:B$115=E20),0),IF(F20=100,4,IF(F20=150,6,IF(F20=200,8,IF(F20=250,10,IF(F20=300,12,0))))))","v":{"$error":"#N/A"}},{"$f":"INDEX(A$118:L$142,MATCH(1,(A$118:A$142=D20)*(B$118:B$142=E20),0),IF(F20=100,3,IF(F20=150,5,IF(F20=200,7,IF(F20=250,9,IF(F20=300,11,0))))))","v":{"$error":"#N/A"}},{"$f":"INDEX(A$118:L$142,MATCH(1,(A$118:A$142=D20)*(B$118:B$142=E20),0),IF(F20=100,4,IF(F20=150,6,IF(F20=200,8,IF(F20=250,10,IF(F20=300,12,0))))))","v":{"$error":"#N/A"}},{"$f":"INDEX(N$37:Y$61,MATCH(1,(N$37:N$61=D20)*(O$37:O$61=E20),0),IF(F20=100,3,IF(F20=150,5,IF(F20=200,7,IF(F20=250,9,IF(F20=300,11,0))))))","v":{"$error":"#N/A"}},{"$f":"INDEX(N$37:Y$61,MATCH(1,(N$37:N$61=D20)*(O$37:O$61=E20),0),IF(F20=100,4,IF(F20=150,6,IF(F20=200,8,IF(F20=250,10,IF(F20=300,12,0))))))","v":{"$error":"#N/A"}},{"$f":"INDEX(N$64:Y$88,MATCH(1,(N$64:N$88=D20)*(O$64:O$88=E20),0),IF(F20=100,3,IF(F20=150,5,IF(F20=200,7,IF(F20=250,9,IF(F20=300,11,0))))))","v":{"$error":"#N/A"}},{"$f":"INDEX(N$64:Y$88,MATCH(1,(N$64:N$88=D20)*(O$64:O$88=E20),0),IF(F20=100,4,IF(F20=150,6,IF(F20=200,8,IF(F20=250,10,IF(F20=300,12,0))))))","v":{"$error":"#N/A"}},{"$f":"INDEX(N$91:Y$115,MATCH(1,(N$91:N$115=D20)*(O$91:O$115=E20),0),IF(F20=100,3,IF(F20=150,5,IF(F20=200,7,IF(F20=250,9,IF(F20=300,11,0))))))","v":{"$error":"#N/A"}},{"$f":"INDEX(N$91:Y$115,MATCH(1,(N$91:N$115=D20)*(O$91:O$115=E20),0),IF(F20=100,4,IF(F20=150,6,IF(F20=200,8,IF(F20=250,10,IF(F20=300,12,0))))))","v":{"$error":"#N/A"}},{"$f":"INDEX(N$118:Y$142,MATCH(1,(N$118:N$142=D20)*(O$118:O$142=E20),0),IF(F20=100,3,IF(F20=150,5,IF(F20=200,7,IF(F20=250,9,IF(F20=300,11,0))))))","v":{"$error":"#N/A"}},{"$f":"INDEX(N$118:Y$142,MATCH(1,(N$118:N$142=D20)*(O$118:O$142=E20),0),IF(F20=100,4,IF(F20=150,6,IF(F20=200,8,IF(F20=250,10,IF(F20=300,12,0))))))","v":{"$error":"#N/A"}}]
[{"$f":"'UFH Guide'!A21","v":" "},null,{"$f":"'UFH Guide'!H21","v":0},{"$f":"'UFH Guide'!E21","v":0},{"$f":"'UFH Guide'!B21","v":0},{"$f":"'UFH Guide'!I21","v":0},{"$f":"'UFH Guide'!J21","v":0},0,0,{"$f":"INDEX(A$37:L$61,MATCH(1,(A$37:A$61=D21)*(B$37:B$61=E21),0),IF(F21=100,3,IF(F21=150,5,IF(F21=200,7,IF(F21=250,9,IF(F21=300,11,0))))))","v":{"$error":"#N/A"}},{"$f":"INDEX(A$37:L$61,MATCH(1,(A$37:A$61=D21)*(B$37:B$61=E21),0),IF(F21=100,4,IF(F21=150,6,IF(F21=200,8,IF(F21=250,10,IF(F21=300,12,0))))))","v":{"$error":"#N/A"}},{"$f":"INDEX(A$64:L$88,MATCH(1,(A$64:A$88=D21)*(B$64:B$88=E21),0),IF(F21=100,3,IF(F21=150,5,IF(F21=200,7,IF(F21=250,9,IF(F21=300,11,0))))))","v":{"$error":"#N/A"}},{"$f":"INDEX(A$64:L$88,MATCH(1,(A$64:A$88=D21)*(B$64:B$88=E21),0),IF(F21=100,4,IF(F21=150,6,IF(F21=200,8,IF(F21=250,10,IF(F21=300,12,0))))))","v":{"$error":"#N/A"}},{"$f":"INDEX(A$91:L$115,MATCH(1,(A$91:A$115=D21)*(B$91:B$115=E21),0),IF(F21=100,3,IF(F21=150,5,IF(F21=200,7,IF(F21=250,9,IF(F21=300,11,0))))))","v":{"$error":"#N/A"}},{"$f":"INDEX(A$91:L$115,MATCH(1,(A$91:A$115=D21)*(B$91:B$115=E21),0),IF(F21=100,4,IF(F21=150,6,IF(F21=200,8,IF(F21=250,10,IF(F21=300,12,0))))))","v":{"$error":"#N/A"}},{"$f":"INDEX(A$118:L$142,MATCH(1,(A$118:A$142=D21)*(B$118:B$142=E21),0),IF(F21=100,3,IF(F21=150,5,IF(F21=200,7,IF(F21=250,9,IF(F21=300,11,0))))))","v":{"$error":"#N/A"}},{"$f":"INDEX(A$118:L$142,MATCH(1,(A$118:A$142=D21)*(B$118:B$142=E21),0),IF(F21=100,4,IF(F21=150,6,IF(F21=200,8,IF(F21=250,10,IF(F21=300,12,0))))))","v":{"$error":"#N/A"}},{"$f":"INDEX(N$37:Y$61,MATCH(1,(N$37:N$61=D21)*(O$37:O$61=E21),0),IF(F21=100,3,IF(F21=150,5,IF(F21=200,7,IF(F21=250,9,IF(F21=300,11,0))))))","v":{"$error":"#N/A"}},{"$f":"INDEX(N$37:Y$61,MATCH(1,(N$37:N$61=D21)*(O$37:O$61=E21),0),IF(F21=100,4,IF(F21=150,6,IF(F21=200,8,IF(F21=250,10,IF(F21=300,12,0))))))","v":{"$error":"#N/A"}},{"$f":"INDEX(N$64:Y$88,MATCH(1,(N$64:N$88=D21)*(O$64:O$88=E21),0),IF(F21=100,3,IF(F21=150,5,IF(F21=200,7,IF(F21=250,9,IF(F21=300,11,0))))))","v":{"$error":"#N/A"}},{"$f":"INDEX(N$64:Y$88,MATCH(1,(N$64:N$88=D21)*(O$64:O$88=E21),0),IF(F21=100,4,IF(F21=150,6,IF(F21=200,8,IF(F21=250,10,IF(F21=300,12,0))))))","v":{"$error":"#N/A"}},{"$f":"INDEX(N$91:Y$115,MATCH(1,(N$91:N$115=D21)*(O$91:O$115=E21),0),IF(F21=100,3,IF(F21=150,5,IF(F21=200,7,IF(F21=250,9,IF(F21=300,11,0))))))","v":{"$error":"#N/A"}},{"$f":"INDEX(N$91:Y$115,MATCH(1,(N$91:N$115=D21)*(O$91:O$115=E21),0),IF(F21=100,4,IF(F21=150,6,IF(F21=200,8,IF(F21=250,10,IF(F21=300,12,0))))))","v":{"$error":"#N/A"}},{"$f":"INDEX(N$118:Y$142,MATCH(1,(N$118:N$142=D21)*(O$118:O$142=E21),0),IF(F21=100,3,IF(F21=150,5,IF(F21=200,7,IF(F21=250,9,IF(F21=300,11,0))))))","v":{"$error":"#N/A"}},{"$f":"INDEX(N$118:Y$142,MATCH(1,(N$118:N$142=D21)*(O$118:O$142=E21),0),IF(F21=100,4,IF(F21=150,6,IF(F21=200,8,IF(F21=250,10,IF(F21=300,12,0))))))","v":{"$error":"#N/A"}}]
[{"$f":"'UFH Guide'!A22","v":" "},null,{"$f":"'UFH Guide'!H22","v":0},{"$f":"'UFH Guide'!E22","v":0},{"$f":"'UFH Guide'!B22","v":0},{"$f":"'UFH Guide'!I22","v":0},{"$f":"'UFH Guide'!J22","v":0},0,0,{"$f":"INDEX(A$37:L$61,MATCH(1,(A$37:A$61=D22)*(B$37:B$61=E22),0),IF(F22=100,3,IF(F22=150,5,IF(F22=200,7,IF(F22=250,9,IF(F22=300,11,0))))))","v":{"$error":"#N/A"}},{"$f":"INDEX(A$37:L$61,MATCH(1,(A$37:A$61=D22)*(B$37:B$61=E22),0),IF(F22=100,4,IF(F22=150,6,IF(F22=200,8,IF(F22=250,10,IF(F22=300,12,0))))))","v":{"$error":"#N/A"}},{"$f":"INDEX(A$64:L$88,MATCH(1,(A$64:A$88=D22)*(B$64:B$88=E22),0),IF(F22=100,3,IF(F22=150,5,IF(F22=200,7,IF(F22=250,9,IF(F22=300,11,0))))))","v":{"$error":"#N/A"}},{"$f":"INDEX(A$64:L$88,MATCH(1,(A$64:A$88=D22)*(B$64:B$88=E22),0),IF(F22=100,4,IF(F22=150,6,IF(F22=200,8,IF(F22=250,10,IF(F22=300,12,0))))))","v":{"$error":"#N/A"}},{"$f":"INDEX(A$91:L$115,MATCH(1,(A$91:A$115=D22)*(B$91:B$115=E22),0),IF(F22=100,3,IF(F22=150,5,IF(F22=200,7,IF(F22=250,9,IF(F22=300,11,0))))))","v":{"$error":"#N/A"}},{"$f":"INDEX(A$91:L$115,MATCH(1,(A$91:A$115=D22)*(B$91:B$115=E22),0),IF(F22=100,4,IF(F22=150,6,IF(F22=200,8,IF(F22=250,10,IF(F22=300,12,0))))))","v":{"$error":"#N/A"}},{"$f":"INDEX(A$118:L$142,MATCH(1,(A$118:A$142=D22)*(B$118:B$142=E22),0),IF(F22=100,3,IF(F22=150,5,IF(F22=200,7,IF(F22=250,9,IF(F22=300,11,0))))))","v":{"$error":"#N/A"}},{"$f":"INDEX(A$118:L$142,MATCH(1,(A$118:A$142=D22)*(B$118:B$142=E22),0),IF(F22=100,4,IF(F22=150,6,IF(F22=200,8,IF(F22=250,10,IF(F22=300,12,0))))))","v":{"$error":"#N/A"}},{"$f":"INDEX(N$37:Y$61,MATCH(1,(N$37:N$61=D22)*(O$37:O$61=E22),0),IF(F22=100,3,IF(F22=150,5,IF(F22=200,7,IF(F22=250,9,IF(F22=300,11,0))))))","v":{"$error":"#N/A"}},{"$f":"INDEX(N$37:Y$61,MATCH(1,(N$37:N$61=D22)*(O$37:O$61=E22),0),IF(F22=100,4,IF(F22=150,6,IF(F22=200,8,IF(F22=250,10,IF(F22=300,12,0))))))","v":{"$error":"#N/A"}},{"$f":"INDEX(N$64:Y$88,MATCH(1,(N$64:N$88=D22)*(O$64:O$88=E22),0),IF(F22=100,3,IF(F22=150,5,IF(F22=200,7,IF(F22=250,9,IF(F22=300,11,0))))))","v":{"$error":"#N/A"}},{"$f":"INDEX(N$64:Y$88,MATCH(1,(N$64:N$88=D22)*(O$64:O$88=E22),0),IF(F22=100,4,IF(F22=150,6,IF(F22=200,8,IF(F22=250,10,IF(F22=300,12,0))))))","v":{"$error":"#N/A"}},{"$f":"INDEX(N$91:Y$115,MATCH(1,(N$91:N$115=D22)*(O$91:O$115=E22),0),IF(F22=100,3,IF(F22=150,5,IF(F22=200,7,IF(F22=250,9,IF(F22=300,11,0))))))","v":{"$error":"#N/A"}},{"$f":"INDEX(N$91:Y$115,MATCH(1,(N$91:N$115=D22)*(O$91:O$115=E22),0),IF(F22=100,4,IF(F22=150,6,IF(F22=200,8,IF(F22=250,10,IF(F22=300,12,0))))))","v":{"$error":"#N/A"}},{"$f":"INDEX(N$118:Y$142,MATCH(1,(N$118:N$142=D22)*(O$118:O$142=E22),0),IF(F22=100,3,IF(F22=150,5,IF(F22=200,7,IF(F22=250,9,IF(F22=300,11,0))))))","v":{"$error":"#N/A"}},{"$f":"INDEX(N$118:Y$142,MATCH(1,(N$118:N$142=D22)*(O$118:O$142=E22),0),IF(F22=100,4,IF(F22=150,6,IF(F22=200,8,IF(F22=250,10,IF(F22=300,12,0))))))","v":{"$error":"#N/A"}}]
[{"$f":"'UFH Guide'!A23","v":" "},null,{"$f":"'UFH Guide'!H23","v":0},{"$f":"'UFH Guide'!E23","v":0},{"$f":"'UFH Guide'!B23","v":0},{"$f":"'UFH Guide'!I23","v":0},{"$f":"'UFH Guide'!J23","v":0},0,0,{"$f":"INDEX(A$37:L$61,MATCH(1,(A$37:A$61=D23)*(B$37:B$61=E23),0),IF(F23=100,3,IF(F23=150,5,IF(F23=200,7,IF(F23=250,9,IF(F23=300,11,0))))))","v":{"$error":"#N/A"}},{"$f":"INDEX(A$37:L$61,MATCH(1,(A$37:A$61=D23)*(B$37:B$61=E23),0),IF(F23=100,4,IF(F23=150,6,IF(F23=200,8,IF(F23=250,10,IF(F23=300,12,0))))))","v":{"$error":"#N/A"}},{"$f":"INDEX(A$64:L$88,MATCH(1,(A$64:A$88=D23)*(B$64:B$88=E23),0),IF(F23=100,3,IF(F23=150,5,IF(F23=200,7,IF(F23=250,9,IF(F23=300,11,0))))))","v":{"$error":"#N/A"}},{"$f":"INDEX(A$64:L$88,MATCH(1,(A$64:A$88=D23)*(B$64:B$88=E23),0),IF(F23=100,4,IF(F23=150,6,IF(F23=200,8,IF(F23=250,10,IF(F23=300,12,0))))))","v":{"$error":"#N/A"}},{"$f":"INDEX(A$91:L$115,MATCH(1,(A$91:A$115=D23)*(B$91:B$115=E23),0),IF(F23=100,3,IF(F23=150,5,IF(F23=200,7,IF(F23=250,9,IF(F23=300,11,0))))))","v":{"$error":"#N/A"}},{"$f":"INDEX(A$91:L$115,MATCH(1,(A$91:A$115=D23)*(B$91:B$115=E23),0),IF(F23=100,4,IF(F23=150,6,IF(F23=200,8,IF(F23=250,10,IF(F23=300,12,0))))))","v":{"$error":"#N/A"}},{"$f":"INDEX(A$118:L$142,MATCH(1,(A$118:A$142=D23)*(B$118:B$142=E23),0),IF(F23=100,3,IF(F23=150,5,IF(F23=200,7,IF(F23=250,9,IF(F23=300,11,0))))))","v":{"$error":"#N/A"}},{"$f":"INDEX(A$118:L$142,MATCH(1,(A$118:A$142=D23)*(B$118:B$142=E23),0),IF(F23=100,4,IF(F23=150,6,IF(F23=200,8,IF(F23=250,10,IF(F23=300,12,0))))))","v":{"$error":"#N/A"}},{"$f":"INDEX(N$37:Y$61,MATCH(1,(N$37:N$61=D23)*(O$37:O$61=E23),0),IF(F23=100,3,IF(F23=150,5,IF(F23=200,7,IF(F23=250,9,IF(F23=300,11,0))))))","v":{"$error":"#N/A"}},{"$f":"INDEX(N$37:Y$61,MATCH(1,(N$37:N$61=D23)*(O$37:O$61=E23),0),IF(F23=100,4,IF(F23=150,6,IF(F23=200,8,IF(F23=250,10,IF(F23=300,12,0))))))","v":{"$error":"#N/A"}},{"$f":"INDEX(N$64:Y$88,MATCH(1,(N$64:N$88=D23)*(O$64:O$88=E23),0),IF(F23=100,3,IF(F23=150,5,IF(F23=200,7,IF(F23=250,9,IF(F23=300,11,0))))))","v":{"$error":"#N/A"}},{"$f":"INDEX(N$64:Y$88,MATCH(1,(N$64:N$88=D23)*(O$64:O$88=E23),0),IF(F23=100,4,IF(F23=150,6,IF(F23=200,8,IF(F23=250,10,IF(F23=300,12,0))))))","v":{"$error":"#N/A"}},{"$f":"INDEX(N$91:Y$115,MATCH(1,(N$91:N$115=D23)*(O$91:O$115=E23),0),IF(F23=100,3,IF(F23=150,5,IF(F23=200,7,IF(F23=250,9,IF(F23=300,11,0))))))","v":{"$error":"#N/A"}},{"$f":"INDEX(N$91:Y$115,MATCH(1,(N$91:N$115=D23)*(O$91:O$115=E23),0),IF(F23=100,4,IF(F23=150,6,IF(F23=200,8,IF(F23=250,10,IF(F23=300,12,0))))))","v":{"$error":"#N/A"}},{"$f":"INDEX(N$118:Y$142,MATCH(1,(N$118:N$142=D23)*(O$118:O$142=E23),0),IF(F23=100,3,IF(F23=150,5,IF(F23=200,7,IF(F23=250,9,IF(F23=300,11,0))))))","v":{"$error":"#N/A"}},{"$f":"INDEX(N$118:Y$142,MATCH(1,(N$118:N$142=D23)*(O$118:O$142=E23),0),IF(F23=100,4,IF(F23=150,6,IF(F23=200,8,IF(F23=250,10,IF(F23=300,12,0))))))","v":{"$error":"#N/A"}}]
[{"$f":"'UFH Guide'!A24","v":" "},null,{"$f":"'UFH Guide'!H24","v":0},{"$f":"'UFH Guide'!E24","v":0},{"$f":"'UFH Guide'!B24","v":0},{"$f":"'UFH Guide'!I24","v":0},{"$f":"'UFH Guide'!J24","v":0},0,0,{"$f":"INDEX(A$37:L$61,MATCH(1,(A$37:A$61=D24)*(B$37:B$61=E24),0),IF(F24=100,3,IF(F24=150,5,IF(F24=200,7,IF(F24=250,9,IF(F24=300,11,0))))))","v":{"$error":"#N/A"}},{"$f":"INDEX(A$37:L$61,MATCH(1,(A$37:A$61=D24)*(B$37:B$61=E24),0),IF(F24=100,4,IF(F24=150,6,IF(F24=200,8,IF(F24=250,10,IF(F24=300,12,0))))))","v":{"$error":"#N/A"}},{"$f":"INDEX(A$64:L$88,MATCH(1,(A$64:A$88=D24)*(B$64:B$88=E24),0),IF(F24=100,3,IF(F24=150,5,IF(F24=200,7,IF(F24=250,9,IF(F24=300,11,0))))))","v":{"$error":"#N/A"}},{"$f":"INDEX(A$64:L$88,MATCH(1,(A$64:A$88=D24)*(B$64:B$88=E24),0),IF(F24=100,4,IF(F24=150,6,IF(F24=200,8,IF(F24=250,10,IF(F24=300,12,0))))))","v":{"$error":"#N/A"}},{"$f":"INDEX(A$91:L$115,MATCH(1,(A$91:A$115=D24)*(B$91:B$115=E24),0),IF(F24=100,3,IF(F24=150,5,IF(F24=200,7,IF(F24=250,9,IF(F24=300,11,0))))))","v":{"$error":"#N/A"}},{"$f":"INDEX(A$91:L$115,MATCH(1,(A$91:A$115=D24)*(B$91:B$115=E24),0),IF(F24=100,4,IF(F24=150,6,IF(F24=200,8,IF(F24=250,10,IF(F24=300,12,0))))))","v":{"$error":"#N/A"}},{"$f":"INDEX(A$118:L$142,MATCH(1,(A$118:A$142=D24)*(B$118:B$142=E24),0),IF(F24=100,3,IF(F24=150,5,IF(F24=200,7,IF(F24=250,9,IF(F24=300,11,0))))))","v":{"$error":"#N/A"}},{"$f":"INDEX(A$118:L$142,MATCH(1,(A$118:A$142=D24)*(B$118:B$142=E24),0),IF(F24=100,4,IF(F24=150,6,IF(F24=200,8,IF(F24=250,10,IF(F24=300,12,0))))))","v":{"$error":"#N/A"}},{"$f":"INDEX(N$37:Y$61,MATCH(1,(N$37:N$61=D24)*(O$37:O$61=E24),0),IF(F24=100,3,IF(F24=150,5,IF(F24=200,7,IF(F24=250,9,IF(F24=300,11,0))))))","v":{"$error":"#N/A"}},{"$f":"INDEX(N$37:Y$61,MATCH(1,(N$37:N$61=D24)*(O$37:O$61=E24),0),IF(F24=100,4,IF(F24=150,6,IF(F24=200,8,IF(F24=250,10,IF(F24=300,12,0))))))","v":{"$error":"#N/A"}},{"$f":"INDEX(N$64:Y$88,MATCH(1,(N$64:N$88=D24)*(O$64:O$88=E24),0),IF(F24=100,3,IF(F24=150,5,IF(F24=200,7,IF(F24=250,9,IF(F24=300,11,0))))))","v":{"$error":"#N/A"}},{"$f":"INDEX(N$64:Y$88,MATCH(1,(N$64:N$88=D24)*(O$64:O$88=E24),0),IF(F24=100,4,IF(F24=150,6,IF(F24=200,8,IF(F24=250,10,IF(F24=300,12,0))))))","v":{"$error":"#N/A"}},{"$f":"INDEX(N$91:Y$115,MATCH(1,(N$91:N$115=D24)*(O$91:O$115=E24),0),IF(F24=100,3,IF(F24=150,5,IF(F24=200,7,IF(F24=250,9,IF(F24=300,11,0))))))","v":{"$error":"#N/A"}},{"$f":"INDEX(N$91:Y$115,MATCH(1,(N$91:N$115=D24)*(O$91:O$115=E24),0),IF(F24=100,4,IF(F24=150,6,IF(F24=200,8,IF(F24=250,10,IF(F24=300,12,0))))))","v":{"$error":"#N/A"}},{"$f":"INDEX(N$118:Y$142,MATCH(1,(N$118:N$142=D24)*(O$118:O$142=E24),0),IF(F24=100,3,IF(F24=150,5,IF(F24=200,7,IF(F24=250,9,IF(F24=300,11,0))))))","v":{"$error":"#N/A"}},{"$f":"INDEX(N$118:Y$142,MATCH(1,(N$118:N$142=D24)*(O$118:O$142=E24),0),IF(F24=100,4,IF(F24=150,6,IF(F24=200,8,IF(F24=250,10,IF(F24=300,12,0))))))","v":{"$error":"#N/A"}}]
[{"$f":"'UFH Guide'!A25","v":" "},null,{"$f":"'UFH Guide'!H25","v":0},{"$f":"'UFH Guide'!E25","v":0},{"$f":"'UFH Guide'!B25","v":0},{"$f":"'UFH Guide'!I25","v":0},{"$f":"'UFH Guide'!J25","v":0},0,0,{"$f":"INDEX(A$37:L$61,MATCH(1,(A$37:A$61=D25)*(B$37:B$61=E25),0),IF(F25=100,3,IF(F25=150,5,IF(F25=200,7,IF(F25=250,9,IF(F25=300,11,0))))))","v":{"$error":"#N/A"}},{"$f":"INDEX(A$37:L$61,MATCH(1,(A$37:A$61=D25)*(B$37:B$61=E25),0),IF(F25=100,4,IF(F25=150,6,IF(F25=200,8,IF(F25=250,10,IF(F25=300,12,0))))))","v":{"$error":"#N/A"}},{"$f":"INDEX(A$64:L$88,MATCH(1,(A$64:A$88=D25)*(B$64:B$88=E25),0),IF(F25=100,3,IF(F25=150,5,IF(F25=200,7,IF(F25=250,9,IF(F25=300,11,0))))))","v":{"$error":"#N/A"}},{"$f":"INDEX(A$64:L$88,MATCH(1,(A$64:A$88=D25)*(B$64:B$88=E25),0),IF(F25=100,4,IF(F25=150,6,IF(F25=200,8,IF(F25=250,10,IF(F25=300,12,0))))))","v":{"$error":"#N/A"}},{"$f":"INDEX(A$91:L$115,MATCH(1,(A$91:A$115=D25)*(B$91:B$115=E25),0),IF(F25=100,3,IF(F25=150,5,IF(F25=200,7,IF(F25=250,9,IF(F25=300,11,0))))))","v":{"$error":"#N/A"}},{"$f":"INDEX(A$91:L$115,MATCH(1,(A$91:A$115=D25)*(B$91:B$115=E25),0),IF(F25=100,4,IF(F25=150,6,IF(F25=200,8,IF(F25=250,10,IF(F25=300,12,0))))))","v":{"$error":"#N/A"}},{"$f":"INDEX(A$118:L$142,MATCH(1,(A$118:A$142=D25)*(B$118:B$142=E25),0),IF(F25=100,3,IF(F25=150,5,IF(F25=200,7,IF(F25=250,9,IF(F25=300,11,0))))))","v":{"$error":"#N/A"}},{"$f":"INDEX(A$118:L$142,MATCH(1,(A$118:A$142=D25)*(B$118:B$142=E25),0),IF(F25=100,4,IF(F25=150,6,IF(F25=200,8,IF(F25=250,10,IF(F25=300,12,0))))))","v":{"$error":"#N/A"}},{"$f":"INDEX(N$37:Y$61,MATCH(1,(N$37:N$61=D25)*(O$37:O$61=E25),0),IF(F25=100,3,IF(F25=150,5,IF(F25=200,7,IF(F25=250,9,IF(F25=300,11,0))))))","v":{"$error":"#N/A"}},{"$f":"INDEX(N$37:Y$61,MATCH(1,(N$37:N$61=D25)*(O$37:O$61=E25),0),IF(F25=100,4,IF(F25=150,6,IF(F25=200,8,IF(F25=250,10,IF(F25=300,12,0))))))","v":{"$error":"#N/A"}},{"$f":"INDEX(N$64:Y$88,MATCH(1,(N$64:N$88=D25)*(O$64:O$88=E25),0),IF(F25=100,3,IF(F25=150,5,IF(F25=200,7,IF(F25=250,9,IF(F25=300,11,0))))))","v":{"$error":"#N/A"}},{"$f":"INDEX(N$64:Y$88,MATCH(1,(N$64:N$88=D25)*(O$64:O$88=E25),0),IF(F25=100,4,IF(F25=150,6,IF(F25=200,8,IF(F25=250,10,IF(F25=300,12,0))))))","v":{"$error":"#N/A"}},{"$f":"INDEX(N$91:Y$115,MATCH(1,(N$91:N$115=D25)*(O$91:O$115=E25),0),IF(F25=100,3,IF(F25=150,5,IF(F25=200,7,IF(F25=250,9,IF(F25=300,11,0))))))","v":{"$error":"#N/A"}},{"$f":"INDEX(N$91:Y$115,MATCH(1,(N$91:N$115=D25)*(O$91:O$115=E25),0),IF(F25=100,4,IF(F25=150,6,IF(F25=200,8,IF(F25=250,10,IF(F25=300,12,0))))))","v":{"$error":"#N/A"}},{"$f":"INDEX(N$118:Y$142,MATCH(1,(N$118:N$142=D25)*(O$118:O$142=E25),0),IF(F25=100,3,IF(F25=150,5,IF(F25=200,7,IF(F25=250,9,IF(F25=300,11,0))))))","v":{"$error":"#N/A"}},{"$f":"INDEX(N$118:Y$142,MATCH(1,(N$118:N$142=D25)*(O$118:O$142=E25),0),IF(F25=100,4,IF(F25=150,6,IF(F25=200,8,IF(F25=250,10,IF(F25=300,12,0))))))","v":{"$error":"#N/A"}}]
[{"$f":"'UFH Guide'!A26","v":" "},null,{"$f":"'UFH Guide'!H26","v":0},{"$f":"'UFH Guide'!E26","v":0},{"$f":"'UFH Guide'!B26","v":0},{"$f":"'UFH Guide'!I26","v":0},{"$f":"'UFH Guide'!J26","v":0},0,0,{"$f":"INDEX(A$37:L$61,MATCH(1,(A$37:A$61=D26)*(B$37:B$61=E26),0),IF(F26=100,3,IF(F26=150,5,IF(F26=200,7,IF(F26=250,9,IF(F26=300,11,0))))))","v":{"$error":"#N/A"}},{"$f":"INDEX(A$37:L$61,MATCH(1,(A$37:A$61=D26)*(B$37:B$61=E26),0),IF(F26=100,4,IF(F26=150,6,IF(F26=200,8,IF(F26=250,10,IF(F26=300,12,0))))))","v":{"$error":"#N/A"}},{"$f":"INDEX(A$64:L$88,MATCH(1,(A$64:A$88=D26)*(B$64:B$88=E26),0),IF(F26=100,3,IF(F26=150,5,IF(F26=200,7,IF(F26=250,9,IF(F26=300,11,0))))))","v":{"$error":"#N/A"}},{"$f":"INDEX(A$64:L$88,MATCH(1,(A$64:A$88=D26)*(B$64:B$88=E26),0),IF(F26=100,4,IF(F26=150,6,IF(F26=200,8,IF(F26=250,10,IF(F26=300,12,0))))))","v":{"$error":"#N/A"}},{"$f":"INDEX(A$91:L$115,MATCH(1,(A$91:A$115=D26)*(B$91:B$115=E26),0),IF(F26=100,3,IF(F26=150,5,IF(F26=200,7,IF(F26=250,9,IF(F26=300,11,0))))))","v":{"$error":"#N/A"}},{"$f":"INDEX(A$91:L$115,MATCH(1,(A$91:A$115=D26)*(B$91:B$115=E26),0),IF(F26=100,4,IF(F26=150,6,IF(F26=200,8,IF(F26=250,10,IF(F26=300,12,0))))))","v":{"$error":"#N/A"}},{"$f":"INDEX(A$118:L$142,MATCH(1,(A$118:A$142=D26)*(B$118:B$142=E26),0),IF(F26=100,3,IF(F26=150,5,IF(F26=200,7,IF(F26=250,9,IF(F26=300,11,0))))))","v":{"$error":"#N/A"}},{"$f":"INDEX(A$118:L$142,MATCH(1,(A$118:A$142=D26)*(B$118:B$142=E26),0),IF(F26=100,4,IF(F26=150,6,IF(F26=200,8,IF(F26=250,10,IF(F26=300,12,0))))))","v":{"$error":"#N/A"}},{"$f":"INDEX(N$37:Y$61,MATCH(1,(N$37:N$61=D26)*(O$37:O$61=E26),0),IF(F26=100,3,IF(F26=150,5,IF(F26=200,7,IF(F26=250,9,IF(F26=300,11,0))))))","v":{"$error":"#N/A"}},{"$f":"INDEX(N$37:Y$61,MATCH(1,(N$37:N$61=D26)*(O$37:O$61=E26),0),IF(F26=100,4,IF(F26=150,6,IF(F26=200,8,IF(F26=250,10,IF(F26=300,12,0))))))","v":{"$error":"#N/A"}},{"$f":"INDEX(N$64:Y$88,MATCH(1,(N$64:N$88=D26)*(O$64:O$88=E26),0),IF(F26=100,3,IF(F26=150,5,IF(F26=200,7,IF(F26=250,9,IF(F26=300,11,0))))))","v":{"$error":"#N/A"}},{"$f":"INDEX(N$64:Y$88,MATCH(1,(N$64:N$88=D26)*(O$64:O$88=E26),0),IF(F26=100,4,IF(F26=150,6,IF(F26=200,8,IF(F26=250,10,IF(F26=300,12,0))))))","v":{"$error":"#N/A"}},{"$f":"INDEX(N$91:Y$115,MATCH(1,(N$91:N$115=D26)*(O$91:O$115=E26),0),IF(F26=100,3,IF(F26=150,5,IF(F26=200,7,IF(F26=250,9,IF(F26=300,11,0))))))","v":{"$error":"#N/A"}},{"$f":"INDEX(N$91:Y$115,MATCH(1,(N$91:N$115=D26)*(O$91:O$115=E26),0),IF(F26=100,4,IF(F26=150,6,IF(F26=200,8,IF(F26=250,10,IF(F26=300,12,0))))))","v":{"$error":"#N/A"}},{"$f":"INDEX(N$118:Y$142,MATCH(1,(N$118:N$142=D26)*(O$118:O$142=E26),0),IF(F26=100,3,IF(F26=150,5,IF(F26=200,7,IF(F26=250,9,IF(F26=300,11,0))))))","v":{"$error":"#N/A"}},{"$f":"INDEX(N$118:Y$142,MATCH(1,(N$118:N$142=D26)*(O$118:O$142=E26),0),IF(F26=100,4,IF(F26=150,6,IF(F26=200,8,IF(F26=250,10,IF(F26=300,12,0))))))","v":{"$error":"#N/A"}}]
[{"$f":"'UFH Guide'!A27","v":" "},null,{"$f":"'UFH Guide'!H27","v":0},{"$f":"'UFH Guide'!E27","v":0},{"$f":"'UFH Guide'!B27","v":0},{"$f":"'UFH Guide'!I27","v":0},{"$f":"'UFH Guide'!J27","v":0},0,0,{"$f":"INDEX(A$37:L$61,MATCH(1,(A$37:A$61=D27)*(B$37:B$61=E27),0),IF(F27=100,3,IF(F27=150,5,IF(F27=200,7,IF(F27=250,9,IF(F27=300,11,0))))))","v":{"$error":"#N/A"}},{"$f":"INDEX(A$37:L$61,MATCH(1,(A$37:A$61=D27)*(B$37:B$61=E27),0),IF(F27=100,4,IF(F27=150,6,IF(F27=200,8,IF(F27=250,10,IF(F27=300,12,0))))))","v":{"$error":"#N/A"}},{"$f":"INDEX(A$64:L$88,MATCH(1,(A$64:A$88=D27)*(B$64:B$88=E27),0),IF(F27=100,3,IF(F27=150,5,IF(F27=200,7,IF(F27=250,9,IF(F27=300,11,0))))))","v":{"$error":"#N/A"}},{"$f":"INDEX(A$64:L$88,MATCH(1,(A$64:A$88=D27)*(B$64:B$88=E27),0),IF(F27=100,4,IF(F27=150,6,IF(F27=200,8,IF(F27=250,10,IF(F27=300,12,0))))))","v":{"$error":"#N/A"}},{"$f":"INDEX(A$91:L$115,MATCH(1,(A$91:A$115=D27)*(B$91:B$115=E27),0),IF(F27=100,3,IF(F27=150,5,IF(F27=200,7,IF(F27=250,9,IF(F27=300,11,0))))))","v":{"$error":"#N/A"}},{"$f":"INDEX(A$91:L$115,MATCH(1,(A$91:A$115=D27)*(B$91:B$115=E27),0),IF(F27=100,4,IF(F27=150,6,IF(F27=200,8,IF(F27=250,10,IF(F27=300,12,0))))))","v":{"$error":"#N/A"}},{"$f":"INDEX(A$118:L$142,MATCH(1,(A$118:A$142=D27)*(B$118:B$142=E27),0),IF(F27=100,3,IF(F27=150,5,IF(F27=200,7,IF(F27=250,9,IF(F27=300,11,0))))))","v":{"$error":"#N/A"}},{"$f":"INDEX(A$118:L$142,MATCH(1,(A$118:A$142=D27)*(B$118:B$142=E27),0),IF(F27=100,4,IF(F27=150,6,IF(F27=200,8,IF(F27=250,10,IF(F27=300,12,0))))))","v":{"$error":"#N/A"}},{"$f":"INDEX(N$37:Y$61,MATCH(1,(N$37:N$61=D27)*(O$37:O$61=E27),0),IF(F27=100,3,IF(F27=150,5,IF(F27=200,7,IF(F27=250,9,IF(F27=300,11,0))))))","v":{"$error":"#N/A"}},{"$f":"INDEX(N$37:Y$61,MATCH(1,(N$37:N$61=D27)*(O$37:O$61=E27),0),IF(F27=100,4,IF(F27=150,6,IF(F27=200,8,IF(F27=250,10,IF(F27=300,12,0))))))","v":{"$error":"#N/A"}},{"$f":"INDEX(N$64:Y$88,MATCH(1,(N$64:N$88=D27)*(O$64:O$88=E27),0),IF(F27=100,3,IF(F27=150,5,IF(F27=200,7,IF(F27=250,9,IF(F27=300,11,0))))))","v":{"$error":"#N/A"}},{"$f":"INDEX(N$64:Y$88,MATCH(1,(N$64:N$88=D27)*(O$64:O$88=E27),0),IF(F27=100,4,IF(F27=150,6,IF(F27=200,8,IF(F27=250,10,IF(F27=300,12,0))))))","v":{"$error":"#N/A"}},{"$f":"INDEX(N$91:Y$115,MATCH(1,(N$91:N$115=D27)*(O$91:O$115=E27),0),IF(F27=100,3,IF(F27=150,5,IF(F27=200,7,IF(F27=250,9,IF(F27=300,11,0))))))","v":{"$error":"#N/A"}},{"$f":"INDEX(N$91:Y$115,MATCH(1,(N$91:N$115=D27)*(O$91:O$115=E27),0),IF(F27=100,4,IF(F27=150,6,IF(F27=200,8,IF(F27=250,10,IF(F27=300,12,0))))))","v":{"$error":"#N/A"}},{"$f":"INDEX(N$118:Y$142,MATCH(1,(N$118:N$142=D27)*(O$118:O$142=E27),0),IF(F27=100,3,IF(F27=150,5,IF(F27=200,7,IF(F27=250,9,IF(F27=300,11,0))))))","v":{"$error":"#N/A"}},{"$f":"INDEX(N$118:Y$142,MATCH(1,(N$118:N$142=D27)*(O$118:O$142=E27),0),IF(F27=100,4,IF(F27=150,6,IF(F27=200,8,IF(F27=250,10,IF(F27=300,12,0))))))","v":{"$error":"#N/A"}}]
[{"$f":"'UFH Guide'!A28","v":" "},null,{"$f":"'UFH Guide'!H28","v":0},{"$f":"'UFH Guide'!E28","v":0},{"$f":"'UFH Guide'!B28","v":0},{"$f":"'UFH Guide'!I28","v":0},{"$f":"'UFH Guide'!J28","v":0},0,0,{"$f":"INDEX(A$37:L$61,MATCH(1,(A$37:A$61=D28)*(B$37:B$61=E28),0),IF(F28=100,3,IF(F28=150,5,IF(F28=200,7,IF(F28=250,9,IF(F28=300,11,0))))))","v":{"$error":"#N/A"}},{"$f":"INDEX(A$37:L$61,MATCH(1,(A$37:A$61=D28)*(B$37:B$61=E28),0),IF(F28=100,4,IF(F28=150,6,IF(F28=200,8,IF(F28=250,10,IF(F28=300,12,0))))))","v":{"$error":"#N/A"}},{"$f":"INDEX(A$64:L$88,MATCH(1,(A$64:A$88=D28)*(B$64:B$88=E28),0),IF(F28=100,3,IF(F28=150,5,IF(F28=200,7,IF(F28=250,9,IF(F28=300,11,0))))))","v":{"$error":"#N/A"}},{"$f":"INDEX(A$64:L$88,MATCH(1,(A$64:A$88=D28)*(B$64:B$88=E28),0),IF(F28=100,4,IF(F28=150,6,IF(F28=200,8,IF(F28=250,10,IF(F28=300,12,0))))))","v":{"$error":"#N/A"}},{"$f":"INDEX(A$91:L$115,MATCH(1,(A$91:A$115=D28)*(B$91:B$115=E28),0),IF(F28=100,3,IF(F28=150,5,IF(F28=200,7,IF(F28=250,9,IF(F28=300,11,0))))))","v":{"$error":"#N/A"}},{"$f":"INDEX(A$91:L$115,MATCH(1,(A$91:A$115=D28)*(B$91:B$115=E28),0),IF(F28=100,4,IF(F28=150,6,IF(F28=200,8,IF(F28=250,10,IF(F28=300,12,0))))))","v":{"$error":"#N/A"}},{"$f":"INDEX(A$118:L$142,MATCH(1,(A$118:A$142=D28)*(B$118:B$142=E28),0),IF(F28=100,3,IF(F28=150,5,IF(F28=200,7,IF(F28=250,9,IF(F28=300,11,0))))))","v":{"$error":"#N/A"}},{"$f":"INDEX(A$118:L$142,MATCH(1,(A$118:A$142=D28)*(B$118:B$142=E28),0),IF(F28=100,4,IF(F28=150,6,IF(F28=200,8,IF(F28=250,10,IF(F28=300,12,0))))))","v":{"$error":"#N/A"}},{"$f":"INDEX(N$37:Y$61,MATCH(1,(N$37:N$61=D28)*(O$37:O$61=E28),0),IF(F28=100,3,IF(F28=150,5,IF(F28=200,7,IF(F28=250,9,IF(F28=300,11,0))))))","v":{"$error":"#N/A"}},{"$f":"INDEX(N$37:Y$61,MATCH(1,(N$37:N$61=D28)*(O$37:O$61=E28),0),IF(F28=100,4,IF(F28=150,6,IF(F28=200,8,IF(F28=250,10,IF(F28=300,12,0))))))","v":{"$error":"#N/A"}},{"$f":"INDEX(N$64:Y$88,MATCH(1,(N$64:N$88=D28)*(O$64:O$88=E28),0),IF(F28=100,3,IF(F28=150,5,IF(F28=200,7,IF(F28=250,9,IF(F28=300,11,0))))))","v":{"$error":"#N/A"}},{"$f":"INDEX(N$64:Y$88,MATCH(1,(N$64:N$88=D28)*(O$64:O$88=E28),0),IF(F28=100,4,IF(F28=150,6,IF(F28=200,8,IF(F28=250,10,IF(F28=300,12,0))))))","v":{"$error":"#N/A"}},{"$f":"INDEX(N$91:Y$115,MATCH(1,(N$91:N$115=D28)*(O$91:O$115=E28),0),IF(F28=100,3,IF(F28=150,5,IF(F28=200,7,IF(F28=250,9,IF(F28=300,11,0))))))","v":{"$error":"#N/A"}},{"$f":"INDEX(N$91:Y$115,MATCH(1,(N$91:N$115=D28)*(O$91:O$115=E28),0),IF(F28=100,4,IF(F28=150,6,IF(F28=200,8,IF(F28=250,10,IF(F28=300,12,0))))))","v":{"$error":"#N/A"}},{"$f":"INDEX(N$118:Y$142,MATCH(1,(N$118:N$142=D28)*(O$118:O$142=E28),0),IF(F28=100,3,IF(F28=150,5,IF(F28=200,7,IF(F28=250,9,IF(F28=300,11,0))))))","v":{"$error":"#N/A"}},{"$f":"INDEX(N$118:Y$142,MATCH(1,(N$118:N$142=D28)*(O$118:O$142=E28),0),IF(F28=100,4,IF(F28=150,6,IF(F28=200,8,IF(F28=250,10,IF(F28=300,12,0))))))","v":{"$error":"#N/A"}}]
[{"$f":"'UFH Guide'!A29","v":" "},null,{"$f":"'UFH Guide'!H29","v":0},{"$f":"'UFH Guide'!E29","v":0},{"$f":"'UFH Guide'!B29","v":0},{"$f":"'UFH Guide'!I29","v":0},{"$f":"'UFH Guide'!J29","v":0},0,0,{"$f":"INDEX(A$37:L$61,MATCH(1,(A$37:A$61=D29)*(B$37:B$61=E29),0),IF(F29=100,3,IF(F29=150,5,IF(F29=200,7,IF(F29=250,9,IF(F29=300,11,0))))))","v":{"$error":"#N/A"}},{"$f":"INDEX(A$37:L$61,MATCH(1,(A$37:A$61=D29)*(B$37:B$61=E29),0),IF(F29=100,4,IF(F29=150,6,IF(F29=200,8,IF(F29=250,10,IF(F29=300,12,0))))))","v":{"$error":"#N/A"}},{"$f":"INDEX(A$64:L$88,MATCH(1,(A$64:A$88=D29)*(B$64:B$88=E29),0),IF(F29=100,3,IF(F29=150,5,IF(F29=200,7,IF(F29=250,9,IF(F29=300,11,0))))))","v":{"$error":"#N/A"}},{"$f":"INDEX(A$64:L$88,MATCH(1,(A$64:A$88=D29)*(B$64:B$88=E29),0),IF(F29=100,4,IF(F29=150,6,IF(F29=200,8,IF(F29=250,10,IF(F29=300,12,0))))))","v":{"$error":"#N/A"}},{"$f":"INDEX(A$91:L$115,MATCH(1,(A$91:A$115=D29)*(B$91:B$115=E29),0),IF(F29=100,3,IF(F29=150,5,IF(F29=200,7,IF(F29=250,9,IF(F29=300,11,0))))))","v":{"$error":"#N/A"}},{"$f":"INDEX(A$91:L$115,MATCH(1,(A$91:A$115=D29)*(B$91:B$115=E29),0),IF(F29=100,4,IF(F29=150,6,IF(F29=200,8,IF(F29=250,10,IF(F29=300,12,0))))))","v":{"$error":"#N/A"}},{"$f":"INDEX(A$118:L$142,MATCH(1,(A$118:A$142=D29)*(B$118:B$142=E29),0),IF(F29=100,3,IF(F29=150,5,IF(F29=200,7,IF(F29=250,9,IF(F29=300,11,0))))))","v":{"$error":"#N/A"}},{"$f":"INDEX(A$118:L$142,MATCH(1,(A$118:A$142=D29)*(B$118:B$142=E29),0),IF(F29=100,4,IF(F29=150,6,IF(F29=200,8,IF(F29=250,10,IF(F29=300,12,0))))))","v":{"$error":"#N/A"}},{"$f":"INDEX(N$37:Y$61,MATCH(1,(N$37:N$61=D29)*(O$37:O$61=E29),0),IF(F29=100,3,IF(F29=150,5,IF(F29=200,7,IF(F29=250,9,IF(F29=300,11,0))))))","v":{"$error":"#N/A"}},{"$f":"INDEX(N$37:Y$61,MATCH(1,(N$37:N$61=D29)*(O$37:O$61=E29),0),IF(F29=100,4,IF(F29=150,6,IF(F29=200,8,IF(F29=250,10,IF(F29=300,12,0))))))","v":{"$error":"#N/A"}},{"$f":"INDEX(N$64:Y$88,MATCH(1,(N$64:N$88=D29)*(O$64:O$88=E29),0),IF(F29=100,3,IF(F29=150,5,IF(F29=200,7,IF(F29=250,9,IF(F29=300,11,0))))))","v":{"$error":"#N/A"}},{"$f":"INDEX(N$64:Y$88,MATCH(1,(N$64:N$88=D29)*(O$64:O$88=E29),0),IF(F29=100,4,IF(F29=150,6,IF(F29=200,8,IF(F29=250,10,IF(F29=300,12,0))))))","v":{"$error":"#N/A"}},{"$f":"INDEX(N$91:Y$115,MATCH(1,(N$91:N$115=D29)*(O$91:O$115=E29),0),IF(F29=100,3,IF(F29=150,5,IF(F29=200,7,IF(F29=250,9,IF(F29=300,11,0))))))","v":{"$error":"#N/A"}},{"$f":"INDEX(N$91:Y$115,MATCH(1,(N$91:N$115=D29)*(O$91:O$115=E29),0),IF(F29=100,4,IF(F29=150,6,IF(F29=200,8,IF(F29=250,10,IF(F29=300,12,0))))))","v":{"$error":"#N/A"}},{"$f":"INDEX(N$118:Y$142,MATCH(1,(N$118:N$142=D29)*(O$118:O$142=E29),0),IF(F29=100,3,IF(F29=150,5,IF(F29=200,7,IF(F29=250,9,IF(F29=300,11,0))))))","v":{"$error":"#N/A"}},{"$f":"INDEX(N$118:Y$142,MATCH(1,(N$118:N$142=D29)*(O$118:O$142=E29),0),IF(F29=100,4,IF(F29=150,6,IF(F29=200,8,IF(F29=250,10,IF(F29=300,12,0))))))","v":{"$error":"#N/A"}}]
[{"$f":"'UFH Guide'!A30","v":" "},null,{"$f":"'UFH Guide'!H30","v":0},{"$f":"'UFH Guide'!E30","v":0},{"$f":"'UFH Guide'!B30","v":0},{"$f":"'UFH Guide'!I30","v":0},{"$f":"'UFH Guide'!J30","v":0},0,0,{"$f":"INDEX(A$37:L$61,MATCH(1,(A$37:A$61=D30)*(B$37:B$61=E30),0),IF(F30=100,3,IF(F30=150,5,IF(F30=200,7,IF(F30=250,9,IF(F30=300,11,0))))))","v":{"$error":"#N/A"}},{"$f":"INDEX(A$37:L$61,MATCH(1,(A$37:A$61=D30)*(B$37:B$61=E30),0),IF(F30=100,4,IF(F30=150,6,IF(F30=200,8,IF(F30=250,10,IF(F30=300,12,0))))))","v":{"$error":"#N/A"}},{"$f":"INDEX(A$64:L$88,MATCH(1,(A$64:A$88=D30)*(B$64:B$88=E30),0),IF(F30=100,3,IF(F30=150,5,IF(F30=200,7,IF(F30=250,9,IF(F30=300,11,0))))))","v":{"$error":"#N/A"}},{"$f":"INDEX(A$64:L$88,MATCH(1,(A$64:A$88=D30)*(B$64:B$88=E30),0),IF(F30=100,4,IF(F30=150,6,IF(F30=200,8,IF(F30=250,10,IF(F30=300,12,0))))))","v":{"$error":"#N/A"}},{"$f":"INDEX(A$91:L$115,MATCH(1,(A$91:A$115=D30)*(B$91:B$115=E30),0),IF(F30=100,3,IF(F30=150,5,IF(F30=200,7,IF(F30=250,9,IF(F30=300,11,0))))))","v":{"$error":"#N/A"}},{"$f":"INDEX(A$91:L$115,MATCH(1,(A$91:A$115=D30)*(B$91:B$115=E30),0),IF(F30=100,4,IF(F30=150,6,IF(F30=200,8,IF(F30=250,10,IF(F30=300,12,0))))))","v":{"$error":"#N/A"}},{"$f":"INDEX(A$118:L$142,MATCH(1,(A$118:A$142=D30)*(B$118:B$142=E30),0),IF(F30=100,3,IF(F30=150,5,IF(F30=200,7,IF(F30=250,9,IF(F30=300,11,0))))))","v":{"$error":"#N/A"}},{"$f":"INDEX(A$118:L$142,MATCH(1,(A$118:A$142=D30)*(B$118:B$142=E30),0),IF(F30=100,4,IF(F30=150,6,IF(F30=200,8,IF(F30=250,10,IF(F30=300,12,0))))))","v":{"$error":"#N/A"}},{"$f":"INDEX(N$37:Y$61,MATCH(1,(N$37:N$61=D30)*(O$37:O$61=E30),0),IF(F30=100,3,IF(F30=150,5,IF(F30=200,7,IF(F30=250,9,IF(F30=300,11,0))))))","v":{"$error":"#N/A"}},{"$f":"INDEX(N$37:Y$61,MATCH(1,(N$37:N$61=D30)*(O$37:O$61=E30),0),IF(F30=100,4,IF(F30=150,6,IF(F30=200,8,IF(F30=250,10,IF(F30=300,12,0))))))","v":{"$error":"#N/A"}},{"$f":"INDEX(N$64:Y$88,MATCH(1,(N$64:N$88=D30)*(O$64:O$88=E30),0),IF(F30=100,3,IF(F30=150,5,IF(F30=200,7,IF(F30=250,9,IF(F30=300,11,0))))))","v":{"$error":"#N/A"}},{"$f":"INDEX(N$64:Y$88,MATCH(1,(N$64:N$88=D30)*(O$64:O$88=E30),0),IF(F30=100,4,IF(F30=150,6,IF(F30=200,8,IF(F30=250,10,IF(F30=300,12,0))))))","v":{"$error":"#N/A"}},{"$f":"INDEX(N$91:Y$115,MATCH(1,(N$91:N$115=D30)*(O$91:O$115=E30),0),IF(F30=100,3,IF(F30=150,5,IF(F30=200,7,IF(F30=250,9,IF(F30=300,11,0))))))","v":{"$error":"#N/A"}},{"$f":"INDEX(N$91:Y$115,MATCH(1,(N$91:N$115=D30)*(O$91:O$115=E30),0),IF(F30=100,4,IF(F30=150,6,IF(F30=200,8,IF(F30=250,10,IF(F30=300,12,0))))))","v":{"$error":"#N/A"}},{"$f":"INDEX(N$118:Y$142,MATCH(1,(N$118:N$142=D30)*(O$118:O$142=E30),0),IF(F30=100,3,IF(F30=150,5,IF(F30=200,7,IF(F30=250,9,IF(F30=300,11,0))))))","v":{"$error":"#N/A"}},{"$f":"INDEX(N$118:Y$142,MATCH(1,(N$118:N$142=D30)*(O$118:O$142=E30),0),IF(F30=100,4,IF(F30=150,6,IF(F30=200,8,IF(F30=250,10,IF(F30=300,12,0))))))","v":{"$error":"#N/A"}}]
[{"$f":"'UFH Guide'!A31","v":" "},null,{"$f":"'UFH Guide'!H31","v":0},{"$f":"'UFH Guide'!E31","v":0},{"$f":"'UFH Guide'!B31","v":0},{"$f":"'UFH Guide'!I31","v":0},{"$f":"'UFH Guide'!J31","v":0},0,0,{"$f":"INDEX(A$37:L$61,MATCH(1,(A$37:A$61=D31)*(B$37:B$61=E31),0),IF(F31=100,3,IF(F31=150,5,IF(F31=200,7,IF(F31=250,9,IF(F31=300,11,0))))))","v":{"$error":"#N/A"}},{"$f":"INDEX(A$37:L$61,MATCH(1,(A$37:A$61=D31)*(B$37:B$61=E31),0),IF(F31=100,4,IF(F31=150,6,IF(F31=200,8,IF(F31=250,10,IF(F31=300,12,0))))))","v":{"$error":"#N/A"}},{"$f":"INDEX(A$64:L$88,MATCH(1,(A$64:A$88=D31)*(B$64:B$88=E31),0),IF(F31=100,3,IF(F31=150,5,IF(F31=200,7,IF(F31=250,9,IF(F31=300,11,0))))))","v":{"$error":"#N/A"}},{"$f":"INDEX(A$64:L$88,MATCH(1,(A$64:A$88=D31)*(B$64:B$88=E31),0),IF(F31=100,4,IF(F31=150,6,IF(F31=200,8,IF(F31=250,10,IF(F31=300,12,0))))))","v":{"$error":"#N/A"}},{"$f":"INDEX(A$91:L$115,MATCH(1,(A$91:A$115=D31)*(B$91:B$115=E31),0),IF(F31=100,3,IF(F31=150,5,IF(F31=200,7,IF(F31=250,9,IF(F31=300,11,0))))))","v":{"$error":"#N/A"}},{"$f":"INDEX(A$91:L$115,MATCH(1,(A$91:A$115=D31)*(B$91:B$115=E31),0),IF(F31=100,4,IF(F31=150,6,IF(F31=200,8,IF(F31=250,10,IF(F31=300,12,0))))))","v":{"$error":"#N/A"}},{"$f":"INDEX(A$118:L$142,MATCH(1,(A$118:A$142=D31)*(B$118:B$142=E31),0),IF(F31=100,3,IF(F31=150,5,IF(F31=200,7,IF(F31=250,9,IF(F31=300,11,0))))))","v":{"$error":"#N/A"}},{"$f":"INDEX(A$118:L$142,MATCH(1,(A$118:A$142=D31)*(B$118:B$142=E31),0),IF(F31=100,4,IF(F31=150,6,IF(F31=200,8,IF(F31=250,10,IF(F31=300,12,0))))))","v":{"$error":"#N/A"}},{"$f":"INDEX(N$37:Y$61,MATCH(1,(N$37:N$61=D31)*(O$37:O$61=E31),0),IF(F31=100,3,IF(F31=150,5,IF(F31=200,7,IF(F31=250,9,IF(F31=300,11,0))))))","v":{"$error":"#N/A"}},{"$f":"INDEX(N$37:Y$61,MATCH(1,(N$37:N$61=D31)*(O$37:O$61=E31),0),IF(F31=100,4,IF(F31=150,6,IF(F31=200,8,IF(F31=250,10,IF(F31=300,12,0))))))","v":{"$error":"#N/A"}},{"$f":"INDEX(N$64:Y$88,MATCH(1,(N$64:N$88=D31)*(O$64:O$88=E31),0),IF(F31=100,3,IF(F31=150,5,IF(F31=200,7,IF(F31=250,9,IF(F31=300,11,0))))))","v":{"$error":"#N/A"}},{"$f":"INDEX(N$64:Y$88,MATCH(1,(N$64:N$88=D31)*(O$64:O$88=E31),0),IF(F31=100,4,IF(F31=150,6,IF(F31=200,8,IF(F31=250,10,IF(F31=300,12,0))))))","v":{"$error":"#N/A"}},{"$f":"INDEX(N$91:Y$115,MATCH(1,(N$91:N$115=D31)*(O$91:O$115=E31),0),IF(F31=100,3,IF(F31=150,5,IF(F31=200,7,IF(F31=250,9,IF(F31=300,11,0))))))","v":{"$error":"#N/A"}},{"$f":"INDEX(N$91:Y$115,MATCH(1,(N$91:N$115=D31)*(O$91:O$115=E31),0),IF(F31=100,4,IF(F31=150,6,IF(F31=200,8,IF(F31=250,10,IF(F31=300,12,0))))))","v":{"$error":"#N/A"}},{"$f":"INDEX(N$118:Y$142,MATCH(1,(N$118:N$142=D31)*(O$118:O$142=E31),0),IF(F31=100,3,IF(F31=150,5,IF(F31=200,7,IF(F31=250,9,IF(F31=300,11,0))))))","v":{"$error":"#N/A"}},{"$f":"INDEX(N$118:Y$142,MATCH(1,(N$118:N$142=D31)*(O$118:O$142=E31),0),IF(F31=100,4,IF(F31=150,6,IF(F31=200,8,IF(F31=250,10,IF(F31=300,12,0))))))","v":{"$error":"#N/A"}}]
[]
[]
["16mm",null,null,null,null,null,null,null,null,null,null,null,null,"20mm"]
[0,"W/(m2xK)",100,null,150,null,200,null,250,null,300,null,null,0,"W/(m2xK)",100,null,150,null,200,null,250,null,300]
["Flow temp ","Room temp","Output (W/m2)","surface temp","Output (W/m2)","surface temp","Output (W/m2)","surface temp","Output (W/m2)","surface temp","Output (W/m2)","surface temp",null,"Flow temp ","Room temp","Output (W/m2)","surface temp","Output (W/m2)","surface temp","Output (W/m2)","surface temp","Output (W/m2)","surface temp","Output (W/m2)","surface temp"]
[40,15,null,null,null,null,60.6,20.7,null,null,null,null,null,40,15,null,null,null,null,60.6,20.7]
[40,18,null,null,null,null,51.5,22.9,null,null,null,null,null,40,18,null,null,null,null,51.5,22.9]
[40,20,null,null,null,null,45.5,24.4,null,null,null,null,null,40,20,null,null,null,null,45.5,24.4]
[40,22,null,null,null,null,39.4,25.9,null,null,null,null,null,40,22,null,null,null,null,39.4,25.9]
[40,24,null,null,null,null,33.299999999999997,27.3,null,null,null,null,null,40,24,null,null,null,null,33.299999999999997,27.3]
[45,15,null,null,null,null,75.8,22,null,null,null,null,null,45,15,null,null,null,null,75.8,22]
[45,18,null,null,null,null,66.7,24.2,null,null,null,null,null,45,18,null,null,null,null,66.7,24.2]
[45,20,null,null,null,null,60.6,25.7,null,null,null,null,null,45,20,null,null,null,null,60.6,25.7]
[45,22,null,null,null,null,54.5,27.2,null,null,null,null,null,45,22,null,null,null,null,54.5,27.2]
[45,24,null,null,null,null,48.5,28.7,null,null,null,null,null,45,24,null,null,null,null,48.5,28.7]
[50,15,null,null,null,null,90.9,23.3,null,null,null,null,null,50,15,null,null,null,null,90.9,23.3]
[50,18,null,null,null,null,81.8,25.5,null,null,null,null,null,50,18,null,null,null,null,81.8,25.5]
[50,20,null,null,null,null,75.8,27,null,null,null,null,null,50,20,null,null,null,null,75.8,27]
[50,22,null,null,null,null,69.7,28.5,null,null,null,null,null,50,22,null,null,null,null,69.7,28.5]
[50,24,null,null,null,null,63.6,30,null,null,null,null,null,50,24,null,null,null,null,63.6,30]
[55,15,null,null,null,null,106.1,24.5,null,null,null,null,null,55,15,null,null,null,null,106.1,24.5]
[55,18,null,null,null,null,97,26.8,null,null,null,null,null,55,18,null,null,null,null,97,26.8]
[55,20,null,null,null,null,90.9,28.3,null,null,null,null,null,55,20,null,null,null,null,90.9,28.3]
[55,22,null,null,null,null,84.8,29.8,null,null,null,null,null,55,22,null,null,null,null,84.8,29.8]
[55,24,null,null,null,null,78.8,31.2,null,null,null,null,null,55,24,null,null,null,null,78.8,31.2]
[60,15,null,null,null,null,121.2,25.7,null,null,null,null,null,60,15,null,null,null,null,121.2,25.7]
[60,18,null,null,null,null,112.1,28,null,null,null,null,null,60,18,null,null,null,null,112.1,28]
[60,20,null,null,null,null,106.1,29.5,null,null,null,null,null,60,20,null,null,null,null,106.1,29.5]
[60,22,null,null,null,null,100,31,null,null,null,null,null,60,22,null,null,null,null,100,31]
[60,24,null,null,null,null,93.9,32.5,null,null,null,null,null,60,24,null,null,null,null,93.9,32.5]
[0.05,"W/(m2xK)",null,null,null,null,null,null,null,null,null,null,null,0.05,"W/(m2xK)"]
["Flow temp ","Room temp","Output (W/m2)","surface temp","Output (W/m2)","surface temp","Output (W/m2)","surface temp","Output (W/m2)","surface temp","Output (W/m2)","surface temp",null,"Flow temp ","Room temp","Output (W/m2)","surface temp","Output (W/m2)","surface temp","Output (W/m2)","surface temp","Output (W/m2)","surface temp","Output (W/m2)","surface temp"]
[40,15,null,null,null,null,0,0,null,null,null,null,null,40,15]
[40,18,null,null,null,null,0,0,null,null,null,null,null,40,18]
[40,20,null,null,null,null,0,0,null,null,null,null,null,40,20]
[40,22,null,null,null,null,0,0,null,null,null,null,null,40,22]
[40,24,null,null,null,null,0,0,null,null,null,null,null,40,24]
[45,15,null,null,null,null,0,0,null,null,null,null,null,45,15]
[45,18,null,null,null,null,0,0,null,null,null,null,null,45,18]
[45,20,null,null,null,null,0,0,null,null,null,null,null,45,20]
[45,22,null,null,null,null,0,0,null,null,null,null,null,45,22]
[45,24,null,null,null,null,0,0,null,null,null,null,null,45,24]
[50,15,null,null,null,null,0,0,null,null,null,null,null,50,15]
[50,18,null,null,null,null,0,0,null,null,null,null,null,50,18]
[50,20,null,null,null,null,0,0,null,null,null,null,null,50,20]
[50,22,null,null,null,null,0,0,null,null,null,null,null,50,22]
[50,24,null,null,null,null,0,0,null,null,null,null,null,50,24]
[55,15,null,null,null,null,0,0,null,null,null,null,null,55,15]
[55,18,null,null,null,null,0,0,null,null,null,null,null,55,18]
[55,20,null,null,null,null,0,0,null,null,null,null,null,55,20]
[55,22,null,null,null,null,0,0,null,null,null,null,null,55,22]
[55,24,null,null,null,null,0,0,null,null,null,null,null,55,24]
[60,15,null,null,null,null,0,0,null,null,null,null,null,60,15]
[60,18,null,null,null,null,0,0,null,null,null,null,null,60,18]
[60,20,null,null,null,null,0,0,null,null,null,null,null,60,20]
[60,22,null,null,null,null,0,0,null,null,null,null,null,60,22]
[60,24,null,null,null,null,0,0,null,null,null,null,null,60,24]
[0.1,"W/(m2xK)",null,null,null,null,0,0,null,null,null,null,null,0.1,"W/(m2xK)"]
["Flow temp ","Room temp","Output (W/m2)","surface temp","Output (W/m2)","surface temp","Output (W/m2)","surface temp","Output (W/m2)","surface temp","Output (W/m2)","surface temp",null,"Flow temp ","Room temp","Output (W/m2)","surface temp","Output (W/m2)","surface temp","Output (W/m2)","surface temp","Output (W/m2)","surface temp","Output (W/m2)","surface temp"]
[40,15,null,null,null,null,46.5,19.5,null,null,null,null,null,40,15,null,null,null,null,46.5,19.5]
[40,18,null,null,null,null,39.5,21.9,null,null,null,null,null,40,18,null,null,null,null,39.5,21.9]
[40,20,null,null,null,null,34.9,23.5,null,null,null,null,null,40,20,null,null,null,null,34.9,23.5]
[40,22,null,null,null,null,30.2,25,null,null,null,null,null,40,22,null,null,null,null,30.2,25]
[40,24,null,null,null,null,25.6,26.6,null,null,null,null,null,40,24,null,null,null,null,25.6,26.6]
[45,15,null,null,null,null,58.2,20.5,null,null,null,null,null,45,15,null,null,null,null,58.2,20.5]
[45,18,null,null,null,null,51.2,22.9,null,null,null,null,null,45,18,null,null,null,null,51.2,22.9]
[45,20,null,null,null,null,46.5,24.5,null,null,null,null,null,45,20,null,null,null,null,46.5,24.5]
[45,22,null,null,null,null,41.9,26.1,null,null,null,null,null,45,22,null,null,null,null,41.9,26.1]
[45,24,null,null,null,null,37.200000000000003,27.7,null,null,null,null,null,45,24,null,null,null,null,37.200000000000003,27.7]
[50,15,null,null,null,null,69.8,21.5,null,null,null,null,null,50,15,null,null,null,null,69.8,21.5]
[50,18,null,null,null,null,62.8,23.9,null,null,null,null,null,50,18,null,null,null,null,62.8,23.9]
[50,20,null,null,null,null,58.2,25.5,null,null,null,null,null,50,20,null,null,null,null,58.2,25.5]
[50,22,null,null,null,null,53.5,27.1,null,null,null,null,null,50,22,null,null,null,null,53.5,27.1]
[50,24,null,null,null,null,48.8,28.7,null,null,null,null,null,50,24,null,null,null,null,48.8,28.7]
[55,15,null,null,null,null,81.400000000000006,22.5,null,null,null,null,null,55,15,null,null,null,null,81.400000000000006,22.5]
[55,18,null,null,null,null,74.400000000000006,24.9,null,null,null,null,null,55,18,null,null,null,null,74.400000000000006,24.9]
[55,20,null,null,null,null,69.8,26.5,null,null,null,null,null,55,20,null,null,null,null,69.8,26.5]
[55,22,null,null,null,null,65.099999999999994,28.1,null,null,null,null,null,55,22,null,null,null,null,65.099999999999994,28.1]
[55,24,null,null,null,null,60.5,29.7,null,null,null,null,null,55,24,null,null,null,null,60.5,29.7]
[60,15,null,null,null,null,93,23.4,null,null,null,null,null,60,15,null,null,null,null,93,23.4]
[60,18,null,null,null,null,86.1,25.9,null,null,null,null,null,60,18,null,null,null,null,86.1,25.9]
[60,20,null,null,null,null,81.400000000000006,27.5,null,null,null,null,null,60,20,null,null,null,null,81.400000000000006,27.5]
[60,22,null,null,null,null,76.8,29.1,null,null,null,null,null,60,22,null,null,null,null,76.8,29.1]
[60,24,null,null,null,null,72.099999999999994,30.7,null,null,null,null,null,60,24,null,null,null,null,72.099999999999994,30.7]
[0.2,"W/(m2xK)",null,null,null,null,null,null,null,null,null,null,null,0.15,"W/(m2xK)"]
["Flow temp ","Room temp","Output (W/m2)","surface temp","Output (W/m2)","surface temp","Output (W/m2)","surface temp","Output (W/m2)","surface temp","Output (W/m2)","surface temp",null,"Flow temp ","Room temp","Output (W/m2)","surface temp","Output (W/m2)","surface temp","Output (W/m2)","surface temp","Output (W/m2)","surface temp","Output (W/m2)","surface temp"]
[40,15,null,null,null,null,37.700000000000003,18.7,null,null,null,null,null,40,15,null,null,null,null,37.700000000000003,18.7]
[40,18,null,null,null,null,32.1,21.2,null,null,null,null,null,40,18,null,null,null,null,32.1,21.2]
[40,20,null,null,null,null,28.3,22.9,null,null,null,null,null,40,20,null,null,null,null,28.3,22.9]
[40,22,null,null,null,null,24.5,24.5,null,null,null,null,null,40,22,null,null,null,null,24.5,24.5]
[40,24,null,null,null,null,20.8,26.2,null,null,null,null,null,40,24,null,null,null,null,20.8,26.2]
[45,15,null,null,null,null,47.2,19.5,null,null,null,null,null,45,15,null,null,null,null,47.2,19.5]
[45,18,null,null,null,null,41.5,22,null,null,null,null,null,45,18,null,null,null,null,41.5,22]
[45,20,null,null,null,null,37.700000000000003,23.7,null,null,null,null,null,45,20,null,null,null,null,37.700000000000003,23.7]
[45,22,null,null,null,null,34,25.4,null,null,null,null,null,45,22,null,null,null,null,34,25.4]
[45,24,null,null,null,null,30.2,27,null,null,null,null,null,45,24,null,null,null,null,30.2,27]
[50,15,null,null,null,null,56.6,20.399999999999999,null,null,null,null,null,50,15,null,null,null,null,56.6,20.399999999999999]
[50,18,null,null,null,null,50.9,22.9,null,null,null,null,null,50,18,null,null,null,null,50.9,22.9]
[50,20,null,null,null,null,47.2,24.5,null,null,null,null,null,50,20,null,null,null,null,47.2,24.5]
[50,22,null,null,null,null,43.4,26.2,null,null,null,null,null,50,22,null,null,null,null,43.4,26.2]
[50,24,null,null,null,null,39.6,27.9,null,null,null,null,null,50,24,null,null,null,null,39.6,27.9]
[55,15,null,null,null,null,66,21.2,null,null,null,null,null,55,15,null,null,null,null,66,21.2]
[55,18,null,null,null,null,60.4,23.7,null,null,null,null,null,55,18,null,null,null,null,60.4,23.7]
[55,20,null,null,null,null,56.6,25.4,null,null,null,null,null,55,20,null,null,null,null,56.6,25.4]
[55,22,null,null,null,null,52.8,27,null,null,null,null,null,55,22,null,null,null,null,52.8,27]
[55,24,null,null,null,null,49.1,28.7,null,null,null,null,null,55,24,null,null,null,null,49.1,28.7]
[60,15,null,null,null,null,68,21.3,null,null,null,null,null,60,15,null,null,null,null,68,21.3]
[60,18,null,null,null,null,62.9,23.9,null,null,null,null,null,60,18,null,null,null,null,62.9,23.9]
[60,20,null,null,null,null,59.5,25.6,null,null,null,null,null,60,20,null,null,null,null,59.5,25.6]
[60,22,null,null,null,null,56.1,27.3,null,null,null,null,null,60,22,null,null,null,null,56.1,27.3]
[60,24,null,null,null,null,52.7,29,null,null,null,null,null,60,24,null,null,null,null,52.7,29]

{"sheet":"UFH Guide","index":27,"n_rows":36,"n_cols":38,"rows_kept":36,"cut":false,"hidden":false,"merged":[]}
["Room","Room Temp (⁰C)","Heat Loss for room (Watts)","Floor Type","MWT @ DOT (°C)","UFH active area (m²)","Unheated area by UFH (m²)","Pipe diameter (mm)","Pipe Spacing (mm)","Floor covering (W/(m² x K))","Amount of pipe required in room (m)","UFH output (W/m²)","Average surface temp (°C)","Total output by UFH (W)","Difference (W)",null,null,null,null,null,null,null,null,null,null,null,null,null,null,null,"Floor type","flow temp","Pipe diameter","pipe spacing","pipe spacing (HEP)","floor covering","floor covering (suspended)","room temp"]
[{"$f":"'Design Details'!B87","v":"Bed/Study "},null,{"$f":"'Design Details'!C87","v":0},null,null,{"$f":"IF(D2=\"Solid\",'Design Details'!H87,IF(D2=\"Suspended\",'Design Details'!H87*80%,0))","v":0},null,null,null,null,{"$f":"IF(I2=100,(F2-G2)*10,IF(I2=150,(F2-G2)*6.7,IF(I2=200,(F2-G2)*5,IF(I2=250,(F2-G2)*4,IF(I2=300,(F2-G2)*3.4,0)))))","v":0},{"$f":"IF(D2=\"Solid\",Solid!H2,Suspended!H2)","v":0},{"$f":"IF(D2=\"Solid\",Solid!I2,Suspended!I2)","v":0},{"$f":"(F2-G2)*L2","v":0},{"$f":"N2-C2","v":0},null,null,null,null,null,null,null,null,null,null,null,null,null,null,null,"Solid",35,16,100,200,0,0,15]
[{"$f":"'Design Details'!B88","v":" "},null,{"$f":"'Design Details'!C88","v":0},null,null,{"$f":"IF(D3=\"Solid\",'Design Details'!H88,IF(D3=\"Suspended\",'Design Details'!H88*80%,0))","v":0},null,null,null,null,{"$f":"IF(I3=100,(F3-G3)*10,IF(I3=150,(F3-G3)*6.7,IF(I3=200,(F3-G3)*5,IF(I3=250,(F3-G3)*4,IF(I3=300,(F3-G3)*3.4,0)))))","v":0},{"$f":"IF(D3=\"Solid\",Solid!H3,Suspended!H3)","v":0},{"$f":"IF(D3=\"Solid\",Solid!I3,Suspended!I3)","v":0},{"$f":"(F3-G3)*L3","v":0},{"$f":"N3-C3","v":0},null,null,null,null,null,null,null,null,null,null,null,null,null,null,null,"Suspended",40,20,150,null,0.05,0.1,18]
[{"$f":"'Design Details'!B89","v":" "},null,{"$f":"'Design Details'!C89","v":0},null,null,{"$f":"IF(D4=\"Solid\",'Design Details'!H89,IF(D4=\"Suspended\",'Design Details'!H89*80%,0))","v":0},null,null,null,null,0,{"$f":"IF(D4=\"Solid\",Solid!H4,Suspended!H4)","v":0},{"$f":"IF(D4=\"Solid\",Solid!I4,Suspended!I4)","v":0},0,0,null,null,null,null,null,null,null,null,null,null,null,null,null,null,null,null,45,null,200,null,0.1,0.2,20]
[{"$f":"'Design Details'!B90","v":" "},null,{"$f":"'Design Details'!C90","v":0},null,null,{"$f":"IF(D5=\"Solid\",'Design Details'!H90,IF(D5=\"Suspended\",'Design Details'!H90*80%,0))","v":0},null,null,null,null,0,{"$f":"IF(D5=\"Solid\",Solid!H5,Suspended!H5)","v":0},{"$f":"IF(D5=\"Solid\",Solid!I5,Suspended!I5)","v":0},0,0,null,null,null,null,null,null,null,null,null,null,null,null,null,null,null,null,50,null,250,null,0.15,null,22]
[{"$f":"'Design Details'!B91","v":" "},null,{"$f":"'Design Details'!C91","v":0},null,null,{"$f":"IF(D6=\"Solid\",'Design Details'!H91,IF(D6=\"Suspended\",'Design Details'!H91*80%,0))","v":0},null,null,null,null,0,{"$f":"IF(D6=\"Solid\",Solid!H6,Suspended!H6)","v":0},{"$f":"IF(D6=\"Solid\",Solid!I6,Suspended!I6)","v":0},0,0,null,null,null,null,null,null,null,null,null,null,null,null,null,null,null,null,55,null,300,null,null,null,24]
[{"$f":"'Design Details'!B92","v":" "},null,{"$f":"'Design Details'!C92","v":0},null,null,{"$f":"IF(D7=\"Solid\",'Design Details'!H92,IF(D7=\"Suspended\",'Design Details'!H92*80%,0))","v":0},null,null,null,null,0,{"$f":"IF(D7=\"Solid\",Solid!H7,Suspended!H7)","v":0},{"$f":"IF(D7=\"Solid\",Solid!I7,Suspended!I7)","v":0},0,0,null,null,null,null,null,null,null,null,null,null,null,null,null,null,null,null,60]
[{"$f":"'Design Details'!B93","v":" "},null,{"$f":"'Design Details'!C93","v":0},null,null,{"$f":"IF(D8=\"Solid\",'Design Details'!H93,IF(D8=\"Suspended\",'Design Details'!H93*80%,0))","v":0},null,null,null,null,0,{"$f":"IF(D8=\"Solid\",Solid!H8,Suspended!H8)","v":0},{"$f":"IF(D8=\"Solid\",Solid!I8,Suspended!I8)","v":0},0,0]
[{"$f":"'Design Details'!B94","v":" "},null,{"$f":"'Design Details'!C94","v":0},null,null,{"$f":"IF(D9=\"Solid\",'Design Details'!H94,IF(D9=\"Suspended\",'Design Details'!H94*80%,0))","v":0},null,null,null,null,0,{"$f":"IF(D9=\"Solid\",Solid!H9,Suspended!H9)","v":0},{"$f":"IF(D9=\"Solid\",Solid!I9,Suspended!I9)","v":0},0,0]
[{"$f":"'Design Details'!B95","v":" "},null,{"$f":"'Design Details'!C95","v":0},null,null,{"$f":"IF(D10=\"Solid\",'Design Details'!H95,IF(D10=\"Suspended\",'Design Details'!H95*80%,0))","v":0},null,null,null,null,0,{"$f":"IF(D10=\"Solid\",Solid!H10,Suspended!H10)","v":0},{"$f":"IF(D10=\"Solid\",Solid!I10,Suspended!I10)","v":0},0,0]
[{"$f":"'Design Details'!B96","v":" "},null,{"$f":"'Design Details'!C96","v":0},null,null,{"$f":"IF(D11=\"Solid\",'Design Details'!H96,IF(D11=\"Suspended\",'Design Details'!H96*80%,0))","v":0},null,null,null,null,0,{"$f":"IF(D11=\"Solid\",Solid!H11,Suspended!H11)","v":0},{"$f":"IF(D11=\"Solid\",Solid!I11,Suspended!I11)","v":0},0,0]
[{"$f":"'Design Details'!B97","v":" "},null,{"$f":"'Design Details'!C97","v":0},null,null,{"$f":"IF(D12=\"Solid\",'Design Details'!H97,IF(D12=\"Suspended\",'Design Details'!H97*80%,0))","v":0},null,null,null,null,0,{"$f":"IF(D12=\"Solid\",Solid!H12,Suspended!H12)","v":0},{"$f":"IF(D12=\"Solid\",Solid!I12,Suspended!I12)","v":0},0,0]
[{"$f":"'Design Details'!B98","v":" "},null,{"$f":"'Design Details'!C98","v":0},null,null,{"$f":"IF(D13=\"Solid\",'Design Details'!H98,IF(D13=\"Suspended\",'Design Details'!H98*80%,0))","v":0},null,null,null,null,0,{"$f":"IF(D13=\"Solid\",Solid!H13,Suspended!H13)","v":0},{"$f":"IF(D13=\"Solid\",Solid!I13,Suspended!I13)","v":0},0,0]
[{"$f":"'Design Details'!B99","v":" "},null,{"$f":"'Design Details'!C99","v":0},null,null,{"$f":"IF(D14=\"Solid\",'Design Details'!H99,IF(D14=\"Suspended\",'Design Details'!H99*80%,0))","v":0},null,null,null,null,0,{"$f":"IF(D14=\"Solid\",Solid!H14,Suspended!H14)","v":0},{"$f":"IF(D14=\"Solid\",Solid!I14,Suspended!I14)","v":0},0,0]
[{"$f":"'Design Details'!B100","v":" "},null,{"$f":"'Design Details'!C100","v":0},null,null,{"$f":"IF(D15=\"Solid\",'Design Details'!H100,IF(D15=\"Suspended\",'Design Details'!H100*80%,0))","v":0},null,null,null,null,0,{"$f":"IF(D15=\"Solid\",Solid!H15,Suspended!H15)","v":0},{"$f":"IF(D15=\"Solid\",Solid!I15,Suspended!I15)","v":0},0,0]
[{"$f":"'Design Details'!B101","v":" "},null,{"$f":"'Design Details'!C101","v":0},null,null,{"$f":"IF(D16=\"Solid\",'Design Details'!H101,IF(D16=\"Suspended\",'Design Details'!H101*80%,0))","v":0},null,null,null,null,0,{"$f":"IF(D16=\"Solid\",Solid!H16,Suspended!H16)","v":0},{"$f":"IF(D16=\"Solid\",Solid!I16,Suspended!I16)","v":0},0,0]
[{"$f":"'Design Details'!B102","v":" "},null,{"$f":"'Design Details'!C102","v":0},null,null,{"$f":"IF(D17=\"Solid\",'Design Details'!H102,IF(D17=\"Suspended\",'Design Details'!H102*80%,0))","v":0},null,null,null,null,0,{"$f":"IF(D17=\"Solid\",Solid!H17,Suspended!H17)","v":0},{"$f":"IF(D17=\"Solid\",Solid!I17,Suspended!I17)","v":0},0,0]
[{"$f":"'Design Details'!B103","v":" "},null,{"$f":"'Design Details'!C103","v":0},null,null,{"$f":"IF(D18=\"Solid\",'Design Details'!H103,IF(D18=\"Suspended\",'Design Details'!H103*80%,0))","v":0},null,null,null,null,0,{"$f":"IF(D18=\"Solid\",Solid!H18,Suspended!H18)","v":0},{"$f":"IF(D18=\"Solid\",Solid!I18,Suspended!I18)","v":0},0,0]
[{"$f":"'Design Details'!B104","v":" "},null,{"$f":"'Design Details'!C104","v":0},null,null,{"$f":"IF(D19=\"Solid\",'Design Details'!H104,IF(D19=\"Suspended\",'Design Details'!H104*80%,0))","v":0},null,null,null,null,0,{"$f":"IF(D19=\"Solid\",Solid!H19,Suspended!H19)","v":0},{"$f":"IF(D19=\"Solid\",Solid!I19,Suspended!I19)","v":0},0,0]
[{"$f":"'Design Details'!B105","v":" "},null,{"$f":"'Design Details'!C105","v":0},null,null,{"$f":"IF(D20=\"Solid\",'Design Details'!H105,IF(D20=\"Suspended\",'Design Details'!H105*80%,0))","v":0},null,null,null,null,0,{"$f":"IF(D20=\"Solid\",Solid!H20,Suspended!H20)","v":0},{"$f":"IF(D20=\"Solid\",Solid!I20,Suspended!I20)","v":0},0,0]
[{"$f":"'Design Details'!B106","v":" "},null,{"$f":"'Design Details'!C106","v":0},null,null,{"$f":"IF(D21=\"Solid\",'Design Details'!H106,IF(D21=\"Suspended\",'Design Details'!H106*80%,0))","v":0},null,null,null,null,0,{"$f":"IF(D21=\"Solid\",Solid!H21,Suspended!H21)","v":0},{"$f":"IF(D21=\"Solid\",Solid!I21,Suspended!I21)","v":0},0,0]
[{"$f":"'Design Details'!B107","v":" "},null,{"$f":"'Design Details'!C107","v":0},null,null,{"$f":"IF(D22=\"Solid\",'Design Details'!H107,IF(D22=\"Suspended\",'Design Details'!H107*80%,0))","v":0},null,null,null,null,0,{"$f":"IF(D22=\"Solid\",Solid!H22,Suspended!H22)","v":0},{"$f":"IF(D22=\"Solid\",Solid!I22,Suspended!I22)","v":0},0,0]
[{"$f":"'Design Details'!B108","v":" "},null,{"$f":"'Design Details'!C108","v":0},null,null,{"$f":"IF(D23=\"Solid\",'Design Details'!H108,IF(D23=\"Suspended\",'Design Details'!H108*80%,0))","v":0},null,null,null,null,0,{"$f":"IF(D23=\"Solid\",Solid!H23,Suspended!H23)","v":0},{"$f":"IF(D23=\"Solid\",Solid!I23,Suspended!I23)","v":0},0,0]
[{"$f":"'Design Details'!B109","v":" "},null,{"$f":"'Design Details'!C109","v":0},null,null,{"$f":"IF(D24=\"Solid\",'Design Details'!H109,IF(D24=\"Suspended\",'Design Details'!H109*80%,0))","v":0},null,null,null,null,0,{"$f":"IF(D24=\"Solid\",Solid!H24,Suspended!H24)","v":0},{"$f":"IF(D24=\"Solid\",Solid!I24,Suspended!I24)","v":0},0,0]
[{"$f":"'Design Details'!B110","v":" "},null,{"$f":"'Design Details'!C110","v":0},null,null,{"$f":"IF(D25=\"Solid\",'Design Details'!H110,IF(D25=\"Suspended\",'Design Details'!H110*80%,0))","v":0},null,null,null,null,0,{"$f":"IF(D25=\"Solid\",Solid!H25,Suspended!H25)","v":0},{"$f":"IF(D25=\"Solid\",Solid!I25,Suspended!I25)","v":0},0,0]
[{"$f":"'Design Details'!B111","v":" "},null,{"$f":"'Design Details'!C111","v":0},null,null,{"$f":"IF(D26=\"Solid\",'Design Details'!H111,IF(D26=\"Suspended\",'Design Details'!H111*80%,0))","v":0},null,null,null,null,0,{"$f":"IF(D26=\"Solid\",Solid!H26,Suspended!H26)","v":0},{"$f":"IF(D26=\"Solid\",Solid!I26,Suspended!I26)","v":0},0,0]
[{"$f":"'Design Details'!B112","v":" "},null,{"$f":"'Design Details'!C112","v":0},null,null,{"$f":"IF(D27=\"Solid\",'Design Details'!H112,IF(D27=\"Suspended\",'Design Details'!H112*80%,0))","v":0},null,null,null,null,0,{"$f":"IF(D27=\"Solid\",Solid!H27,Suspended!H27)","v":0},{"$f":"IF(D27=\"Solid\",Solid!I27,Suspended!I27)","v":0},0,0]
[{"$f":"'Design Details'!B113","v":" "},null,{"$f":"'Design Details'!C113","v":0},null,null,{"$f":"IF(D28=\"Solid\",'Design Details'!H113,IF(D28=\"Suspended\",'Design Details'!H113*80%,0))","v":0},null,null,null,null,0,{"$f":"IF(D28=\"Solid\",Solid!H28,Suspended!H28)","v":0},{"$f":"IF(D28=\"Solid\",Solid!I28,Suspended!I28)","v":0},0,0]
[{"$f":"'Design Details'!B114","v":" "},null,{"$f":"'Design Details'!C114","v":0},null,null,{"$f":"IF(D29=\"Solid\",'Design Details'!H114,IF(D29=\"Suspended\",'Design Details'!H114*80%,0))","v":0},null,null,null,null,0,{"$f":"IF(D29=\"Solid\",Solid!H29,Suspended!H29)","v":0},{"$f":"IF(D29=\"Solid\",Solid!I29,Suspended!I29)","v":0},0,0]
[{"$f":"'Design Details'!B115","v":" "},null,{"$f":"'Design Details'!C115","v":0},null,null,{"$f":"IF(D30=\"Solid\",'Design Details'!H115,IF(D30=\"Suspended\",'Design Details'!H115*80%,0))","v":0},null,null,null,null,0,{"$f":"IF(D30=\"Solid\",Solid!H30,Suspended!H30)","v":0},{"$f":"IF(D30=\"Solid\",Solid!I30,Suspended!I30)","v":0},0,0]
[{"$f":"'Design Details'!B116","v":" "},null,{"$f":"'Design Details'!C116","v":0},null,null,{"$f":"IF(D31=\"Solid\",'Design Details'!H116,IF(D31=\"Suspended\",'Design Details'!H116*80%,0))","v":0},null,null,null,null,0,{"$f":"IF(D31=\"Solid\",Solid!H31,Suspended!H31)","v":0},{"$f":"IF(D31=\"Solid\",Solid!I31,Suspended!I31)","v":0},0,0]
[]
[null,null,null,null,null,null,null,null,null,"Green Flag =","Within interior zone (max. 29°C) "]
[null,null,null,null,null,null,null,null,null,"Orange Flag =","Within bathroom zone (max. 33°C)"]
[null,null,null,null,null,null,null,null,null,"Red Flag =","Within peripheral zone (max. 35°C)"]
[null,null,null,null,null,null,null,null,null,"Stop sign =","Warning surface temp too high"]

{"sheet":"Graphs","index":28,"n_rows":52,"n_cols":9,"rows_kept":52,"cut":false,"hidden":false,"merged":[[0,0,0,8]]}
["Estimated Fuel Price Comparison Calculations"]
["Energy Requirement (heating)",null,null,null,{"$f":"'Design Details'!C26","v":0},"kWhr/yr"]
["Energy Requirement (hot water)",null,null,null,{"$f":"'Design Details'!G24","v":0}]
["OIL"]
["Price of oil per litre",null,null,null,{"$f":"'Design Details'!G41","v":0.61}]
["kWhr per litre",null,null,null,10.27,"kWhr"]
["Boiler Efficiency of existing Oil Boiler",null,null,null,0.88,"% SEDBUK"]
["Efficiency of new Oil boiler",null,null,null,0.88,"% SEDBUK"]
[null,null,null,"existing",{"$f":"E7*E6","v":9.0375999999999994},"kW hrs per litre oil"]
[null,null,null,"new",{"$f":"E8*E6","v":9.0375999999999994},"kW hrs per litre oil"]
[null,null,null,"existing",{"$f":"E5/E9","v":6.7495795343896617E-2},"£ per kWhr"]
[null,null,null,"new",{"$f":"E5/E10","v":6.7495795343896617E-2},"£ per kWhr"]
["ELECTRICITY / HEAT PUMP"]
["Price of Unit of electricity",null,null,null,{"$f":"'Design Details'!G38","v":0.14000000000000001}]
["SPF SH",null,null,null,{"$f":"'Design Details'!C33","v":3.5}]
["COP HW @ flow temp",null,null,null,{"$f":"'Design Details'!C34","v":"Input Required"}]
["Energy Requirement  (SH)",null,null,null,{"$f":"IFERROR(E2/E15,0)","v":0},"kWhrs annual demand (Inc hot water)"]
["Energy Requirement  (HW)",null,null,null,{"$f":"IFERROR(E3/E16,0)","v":0}]
["Cost Htg Pump (£)",null,null,null,{"$f":"'Design Details'!C41","v":0}]
["Cost Ground Pump (£)",null,null,null,{"$f":"'Design Details'!G37","v":0}]
["Cost Immersion (£)",null,null,null,{"$f":"'Design Details'!C39","v":0}]
["GAS (natural)"]
["Efficiency of proposed boiler (New)",null,null,null,0.9,"% SEDBUK"]
["Price of Gas per kWhr",null,null,null,{"$f":"'Design Details'!G39","v":4.6399999999999997E-2}]
["Energy Requirement ",null,null,null,{"$f":"(E2+E3)/E23","v":0},"kWhrs annual demand (Inc hot water)"]
["GAS LPG"]
["Price of LPG per litre",null,null,null,{"$f":"'Design Details'!G40","v":0.52100000000000002},"Bulk purchase"]
["kWhr per litre",null,null,null,6.6,"Std Conversion"]
["Boiler Efficiency",null,null,null,0.9,"Assumed if very new"]
[null,null,null,null,{"$f":"E29*E28","v":5.9399999999999995},"kW hrs per litre lpg"]
[null,null,null,null,{"$f":"E27/E30","v":8.7710437710437725E-2},"Pence per kWhr"]
["ELECTRIC BOILER"]
["Price of Unit of electricity",null,null,null,{"$f":"E14","v":0.14000000000000001}]
["Energy Requirement",null,null,null,{"$f":"E2+E3","v":0},"kWhrs annual demand (Inc hot water)"]
["ANNUAL COSTS"]
["New Electric Boiler",null,null,null,{"$f":"$E$33*$E$34+$E$19","v":0},"Electric"]
["New High Efficient Gas Boiler",null,null,null,{"$f":"$E$25*$E$24+$E$19","v":0},"Gas"]
["Proposed Heat Pump",null,null,null,{"$f":"'Design Details'!C40","v":0},"Heat Pump"]
["New High Efficient LPG Boiler",null,null,null,{"$f":"$E$31*($E$2+$E$3)+$E$19","v":0},"LPG Gas"]
["New High Efficient Oil Boiler",null,null,null,{"$f":"($E$2+$E$3)*$E$11+$E$19","v":0},"Oil"]
["CO2 EMISSIONS"]
["Electric",null,null,null,0.49399999999999999,"kg CO2/kWh",null,{"$f":"$E$34","v":0},"kWhrs"]
["Gas",null,null,null,0.185,"kg CO2/kWh",null,{"$f":"$E$25","v":0},"kWhrs"]
["Heat Pump",null,null,null,0.49399999999999999,"kg CO2/kWh",null,{"$f":"$E$17+$E$18","v":0},"kWhrs"]
["LPG Gas",null,null,null,0.215,"kg CO2/kWh",null,{"$f":"($E$2+$E$3)/$E$29","v":0},"kWhrs"]
["Oil",null,null,null,0.247,"kg CO2/kWh",null,{"$f":"($E$2+$E$3)/$E$8","v":0},"kWhrs"]
[]
["New Electric Boiler",null,null,null,{"$f":"E42*H42","v":0},"CO₂","New Electric Boiler"]
["New High Efficient Gas Boiler",null,null,null,{"$f":"E43*H43","v":0},"CO₂","New High Efficient Gas Boiler"]
["Proposed Heat Pump",null,null,null,{"$f":"E44*H44","v":0},"CO₂","Proposed Heat Pump"]
["New High Efficient LPG Boiler",null,null,null,{"$f":"E45*H45","v":0},"CO₂","New High Efficient LPG Boiler"]
["New High Efficient Oil Boiler",null,null,null,{"$f":"E46*H46","v":0},"CO₂","New High Efficient Oil Boiler"]

{"sheet":"Compliance Certificate v2.0","index":29,"n_rows":46,"n_cols":4,"rows_kept":46,"cut":false,"hidden":false,"merged":[[1,1,1,3],[2,1,2,3]]}
[]
[null,"MCS Compliance Certificate"]
[null,"Heat Pump"]
[null,"NOTE: All fields require a value so please use N/A or 0 where question is not applicable."]
[null,1,"GENERAL INFORMATION"]
[null,1.1000000000000001,"Name of owner"]
[null,1.2,"Adress of installation"]
[null,null,"Line 1"]
[null,null,"Line 2"]
[null,null,"Line 3"]
[null,null,"Line 4"]
[null,null,"Postcode"]
[null,1.3,"Adress of owner (if different to address of installation otherwise enter N/A)"]
[null,null,"Line 1"]
[null,null,"Line 2"]
[null,null,"Line 3"]
[null,null,"Line 4"]
[null,null,"Postcode"]
[null,2,"DESIGN INFORMATION"]
[null,null,"i) Intermittent or Continuous heating?"]
[null,null,"ii) Design External Temperature  (°C)"]
[null,null,"iii) Total Building Heat Loss at Design Condition (kW)"]
[null,3,"HEAT EMITTER INFORMATION"]
[null,null,"i) What Heat Emitter types are installed?"]
[null,null,"ii) What is the temperature of water (°C) leaving the heat pump when supplying space heating at the design day condition?"]
[null,null,"iii) Has a copy of the room by room calculations and heat emitter selections been given to the client?"]
[null,4,"DOMESTIC HOT WATER "]
[null,null,"i) What is the maximum design water temperature (°C) leaving the heat pump when in hot water heating mode?",{"$f":"'Design Details'!G33+5","v":55}]
[null,null,"ii) Has the DHWS reheat time been estimated and agreed with the customer?"]
[null,5,"IF GROUND SOURCE HEAT PUMP"]
[null,null,"i) Type of ground heat exchanger: vertical/ horizontal/ slinky/ open loop\n(if horizontal indicate minimum depth (m); if vertical indicate maximum depth (m))"]
[null,null,"ii) Ground conductivity factor used"]
[null,6,"EPC"]
[null,null,"i) EPC Number"]
[null,null,"ii) EPC annual space heating (kWh/yr) "]
[null,null,"iii) EPC annual hot water demand figure (kWh/yr) "]
[null,7," I COMFIRM THAT:"]
[null,null,"i) I am authorised to complete this certificate on behalf of the MCS Contractor named below","Yes"]
[null,null,"ii) the customer will receive an MCS Installation Certificate within 10 working days of the installation commissioning date","Yes"]
[null,null,"iii) MIS 3005 scheme requirements have been met (state issue number of MIS 3005 used)",5]
[null,null,"iv) the installation complies with system design as per the contract agreement","Yes"]
[null,8,"MCS Contractor"]
[null,null,"i) Organisation Name:"]
[null,null,"ii) Full Name and Job Title:"]
[null,null,"iii) Date:"]
[null,null,"iv) Signature:"]

{"sheet":"CC v2.0 Guidance","index":30,"n_rows":34,"n_cols":4,"rows_kept":34,"cut":false,"hidden":false,"merged":[[0,0,0,3]]}
["The following page provides guidance on completion of the compliance certificate. This spreadsheet is designed for upload to the MCS Installation Database (MID).\nPLEASE NOTE that all cells shown in white on the compliance certificate require a value otherwise you will be unable to upload the form to the MCS Installation Database. A value of N/A or 0 can be entered in fields which are not applicable."]
[]
["1. GENERAL INFORMATION",null,"RELEVANT SECTION MIS 3005","GUIDANCE"]
[1.1000000000000001,"Name of the owner","n/a","Enter the name of the owner."]
[1.2,"Address of the installation","n/a","Enter the address where the heating system is installed."]
[1.3,"Address of the owner","n/a","Enter the address of the owner. If the owner address is the same as the installation address enter N/A in all fields. "]
["2. DESIGN INFORMATION"]
[null,"i. Intermittent or Continuous heating?","4.2.1 a","Select 'intermittent' or 'continuous' as appropriate. \n\nIntermittent heating means that the heating system has the ability to provide all the space heating requirement on the design day within a period of no more than 16 hours, without use of supplementary heaters. Continuous heating means that the heating system has the ability to provide all the space heating requirement on the design day within a period of no more than 24 hours (but taking more than 16 hours), without use of supplementary heaters."]
[null,"ii. Design External temperature (°C)","4.2.1 b, Table 2","Enter the design external temperature used in the heat loss calculation. Refer to 4.2.1b and Table 2 in MIS 3005."]
[null,"iii. Total Building Heat Loss at Design Condition (kW)","4.2.1a, b, c","Enter the total heat loss of the building in kW. NOTE see 70kW guidance paper as this may be an area of the property as opposed to the whole building."]
["3.HEAT EMITTER INFORMATION"]
[null,"i. What Heat Emitter types are installed?","4.2.12 – 4.2.14  MCS021 Heat Emitter Guide for Domestic Heat Pumps","Referring to the emitter types listed in the Heat Emitter Guide, list all heat emitters installed. Note, it is only necessary to list the types of heat emitter installed in the property. It is not necessary to list the type and number of emitters installed in each room. "]
[null,"ii. What is the temperature of water leaving the heat pump when supplying space heating at the design day condition?","4.2.1a, b, c","The maximum water temperature setting for water leaving the heat pump in heating mode in accordance with the design. This is likely to be less than the maximum the heat pump could achieve."]
[null,"iii. Has a copy of the room by room heat loss calculations and heat emitter selections been given to the client?","4.2.12 – 4.2.14  MCS021 Heat Emitter Guide for Domestic Heat Pumps","Confirm Yes or No."]
["4. DOMESTIC HOT WATER "]
[null,"i. What is the maximum design water temperature in (°C) leaving the heat pump when in hot water heating mode?","4.2.3-4.2.7 \n","The maximum water temperature setting for water leaving the heat pump when heating sanitary hot water. This should be as high as possible to maximise the stored temperature and reduce the need for direct electric immersion heaters to reduce bacterialogical multiplication."]
[null,"ii. Has the DHWS reheat time been estimated and agreed with the customer?","4.2.5","Select Yes or No."]
["5. IF GROUND SOURCE HEAT PUMPS"]
[null,"i. Type of ground heat exchanger: vertical/ horizontal/ slinky/ open loop (if horizontal, indicate minimum depth (m); if vertical, indicate maximum depth (m)","4.2.19, MCS 022","For GSHP installations, enter the type of ground heat exchanger used. For horizontal, also enter the minimum depth; for vertical, also enter the maximum depth e.g (horizontal, 2m).\nFor other heat pump installations, enter N/A."]
[null,"ii. Ground conductivity factor used","4.2.23, Appendix C, MCS 022","This is the figure used in the calculations to size the ground array and should ideally be established using eirher a geotechnologist, specific experience from  nearby projects or a site thermal test or combination thereof."]
["6. EPC","(IF APPLICABLE)"]
[null,"i. EPC Number",4.3,"Enter the EPC number if the premises is entitled to a domestic EPC, otherwise enter N/A."]
[null,"ii. EPC annual space heating / hot water demand figure (kWh/ry)",4.3,"This figure normally appears at the bottom left hand side of the document and is the sum of the services heated by  the heat pump e.g.  heating and hot water energy figure added together if the"]
["7. DECLARATIONS"]
["I confirm that: "]
[null,"i. I am authorised to complete the certificate on behalf of the MCS Contractor named below:","n/a","Select Yes or No"]
[null,"ii. The customer will receive an MCS Installation certificate within 10 working days of the installation commissioning date","n/a","Select Yes or No"]
[null,"iii. MIS 3005 scheme requirements have been met ","n/a","Select the Issue of MIS 3005 that has been used. This version of the Compliance Certificate (v2.0) should only be used in conjunction with Issue 5.0 of MIS 3005."]
[null,"iv. The installation complies with system design as per the contract agreement","n/a","Select Yes or No"]
["8. CONFIRMATION"]
[null,"i. Organisation Name","n/a","Enter organisation name of the MCS Contractor responsible for the installation."]
[null,"ii. Full Name and Job Title:","n/a","State full name and job title of the person completing the compliance certificate."]
[null,"iii. Date:","n/a","State the date that the compliance certificate was completed."]
[null,"iv. Signature","n/a","Insert the signature of the person completing the certificate."]

{"sheet":"16","index":31,"n_rows":61,"n_cols":25,"rows_kept":61,"cut":false,"hidden":false,"merged":[[58,12,58,14],[44,19,48,19],[44,20,48,20],[54,12,54,14],[55,12,55,14],[56,12,56,14],[57,12,57,14],[44,18,48,18],[21,12,21,14],[30,12,30,14],[31,12,31,14],[44,16,48,16],[44,17,48,17],[20,12,20,14],[3,1,3,2],[3,4,3,5],[4,1,4,2],[4,4,4,5],[5,1,5,2],[5,4,5,5],[6,1,6,2],[9,11,9,14],[10,11,10,14],[18,12,18,14],[19,12,19,14],[0,1,0,3],[0,4,0,6],[0,10,0,11],[1,4,1,5],[2,2,2,3],[2,4,2,5]]}
[null,"Room Information",null,null,"Ventilation Heat Loss",null,null,"Fabric ","Heat Loss (W)"," Usage (kWh)","Additional heat loss",null,"Addition","Watts","kWh"]
[null,"Room",null,null,"Air Changes per hour",null,{"$f":"'Design Details'!G102","v":0},"Floor",{"$f":"SUM(K20:K22)","v":0},{"$f":"SUM(L20:L22)","v":0},"Thermal Bridging (New Build >2006)",null,0,{"$f":"SUM(I$2:I$6)*M2","v":0},{"$f":"SUM(J$2:J$6)*M2","v":0},null,"3 edges (long single)","Level",null,null,null,null,null,null,1]
[null,"Level",null,null,"Air Change Factor (W/m³K)",null,0.33,"Ext Wall",{"$f":"K27","v":0},{"$f":"L27","v":0},"Exposed location",null,0,{"$f":"SUM(I$2:I$6)*M3","v":0},{"$f":"SUM(J$2:J$6)*M3","v":0},null,"3 edges (short single)","Please Select Floor",{"$f":"IF($C$3=\"Ground floor\",\"Solid Floor (in contact with ground)\",IF($C$3=\"Single Storey\",\"Solid Floor (in contact with ground)\",\"n/a\"))","v":"n/a"},{"$f":"'Design Details'!C21","v":10},"unheated",0,0,0,2]
[null,"Design Room Temp (°C)",null,{"$f":"'Design Details'!E102","v":0},"Total Volume (m³)",null,{"$f":"SUM(I10:I12,I14:I18)","v":0},"Roof",{"$f":"SUM(K32,K36)","v":0},{"$f":"SUM(L32,L36)","v":0},"High ceiling",null,0,{"$f":"SUM(I$2:I$6)*M4","v":0},{"$f":"SUM(J$2:J$6)*M4","v":0},null,"One edge","Ground floor",{"$f":"IF($C$3=\"Ground floor\",\"Suspended Floor\",IF($C$3=\"Single Storey\",\"Suspended Floor\",\"n/a\"))","v":"n/a"},null,16,0.1,0.2,2.5000000000000001E-2,3]
[null,"Outside Design Temp (°C)",null,{"$f":"'Design Details'!C19","v":-2.5},"Heat loss (W)",null,{"$f":"G4*G3*D6*G2","v":0},"Glazing",{"$f":"SUM(K38:K44,K46:K49,K51:K54)","v":0},{"$f":"SUM(L38:L44,L46:L49,L51:L54)","v":0},"Intermittent heating",null,0,{"$f":"SUM(I$2:I$6)*M5","v":0},{"$f":"SUM(J$2:J$6)*M5","v":0},null,"Two adjacent","Mid-floor",null,null,18,null,null,0.05,4]
[null,"Temp Difference (°C)",null,{"$f":"D4-D5","v":2.5},"Estimated Energy usage (kWh)",null,{"$f":"G4*G3*D7*24/1000","v":0},"Int./Party Wall",{"$f":"SUM(K56:K59,K61)","v":0},{"$f":"SUM(L61)","v":0},null,null,null,"Total Room Heat Loss (W)",{"$f":"SUM(G5,I2:I6,N2:N5)","v":0},null,"Two opposite","Single storey",null,null,21,null,null,7.4999999999999997E-2,5]
[null,"Degree Days",null,{"$f":"'Design Details'!C20","v":2228},null,null,null,null,null,null,null,null,null,"Total Room Energy Usage (kWh)",{"$f":"SUM(G6,J2:J6,O2:O5)","v":0},null,null,"Upper floor",null,null,22,null,null,0.1,6]
[null,null,null,null,null,null,null,null,null,null,null,null,null,null,null,null,null,{"$f":"IF($C$3=\"Ground floor\",'Design Details'!C$45,IF($C$3=\"Mid-floor\",'Design Details'!C$55,IF($C$3=\"Upper floor\",'Design Details'!C$65,IF($C$3=\"Single Storey\",'Design Details'!C$75,0))))","v":0},null,null,null,null,null,null,7]
[null,"Room Dimensions",null,null,null,null,null,null,null,null,null,null,null,null,null,null,null,null,null,null,null,null,null,null,8]
[null,"Length (m)",null,"Width (m)",null,"Height (m)",null,"Volume (m³)",{"$f":"C10*E10*G10","v":0},null,null,null,null,null,null,null,null,null,null,null,null,null,null,null,9]
[null,"Length (m)",null,"Width (m)",null,"Height (m)",null,"Volume (m³)",{"$f":"C11*E11*G11","v":0},null,null,null,null,null,null,null,null,null,null,null,null,null,null,null,10]
[null,"Length (m)",null,"Width (m)",null,"Height (m)",null,"Volume (m³)",{"$f":"C12*E12*G12","v":0}]
[null,"Awkward Room Dimensions"]
[null,"Length (m)",null,"Width (m)",null,"Height (m)",null,"Volume (m³)",{"$f":"((G14*E14)/2)*C14","v":0},"Pitched"]
[null,"Length (m)",null,"Width (m)",null,"Height (m)",null,"Volume (m³)",{"$f":"C15*E15*G15/2","v":0},"Single Pitch"]
[null,"Length (m)",null,"Height (m)",null,"Depth (m)",null,"Volume (m³)",{"$f":"E16*G16*C16/2","v":0},"Dormer 1"]
[null,"Length (m)",null,"Height (m)",null,"Depth (m)",null,"Volume (m³)",{"$f":"E17*G17*C17/2","v":0},"Dormer 2"]
[null,"Length (m)",null,"Height (m)",null,"Depth (m)",null,"Volume (m³)",{"$f":"E18*G18*C18/2","v":0},"Dormer 3"]
[null,"Floor",null,null,null,null,null,null,null,"Temp Difference","Heat Loss (W)","Usage (kWh)",{"$f":"IF($C$3=\"Ground Floor\",\"Select type of Ground Floor\",IF($C$3=\"Single Storey\",\"Select type of Ground Floor\",\"#N/A\"))","v":"#N/A"}]
[null,{"$f":"B10","v":"Length (m)"},null,{"$f":"D10","v":"Width (m)"},null,"Area (m²)",{"$f":"C20*E20","v":0},"U Value (W/m²K)",{"$f":"IF(M22=\"\",R8,'floor u values'!K17)","v":0},{"$f":"IF(C$3=\"Ground Floor\",IF(M20=\"Solid Floor (in contact with ground)\",D$4-T$3,D$4-D$5),IF(C$3=\"Single Storey\",IF(M20=\"Solid Floor (in contact with ground)\",D$4-T$3,D$4-D$5),0))","v":0},{"$f":"G20*I20*J20","v":0},{"$f":"IF($C$3=$R$5,0,IF($C$3=$R$7,0,G20*I20*$D$7*24/1000))","v":0},"n/a"]
[null,"Length (m)",null,"Width (m)",null,"Area (m²)",{"$f":"C21*E21","v":0},"U Value (W/m²K)",{"$f":"I20","v":0},{"$f":"IF(C$3=\"Ground Floor\",IF(M20=\"Solid Floor (in contact with ground)\",D$4-T$3,D$4-D$5),IF(C$3=\"Single Storey\",IF(M20=\"Solid Floor (in contact with ground)\",D$4-T$3,D$4-D$5),0))","v":0},{"$f":"G21*I21*J21","v":0},{"$f":"IF($C$3=$R$5,0,IF($C$3=$R$7,0,G21*I21*$D$7*24/1000))","v":0},"Exposed floor (external)"]
[null,"Length (m)",null,"Width (m)",null,"Area (m²)",0,"U Value (W/m²K)",{"$f":"I20","v":0},{"$f":"IF(C$3=\"Ground Floor\",IF(M20=\"Solid Floor (in contact with ground)\",D$4-T$3,D$4-D$5),IF(C$3=\"Single Storey\",IF(M20=\"Solid Floor (in contact with ground)\",D$4-T$3,D$4-D$5),0))","v":0},{"$f":"G22*I22*J22","v":0},{"$f":"IF($C$3=$R$5,0,IF($C$3=$R$7,0,G22*I22*$D$7*24/1000))","v":0}]
[null,"External Wall",null,null,null,null,null,null,null,null,null,null,{"$f":"IF(M22=\"Two opposite\",\"Between edges\",IF(M22=\"One edge\",\"Depth of room\",IF(M22=\"3 edges (short single)\",\"Short length\",IF(M22=\"3 edges (long single)\",\"Short length\",\"\"))))","v":""},null,{"$f":"IF(M22=\"3 edges (short single)\",\"Long length\",IF(M22=\"3 edges (long single)\",\"Long length\",\"\"))","v":""}]
[null,"Length (m)",null,"Height (m)",null,"Area (m²)",0]
[null,"Length (m)",null,"Height (m)",null,"Area (m²)",0]
[null,"Length (m)",null,"Height (m)",null,"Area (m²)",0]
[null,null,null,null,"Total","Area (m²)",{"$f":"SUM(G24:G26)-SUM(G38:G44,G51:G54)","v":0},"U Value (W/m²K)",{"$f":"IF($C$3=\"Ground floor\",'Design Details'!C$48,IF($C$3=\"Mid-floor\",'Design Details'!C$58,IF($C$3=\"Upper floor\",'Design Details'!C$68,IF($C$3=\"Single Storey\",'Design Details'!C$78,0))))","v":0},{"$f":"$D$6","v":2.5},{"$f":"G27*I27*J27","v":0},{"$f":"G27*I27*$D$7*24/1000","v":0}]
[null,"Ceiling (Flat)"]
[null,"Length (m)",null,"Width (m)",null,"Area (m²)",0]
[null,"Length (m)",null,"Width (m)",null,"Area (m²)",0]
[null,"Length (m)",null,"Width (m)",null,"Area (m²)",0,null,null,null,null,null,"Select Temp/Type of Space Above"]
[null,null,null,null,"Total","Area (m²)",{"$f":"SUM(G29:G31)-SUM(G46:G49)","v":0},"U Value (W/m²K)",{"$f":"IF($C$3=\"Ground floor\",'Design Details'!C$49,IF($C$3=\"Mid-floor\",'Design Details'!C$59,IF($C$3=\"Upper floor\",INDIRECT(T52),IF($C$3=\"Single Storey\",INDIRECT(T53),0))))","v":0},{"$f":"U51","v":0},{"$f":"G32*I32*J32","v":0},{"$f":"IF($C$3=$R$4,0,IF($C$3=$R$5,0,G32*I32*$D$7*24/1000))","v":0},"Select..."]
[null,"Ceiling (Awkward)"]
[null,"Length (m)",{"$f":"C14*2","v":0},"Pitch (m)",{"$f":"SQRT(POWER(E14,2)+POWER(G14,2))","v":0},"Area (m²)",{"$f":"C34*E34","v":0},"Pitched"]
[null,"Length (m)",{"$f":"C15","v":0},"Pitch (m)",{"$f":"SQRT(POWER(E15,2)+POWER(G15,2))","v":0},"Area (m²)",0,"Single Pitch"]
[null,null,null,null,"Total","Area (m²)",{"$f":"SUM(G34:G35)-SUM(G46:G49)","v":0},"U Value (W/m²K)",{"$f":"IF($C$3=\"Ground floor\",'Design Details'!C$50,IF($C$3=\"Mid-floor\",'Design Details'!C$60,IF($C$3=\"Upper floor\",'Design Details'!C$70,IF($C$3=\"Single Storey\",'Design Details'!C$80,0))))","v":0},{"$f":"$D$6","v":2.5},0,{"$f":"IF($C$3=$R$4,0,IF($C$3=$R$5,0,G36*I36*$D$7*24/1000))","v":0}]
[null,"Windows"]
[null,"Width (m)",null,"Height (m)",null,"Area (m²)",0,"U Value (W/m²K)",{"$f":"IF($C$3=\"Ground floor\",'Design Details'!C$46,IF($C$3=\"Mid-floor\",'Design Details'!C$56,IF($C$3=\"Upper floor\",'Design Details'!C$66,IF($C$3=\"Single Storey\",'Design Details'!C$76,0))))","v":0},2.5,0,{"$f":"G38*I38*$D$7*24/1000","v":0}]
[null,"Width (m)",null,"Height (m)",null,"Area (m²)",0,"U Value (W/m²K)",{"$f":"IF($C$3=\"Ground floor\",'Design Details'!C$46,IF($C$3=\"Mid-floor\",'Design Details'!C$56,IF($C$3=\"Upper floor\",'Design Details'!C$66,IF($C$3=\"Single Storey\",'Design Details'!C$76,0))))","v":0},2.5,0,0]
[null,"Width (m)",null,"Height (m)",null,"Area (m²)",0,"U Value (W/m²K)",{"$f":"IF($C$3=\"Ground floor\",'Design Details'!C$46,IF($C$3=\"Mid-floor\",'Design Details'!C$56,IF($C$3=\"Upper floor\",'Design Details'!C$66,IF($C$3=\"Single Storey\",'Design Details'!C$76,0))))","v":0},2.5,0,0]
[null,"Width (m)",null,"Height (m)",null,"Area (m²)",0,"U Value (W/m²K)",{"$f":"IF($C$3=\"Ground floor\",'Design Details'!C$46,IF($C$3=\"Mid-floor\",'Design Details'!C$56,IF($C$3=\"Upper floor\",'Design Details'!C$66,IF($C$3=\"Single Storey\",'Design Details'!C$76,0))))","v":0},2.5,0,0]
[null,"Width (m)",null,"Height (m)",null,"Area (m²)",0,"U Value (W/m²K)",{"$f":"IF($C$3=\"Ground floor\",'Design Details'!C$46,IF($C$3=\"Mid-floor\",'Design Details'!C$56,IF($C$3=\"Upper floor\",'Design Details'!C$66,IF($C$3=\"Single Storey\",'Design Details'!C$76,0))))","v":0},2.5,0,0]
[null,"Width (m)",null,"Height (m)",null,"Area (m²)",0,"U Value (W/m²K)",{"$f":"IF($C$3=\"Ground floor\",'Design Details'!C$46,IF($C$3=\"Mid-floor\",'Design Details'!C$56,IF($C$3=\"Upper floor\",'Design Details'!C$66,IF($C$3=\"Single Storey\",'Design Details'!C$76,0))))","v":0},2.5,0,0]
[null,"Width (m)",null,"Height (m)",null,"Area (m²)",0,"U Value (W/m²K)",{"$f":"IF($C$3=\"Ground floor\",'Design Details'!C$46,IF($C$3=\"Mid-floor\",'Design Details'!C$56,IF($C$3=\"Upper floor\",'Design Details'!C$66,IF($C$3=\"Single Storey\",'Design Details'!C$76,0))))","v":0},2.5,0,0]
[null,"Roof Glazing",null,null,null,null,null,null,null,null,null,null,null,null,null,null,"Options for upper floor or single storey","Options for Ground or Mid Floor","Drop-Down List","U-Value Selector","Temp Diff Selector"]
[null,"Width (m)",null,"Height (m)",null,"Area (m²)",0,"U Value (W/m²K)",{"$f":"IF($C$3=\"Ground floor\",'Design Details'!C$53,IF($C$3=\"Mid-floor\",'Design Details'!C$63,IF($C$3=\"Upper floor\",'Design Details'!C$73,IF($C$3=\"Single Storey\",'Design Details'!C$83,0))))","v":0},2.5,0,{"$f":"G46*I46*$D$7*24/1000","v":0}]
[null,"Width (m)",null,"Height (m)",null,"Area (m²)",0,"U Value (W/m²K)",{"$f":"IF($C$3=\"Ground floor\",'Design Details'!C$53,IF($C$3=\"Mid-floor\",'Design Details'!C$63,IF($C$3=\"Upper floor\",'Design Details'!C$73,IF($C$3=\"Single Storey\",'Design Details'!C$83,0))))","v":0},2.5,0,{"$f":"G47*I47*$D$7*24/1000","v":0}]
[null,"Width (m)",null,"Height (m)",null,"Area (m²)",0,"U Value (W/m²K)",{"$f":"IF($C$3=\"Ground floor\",'Design Details'!C$53,IF($C$3=\"Mid-floor\",'Design Details'!C$63,IF($C$3=\"Upper floor\",'Design Details'!C$73,IF($C$3=\"Single Storey\",'Design Details'!C$83,0))))","v":0},2.5,0,{"$f":"G48*I48*$D$7*24/1000","v":0}]
[null,"Width (m)",null,"Height (m)",null,"Area (m²)",0,"U Value (W/m²K)",{"$f":"IF($C$3=\"Ground floor\",'Design Details'!C$53,IF($C$3=\"Mid-floor\",'Design Details'!C$63,IF($C$3=\"Upper floor\",'Design Details'!C$73,IF($C$3=\"Single Storey\",'Design Details'!C$83,0))))","v":0},2.5,0,{"$f":"G49*I49*$D$7*24/1000","v":0}]
[null,"External Doors",null,null,null,null,null,null,null,null,null,null,null,null,null,null,null,null,"Select..."]
[null,"Width (m)",null,"Height (m)",null,"Area (m²)",0,"U Value (W/m²K)",{"$f":"IF($C$3=\"Ground floor\",'Design Details'!C$47,IF($C$3=\"Mid-floor\",'Design Details'!C$57,IF($C$3=\"Upper floor\",'Design Details'!C$67,IF($C$3=\"Single Storey\",'Design Details'!C$77,0))))","v":0},2.5,0,{"$f":"G51*I51*$D$7*24/1000","v":0},null,null,null,null,"Outside","Unheated",{"$f":"IF(OR($C$3=\"Ground Floor\",$C$3=\"Mid-floor\"),R51,Q51)","v":"Outside"},{"$f":"IF(M32=\"Unheated\",1,0)","v":0},{"$f":"IF(M32=\"Select...\",0,(IF(M32=\"Outside\",D6,IF(M32=\"Unheated\",D4-10,D4-M32))))","v":0}]
[null,"Width (m)",null,"Height (m)",null,"Area (m²)",0,"U Value (W/m²K)",{"$f":"IF($C$3=\"Ground floor\",'Design Details'!C$47,IF($C$3=\"Mid-floor\",'Design Details'!C$57,IF($C$3=\"Upper floor\",'Design Details'!C$67,IF($C$3=\"Single Storey\",'Design Details'!C$77,0))))","v":0},2.5,0,{"$f":"G52*I52*$D$7*24/1000","v":0},null,null,null,null,"Unheated","16",{"$f":"IF(OR($C$3=\"Ground Floor\",$C$3=\"Mid-floor\"),R52,Q52)","v":"Unheated"},{"$f":"\"'Design Details'!C$\"&69+T51","v":"'Design Details'!C$69"}]
[null,"Width (m)",null,"Height (m)",null,"Area (m²)",0,"U Value (W/m²K)",{"$f":"IF($C$3=\"Ground floor\",'Design Details'!C$47,IF($C$3=\"Mid-floor\",'Design Details'!C$57,IF($C$3=\"Upper floor\",'Design Details'!C$67,IF($C$3=\"Single Storey\",'Design Details'!C$77,0))))","v":0},2.5,0,{"$f":"G53*I53*$D$7*24/1000","v":0},null,null,null,null,null,"18",{"$f":"IF(OR($C$3=\"Ground Floor\",$C$3=\"Mid-floor\"),R53,Q53)","v":0},{"$f":"\"'Design Details'!C$\"&79+T51","v":"'Design Details'!C$79"}]
[null,"Width (m)",null,"Height (m)",null,"Area (m²)",0,"U Value (W/m²K)",{"$f":"IF($C$3=\"Ground floor\",'Design Details'!C$47,IF($C$3=\"Mid-floor\",'Design Details'!C$57,IF($C$3=\"Upper floor\",'Design Details'!C$67,IF($C$3=\"Single Storey\",'Design Details'!C$77,0))))","v":0},2.5,0,{"$f":"G54*I54*$D$7*24/1000","v":0},null,null,null,null,null,"21",{"$f":"IF(OR($C$3=\"Ground Floor\",$C$3=\"Mid-floor\"),R54,Q54)","v":0}]
[null,"Internal Walls",null,null,null,null,null,null,null,null,null,null,"Adjoining Room Temp (°C)",null,null,null,null,22,{"$f":"IF(OR($C$3=\"Ground Floor\",$C$3=\"Mid-floor\"),R55,Q37)","v":0}]
[null,"Length (m)",null,"Height (m)",null,"Area (m²)",0,"U Value (W/m²K)",{"$f":"IF($C$3=\"Ground floor\",'Design Details'!C$51,IF($C$3=\"Mid-floor\",'Design Details'!C$61,IF($C$3=\"Upper floor\",'Design Details'!C$71,IF($C$3=\"Single Storey\",'Design Details'!C$81,0))))","v":0},{"$f":"IF(M56=\"\",0,IF(M56=\"unheated\",D$4-10,D$4-M56))","v":0},0]
[null,"Length (m)",null,"Height (m)",null,"Area (m²)",0,"U Value (W/m²K)",{"$f":"IF($C$3=\"Ground floor\",'Design Details'!C$51,IF($C$3=\"Mid-floor\",'Design Details'!C$61,IF($C$3=\"Upper floor\",'Design Details'!C$71,IF($C$3=\"Single Storey\",'Design Details'!C$81,0))))","v":0},{"$f":"IF(M57=\"\",0,IF(M57=\"unheated\",D$4-10,D$4-M57))","v":0},0]
[null,"Length (m)",null,"Height (m)",null,"Area (m²)",0,"U Value (W/m²K)",{"$f":"IF($C$3=\"Ground floor\",'Design Details'!C$51,IF($C$3=\"Mid-floor\",'Design Details'!C$61,IF($C$3=\"Upper floor\",'Design Details'!C$71,IF($C$3=\"Single Storey\",'Design Details'!C$81,0))))","v":0},{"$f":"IF(M58=\"\",0,IF(M58=\"unheated\",D$4-10,D$4-M58))","v":0},0]
[null,"Length (m)",null,"Height (m)",null,"Area (m²)",0,"U Value (W/m²K)",{"$f":"IF($C$3=\"Ground floor\",'Design Details'!C$51,IF($C$3=\"Mid-floor\",'Design Details'!C$61,IF($C$3=\"Upper floor\",'Design Details'!C$71,IF($C$3=\"Single Storey\",'Design Details'!C$81,0))))","v":0},{"$f":"IF(M59=\"\",0,IF(M59=\"unheated\",D$4-10,D$4-M59))","v":0},0]
[null,"Party Wall"]
[null,"Length (m)",null,"Height (m)",null,"Area (m²)",0,"U Value (W/m²K)",{"$f":"IF($C$3=\"Ground floor\",'Design Details'!C$52,IF($C$3=\"Mid-floor\",'Design Details'!C$62,IF($C$3=\"Upper floor\",'Design Details'!C$72,IF($C$3=\"Single Storey\",'Design Details'!C$82,0))))","v":0},{"$f":"D4-10","v":-10},0,{"$f":"G61*I61*$D$7*24/1000","v":0}]

{"sheet":"17","index":32,"n_rows":61,"n_cols":25,"rows_kept":61,"cut":false,"hidden":false,"merged":[[58,12,58,14],[44,19,48,19],[44,20,48,20],[54,12,54,14],[55,12,55,14],[56,12,56,14],[57,12,57,14],[44,18,48,18],[21,12,21,14],[30,12,30,14],[31,12,31,14],[44,16,48,16],[44,17,48,17],[20,12,20,14],[3,1,3,2],[3,4,3,5],[4,1,4,2],[4,4,4,5],[5,1,5,2],[5,4,5,5],[6,1,6,2],[9,11,9,14],[10,11,10,14],[18,12,18,14],[19,12,19,14],[0,1,0,3],[0,4,0,6],[0,10,0,11],[1,4,1,5],[2,2,2,3],[2,4,2,5]]}
[null,"Room Information",null,null,"Ventilation Heat Loss",null,null,"Fabric ","Heat Loss (W)"," Usage (kWh)","Additional heat loss",null,"Addition","Watts","kWh"]
[null,"Room",null,null,"Air Changes per hour",null,{"$f":"'Design Details'!G103","v":0},"Floor",{"$f":"SUM(K20:K22)","v":0},{"$f":"SUM(L20:L22)","v":0},"Thermal Bridging (New Build >2006)",null,0,{"$f":"SUM(I$2:I$6)*M2","v":0},{"$f":"SUM(J$2:J$6)*M2","v":0},null,"3 edges (long single)","Level",null,null,null,null,null,null,1]
[null,"Level",null,null,"Air Change Factor (W/m³K)",null,0.33,"Ext Wall",{"$f":"K27","v":0},{"$f":"L27","v":0},"Exposed location",null,0,{"$f":"SUM(I$2:I$6)*M3","v":0},{"$f":"SUM(J$2:J$6)*M3","v":0},null,"3 edges (short single)","Please Select Floor",{"$f":"IF($C$3=\"Ground floor\",\"Solid Floor (in contact with ground)\",IF($C$3=\"Single Storey\",\"Solid Floor (in contact with ground)\",\"n/a\"))","v":"n/a"},{"$f":"'Design Details'!C21","v":10},"unheated",0,0,0,2]
[null,"Design Room Temp (°C)",null,{"$f":"'Design Details'!E103","v":0},"Total Volume (m³)",null,{"$f":"SUM(I10:I12,I14:I18)","v":0},"Roof",{"$f":"SUM(K32,K36)","v":0},{"$f":"SUM(L32,L36)","v":0},"High ceiling",null,0,{"$f":"SUM(I$2:I$6)*M4","v":0},{"$f":"SUM(J$2:J$6)*M4","v":0},null,"One edge","Ground floor",{"$f":"IF($C$3=\"Ground floor\",\"Suspended Floor\",IF($C$3=\"Single Storey\",\"Suspended Floor\",\"n/a\"))","v":"n/a"},null,16,0.1,0.2,2.5000000000000001E-2,3]
[null,"Outside Design Temp (°C)",null,{"$f":"'Design Details'!C19","v":-2.5},"Heat loss (W)",null,{"$f":"G4*G3*D6*G2","v":0},"Glazing",{"$f":"SUM(K38:K44,K46:K49,K51:K54)","v":0},{"$f":"SUM(L38:L44,L46:L49,L51:L54)","v":0},"Intermittent heating",null,0,{"$f":"SUM(I$2:I$6)*M5","v":0},{"$f":"SUM(J$2:J$6)*M5","v":0},null,"Two adjacent","Mid-floor",null,null,18,null,null,0.05,4]
[null,"Temp Difference (°C)",null,{"$f":"D4-D5","v":2.5},"Estimated Energy usage (kWh)",null,{"$f":"G4*G3*D7*24/1000","v":0},"Int./Party Wall",{"$f":"SUM(K56:K59,K61)","v":0},{"$f":"SUM(L61)","v":0},null,null,null,"Total Room Heat Loss (W)",{"$f":"SUM(G5,I2:I6,N2:N5)","v":0},null,"Two opposite","Single storey",null,null,21,null,null,7.4999999999999997E-2,5]
[null,"Degree Days",null,{"$f":"'Design Details'!C20","v":2228},null,null,null,null,null,null,null,null,null,"Total Room Energy Usage (kWh)",{"$f":"SUM(G6,J2:J6,O2:O5)","v":0},null,null,"Upper floor",null,null,22,null,null,0.1,6]
[null,null,null,null,null,null,null,null,null,null,null,null,null,null,null,null,null,{"$f":"IF($C$3=\"Ground floor\",'Design Details'!C$45,IF($C$3=\"Mid-floor\",'Design Details'!C$55,IF($C$3=\"Upper floor\",'Design Details'!C$65,IF($C$3=\"Single Storey\",'Design Details'!C$75,0))))","v":0},null,null,null,null,null,null,7]
[null,"Room Dimensions",null,null,null,null,null,null,null,null,null,null,null,null,null,null,null,null,null,null,null,null,null,null,8]
[null,"Length (m)",null,"Width (m)",null,"Height (m)",null,"Volume (m³)",{"$f":"C10*E10*G10","v":0},null,null,null,null,null,null,null,null,null,null,null,null,null,null,null,9]
[null,"Length (m)",null,"Width (m)",null,"Height (m)",null,"Volume (m³)",{"$f":"C11*E11*G11","v":0},null,null,null,null,null,null,null,null,null,null,null,null,null,null,null,10]
[null,"Length (m)",null,"Width (m)",null,"Height (m)",null,"Volume (m³)",{"$f":"C12*E12*G12","v":0}]
[null,"Awkward Room Dimensions"]
[null,"Length (m)",null,"Width (m)",null,"Height (m)",null,"Volume (m³)",{"$f":"((G14*E14)/2)*C14","v":0},"Pitched"]
[null,"Length (m)",null,"Width (m)",null,"Height (m)",null,"Volume (m³)",{"$f":"C15*E15*G15/2","v":0},"Single Pitch"]
[null,"Length (m)",null,"Height (m)",null,"Depth (m)",null,"Volume (m³)",{"$f":"E16*G16*C16/2","v":0},"Dormer 1"]
[null,"Length (m)",null,"Height (m)",null,"Depth (m)",null,"Volume (m³)",{"$f":"E17*G17*C17/2","v":0},"Dormer 2"]
[null,"Length (m)",null,"Height (m)",null,"Depth (m)",null,"Volume (m³)",{"$f":"E18*G18*C18/2","v":0},"Dormer 3"]
[null,"Floor",null,null,null,null,null,null,null,"Temp Difference","Heat Loss (W)","Usage (kWh)",{"$f":"IF($C$3=\"Ground Floor\",\"Select type of Ground Floor\",IF($C$3=\"Single Storey\",\"Select type of Ground Floor\",\"#N/A\"))","v":"#N/A"}]
[null,{"$f":"B10","v":"Length (m)"},null,{"$f":"D10","v":"Width (m)"},null,"Area (m²)",{"$f":"C20*E20","v":0},"U Value (W/m²K)",{"$f":"IF(M22=\"\",R8,'floor u values'!K18)","v":0},{"$f":"IF(C$3=\"Ground Floor\",IF(M20=\"Solid Floor (in contact with ground)\",D$4-T$3,D$4-D$5),IF(C$3=\"Single Storey\",IF(M20=\"Solid Floor (in contact with ground)\",D$4-T$3,D$4-D$5),0))","v":0},{"$f":"G20*I20*J20","v":0},{"$f":"IF($C$3=$R$5,0,IF($C$3=$R$7,0,G20*I20*$D$7*24/1000))","v":0},"n/a"]
[null,"Length (m)",null,"Width (m)",null,"Area (m²)",{"$f":"C21*E21","v":0},"U Value (W/m²K)",{"$f":"I20","v":0},{"$f":"IF(C$3=\"Ground Floor\",IF(M20=\"Solid Floor (in contact with ground)\",D$4-T$3,D$4-D$5),IF(C$3=\"Single Storey\",IF(M20=\"Solid Floor (in contact with ground)\",D$4-T$3,D$4-D$5),0))","v":0},{"$f":"G21*I21*J21","v":0},{"$f":"IF($C$3=$R$5,0,IF($C$3=$R$7,0,G21*I21*$D$7*24/1000))","v":0},"Exposed floor (external)"]
[null,"Length (m)",null,"Width (m)",null,"Area (m²)",0,"U Value (W/m²K)",{"$f":"I20","v":0},{"$f":"IF(C$3=\"Ground Floor\",IF(M20=\"Solid Floor (in contact with ground)\",D$4-T$3,D$4-D$5),IF(C$3=\"Single Storey\",IF(M20=\"Solid Floor (in contact with ground)\",D$4-T$3,D$4-D$5),0))","v":0},{"$f":"G22*I22*J22","v":0},{"$f":"IF($C$3=$R$5,0,IF($C$3=$R$7,0,G22*I22*$D$7*24/1000))","v":0}]
[null,"External Wall",null,null,null,null,null,null,null,null,null,null,{"$f":"IF(M22=\"Two opposite\",\"Between edges\",IF(M22=\"One edge\",\"Depth of room\",IF(M22=\"3 edges (short single)\",\"Short length\",IF(M22=\"3 edges (long single)\",\"Short length\",\"\"))))","v":""},null,{"$f":"IF(M22=\"3 edges (short single)\",\"Long length\",IF(M22=\"3 edges (long single)\",\"Long length\",\"\"))","v":""}]
[null,"Length (m)",null,"Height (m)",null,"Area (m²)",0]
[null,"Length (m)",null,"Height (m)",null,"Area (m²)",0]
[null,"Length (m)",null,"Height (m)",null,"Area (m²)",0]
[null,null,null,null,"Total","Area (m²)",{"$f":"SUM(G24:G26)-SUM(G38:G44,G51:G54)","v":0},"U Value (W/m²K)",{"$f":"IF($C$3=\"Ground floor\",'Design Details'!C$48,IF($C$3=\"Mid-floor\",'Design Details'!C$58,IF($C$3=\"Upper floor\",'Design Details'!C$68,IF($C$3=\"Single Storey\",'Design Details'!C$78,0))))","v":0},{"$f":"$D$6","v":2.5},{"$f":"G27*I27*J27","v":0},{"$f":"G27*I27*$D$7*24/1000","v":0}]
[null,"Ceiling (Flat)"]
[null,"Length (m)",null,"Width (m)",null,"Area (m²)",0]
[null,"Length (m)",null,"Width (m)",null,"Area (m²)",0]
[null,"Length (m)",null,"Width (m)",null,"Area (m²)",0,null,null,null,null,null,"Select Temp/Type of Space Above"]
[null,null,null,null,"Total","Area (m²)",{"$f":"SUM(G29:G31)-SUM(G46:G49)","v":0},"U Value (W/m²K)",{"$f":"IF($C$3=\"Ground floor\",'Design Details'!C$49,IF($C$3=\"Mid-floor\",'Design Details'!C$59,IF($C$3=\"Upper floor\",INDIRECT(T52),IF($C$3=\"Single Storey\",INDIRECT(T53),0))))","v":0},{"$f":"U51","v":0},{"$f":"G32*I32*J32","v":0},{"$f":"IF($C$3=$R$4,0,IF($C$3=$R$5,0,G32*I32*$D$7*24/1000))","v":0},"Select..."]
[null,"Ceiling (Awkward)"]
[null,"Length (m)",{"$f":"C14*2","v":0},"Pitch (m)",{"$f":"SQRT(POWER(E14,2)+POWER(G14,2))","v":0},"Area (m²)",{"$f":"C34*E34","v":0},"Pitched"]
[null,"Length (m)",{"$f":"C15","v":0},"Pitch (m)",{"$f":"SQRT(POWER(E15,2)+POWER(G15,2))","v":0},"Area (m²)",0,"Single Pitch"]
[null,null,null,null,"Total","Area (m²)",{"$f":"SUM(G34:G35)-SUM(G46:G49)","v":0},"U Value (W/m²K)",{"$f":"IF($C$3=\"Ground floor\",'Design Details'!C$50,IF($C$3=\"Mid-floor\",'Design Details'!C$60,IF($C$3=\"Upper floor\",'Design Details'!C$70,IF($C$3=\"Single Storey\",'Design Details'!C$80,0))))","v":0},{"$f":"$D$6","v":2.5},0,{"$f":"IF($C$3=$R$4,0,IF($C$3=$R$5,0,G36*I36*$D$7*24/1000))","v":0}]
[null,"Windows"]
[null,"Width (m)",null,"Height (m)",null,"Area (m²)",0,"U Value (W/m²K)",{"$f":"IF($C$3=\"Ground floor\",'Design Details'!C$46,IF($C$3=\"Mid-floor\",'Design Details'!C$56,IF($C$3=\"Upper floor\",'Design Details'!C$66,IF($C$3=\"Single Storey\",'Design Details'!C$76,0))))","v":0},2.5,0,{"$f":"G38*I38*$D$7*24/1000","v":0}]
[null,"Width (m)",null,"Height (m)",null,"Area (m²)",0,"U Value (W/m²K)",{"$f":"IF($C$3=\"Ground floor\",'Design Details'!C$46,IF($C$3=\"Mid-floor\",'Design Details'!C$56,IF($C$3=\"Upper floor\",'Design Details'!C$66,IF($C$3=\"Single Storey\",'Design Details'!C$76,0))))","v":0},2.5,0,0]
[null,"Width (m)",null,"Height (m)",null,"Area (m²)",0,"U Value (W/m²K)",{"$f":"IF($C$3=\"Ground floor\",'Design Details'!C$46,IF($C$3=\"Mid-floor\",'Design Details'!C$56,IF($C$3=\"Upper floor\",'Design Details'!C$66,IF($C$3=\"Single Storey\",'Design Details'!C$76,0))))","v":0},2.5,0,0]
[null,"Width (m)",null,"Height (m)",null,"Area (m²)",0,"U Value (W/m²K)",{"$f":"IF($C$3=\"Ground floor\",'Design Details'!C$46,IF($C$3=\"Mid-floor\",'Design Details'!C$56,IF($C$3=\"Upper floor\",'Design Details'!C$66,IF($C$3=\"Single Storey\",'Design Details'!C$76,0))))","v":0},2.5,0,0]
[null,"Width (m)",null,"Height (m)",null,"Area (m²)",0,"U Value (W/m²K)",{"$f":"IF($C$3=\"Ground floor\",'Design Details'!C$46,IF($C$3=\"Mid-floor\",'Design Details'!C$56,IF($C$3=\"Upper floor\",'Design Details'!C$66,IF($C$3=\"Single Storey\",'Design Details'!C$76,0))))","v":0},2.5,0,0]
[null,"Width (m)",null,"Height (m)",null,"Area (m²)",0,"U Value (W/m²K)",{"$f":"IF($C$3=\"Ground floor\",'Design Details'!C$46,IF($C$3=\"Mid-floor\",'Design Details'!C$56,IF($C$3=\"Upper floor\",'Design Details'!C$66,IF($C$3=\"Single Storey\",'Design Details'!C$76,0))))","v":0},2.5,0,0]
[null,"Width (m)",null,"Height (m)",null,"Area (m²)",0,"U Value (W/m²K)",{"$f":"IF($C$3=\"Ground floor\",'Design Details'!C$46,IF($C$3=\"Mid-floor\",'Design Details'!C$56,IF($C$3=\"Upper floor\",'Design Details'!C$66,IF($C$3=\"Single Storey\",'Design Details'!C$76,0))))","v":0},2.5,0,0]
[null,"Roof Glazing",null,null,null,null,null,null,null,null,null,null,null,null,null,null,"Options for upper floor or single storey","Options for Ground or Mid Floor","Drop-Down List","U-Value Selector","Temp Diff Selector"]
[null,"Width (m)",null,"Height (m)",null,"Area (m²)",0,"U Value (W/m²K)",{"$f":"IF($C$3=\"Ground floor\",'Design Details'!C$53,IF($C$3=\"Mid-floor\",'Design Details'!C$63,IF($C$3=\"Upper floor\",'Design Details'!C$73,IF($C$3=\"Single Storey\",'Design Details'!C$83,0))))","v":0},2.5,0,{"$f":"G46*I46*$D$7*24/1000","v":0}]
[null,"Width (m)",null,"Height (m)",null,"Area (m²)",0,"U Value (W/m²K)",{"$f":"IF($C$3=\"Ground floor\",'Design Details'!C$53,IF($C$3=\"Mid-floor\",'Design Details'!C$63,IF($C$3=\"Upper floor\",'Design Details'!C$73,IF($C$3=\"Single Storey\",'Design Details'!C$83,0))))","v":0},2.5,0,{"$f":"G47*I47*$D$7*24/1000","v":0}]
[null,"Width (m)",null,"Height (m)",null,"Area (m²)",0,"U Value (W/m²K)",{"$f":"IF($C$3=\"Ground floor\",'Design Details'!C$53,IF($C$3=\"Mid-floor\",'Design Details'!C$63,IF($C$3=\"Upper floor\",'Design Details'!C$73,IF($C$3=\"Single Storey\",'Design Details'!C$83,0))))","v":0},2.5,0,{"$f":"G48*I48*$D$7*24/1000","v":0}]
[null,"Width (m)",null,"Height (m)",null,"Area (m²)",0,"U Value (W/m²K)",{"$f":"IF($C$3=\"Ground floor\",'Design Details'!C$53,IF($C$3=\"Mid-floor\",'Design Details'!C$63,IF($C$3=\"Upper floor\",'Design Details'!C$73,IF($C$3=\"Single Storey\",'Design Details'!C$83,0))))","v":0},2.5,0,{"$f":"G49*I49*$D$7*24/1000","v":0}]
[null,"External Doors",null,null,null,null,null,null,null,null,null,null,null,null,null,null,null,null,"Select..."]
[null,"Width (m)",null,"Height (m)",null,"Area (m²)",0,"U Value (W/m²K)",{"$f":"IF($C$3=\"Ground floor\",'Design Details'!C$47,IF($C$3=\"Mid-floor\",'Design Details'!C$57,IF($C$3=\"Upper floor\",'Design Details'!C$67,IF($C$3=\"Single Storey\",'Design Details'!C$77,0))))","v":0},2.5,0,{"$f":"G51*I51*$D$7*24/1000","v":0},null,null,null,null,"Outside","Unheated",{"$f":"IF(OR($C$3=\"Ground Floor\",$C$3=\"Mid-floor\"),R51,Q51)","v":"Outside"},{"$f":"IF(M32=\"Unheated\",1,0)","v":0},{"$f":"IF(M32=\"Select...\",0,(IF(M32=\"Outside\",D6,IF(M32=\"Unheated\",D4-10,D4-M32))))","v":0}]
[null,"Width (m)",null,"Height (m)",null,"Area (m²)",0,"U Value (W/m²K)",{"$f":"IF($C$3=\"Ground floor\",'Design Details'!C$47,IF($C$3=\"Mid-floor\",'Design Details'!C$57,IF($C$3=\"Upper floor\",'Design Details'!C$67,IF($C$3=\"Single Storey\",'Design Details'!C$77,0))))","v":0},2.5,0,{"$f":"G52*I52*$D$7*24/1000","v":0},null,null,null,null,"Unheated","16",{"$f":"IF(OR($C$3=\"Ground Floor\",$C$3=\"Mid-floor\"),R52,Q52)","v":"Unheated"},{"$f":"\"'Design Details'!C$\"&69+T51","v":"'Design Details'!C$69"}]
[null,"Width (m)",null,"Height (m)",null,"Area (m²)",0,"U Value (W/m²K)",{"$f":"IF($C$3=\"Ground floor\",'Design Details'!C$47,IF($C$3=\"Mid-floor\",'Design Details'!C$57,IF($C$3=\"Upper floor\",'Design Details'!C$67,IF($C$3=\"Single Storey\",'Design Details'!C$77,0))))","v":0},2.5,0,{"$f":"G53*I53*$D$7*24/1000","v":0},null,null,null,null,null,"18",{"$f":"IF(OR($C$3=\"Ground Floor\",$C$3=\"Mid-floor\"),R53,Q53)","v":0},{"$f":"\"'Design Details'!C$\"&79+T51","v":"'Design Details'!C$79"}]
[null,"Width (m)",null,"Height (m)",null,"Area (m²)",0,"U Value (W/m²K)",{"$f":"IF($C$3=\"Ground floor\",'Design Details'!C$47,IF($C$3=\"Mid-floor\",'Design Details'!C$57,IF($C$3=\"Upper floor\",'Design Details'!C$67,IF($C$3=\"Single Storey\",'Design Details'!C$77,0))))","v":0},2.5,0,{"$f":"G54*I54*$D$7*24/1000","v":0},null,null,null,null,null,"21",{"$f":"IF(OR($C$3=\"Ground Floor\",$C$3=\"Mid-floor\"),R54,Q54)","v":0}]
[null,"Internal Walls",null,null,null,null,null,null,null,null,null,null,"Adjoining Room Temp (°C)",null,null,null,null,22,{"$f":"IF(OR($C$3=\"Ground Floor\",$C$3=\"Mid-floor\"),R55,Q37)","v":0}]
[null,"Length (m)",null,"Height (m)",null,"Area (m²)",0,"U Value (W/m²K)",{"$f":"IF($C$3=\"Ground floor\",'Design Details'!C$51,IF($C$3=\"Mid-floor\",'Design Details'!C$61,IF($C$3=\"Upper floor\",'Design Details'!C$71,IF($C$3=\"Single Storey\",'Design Details'!C$81,0))))","v":0},{"$f":"IF(M56=\"\",0,IF(M56=\"unheated\",D$4-10,D$4-M56))","v":0},0]
[null,"Length (m)",null,"Height (m)",null,"Area (m²)",0,"U Value (W/m²K)",{"$f":"IF($C$3=\"Ground floor\",'Design Details'!C$51,IF($C$3=\"Mid-floor\",'Design Details'!C$61,IF($C$3=\"Upper floor\",'Design Details'!C$71,IF($C$3=\"Single Storey\",'Design Details'!C$81,0))))","v":0},{"$f":"IF(M57=\"\",0,IF(M57=\"unheated\",D$4-10,D$4-M57))","v":0},0]
[null,"Length (m)",null,"Height (m)",null,"Area (m²)",0,"U Value (W/m²K)",{"$f":"IF($C$3=\"Ground floor\",'Design Details'!C$51,IF($C$3=\"Mid-floor\",'Design Details'!C$61,IF($C$3=\"Upper floor\",'Design Details'!C$71,IF($C$3=\"Single Storey\",'Design Details'!C$81,0))))","v":0},{"$f":"IF(M58=\"\",0,IF(M58=\"unheated\",D$4-10,D$4-M58))","v":0},0]
[null,"Length (m)",null,"Height (m)",null,"Area (m²)",0,"U Value (W/m²K)",{"$f":"IF($C$3=\"Ground floor\",'Design Details'!C$51,IF($C$3=\"Mid-floor\",'Design Details'!C$61,IF($C$3=\"Upper floor\",'Design Details'!C$71,IF($C$3=\"Single Storey\",'Design Details'!C$81,0))))","v":0},{"$f":"IF(M59=\"\",0,IF(M59=\"unheated\",D$4-10,D$4-M59))","v":0},0]
[null,"Party Wall"]
[null,"Length (m)",null,"Height (m)",null,"Area (m²)",0,"U Value (W/m²K)",{"$f":"IF($C$3=\"Ground floor\",'Design Details'!C$52,IF($C$3=\"Mid-floor\",'Design Details'!C$62,IF($C$3=\"Upper floor\",'Design Details'!C$72,IF($C$3=\"Single Storey\",'Design Details'!C$82,0))))","v":0},{"$f":"D4-10","v":-10},0,{"$f":"G61*I61*$D$7*24/1000","v":0}]

{"sheet":"18","index":33,"n_rows":61,"n_cols":25,"rows_kept":61,"cut":false,"hidden":false,"merged":[[58,12,58,14],[44,19,48,19],[44,20,48,20],[54,12,54,14],[55,12,55,14],[56,12,56,14],[57,12,57,14],[44,18,48,18],[21,12,21,14],[30,12,30,14],[31,12,31,14],[44,16,48,16],[44,17,48,17],[20,12,20,14],[3,1,3,2],[3,4,3,5],[4,1,4,2],[4,4,4,5],[5,1,5,2],[5,4,5,5],[6,1,6,2],[9,11,9,14],[10,11,10,14],[18,12,18,14],[19,12,19,14],[0,1,0,3],[0,4,0,6],[0,10,0,11],[1,4,1,5],[2,2,2,3],[2,4,2,5]]}
[null,"Room Information",null,null,"Ventilation Heat Loss",null,null,"Fabric ","Heat Loss (W)"," Usage (kWh)","Additional heat loss",null,"Addition","Watts","kWh"]
[null,"Room",null,null,"Air Changes per hour",null,{"$f":"'Design Details'!G104","v":0},"Floor",{"$f":"SUM(K20:K22)","v":0},{"$f":"SUM(L20:L22)","v":0},"Thermal Bridging (New Build >2006)",null,0,{"$f":"SUM(I$2:I$6)*M2","v":0},{"$f":"SUM(J$2:J$6)*M2","v":0},null,"3 edges (long single)","Level",null,null,null,null,null,null,1]
[null,"Level",null,null,"Air Change Factor (W/m³K)",null,0.33,"Ext Wall",{"$f":"K27","v":0},{"$f":"L27","v":0},"Exposed location",null,0,{"$f":"SUM(I$2:I$6)*M3","v":0},{"$f":"SUM(J$2:J$6)*M3","v":0},null,"3 edges (short single)","Please Select Floor",{"$f":"IF($C$3=\"Ground floor\",\"Solid Floor (in contact with ground)\",IF($C$3=\"Single Storey\",\"Solid Floor (in contact with ground)\",\"n/a\"))","v":"n/a"},{"$f":"'Design Details'!C21","v":10},"unheated",0,0,0,2]
[null,"Design Room Temp (°C)",null,{"$f":"'Design Details'!E104","v":0},"Total Volume (m³)",null,{"$f":"SUM(I10:I12,I14:I18)","v":0},"Roof",{"$f":"SUM(K32,K36)","v":0},{"$f":"SUM(L32,L36)","v":0},"High ceiling",null,0,{"$f":"SUM(I$2:I$6)*M4","v":0},{"$f":"SUM(J$2:J$6)*M4","v":0},null,"One edge","Ground floor",{"$f":"IF($C$3=\"Ground floor\",\"Suspended Floor\",IF($C$3=\"Single Storey\",\"Suspended Floor\",\"n/a\"))","v":"n/a"},null,16,0.1,0.2,2.5000000000000001E-2,3]
[null,"Outside Design Temp (°C)",null,{"$f":"'Design Details'!C19","v":-2.5},"Heat loss (W)",null,{"$f":"G4*G3*D6*G2","v":0},"Glazing",{"$f":"SUM(K38:K44,K46:K49,K51:K54)","v":0},{"$f":"SUM(L38:L44,L46:L49,L51:L54)","v":0},"Intermittent heating",null,0,{"$f":"SUM(I$2:I$6)*M5","v":0},{"$f":"SUM(J$2:J$6)*M5","v":0},null,"Two adjacent","Mid-floor",null,null,18,null,null,0.05,4]
[null,"Temp Difference (°C)",null,{"$f":"D4-D5","v":2.5},"Estimated Energy usage (kWh)",null,{"$f":"G4*G3*D7*24/1000","v":0},"Int./Party Wall",{"$f":"SUM(K56:K59,K61)","v":0},{"$f":"SUM(L61)","v":0},null,null,null,"Total Room Heat Loss (W)",{"$f":"SUM(G5,I2:I6,N2:N5)","v":0},null,"Two opposite","Single storey",null,null,21,null,null,7.4999999999999997E-2,5]
[null,"Degree Days",null,{"$f":"'Design Details'!C20","v":2228},null,null,null,null,null,null,null,null,null,"Total Room Energy Usage (kWh)",{"$f":"SUM(G6,J2:J6,O2:O5)","v":0},null,null,"Upper floor",null,null,22,null,null,0.1,6]
[null,null,null,null,null,null,null,null,null,null,null,null,null,null,null,null,null,{"$f":"IF($C$3=\"Ground floor\",'Design Details'!C$45,IF($C$3=\"Mid-floor\",'Design Details'!C$55,IF($C$3=\"Upper floor\",'Design Details'!C$65,IF($C$3=\"Single Storey\",'Design Details'!C$75,0))))","v":0},null,null,null,null,null,null,7]
[null,"Room Dimensions",null,null,null,null,null,null,null,null,null,null,null,null,null,null,null,null,null,null,null,null,null,null,8]
[null,"Length (m)",null,"Width (m)",null,"Height (m)",null,"Volume (m³)",{"$f":"C10*E10*G10","v":0},null,null,null,null,null,null,null,null,null,null,null,null,null,null,null,9]
[null,"Length (m)",null,"Width (m)",null,"Height (m)",null,"Volume (m³)",{"$f":"C11*E11*G11","v":0},null,null,null,null,null,null,null,null,null,null,null,null,null,null,null,10]
[null,"Length (m)",null,"Width (m)",null,"Height (m)",null,"Volume (m³)",{"$f":"C12*E12*G12","v":0}]
[null,"Awkward Room Dimensions"]
[null,"Length (m)",null,"Width (m)",null,"Height (m)",null,"Volume (m³)",{"$f":"((G14*E14)/2)*C14","v":0},"Pitched"]
[null,"Length (m)",null,"Width (m)",null,"Height (m)",null,"Volume (m³)",{"$f":"C15*E15*G15/2","v":0},"Single Pitch"]
[null,"Length (m)",null,"Height (m)",null,"Depth (m)",null,"Volume (m³)",{"$f":"E16*G16*C16/2","v":0},"Dormer 1"]
[null,"Length (m)",null,"Height (m)",null,"Depth (m)",null,"Volume (m³)",{"$f":"E17*G17*C17/2","v":0},"Dormer 2"]
[null,"Length (m)",null,"Height (m)",null,"Depth (m)",null,"Volume (m³)",{"$f":"E18*G18*C18/2","v":0},"Dormer 3"]
[null,"Floor",null,null,null,null,null,null,null,"Temp Difference","Heat Loss (W)","Usage (kWh)",{"$f":"IF($C$3=\"Ground Floor\",\"Select type of Ground Floor\",IF($C$3=\"Single Storey\",\"Select type of Ground Floor\",\"#N/A\"))","v":"#N/A"}]
[null,{"$f":"B10","v":"Length (m)"},null,{"$f":"D10","v":"Width (m)"},null,"Area (m²)",{"$f":"C20*E20","v":0},"U Value (W/m²K)",{"$f":"IF(M22=\"\",R8,'floor u values'!K19)","v":0},{"$f":"IF(C$3=\"Ground Floor\",IF(M20=\"Solid Floor (in contact with ground)\",D$4-T$3,D$4-D$5),IF(C$3=\"Single Storey\",IF(M20=\"Solid Floor (in contact with ground)\",D$4-T$3,D$4-D$5),0))","v":0},{"$f":"G20*I20*J20","v":0},{"$f":"IF($C$3=$R$5,0,IF($C$3=$R$7,0,G20*I20*$D$7*24/1000))","v":0},"n/a"]
[null,"Length (m)",null,"Width (m)",null,"Area (m²)",{"$f":"C21*E21","v":0},"U Value (W/m²K)",{"$f":"I20","v":0},{"$f":"IF(C$3=\"Ground Floor\",IF(M20=\"Solid Floor (in contact with ground)\",D$4-T$3,D$4-D$5),IF(C$3=\"Single Storey\",IF(M20=\"Solid Floor (in contact with ground)\",D$4-T$3,D$4-D$5),0))","v":0},{"$f":"G21*I21*J21","v":0},{"$f":"IF($C$3=$R$5,0,IF($C$3=$R$7,0,G21*I21*$D$7*24/1000))","v":0},"Exposed floor (external)"]
[null,"Length (m)",null,"Width (m)",null,"Area (m²)",0,"U Value (W/m²K)",{"$f":"I20","v":0},{"$f":"IF(C$3=\"Ground Floor\",IF(M20=\"Solid Floor (in contact with ground)\",D$4-T$3,D$4-D$5),IF(C$3=\"Single Storey\",IF(M20=\"Solid Floor (in contact with ground)\",D$4-T$3,D$4-D$5),0))","v":0},{"$f":"G22*I22*J22","v":0},{"$f":"IF($C$3=$R$5,0,IF($C$3=$R$7,0,G22*I22*$D$7*24/1000))","v":0}]
[null,"External Wall",null,null,null,null,null,null,null,null,null,null,{"$f":"IF(M22=\"Two opposite\",\"Between edges\",IF(M22=\"One edge\",\"Depth of room\",IF(M22=\"3 edges (short single)\",\"Short length\",IF(M22=\"3 edges (long single)\",\"Short length\",\"\"))))","v":""},null,{"$f":"IF(M22=\"3 edges (short single)\",\"Long length\",IF(M22=\"3 edges (long single)\",\"Long length\",\"\"))","v":""}]
[null,"Length (m)",null,"Height (m)",null,"Area (m²)",0]
[null,"Length (m)",null,"Height (m)",null,"Area (m²)",0]
[null,"Length (m)",null,"Height (m)",null,"Area (m²)",0]
[null,null,null,null,"Total","Area (m²)",{"$f":"SUM(G24:G26)-SUM(G38:G44,G51:G54)","v":0},"U Value (W/m²K)",{"$f":"IF($C$3=\"Ground floor\",'Design Details'!C$48,IF($C$3=\"Mid-floor\",'Design Details'!C$58,IF($C$3=\"Upper floor\",'Design Details'!C$68,IF($C$3=\"Single Storey\",'Design Details'!C$78,0))))","v":0},{"$f":"$D$6","v":2.5},{"$f":"G27*I27*J27","v":0},{"$f":"G27*I27*$D$7*24/1000","v":0}]
[null,"Ceiling (Flat)"]
[null,"Length (m)",null,"Width (m)",null,"Area (m²)",0]
[null,"Length (m)",null,"Width (m)",null,"Area (m²)",0]
[null,"Length (m)",null,"Width (m)",null,"Area (m²)",0,null,null,null,null,null,"Select Temp/Type of Space Above"]
[null,null,null,null,"Total","Area (m²)",{"$f":"SUM(G29:G31)-SUM(G46:G49)","v":0},"U Value (W/m²K)",{"$f":"IF($C$3=\"Ground floor\",'Design Details'!C$49,IF($C$3=\"Mid-floor\",'Design Details'!C$59,IF($C$3=\"Upper floor\",INDIRECT(T52),IF($C$3=\"Single Storey\",INDIRECT(T53),0))))","v":0},{"$f":"U51","v":0},{"$f":"G32*I32*J32","v":0},{"$f":"IF($C$3=$R$4,0,IF($C$3=$R$5,0,G32*I32*$D$7*24/1000))","v":0},"Select..."]
[null,"Ceiling (Awkward)"]
[null,"Length (m)",{"$f":"C14*2","v":0},"Pitch (m)",{"$f":"SQRT(POWER(E14,2)+POWER(G14,2))","v":0},"Area (m²)",{"$f":"C34*E34","v":0},"Pitched"]
[null,"Length (m)",{"$f":"C15","v":0},"Pitch (m)",{"$f":"SQRT(POWER(E15,2)+POWER(G15,2))","v":0},"Area (m²)",0,"Single Pitch"]
[null,null,null,null,"Total","Area (m²)",{"$f":"SUM(G34:G35)-SUM(G46:G49)","v":0},"U Value (W/m²K)",{"$f":"IF($C$3=\"Ground floor\",'Design Details'!C$50,IF($C$3=\"Mid-floor\",'Design Details'!C$60,IF($C$3=\"Upper floor\",'Design Details'!C$70,IF($C$3=\"Single Storey\",'Design Details'!C$80,0))))","v":0},{"$f":"$D$6","v":2.5},0,{"$f":"IF($C$3=$R$4,0,IF($C$3=$R$5,0,G36*I36*$D$7*24/1000))","v":0}]
[null,"Windows"]
[null,"Width (m)",null,"Height (m)",null,"Area (m²)",0,"U Value (W/m²K)",{"$f":"IF($C$3=\"Ground floor\",'Design Details'!C$46,IF($C$3=\"Mid-floor\",'Design Details'!C$56,IF($C$3=\"Upper floor\",'Design Details'!C$66,IF($C$3=\"Single Storey\",'Design Details'!C$76,0))))","v":0},2.5,0,{"$f":"G38*I38*$D$7*24/1000","v":0}]
[null,"Width (m)",null,"Height (m)",null,"Area (m²)",0,"U Value (W/m²K)",{"$f":"IF($C$3=\"Ground floor\",'Design Details'!C$46,IF($C$3=\"Mid-floor\",'Design Details'!C$56,IF($C$3=\"Upper floor\",'Design Details'!C$66,IF($C$3=\"Single Storey\",'Design Details'!C$76,0))))","v":0},2.5,0,0]
[null,"Width (m)",null,"Height (m)",null,"Area (m²)",0,"U Value (W/m²K)",{"$f":"IF($C$3=\"Ground floor\",'Design Details'!C$46,IF($C$3=\"Mid-floor\",'Design Details'!C$56,IF($C$3=\"Upper floor\",'Design Details'!C$66,IF($C$3=\"Single Storey\",'Design Details'!C$76,0))))","v":0},2.5,0,0]
[null,"Width (m)",null,"Height (m)",null,"Area (m²)",0,"U Value (W/m²K)",{"$f":"IF($C$3=\"Ground floor\",'Design Details'!C$46,IF($C$3=\"Mid-floor\",'Design Details'!C$56,IF($C$3=\"Upper floor\",'Design Details'!C$66,IF($C$3=\"Single Storey\",'Design Details'!C$76,0))))","v":0},2.5,0,0]
[null,"Width (m)",null,"Height (m)",null,"Area (m²)",0,"U Value (W/m²K)",{"$f":"IF($C$3=\"Ground floor\",'Design Details'!C$46,IF($C$3=\"Mid-floor\",'Design Details'!C$56,IF($C$3=\"Upper floor\",'Design Details'!C$66,IF($C$3=\"Single Storey\",'Design Details'!C$76,0))))","v":0},2.5,0,0]
[null,"Width (m)",null,"Height (m)",null,"Area (m²)",0,"U Value (W/m²K)",{"$f":"IF($C$3=\"Ground floor\",'Design Details'!C$46,IF($C$3=\"Mid-floor\",'Design Details'!C$56,IF($C$3=\"Upper floor\",'Design Details'!C$66,IF($C$3=\"Single Storey\",'Design Details'!C$76,0))))","v":0},2.5,0,0]
[null,"Width (m)",null,"Height (m)",null,"Area (m²)",0,"U Value (W/m²K)",{"$f":"IF($C$3=\"Ground floor\",'Design Details'!C$46,IF($C$3=\"Mid-floor\",'Design Details'!C$56,IF($C$3=\"Upper floor\",'Design Details'!C$66,IF($C$3=\"Single Storey\",'Design Details'!C$76,0))))","v":0},2.5,0,0]
[null,"Roof Glazing",null,null,null,null,null,null,null,null,null,null,null,null,null,null,"Options for upper floor or single storey","Options for Ground or Mid Floor","Drop-Down List","U-Value Selector","Temp Diff Selector"]
[null,"Width (m)",null,"Height (m)",null,"Area (m²)",0,"U Value (W/m²K)",{"$f":"IF($C$3=\"Ground floor\",'Design Details'!C$53,IF($C$3=\"Mid-floor\",'Design Details'!C$63,IF($C$3=\"Upper floor\",'Design Details'!C$73,IF($C$3=\"Single Storey\",'Design Details'!C$83,0))))","v":0},2.5,0,{"$f":"G46*I46*$D$7*24/1000","v":0}]
[null,"Width (m)",null,"Height (m)",null,"Area (m²)",0,"U Value (W/m²K)",{"$f":"IF($C$3=\"Ground floor\",'Design Details'!C$53,IF($C$3=\"Mid-floor\",'Design Details'!C$63,IF($C$3=\"Upper floor\",'Design Details'!C$73,IF($C$3=\"Single Storey\",'Design Details'!C$83,0))))","v":0},2.5,0,{"$f":"G47*I47*$D$7*24/1000","v":0}]
[null,"Width (m)",null,"Height (m)",null,"Area (m²)",0,"U Value (W/m²K)",{"$f":"IF($C$3=\"Ground floor\",'Design Details'!C$53,IF($C$3=\"Mid-floor\",'Design Details'!C$63,IF($C$3=\"Upper floor\",'Design Details'!C$73,IF($C$3=\"Single Storey\",'Design Details'!C$83,0))))","v":0},2.5,0,{"$f":"G48*I48*$D$7*24/1000","v":0}]
[null,"Width (m)",null,"Height (m)",null,"Area (m²)",0,"U Value (W/m²K)",{"$f":"IF($C$3=\"Ground floor\",'Design Details'!C$53,IF($C$3=\"Mid-floor\",'Design Details'!C$63,IF($C$3=\"Upper floor\",'Design Details'!C$73,IF($C$3=\"Single Storey\",'Design Details'!C$83,0))))","v":0},2.5,0,{"$f":"G49*I49*$D$7*24/1000","v":0}]
[null,"External Doors",null,null,null,null,null,null,null,null,null,null,null,null,null,null,null,null,"Select..."]
[null,"Width (m)",null,"Height (m)",null,"Area (m²)",0,"U Value (W/m²K)",{"$f":"IF($C$3=\"Ground floor\",'Design Details'!C$47,IF($C$3=\"Mid-floor\",'Design Details'!C$57,IF($C$3=\"Upper floor\",'Design Details'!C$67,IF($C$3=\"Single Storey\",'Design Details'!C$77,0))))","v":0},2.5,0,{"$f":"G51*I51*$D$7*24/1000","v":0},null,null,null,null,"Outside","Unheated",{"$f":"IF(OR($C$3=\"Ground Floor\",$C$3=\"Mid-floor\"),R51,Q51)","v":"Outside"},{"$f":"IF(M32=\"Unheated\",1,0)","v":0},{"$f":"IF(M32=\"Select...\",0,(IF(M32=\"Outside\",D6,IF(M32=\"Unheated\",D4-10,D4-M32))))","v":0}]
[null,"Width (m)",null,"Height (m)",null,"Area (m²)",0,"U Value (W/m²K)",{"$f":"IF($C$3=\"Ground floor\",'Design Details'!C$47,IF($C$3=\"Mid-floor\",'Design Details'!C$57,IF($C$3=\"Upper floor\",'Design Details'!C$67,IF($C$3=\"Single Storey\",'Design Details'!C$77,0))))","v":0},2.5,0,{"$f":"G52*I52*$D$7*24/1000","v":0},null,null,null,null,"Unheated","16",{"$f":"IF(OR($C$3=\"Ground Floor\",$C$3=\"Mid-floor\"),R52,Q52)","v":"Unheated"},{"$f":"\"'Design Details'!C$\"&69+T51","v":"'Design Details'!C$69"}]
[null,"Width (m)",null,"Height (m)",null,"Area (m²)",0,"U Value (W/m²K)",{"$f":"IF($C$3=\"Ground floor\",'Design Details'!C$47,IF($C$3=\"Mid-floor\",'Design Details'!C$57,IF($C$3=\"Upper floor\",'Design Details'!C$67,IF($C$3=\"Single Storey\",'Design Details'!C$77,0))))","v":0},2.5,0,{"$f":"G53*I53*$D$7*24/1000","v":0},null,null,null,null,null,"18",{"$f":"IF(OR($C$3=\"Ground Floor\",$C$3=\"Mid-floor\"),R53,Q53)","v":0},{"$f":"\"'Design Details'!C$\"&79+T51","v":"'Design Details'!C$79"}]
[null,"Width (m)",null,"Height (m)",null,"Area (m²)",0,"U Value (W/m²K)",{"$f":"IF($C$3=\"Ground floor\",'Design Details'!C$47,IF($C$3=\"Mid-floor\",'Design Details'!C$57,IF($C$3=\"Upper floor\",'Design Details'!C$67,IF($C$3=\"Single Storey\",'Design Details'!C$77,0))))","v":0},2.5,0,{"$f":"G54*I54*$D$7*24/1000","v":0},null,null,null,null,null,"21",{"$f":"IF(OR($C$3=\"Ground Floor\",$C$3=\"Mid-floor\"),R54,Q54)","v":0}]
[null,"Internal Walls",null,null,null,null,null,null,null,null,null,null,"Adjoining Room Temp (°C)",null,null,null,null,22,{"$f":"IF(OR($C$3=\"Ground Floor\",$C$3=\"Mid-floor\"),R55,Q37)","v":0}]
[null,"Length (m)",null,"Height (m)",null,"Area (m²)",0,"U Value (W/m²K)",{"$f":"IF($C$3=\"Ground floor\",'Design Details'!C$51,IF($C$3=\"Mid-floor\",'Design Details'!C$61,IF($C$3=\"Upper floor\",'Design Details'!C$71,IF($C$3=\"Single Storey\",'Design Details'!C$81,0))))","v":0},{"$f":"IF(M56=\"\",0,IF(M56=\"unheated\",D$4-10,D$4-M56))","v":0},0]
[null,"Length (m)",null,"Height (m)",null,"Area (m²)",0,"U Value (W/m²K)",{"$f":"IF($C$3=\"Ground floor\",'Design Details'!C$51,IF($C$3=\"Mid-floor\",'Design Details'!C$61,IF($C$3=\"Upper floor\",'Design Details'!C$71,IF($C$3=\"Single Storey\",'Design Details'!C$81,0))))","v":0},{"$f":"IF(M57=\"\",0,IF(M57=\"unheated\",D$4-10,D$4-M57))","v":0},0]
[null,"Length (m)",null,"Height (m)",null,"Area (m²)",0,"U Value (W/m²K)",{"$f":"IF($C$3=\"Ground floor\",'Design Details'!C$51,IF($C$3=\"Mid-floor\",'Design Details'!C$61,IF($C$3=\"Upper floor\",'Design Details'!C$71,IF($C$3=\"Single Storey\",'Design Details'!C$81,0))))","v":0},{"$f":"IF(M58=\"\",0,IF(M58=\"unheated\",D$4-10,D$4-M58))","v":0},0]
[null,"Length (m)",null,"Height (m)",null,"Area (m²)",0,"U Value (W/m²K)",{"$f":"IF($C$3=\"Ground floor\",'Design Details'!C$51,IF($C$3=\"Mid-floor\",'Design Details'!C$61,IF($C$3=\"Upper floor\",'Design Details'!C$71,IF($C$3=\"Single Storey\",'Design Details'!C$81,0))))","v":0},{"$f":"IF(M59=\"\",0,IF(M59=\"unheated\",D$4-10,D$4-M59))","v":0},0]
[null,"Party Wall"]
[null,"Length (m)",null,"Height (m)",null,"Area (m²)",0,"U Value (W/m²K)",{"$f":"IF($C$3=\"Ground floor\",'Design Details'!C$52,IF($C$3=\"Mid-floor\",'Design Details'!C$62,IF($C$3=\"Upper floor\",'Design Details'!C$72,IF($C$3=\"Single Storey\",'Design Details'!C$82,0))))","v":0},{"$f":"D4-10","v":-10},0,{"$f":"G61*I61*$D$7*24/1000","v":0}]

{"sheet":"19","index":34,"n_rows":61,"n_cols":25,"rows_kept":61,"cut":false,"hidden":false,"merged":[[58,12,58,14],[44,19,48,19],[44,20,48,20],[54,12,54,14],[55,12,55,14],[56,12,56,14],[57,12,57,14],[44,18,48,18],[21,12,21,14],[30,12,30,14],[31,12,31,14],[44,16,48,16],[44,17,48,17],[20,12,20,14],[3,1,3,2],[3,4,3,5],[4,1,4,2],[4,4,4,5],[5,1,5,2],[5,4,5,5],[6,1,6,2],[9,11,9,14],[10,11,10,14],[18,12,18,14],[19,12,19,14],[0,1,0,3],[0,4,0,6],[0,10,0,11],[1,4,1,5],[2,2,2,3],[2,4,2,5]]}
[null,"Room Information",null,null,"Ventilation Heat Loss",null,null,"Fabric ","Heat Loss (W)"," Usage (kWh)","Additional heat loss",null,"Addition","Watts","kWh"]
[null,"Room",null,null,"Air Changes per hour",null,{"$f":"'Design Details'!G105","v":0},"Floor",{"$f":"SUM(K20:K22)","v":0},{"$f":"SUM(L20:L22)","v":0},"Thermal Bridging (New Build >2006)",null,0,{"$f":"SUM(I$2:I$6)*M2","v":0},{"$f":"SUM(J$2:J$6)*M2","v":0},null,"3 edges (long single)","Level",null,null,null,null,null,null,1]
[null,"Level",null,null,"Air Change Factor (W/m³K)",null,0.33,"Ext Wall",{"$f":"K27","v":0},{"$f":"L27","v":0},"Exposed location",null,0,{"$f":"SUM(I$2:I$6)*M3","v":0},{"$f":"SUM(J$2:J$6)*M3","v":0},null,"3 edges (short single)","Please Select Floor",{"$f":"IF($C$3=\"Ground floor\",\"Solid Floor (in contact with ground)\",IF($C$3=\"Single Storey\",\"Solid Floor (in contact with ground)\",\"n/a\"))","v":"n/a"},{"$f":"'Design Details'!C21","v":10},"unheated",0,0,0,2]
[null,"Design Room Temp (°C)",null,{"$f":"'Design Details'!E105","v":0},"Total Volume (m³)",null,{"$f":"SUM(I10:I12,I14:I18)","v":0},"Roof",{"$f":"SUM(K32,K36)","v":0},{"$f":"SUM(L32,L36)","v":0},"High ceiling",null,0,{"$f":"SUM(I$2:I$6)*M4","v":0},{"$f":"SUM(J$2:J$6)*M4","v":0},null,"One edge","Ground floor",{"$f":"IF($C$3=\"Ground floor\",\"Suspended Floor\",IF($C$3=\"Single Storey\",\"Suspended Floor\",\"n/a\"))","v":"n/a"},null,16,0.1,0.2,2.5000000000000001E-2,3]
[null,"Outside Design Temp (°C)",null,{"$f":"'Design Details'!C19","v":-2.5},"Heat loss (W)",null,{"$f":"G4*G3*D6*G2","v":0},"Glazing",{"$f":"SUM(K38:K44,K46:K49,K51:K54)","v":0},{"$f":"SUM(L38:L44,L46:L49,L51:L54)","v":0},"Intermittent heating",null,0,{"$f":"SUM(I$2:I$6)*M5","v":0},{"$f":"SUM(J$2:J$6)*M5","v":0},null,"Two adjacent","Mid-floor",null,null,18,null,null,0.05,4]
[null,"Temp Difference (°C)",null,{"$f":"D4-D5","v":2.5},"Estimated Energy usage (kWh)",null,{"$f":"G4*G3*D7*24/1000","v":0},"Int./Party Wall",{"$f":"SUM(K56:K59,K61)","v":0},{"$f":"SUM(L61)","v":0},null,null,null,"Total Room Heat Loss (W)",{"$f":"SUM(G5,I2:I6,N2:N5)","v":0},null,"Two opposite","Single storey",null,null,21,null,null,7.4999999999999997E-2,5]
[null,"Degree Days",null,{"$f":"'Design Details'!C20","v":2228},null,null,null,null,null,null,null,null,null,"Total Room Energy Usage (kWh)",{"$f":"SUM(G6,J2:J6,O2:O5)","v":0},null,null,"Upper floor",null,null,22,null,null,0.1,6]
[null,null,null,null,null,null,null,null,null,null,null,null,null,null,null,null,null,{"$f":"IF($C$3=\"Ground floor\",'Design Details'!C$45,IF($C$3=\"Mid-floor\",'Design Details'!C$55,IF($C$3=\"Upper floor\",'Design Details'!C$65,IF($C$3=\"Single Storey\",'Design Details'!C$75,0))))","v":0},null,null,null,null,null,null,7]
[null,"Room Dimensions",null,null,null,null,null,null,null,null,null,null,null,null,null,null,null,null,null,null,null,null,null,null,8]
[null,"Length (m)",null,"Width (m)",null,"Height (m)",null,"Volume (m³)",{"$f":"C10*E10*G10","v":0},null,null,null,null,null,null,null,null,null,null,null,null,null,null,null,9]
[null,"Length (m)",null,"Width (m)",null,"Height (m)",null,"Volume (m³)",{"$f":"C11*E11*G11","v":0},null,null,null,null,null,null,null,null,null,null,null,null,null,null,null,10]
[null,"Length (m)",null,"Width (m)",null,"Height (m)",null,"Volume (m³)",{"$f":"C12*E12*G12","v":0}]
[null,"Awkward Room Dimensions"]
[null,"Length (m)",null,"Width (m)",null,"Height (m)",null,"Volume (m³)",{"$f":"((G14*E14)/2)*C14","v":0},"Pitched"]
[null,"Length (m)",null,"Width (m)",null,"Height (m)",null,"Volume (m³)",{"$f":"C15*E15*G15/2","v":0},"Single Pitch"]
[null,"Length (m)",null,"Height (m)",null,"Depth (m)",null,"Volume (m³)",{"$f":"E16*G16*C16/2","v":0},"Dormer 1"]
[null,"Length (m)",null,"Height (m)",null,"Depth (m)",null,"Volume (m³)",{"$f":"E17*G17*C17/2","v":0},"Dormer 2"]
[null,"Length (m)",null,"Height (m)",null,"Depth (m)",null,"Volume (m³)",{"$f":"E18*G18*C18/2","v":0},"Dormer 3"]
[null,"Floor",null,null,null,null,null,null,null,"Temp Difference","Heat Loss (W)","Usage (kWh)",{"$f":"IF($C$3=\"Ground Floor\",\"Select type of Ground Floor\",IF($C$3=\"Single Storey\",\"Select type of Ground Floor\",\"#N/A\"))","v":"#N/A"}]
[null,{"$f":"B10","v":"Length (m)"},null,{"$f":"D10","v":"Width (m)"},null,"Area (m²)",{"$f":"C20*E20","v":0},"U Value (W/m²K)",{"$f":"IF(M22=\"\",R8,'floor u values'!K20)","v":0},{"$f":"IF(C$3=\"Ground Floor\",IF(M20=\"Solid Floor (in contact with ground)\",D$4-T$3,D$4-D$5),IF(C$3=\"Single Storey\",IF(M20=\"Solid Floor (in contact with ground)\",D$4-T$3,D$4-D$5),0))","v":0},{"$f":"G20*I20*J20","v":0},{"$f":"IF($C$3=$R$5,0,IF($C$3=$R$7,0,G20*I20*$D$7*24/1000))","v":0},"n/a"]
[null,"Length (m)",null,"Width (m)",null,"Area (m²)",{"$f":"C21*E21","v":0},"U Value (W/m²K)",{"$f":"I20","v":0},{"$f":"IF(C$3=\"Ground Floor\",IF(M20=\"Solid Floor (in contact with ground)\",D$4-T$3,D$4-D$5),IF(C$3=\"Single Storey\",IF(M20=\"Solid Floor (in contact with ground)\",D$4-T$3,D$4-D$5),0))","v":0},{"$f":"G21*I21*J21","v":0},{"$f":"IF($C$3=$R$5,0,IF($C$3=$R$7,0,G21*I21*$D$7*24/1000))","v":0},"Exposed floor (external)"]
[null,"Length (m)",null,"Width (m)",null,"Area (m²)",0,"U Value (W/m²K)",{"$f":"I20","v":0},{"$f":"IF(C$3=\"Ground Floor\",IF(M20=\"Solid Floor (in contact with ground)\",D$4-T$3,D$4-D$5),IF(C$3=\"Single Storey\",IF(M20=\"Solid Floor (in contact with ground)\",D$4-T$3,D$4-D$5),0))","v":0},{"$f":"G22*I22*J22","v":0},{"$f":"IF($C$3=$R$5,0,IF($C$3=$R$7,0,G22*I22*$D$7*24/1000))","v":0}]
[null,"External Wall",null,null,null,null,null,null,null,null,null,null,{"$f":"IF(M22=\"Two opposite\",\"Between edges\",IF(M22=\"One edge\",\"Depth of room\",IF(M22=\"3 edges (short single)\",\"Short length\",IF(M22=\"3 edges (long single)\",\"Short length\",\"\"))))","v":""},null,{"$f":"IF(M22=\"3 edges (short single)\",\"Long length\",IF(M22=\"3 edges (long single)\",\"Long length\",\"\"))","v":""}]
[null,"Length (m)",null,"Height (m)",null,"Area (m²)",0]
[null,"Length (m)",null,"Height (m)",null,"Area (m²)",0]
[null,"Length (m)",null,"Height (m)",null,"Area (m²)",0]
[null,null,null,null,"Total","Area (m²)",{"$f":"SUM(G24:G26)-SUM(G38:G44,G51:G54)","v":0},"U Value (W/m²K)",{"$f":"IF($C$3=\"Ground floor\",'Design Details'!C$48,IF($C$3=\"Mid-floor\",'Design Details'!C$58,IF($C$3=\"Upper floor\",'Design Details'!C$68,IF($C$3=\"Single Storey\",'Design Details'!C$78,0))))","v":0},{"$f":"$D$6","v":2.5},{"$f":"G27*I27*J27","v":0},{"$f":"G27*I27*$D$7*24/1000","v":0}]
[null,"Ceiling (Flat)"]
[null,"Length (m)",null,"Width (m)",null,"Area (m²)",0]
[null,"Length (m)",null,"Width (m)",null,"Area (m²)",0]
[null,"Length (m)",null,"Width (m)",null,"Area (m²)",0,null,null,null,null,null,"Select Temp/Type of Space Above"]
[null,null,null,null,"Total","Area (m²)",{"$f":"SUM(G29:G31)-SUM(G46:G49)","v":0},"U Value (W/m²K)",{"$f":"IF($C$3=\"Ground floor\",'Design Details'!C$49,IF($C$3=\"Mid-floor\",'Design Details'!C$59,IF($C$3=\"Upper floor\",INDIRECT(T52),IF($C$3=\"Single Storey\",INDIRECT(T53),0))))","v":0},{"$f":"U51","v":0},{"$f":"G32*I32*J32","v":0},{"$f":"IF($C$3=$R$4,0,IF($C$3=$R$5,0,G32*I32*$D$7*24/1000))","v":0},"Select..."]
[null,"Ceiling (Awkward)"]
[null,"Length (m)",{"$f":"C14*2","v":0},"Pitch (m)",{"$f":"SQRT(POWER(E14,2)+POWER(G14,2))","v":0},"Area (m²)",{"$f":"C34*E34","v":0},"Pitched"]
[null,"Length (m)",{"$f":"C15","v":0},"Pitch (m)",{"$f":"SQRT(POWER(E15,2)+POWER(G15,2))","v":0},"Area (m²)",0,"Single Pitch"]
[null,null,null,null,"Total","Area (m²)",{"$f":"SUM(G34:G35)-SUM(G46:G49)","v":0},"U Value (W/m²K)",{"$f":"IF($C$3=\"Ground floor\",'Design Details'!C$50,IF($C$3=\"Mid-floor\",'Design Details'!C$60,IF($C$3=\"Upper floor\",'Design Details'!C$70,IF($C$3=\"Single Storey\",'Design Details'!C$80,0))))","v":0},{"$f":"$D$6","v":2.5},0,{"$f":"IF($C$3=$R$4,0,IF($C$3=$R$5,0,G36*I36*$D$7*24/1000))","v":0}]
[null,"Windows"]
[null,"Width (m)",null,"Height (m)",null,"Area (m²)",0,"U Value (W/m²K)",{"$f":"IF($C$3=\"Ground floor\",'Design Details'!C$46,IF($C$3=\"Mid-floor\",'Design Details'!C$56,IF($C$3=\"Upper floor\",'Design Details'!C$66,IF($C$3=\"Single Storey\",'Design Details'!C$76,0))))","v":0},2.5,0,{"$f":"G38*I38*$D$7*24/1000","v":0}]
[null,"Width (m)",null,"Height (m)",null,"Area (m²)",0,"U Value (W/m²K)",{"$f":"IF($C$3=\"Ground floor\",'Design Details'!C$46,IF($C$3=\"Mid-floor\",'Design Details'!C$56,IF($C$3=\"Upper floor\",'Design Details'!C$66,IF($C$3=\"Single Storey\",'Design Details'!C$76,0))))","v":0},2.5,0,0]
[null,"Width (m)",null,"Height (m)",null,"Area (m²)",0,"U Value (W/m²K)",{"$f":"IF($C$3=\"Ground floor\",'Design Details'!C$46,IF($C$3=\"Mid-floor\",'Design Details'!C$56,IF($C$3=\"Upper floor\",'Design Details'!C$66,IF($C$3=\"Single Storey\",'Design Details'!C$76,0))))","v":0},2.5,0,0]
[null,"Width (m)",null,"Height (m)",null,"Area (m²)",0,"U Value (W/m²K)",{"$f":"IF($C$3=\"Ground floor\",'Design Details'!C$46,IF($C$3=\"Mid-floor\",'Design Details'!C$56,IF($C$3=\"Upper floor\",'Design Details'!C$66,IF($C$3=\"Single Storey\",'Design Details'!C$76,0))))","v":0},2.5,0,0]
[null,"Width (m)",null,"Height (m)",null,"Area (m²)",0,"U Value (W/m²K)",{"$f":"IF($C$3=\"Ground floor\",'Design Details'!C$46,IF($C$3=\"Mid-floor\",'Design Details'!C$56,IF($C$3=\"Upper floor\",'Design Details'!C$66,IF($C$3=\"Single Storey\",'Design Details'!C$76,0))))","v":0},2.5,0,0]
[null,"Width (m)",null,"Height (m)",null,"Area (m²)",0,"U Value (W/m²K)",{"$f":"IF($C$3=\"Ground floor\",'Design Details'!C$46,IF($C$3=\"Mid-floor\",'Design Details'!C$56,IF($C$3=\"Upper floor\",'Design Details'!C$66,IF($C$3=\"Single Storey\",'Design Details'!C$76,0))))","v":0},2.5,0,0]
[null,"Width (m)",null,"Height (m)",null,"Area (m²)",0,"U Value (W/m²K)",{"$f":"IF($C$3=\"Ground floor\",'Design Details'!C$46,IF($C$3=\"Mid-floor\",'Design Details'!C$56,IF($C$3=\"Upper floor\",'Design Details'!C$66,IF($C$3=\"Single Storey\",'Design Details'!C$76,0))))","v":0},2.5,0,0]
[null,"Roof Glazing",null,null,null,null,null,null,null,null,null,null,null,null,null,null,"Options for upper floor or single storey","Options for Ground or Mid Floor","Drop-Down List","U-Value Selector","Temp Diff Selector"]
[null,"Width (m)",null,"Height (m)",null,"Area (m²)",0,"U Value (W/m²K)",{"$f":"IF($C$3=\"Ground floor\",'Design Details'!C$53,IF($C$3=\"Mid-floor\",'Design Details'!C$63,IF($C$3=\"Upper floor\",'Design Details'!C$73,IF($C$3=\"Single Storey\",'Design Details'!C$83,0))))","v":0},2.5,0,{"$f":"G46*I46*$D$7*24/1000","v":0}]
[null,"Width (m)",null,"Height (m)",null,"Area (m²)",0,"U Value (W/m²K)",{"$f":"IF($C$3=\"Ground floor\",'Design Details'!C$53,IF($C$3=\"Mid-floor\",'Design Details'!C$63,IF($C$3=\"Upper floor\",'Design Details'!C$73,IF($C$3=\"Single Storey\",'Design Details'!C$83,0))))","v":0},2.5,0,{"$f":"G47*I47*$D$7*24/1000","v":0}]
[null,"Width (m)",null,"Height (m)",null,"Area (m²)",0,"U Value (W/m²K)",{"$f":"IF($C$3=\"Ground floor\",'Design Details'!C$53,IF($C$3=\"Mid-floor\",'Design Details'!C$63,IF($C$3=\"Upper floor\",'Design Details'!C$73,IF($C$3=\"Single Storey\",'Design Details'!C$83,0))))","v":0},2.5,0,{"$f":"G48*I48*$D$7*24/1000","v":0}]
[null,"Width (m)",null,"Height (m)",null,"Area (m²)",0,"U Value (W/m²K)",{"$f":"IF($C$3=\"Ground floor\",'Design Details'!C$53,IF($C$3=\"Mid-floor\",'Design Details'!C$63,IF($C$3=\"Upper floor\",'Design Details'!C$73,IF($C$3=\"Single Storey\",'Design Details'!C$83,0))))","v":0},2.5,0,{"$f":"G49*I49*$D$7*24/1000","v":0}]
[null,"External Doors",null,null,null,null,null,null,null,null,null,null,null,null,null,null,null,null,"Select..."]
[null,"Width (m)",null,"Height (m)",null,"Area (m²)",0,"U Value (W/m²K)",{"$f":"IF($C$3=\"Ground floor\",'Design Details'!C$47,IF($C$3=\"Mid-floor\",'Design Details'!C$57,IF($C$3=\"Upper floor\",'Design Details'!C$67,IF($C$3=\"Single Storey\",'Design Details'!C$77,0))))","v":0},2.5,0,{"$f":"G51*I51*$D$7*24/1000","v":0},null,null,null,null,"Outside","Unheated",{"$f":"IF(OR($C$3=\"Ground Floor\",$C$3=\"Mid-floor\"),R51,Q51)","v":"Outside"},{"$f":"IF(M32=\"Unheated\",1,0)","v":0},{"$f":"IF(M32=\"Select...\",0,(IF(M32=\"Outside\",D6,IF(M32=\"Unheated\",D4-10,D4-M32))))","v":0}]
[null,"Width (m)",null,"Height (m)",null,"Area (m²)",0,"U Value (W/m²K)",{"$f":"IF($C$3=\"Ground floor\",'Design Details'!C$47,IF($C$3=\"Mid-floor\",'Design Details'!C$57,IF($C$3=\"Upper floor\",'Design Details'!C$67,IF($C$3=\"Single Storey\",'Design Details'!C$77,0))))","v":0},2.5,0,{"$f":"G52*I52*$D$7*24/1000","v":0},null,null,null,null,"Unheated","16",{"$f":"IF(OR($C$3=\"Ground Floor\",$C$3=\"Mid-floor\"),R52,Q52)","v":"Unheated"},{"$f":"\"'Design Details'!C$\"&69+T51","v":"'Design Details'!C$69"}]
[null,"Width (m)",null,"Height (m)",null,"Area (m²)",0,"U Value (W/m²K)",{"$f":"IF($C$3=\"Ground floor\",'Design Details'!C$47,IF($C$3=\"Mid-floor\",'Design Details'!C$57,IF($C$3=\"Upper floor\",'Design Details'!C$67,IF($C$3=\"Single Storey\",'Design Details'!C$77,0))))","v":0},2.5,0,{"$f":"G53*I53*$D$7*24/1000","v":0},null,null,null,null,null,"18",{"$f":"IF(OR($C$3=\"Ground Floor\",$C$3=\"Mid-floor\"),R53,Q53)","v":0},{"$f":"\"'Design Details'!C$\"&79+T51","v":"'Design Details'!C$79"}]
[null,"Width (m)",null,"Height (m)",null,"Area (m²)",0,"U Value (W/m²K)",{"$f":"IF($C$3=\"Ground floor\",'Design Details'!C$47,IF($C$3=\"Mid-floor\",'Design Details'!C$57,IF($C$3=\"Upper floor\",'Design Details'!C$67,IF($C$3=\"Single Storey\",'Design Details'!C$77,0))))","v":0},2.5,0,{"$f":"G54*I54*$D$7*24/1000","v":0},null,null,null,null,null,"21",{"$f":"IF(OR($C$3=\"Ground Floor\",$C$3=\"Mid-floor\"),R54,Q54)","v":0}]
[null,"Internal Walls",null,null,null,null,null,null,null,null,null,null,"Adjoining Room Temp (°C)",null,null,null,null,22,{"$f":"IF(OR($C$3=\"Ground Floor\",$C$3=\"Mid-floor\"),R55,Q37)","v":0}]
[null,"Length (m)",null,"Height (m)",null,"Area (m²)",0,"U Value (W/m²K)",{"$f":"IF($C$3=\"Ground floor\",'Design Details'!C$51,IF($C$3=\"Mid-floor\",'Design Details'!C$61,IF($C$3=\"Upper floor\",'Design Details'!C$71,IF($C$3=\"Single Storey\",'Design Details'!C$81,0))))","v":0},{"$f":"IF(M56=\"\",0,IF(M56=\"unheated\",D$4-10,D$4-M56))","v":0},0]
[null,"Length (m)",null,"Height (m)",null,"Area (m²)",0,"U Value (W/m²K)",{"$f":"IF($C$3=\"Ground floor\",'Design Details'!C$51,IF($C$3=\"Mid-floor\",'Design Details'!C$61,IF($C$3=\"Upper floor\",'Design Details'!C$71,IF($C$3=\"Single Storey\",'Design Details'!C$81,0))))","v":0},{"$f":"IF(M57=\"\",0,IF(M57=\"unheated\",D$4-10,D$4-M57))","v":0},0]
[null,"Length (m)",null,"Height (m)",null,"Area (m²)",0,"U Value (W/m²K)",{"$f":"IF($C$3=\"Ground floor\",'Design Details'!C$51,IF($C$3=\"Mid-floor\",'Design Details'!C$61,IF($C$3=\"Upper floor\",'Design Details'!C$71,IF($C$3=\"Single Storey\",'Design Details'!C$81,0))))","v":0},{"$f":"IF(M58=\"\",0,IF(M58=\"unheated\",D$4-10,D$4-M58))","v":0},0]
[null,"Length (m)",null,"Height (m)",null,"Area (m²)",0,"U Value (W/m²K)",{"$f":"IF($C$3=\"Ground floor\",'Design Details'!C$51,IF($C$3=\"Mid-floor\",'Design Details'!C$61,IF($C$3=\"Upper floor\",'Design Details'!C$71,IF($C$3=\"Single Storey\",'Design Details'!C$81,0))))","v":0},{"$f":"IF(M59=\"\",0,IF(M59=\"unheated\",D$4-10,D$4-M59))","v":0},0]
[null,"Party Wall"]
[null,"Length (m)",null,"Height (m)",null,"Area (m²)",0,"U Value (W/m²K)",{"$f":"IF($C$3=\"Ground floor\",'Design Details'!C$52,IF($C$3=\"Mid-floor\",'Design Details'!C$62,IF($C$3=\"Upper floor\",'Design Details'!C$72,IF($C$3=\"Single Storey\",'Design Details'!C$82,0))))","v":0},{"$f":"D4-10","v":-10},0,{"$f":"G61*I61*$D$7*24/1000","v":0}]

{"sheet":"20","index":35,"n_rows":61,"n_cols":25,"rows_kept":61,"cut":false,"hidden":false,"merged":[[58,12,58,14],[44,19,48,19],[44,20,48,20],[54,12,54,14],[55,12,55,14],[56,12,56,14],[57,12,57,14],[44,18,48,18],[21,12,21,14],[30,12,30,14],[31,12,31,14],[44,16,48,16],[44,17,48,17],[20,12,20,14],[3,1,3,2],[3,4,3,5],[4,1,4,2],[4,4,4,5],[5,1,5,2],[5,4,5,5],[6,1,6,2],[9,11,9,14],[10,11,10,14],[18,12,18,14],[19,12,19,14],[0,1,0,3],[0,4,0,6],[0,10,0,11],[1,4,1,5],[2,2,2,3],[2,4,2,5]]}
[null,"Room Information",null,null,"Ventilation Heat Loss",null,null,"Fabric ","Heat Loss (W)"," Usage (kWh)","Additional heat loss",null,"Addition","Watts","kWh"]
[null,"Room",null,null,"Air Changes per hour",null,{"$f":"'Design Details'!G106","v":0},"Floor",{"$f":"SUM(K20:K22)","v":0},{"$f":"SUM(L20:L22)","v":0},"Thermal Bridging (New Build >2006)",null,0,{"$f":"SUM(I$2:I$6)*M2","v":0},{"$f":"SUM(J$2:J$6)*M2","v":0},null,"3 edges (long single)","Level",null,null,null,null,null,null,1]
[null,"Level",null,null,"Air Change Factor (W/m³K)",null,0.33,"Ext Wall",{"$f":"K27","v":0},{"$f":"L27","v":0},"Exposed location",null,0,{"$f":"SUM(I$2:I$6)*M3","v":0},{"$f":"SUM(J$2:J$6)*M3","v":0},null,"3 edges (short single)","Please Select Floor",{"$f":"IF($C$3=\"Ground floor\",\"Solid Floor (in contact with ground)\",IF($C$3=\"Single Storey\",\"Solid Floor (in contact with ground)\",\"n/a\"))","v":"n/a"},{"$f":"'Design Details'!C21","v":10},"unheated",0,0,0,2]
[null,"Design Room Temp (°C)",null,{"$f":"'Design Details'!E106","v":0},"Total Volume (m³)",null,{"$f":"SUM(I10:I12,I14:I18)","v":0},"Roof",{"$f":"SUM(K32,K36)","v":0},{"$f":"SUM(L32,L36)","v":0},"High ceiling",null,0,{"$f":"SUM(I$2:I$6)*M4","v":0},{"$f":"SUM(J$2:J$6)*M4","v":0},null,"One edge","Ground floor",{"$f":"IF($C$3=\"Ground floor\",\"Suspended Floor\",IF($C$3=\"Single Storey\",\"Suspended Floor\",\"n/a\"))","v":"n/a"},null,16,0.1,0.2,2.5000000000000001E-2,3]
[null,"Outside Design Temp (°C)",null,{"$f":"'Design Details'!C19","v":-2.5},"Heat loss (W)",null,{"$f":"G4*G3*D6*G2","v":0},"Glazing",{"$f":"SUM(K38:K44,K46:K49,K51:K54)","v":0},{"$f":"SUM(L38:L44,L46:L49,L51:L54)","v":0},"Intermittent heating",null,0,{"$f":"SUM(I$2:I$6)*M5","v":0},{"$f":"SUM(J$2:J$6)*M5","v":0},null,"Two adjacent","Mid-floor",null,null,18,null,null,0.05,4]
[null,"Temp Difference (°C)",null,{"$f":"D4-D5","v":2.5},"Estimated Energy usage (kWh)",null,{"$f":"G4*G3*D7*24/1000","v":0},"Int./Party Wall",{"$f":"SUM(K56:K59,K61)","v":0},{"$f":"SUM(L61)","v":0},null,null,null,"Total Room Heat Loss (W)",{"$f":"SUM(G5,I2:I6,N2:N5)","v":0},null,"Two opposite","Single storey",null,null,21,null,null,7.4999999999999997E-2,5]
[null,"Degree Days",null,{"$f":"'Design Details'!C20","v":2228},null,null,null,null,null,null,null,null,null,"Total Room Energy Usage (kWh)",{"$f":"SUM(G6,J2:J6,O2:O5)","v":0},null,null,"Upper floor",null,null,22,null,null,0.1,6]
[null,null,null,null,null,null,null,null,null,null,null,null,null,null,null,null,null,{"$f":"IF($C$3=\"Ground floor\",'Design Details'!C$45,IF($C$3=\"Mid-floor\",'Design Details'!C$55,IF($C$3=\"Upper floor\",'Design Details'!C$65,IF($C$3=\"Single Storey\",'Design Details'!C$75,0))))","v":0},null,null,null,null,null,null,7]
[null,"Room Dimensions",null,null,null,null,null,null,null,null,null,null,null,null,null,null,null,null,null,null,null,null,null,null,8]
[null,"Length (m)",null,"Width (m)",null,"Height (m)",null,"Volume (m³)",{"$f":"C10*E10*G10","v":0},null,null,null,null,null,null,null,null,null,null,null,null,null,null,null,9]
[null,"Length (m)",null,"Width (m)",null,"Height (m)",null,"Volume (m³)",{"$f":"C11*E11*G11","v":0},null,null,null,null,null,null,null,null,null,null,null,null,null,null,null,10]
[null,"Length (m)",null,"Width (m)",null,"Height (m)",null,"Volume (m³)",{"$f":"C12*E12*G12","v":0}]
[null,"Awkward Room Dimensions"]
[null,"Length (m)",null,"Width (m)",null,"Height (m)",null,"Volume (m³)",{"$f":"((G14*E14)/2)*C14","v":0},"Pitched"]
[null,"Length (m)",null,"Width (m)",null,"Height (m)",null,"Volume (m³)",{"$f":"C15*E15*G15/2","v":0},"Single Pitch"]
[null,"Length (m)",null,"Height (m)",null,"Depth (m)",null,"Volume (m³)",{"$f":"E16*G16*C16/2","v":0},"Dormer 1"]
[null,"Length (m)",null,"Height (m)",null,"Depth (m)",null,"Volume (m³)",{"$f":"E17*G17*C17/2","v":0},"Dormer 2"]
[null,"Length (m)",null,"Height (m)",null,"Depth (m)",null,"Volume (m³)",{"$f":"E18*G18*C18/2","v":0},"Dormer 3"]
[null,"Floor",null,null,null,null,null,null,null,"Temp Difference","Heat Loss (W)","Usage (kWh)",{"$f":"IF($C$3=\"Ground Floor\",\"Select type of Ground Floor\",IF($C$3=\"Single Storey\",\"Select type of Ground Floor\",\"#N/A\"))","v":"#N/A"}]
[null,{"$f":"B10","v":"Length (m)"},null,{"$f":"D10","v":"Width (m)"},null,"Area (m²)",{"$f":"C20*E20","v":0},"U Value (W/m²K)",{"$f":"IF(M22=\"\",R8,'floor u values'!K21)","v":0},{"$f":"IF(C$3=\"Ground Floor\",IF(M20=\"Solid Floor (in contact with ground)\",D$4-T$3,D$4-D$5),IF(C$3=\"Single Storey\",IF(M20=\"Solid Floor (in contact with ground)\",D$4-T$3,D$4-D$5),0))","v":0},{"$f":"G20*I20*J20","v":0},{"$f":"IF($C$3=$R$5,0,IF($C$3=$R$7,0,G20*I20*$D$7*24/1000))","v":0},"n/a"]
[null,"Length (m)",null,"Width (m)",null,"Area (m²)",{"$f":"C21*E21","v":0},"U Value (W/m²K)",{"$f":"I20","v":0},{"$f":"IF(C$3=\"Ground Floor\",IF(M20=\"Solid Floor (in contact with ground)\",D$4-T$3,D$4-D$5),IF(C$3=\"Single Storey\",IF(M20=\"Solid Floor (in contact with ground)\",D$4-T$3,D$4-D$5),0))","v":0},{"$f":"G21*I21*J21","v":0},{"$f":"IF($C$3=$R$5,0,IF($C$3=$R$7,0,G21*I21*$D$7*24/1000))","v":0},"Exposed floor (external)"]
[null,"Length (m)",null,"Width (m)",null,"Area (m²)",0,"U Value (W/m²K)",{"$f":"I20","v":0},{"$f":"IF(C$3=\"Ground Floor\",IF(M20=\"Solid Floor (in contact with ground)\",D$4-T$3,D$4-D$5),IF(C$3=\"Single Storey\",IF(M20=\"Solid Floor (in contact with ground)\",D$4-T$3,D$4-D$5),0))","v":0},{"$f":"G22*I22*J22","v":0},{"$f":"IF($C$3=$R$5,0,IF($C$3=$R$7,0,G22*I22*$D$7*24/1000))","v":0}]
[null,"External Wall",null,null,null,null,null,null,null,null,null,null,{"$f":"IF(M22=\"Two opposite\",\"Between edges\",IF(M22=\"One edge\",\"Depth of room\",IF(M22=\"3 edges (short single)\",\"Short length\",IF(M22=\"3 edges (long single)\",\"Short length\",\"\"))))","v":""},null,{"$f":"IF(M22=\"3 edges (short single)\",\"Long length\",IF(M22=\"3 edges (long single)\",\"Long length\",\"\"))","v":""}]
[null,"Length (m)",null,"Height (m)",null,"Area (m²)",0]
[null,"Length (m)",null,"Height (m)",null,"Area (m²)",0]
[null,"Length (m)",null,"Height (m)",null,"Area (m²)",0]
[null,null,null,null,"Total","Area (m²)",{"$f":"SUM(G24:G26)-SUM(G38:G44,G51:G54)","v":0},"U Value (W/m²K)",{"$f":"IF($C$3=\"Ground floor\",'Design Details'!C$48,IF($C$3=\"Mid-floor\",'Design Details'!C$58,IF($C$3=\"Upper floor\",'Design Details'!C$68,IF($C$3=\"Single Storey\",'Design Details'!C$78,0))))","v":0},{"$f":"$D$6","v":2.5},{"$f":"G27*I27*J27","v":0},{"$f":"G27*I27*$D$7*24/1000","v":0}]
[null,"Ceiling (Flat)"]
[null,"Length (m)",null,"Width (m)",null,"Area (m²)",0]
[null,"Length (m)",null,"Width (m)",null,"Area (m²)",0]
[null,"Length (m)",null,"Width (m)",null,"Area (m²)",0,null,null,null,null,null,"Select Temp/Type of Space Above"]
[null,null,null,null,"Total","Area (m²)",{"$f":"SUM(G29:G31)-SUM(G46:G49)","v":0},"U Value (W/m²K)",{"$f":"IF($C$3=\"Ground floor\",'Design Details'!C$49,IF($C$3=\"Mid-floor\",'Design Details'!C$59,IF($C$3=\"Upper floor\",INDIRECT(T52),IF($C$3=\"Single Storey\",INDIRECT(T53),0))))","v":0},{"$f":"U51","v":0},{"$f":"G32*I32*J32","v":0},{"$f":"IF($C$3=$R$4,0,IF($C$3=$R$5,0,G32*I32*$D$7*24/1000))","v":0},"Select..."]
[null,"Ceiling (Awkward)"]
[null,"Length (m)",{"$f":"C14*2","v":0},"Pitch (m)",{"$f":"SQRT(POWER(E14,2)+POWER(G14,2))","v":0},"Area (m²)",{"$f":"C34*E34","v":0},"Pitched"]
[null,"Length (m)",{"$f":"C15","v":0},"Pitch (m)",{"$f":"SQRT(POWER(E15,2)+POWER(G15,2))","v":0},"Area (m²)",0,"Single Pitch"]
[null,null,null,null,"Total","Area (m²)",{"$f":"SUM(G34:G35)-SUM(G46:G49)","v":0},"U Value (W/m²K)",{"$f":"IF($C$3=\"Ground floor\",'Design Details'!C$50,IF($C$3=\"Mid-floor\",'Design Details'!C$60,IF($C$3=\"Upper floor\",'Design Details'!C$70,IF($C$3=\"Single Storey\",'Design Details'!C$80,0))))","v":0},{"$f":"$D$6","v":2.5},0,{"$f":"IF($C$3=$R$4,0,IF($C$3=$R$5,0,G36*I36*$D$7*24/1000))","v":0}]
[null,"Windows"]
[null,"Width (m)",null,"Height (m)",null,"Area (m²)",0,"U Value (W/m²K)",{"$f":"IF($C$3=\"Ground floor\",'Design Details'!C$46,IF($C$3=\"Mid-floor\",'Design Details'!C$56,IF($C$3=\"Upper floor\",'Design Details'!C$66,IF($C$3=\"Single Storey\",'Design Details'!C$76,0))))","v":0},2.5,0,{"$f":"G38*I38*$D$7*24/1000","v":0}]
[null,"Width (m)",null,"Height (m)",null,"Area (m²)",0,"U Value (W/m²K)",{"$f":"IF($C$3=\"Ground floor\",'Design Details'!C$46,IF($C$3=\"Mid-floor\",'Design Details'!C$56,IF($C$3=\"Upper floor\",'Design Details'!C$66,IF($C$3=\"Single Storey\",'Design Details'!C$76,0))))","v":0},2.5,0,0]
[null,"Width (m)",null,"Height (m)",null,"Area (m²)",0,"U Value (W/m²K)",{"$f":"IF($C$3=\"Ground floor\",'Design Details'!C$46,IF($C$3=\"Mid-floor\",'Design Details'!C$56,IF($C$3=\"Upper floor\",'Design Details'!C$66,IF($C$3=\"Single Storey\",'Design Details'!C$76,0))))","v":0},2.5,0,0]
[null,"Width (m)",null,"Height (m)",null,"Area (m²)",0,"U Value (W/m²K)",{"$f":"IF($C$3=\"Ground floor\",'Design Details'!C$46,IF($C$3=\"Mid-floor\",'Design Details'!C$56,IF($C$3=\"Upper floor\",'Design Details'!C$66,IF($C$3=\"Single Storey\",'Design Details'!C$76,0))))","v":0},2.5,0,0]
[null,"Width (m)",null,"Height (m)",null,"Area (m²)",0,"U Value (W/m²K)",{"$f":"IF($C$3=\"Ground floor\",'Design Details'!C$46,IF($C$3=\"Mid-floor\",'Design Details'!C$56,IF($C$3=\"Upper floor\",'Design Details'!C$66,IF($C$3=\"Single Storey\",'Design Details'!C$76,0))))","v":0},2.5,0,0]
[null,"Width (m)",null,"Height (m)",null,"Area (m²)",0,"U Value (W/m²K)",{"$f":"IF($C$3=\"Ground floor\",'Design Details'!C$46,IF($C$3=\"Mid-floor\",'Design Details'!C$56,IF($C$3=\"Upper floor\",'Design Details'!C$66,IF($C$3=\"Single Storey\",'Design Details'!C$76,0))))","v":0},2.5,0,0]
[null,"Width (m)",null,"Height (m)",null,"Area (m²)",0,"U Value (W/m²K)",{"$f":"IF($C$3=\"Ground floor\",'Design Details'!C$46,IF($C$3=\"Mid-floor\",'Design Details'!C$56,IF($C$3=\"Upper floor\",'Design Details'!C$66,IF($C$3=\"Single Storey\",'Design Details'!C$76,0))))","v":0},2.5,0,0]
[null,"Roof Glazing",null,null,null,null,null,null,null,null,null,null,null,null,null,null,"Options for upper floor or single storey","Options for Ground or Mid Floor","Drop-Down List","U-Value Selector","Temp Diff Selector"]
[null,"Width (m)",null,"Height (m)",null,"Area (m²)",0,"U Value (W/m²K)",{"$f":"IF($C$3=\"Ground floor\",'Design Details'!C$53,IF($C$3=\"Mid-floor\",'Design Details'!C$63,IF($C$3=\"Upper floor\",'Design Details'!C$73,IF($C$3=\"Single Storey\",'Design Details'!C$83,0))))","v":0},2.5,0,{"$f":"G46*I46*$D$7*24/1000","v":0}]
[null,"Width (m)",null,"Height (m)",null,"Area (m²)",0,"U Value (W/m²K)",{"$f":"IF($C$3=\"Ground floor\",'Design Details'!C$53,IF($C$3=\"Mid-floor\",'Design Details'!C$63,IF($C$3=\"Upper floor\",'Design Details'!C$73,IF($C$3=\"Single Storey\",'Design Details'!C$83,0))))","v":0},2.5,0,{"$f":"G47*I47*$D$7*24/1000","v":0}]
[null,"Width (m)",null,"Height (m)",null,"Area (m²)",0,"U Value (W/m²K)",{"$f":"IF($C$3=\"Ground floor\",'Design Details'!C$53,IF($C$3=\"Mid-floor\",'Design Details'!C$63,IF($C$3=\"Upper floor\",'Design Details'!C$73,IF($C$3=\"Single Storey\",'Design Details'!C$83,0))))","v":0},2.5,0,{"$f":"G48*I48*$D$7*24/1000","v":0}]
[null,"Width (m)",null,"Height (m)",null,"Area (m²)",0,"U Value (W/m²K)",{"$f":"IF($C$3=\"Ground floor\",'Design Details'!C$53,IF($C$3=\"Mid-floor\",'Design Details'!C$63,IF($C$3=\"Upper floor\",'Design Details'!C$73,IF($C$3=\"Single Storey\",'Design Details'!C$83,0))))","v":0},2.5,0,{"$f":"G49*I49*$D$7*24/1000","v":0}]
[null,"External Doors",null,null,null,null,null,null,null,null,null,null,null,null,null,null,null,null,"Select..."]
[null,"Width (m)",null,"Height (m)",null,"Area (m²)",0,"U Value (W/m²K)",{"$f":"IF($C$3=\"Ground floor\",'Design Details'!C$47,IF($C$3=\"Mid-floor\",'Design Details'!C$57,IF($C$3=\"Upper floor\",'Design Details'!C$67,IF($C$3=\"Single Storey\",'Design Details'!C$77,0))))","v":0},2.5,0,{"$f":"G51*I51*$D$7*24/1000","v":0},null,null,null,null,"Outside","Unheated",{"$f":"IF(OR($C$3=\"Ground Floor\",$C$3=\"Mid-floor\"),R51,Q51)","v":"Outside"},{"$f":"IF(M32=\"Unheated\",1,0)","v":0},{"$f":"IF(M32=\"Select...\",0,(IF(M32=\"Outside\",D6,IF(M32=\"Unheated\",D4-10,D4-M32))))","v":0}]
[null,"Width (m)",null,"Height (m)",null,"Area (m²)",0,"U Value (W/m²K)",{"$f":"IF($C$3=\"Ground floor\",'Design Details'!C$47,IF($C$3=\"Mid-floor\",'Design Details'!C$57,IF($C$3=\"Upper floor\",'Design Details'!C$67,IF($C$3=\"Single Storey\",'Design Details'!C$77,0))))","v":0},2.5,0,{"$f":"G52*I52*$D$7*24/1000","v":0},null,null,null,null,"Unheated","16",{"$f":"IF(OR($C$3=\"Ground Floor\",$C$3=\"Mid-floor\"),R52,Q52)","v":"Unheated"},{"$f":"\"'Design Details'!C$\"&69+T51","v":"'Design Details'!C$69"}]
[null,"Width (m)",null,"Height (m)",null,"Area (m²)",0,"U Value (W/m²K)",{"$f":"IF($C$3=\"Ground floor\",'Design Details'!C$47,IF($C$3=\"Mid-floor\",'Design Details'!C$57,IF($C$3=\"Upper floor\",'Design Details'!C$67,IF($C$3=\"Single Storey\",'Design Details'!C$77,0))))","v":0},2.5,0,{"$f":"G53*I53*$D$7*24/1000","v":0},null,null,null,null,null,"18",{"$f":"IF(OR($C$3=\"Ground Floor\",$C$3=\"Mid-floor\"),R53,Q53)","v":0},{"$f":"\"'Design Details'!C$\"&79+T51","v":"'Design Details'!C$79"}]
[null,"Width (m)",null,"Height (m)",null,"Area (m²)",0,"U Value (W/m²K)",{"$f":"IF($C$3=\"Ground floor\",'Design Details'!C$47,IF($C$3=\"Mid-floor\",'Design Details'!C$57,IF($C$3=\"Upper floor\",'Design Details'!C$67,IF($C$3=\"Single Storey\",'Design Details'!C$77,0))))","v":0},2.5,0,{"$f":"G54*I54*$D$7*24/1000","v":0},null,null,null,null,null,"21",{"$f":"IF(OR($C$3=\"Ground Floor\",$C$3=\"Mid-floor\"),R54,Q54)","v":0}]
[null,"Internal Walls",null,null,null,null,null,null,null,null,null,null,"Adjoining Room Temp (°C)",null,null,null,null,22,{"$f":"IF(OR($C$3=\"Ground Floor\",$C$3=\"Mid-floor\"),R55,Q37)","v":0}]
[null,"Length (m)",null,"Height (m)",null,"Area (m²)",0,"U Value (W/m²K)",{"$f":"IF($C$3=\"Ground floor\",'Design Details'!C$51,IF($C$3=\"Mid-floor\",'Design Details'!C$61,IF($C$3=\"Upper floor\",'Design Details'!C$71,IF($C$3=\"Single Storey\",'Design Details'!C$81,0))))","v":0},{"$f":"IF(M56=\"\",0,IF(M56=\"unheated\",D$4-10,D$4-M56))","v":0},0]
[null,"Length (m)",null,"Height (m)",null,"Area (m²)",0,"U Value (W/m²K)",{"$f":"IF($C$3=\"Ground floor\",'Design Details'!C$51,IF($C$3=\"Mid-floor\",'Design Details'!C$61,IF($C$3=\"Upper floor\",'Design Details'!C$71,IF($C$3=\"Single Storey\",'Design Details'!C$81,0))))","v":0},{"$f":"IF(M57=\"\",0,IF(M57=\"unheated\",D$4-10,D$4-M57))","v":0},0]
[null,"Length (m)",null,"Height (m)",null,"Area (m²)",0,"U Value (W/m²K)",{"$f":"IF($C$3=\"Ground floor\",'Design Details'!C$51,IF($C$3=\"Mid-floor\",'Design Details'!C$61,IF($C$3=\"Upper floor\",'Design Details'!C$71,IF($C$3=\"Single Storey\",'Design Details'!C$81,0))))","v":0},{"$f":"IF(M58=\"\",0,IF(M58=\"unheated\",D$4-10,D$4-M58))","v":0},0]
[null,"Length (m)",null,"Height (m)",null,"Area (m²)",0,"U Value (W/m²K)",{"$f":"IF($C$3=\"Ground floor\",'Design Details'!C$51,IF($C$3=\"Mid-floor\",'Design Details'!C$61,IF($C$3=\"Upper floor\",'Design Details'!C$71,IF($C$3=\"Single Storey\",'Design Details'!C$81,0))))","v":0},{"$f":"IF(M59=\"\",0,IF(M59=\"unheated\",D$4-10,D$4-M59))","v":0},0]
[null,"Party Wall"]
[null,"Length (m)",null,"Height (m)",null,"Area (m²)",0,"U Value (W/m²K)",{"$f":"IF($C$3=\"Ground floor\",'Design Details'!C$52,IF($C$3=\"Mid-floor\",'Design Details'!C$62,IF($C$3=\"Upper floor\",'Design Details'!C$72,IF($C$3=\"Single Storey\",'Design Details'!C$82,0))))","v":0},{"$f":"D4-10","v":-10},0,{"$f":"G61*I61*$D$7*24/1000","v":0}]

{"sheet":"21","index":36,"n_rows":61,"n_cols":25,"rows_kept":61,"cut":false,"hidden":false,"merged":[[58,12,58,14],[44,19,48,19],[44,20,48,20],[54,12,54,14],[55,12,55,14],[56,12,56,14],[57,12,57,14],[44,18,48,18],[21,12,21,14],[30,12,30,14],[31,12,31,14],[44,16,48,16],[44,17,48,17],[20,12,20,14],[3,1,3,2],[3,4,3,5],[4,1,4,2],[4,4,4,5],[5,1,5,2],[5,4,5,5],[6,1,6,2],[9,11,9,14],[10,11,10,14],[18,12,18,14],[19,12,19,14],[0,1,0,3],[0,4,0,6],[0,10,0,11],[1,4,1,5],[2,2,2,3],[2,4,2,5]]}
[null,"Room Information",null,null,"Ventilation Heat Loss",null,null,"Fabric ","Heat Loss (W)"," Usage (kWh)","Additional heat loss",null,"Addition","Watts","kWh"]
[null,"Room",null,null,"Air Changes per hour",null,{"$f":"'Design Details'!G107","v":0},"Floor",{"$f":"SUM(K20:K22)","v":0},{"$f":"SUM(L20:L22)","v":0},"Thermal Bridging (New Build >2006)",null,0,{"$f":"SUM(I$2:I$6)*M2","v":0},{"$f":"SUM(J$2:J$6)*M2","v":0},null,"3 edges (long single)","Level",null,null,null,null,null,null,1]
[null,"Level",null,null,"Air Change Factor (W/m³K)",null,0.33,"Ext Wall",{"$f":"K27","v":0},{"$f":"L27","v":0},"Exposed location",null,0,{"$f":"SUM(I$2:I$6)*M3","v":0},{"$f":"SUM(J$2:J$6)*M3","v":0},null,"3 edges (short single)","Please Select Floor",{"$f":"IF($C$3=\"Ground floor\",\"Solid Floor (in contact with ground)\",IF($C$3=\"Single Storey\",\"Solid Floor (in contact with ground)\",\"n/a\"))","v":"n/a"},{"$f":"'Design Details'!C21","v":10},"unheated",0,0,0,2]
[null,"Design Room Temp (°C)",null,{"$f":"'Design Details'!E107","v":0},"Total Volume (m³)",null,{"$f":"SUM(I10:I12,I14:I18)","v":0},"Roof",{"$f":"SUM(K32,K36)","v":0},{"$f":"SUM(L32,L36)","v":0},"High ceiling",null,0,{"$f":"SUM(I$2:I$6)*M4","v":0},{"$f":"SUM(J$2:J$6)*M4","v":0},null,"One edge","Ground floor",{"$f":"IF($C$3=\"Ground floor\",\"Suspended Floor\",IF($C$3=\"Single Storey\",\"Suspended Floor\",\"n/a\"))","v":"n/a"},null,16,0.1,0.2,2.5000000000000001E-2,3]
[null,"Outside Design Temp (°C)",null,{"$f":"'Design Details'!C19","v":-2.5},"Heat loss (W)",null,{"$f":"G4*G3*D6*G2","v":0},"Glazing",{"$f":"SUM(K38:K44,K46:K49,K51:K54)","v":0},{"$f":"SUM(L38:L44,L46:L49,L51:L54)","v":0},"Intermittent heating",null,0,{"$f":"SUM(I$2:I$6)*M5","v":0},{"$f":"SUM(J$2:J$6)*M5","v":0},null,"Two adjacent","Mid-floor",null,null,18,null,null,0.05,4]
[null,"Temp Difference (°C)",null,{"$f":"D4-D5","v":2.5},"Estimated Energy usage (kWh)",null,{"$f":"G4*G3*D7*24/1000","v":0},"Int./Party Wall",{"$f":"SUM(K56:K59,K61)","v":0},{"$f":"SUM(L61)","v":0},null,null,null,"Total Room Heat Loss (W)",{"$f":"SUM(G5,I2:I6,N2:N5)","v":0},null,"Two opposite","Single storey",null,null,21,null,null,7.4999999999999997E-2,5]
[null,"Degree Days",null,{"$f":"'Design Details'!C20","v":2228},null,null,null,null,null,null,null,null,null,"Total Room Energy Usage (kWh)",{"$f":"SUM(G6,J2:J6,O2:O5)","v":0},null,null,"Upper floor",null,null,22,null,null,0.1,6]
[null,null,null,null,null,null,null,null,null,null,null,null,null,null,null,null,null,{"$f":"IF($C$3=\"Ground floor\",'Design Details'!C$45,IF($C$3=\"Mid-floor\",'Design Details'!C$55,IF($C$3=\"Upper floor\",'Design Details'!C$65,IF($C$3=\"Single Storey\",'Design Details'!C$75,0))))","v":0},null,null,null,null,null,null,7]
[null,"Room Dimensions",null,null,null,null,null,null,null,null,null,null,null,null,null,null,null,null,null,null,null,null,null,null,8]
[null,"Length (m)",null,"Width (m)",null,"Height (m)",null,"Volume (m³)",{"$f":"C10*E10*G10","v":0},null,null,null,null,null,null,null,null,null,null,null,null,null,null,null,9]
[null,"Length (m)",null,"Width (m)",null,"Height (m)",null,"Volume (m³)",{"$f":"C11*E11*G11","v":0},null,null,null,null,null,null,null,null,null,null,null,null,null,null,null,10]
[null,"Length (m)",null,"Width (m)",null,"Height (m)",null,"Volume (m³)",{"$f":"C12*E12*G12","v":0}]
[null,"Awkward Room Dimensions"]
[null,"Length (m)",null,"Width (m)",null,"Height (m)",null,"Volume (m³)",{"$f":"((G14*E14)/2)*C14","v":0},"Pitched"]
[null,"Length (m)",null,"Width (m)",null,"Height (m)",null,"Volume (m³)",{"$f":"C15*E15*G15/2","v":0},"Single Pitch"]
[null,"Length (m)",null,"Height (m)",null,"Depth (m)",null,"Volume (m³)",{"$f":"E16*G16*C16/2","v":0},"Dormer 1"]
[null,"Length (m)",null,"Height (m)",null,"Depth (m)",null,"Volume (m³)",{"$f":"E17*G17*C17/2","v":0},"Dormer 2"]
[null,"Length (m)",null,"Height (m)",null,"Depth (m)",null,"Volume (m³)",{"$f":"E18*G18*C18/2","v":0},"Dormer 3"]
[null,"Floor",null,null,null,null,null,null,null,"Temp Difference","Heat Loss (W)","Usage (kWh)",{"$f":"IF($C$3=\"Ground Floor\",\"Select type of Ground Floor\",IF($C$3=\"Single Storey\",\"Select type of Ground Floor\",\"#N/A\"))","v":"#N/A"}]
[null,{"$f":"B10","v":"Length (m)"},null,{"$f":"D10","v":"Width (m)"},null,"Area (m²)",{"$f":"C20*E20","v":0},"U Value (W/m²K)",{"$f":"IF(M22=\"\",R8,'floor u values'!K22)","v":0},{"$f":"IF(C$3=\"Ground Floor\",IF(M20=\"Solid Floor (in contact with ground)\",D$4-T$3,D$4-D$5),IF(C$3=\"Single Storey\",IF(M20=\"Solid Floor (in contact with ground)\",D$4-T$3,D$4-D$5),0))","v":0},{"$f":"G20*I20*J20","v":0},{"$f":"IF($C$3=$R$5,0,IF($C$3=$R$7,0,G20*I20*$D$7*24/1000))","v":0},"n/a"]
[null,"Length (m)",null,"Width (m)",null,"Area (m²)",{"$f":"C21*E21","v":0},"U Value (W/m²K)",{"$f":"I20","v":0},{"$f":"IF(C$3=\"Ground Floor\",IF(M20=\"Solid Floor (in contact with ground)\",D$4-T$3,D$4-D$5),IF(C$3=\"Single Storey\",IF(M20=\"Solid Floor (in contact with ground)\",D$4-T$3,D$4-D$5),0))","v":0},{"$f":"G21*I21*J21","v":0},{"$f":"IF($C$3=$R$5,0,IF($C$3=$R$7,0,G21*I21*$D$7*24/1000))","v":0},"Exposed floor (external)"]
[null,"Length (m)",null,"Width (m)",null,"Area (m²)",0,"U Value (W/m²K)",{"$f":"I20","v":0},{"$f":"IF(C$3=\"Ground Floor\",IF(M20=\"Solid Floor (in contact with ground)\",D$4-T$3,D$4-D$5),IF(C$3=\"Single Storey\",IF(M20=\"Solid Floor (in contact with ground)\",D$4-T$3,D$4-D$5),0))","v":0},{"$f":"G22*I22*J22","v":0},{"$f":"IF($C$3=$R$5,0,IF($C$3=$R$7,0,G22*I22*$D$7*24/1000))","v":0}]
[null,"External Wall",null,null,null,null,null,null,null,null,null,null,{"$f":"IF(M22=\"Two opposite\",\"Between edges\",IF(M22=\"One edge\",\"Depth of room\",IF(M22=\"3 edges (short single)\",\"Short length\",IF(M22=\"3 edges (long single)\",\"Short length\",\"\"))))","v":""},null,{"$f":"IF(M22=\"3 edges (short single)\",\"Long length\",IF(M22=\"3 edges (long single)\",\"Long length\",\"\"))","v":""}]
[null,"Length (m)",null,"Height (m)",null,"Area (m²)",0]
[null,"Length (m)",null,"Height (m)",null,"Area (m²)",0]
[null,"Length (m)",null,"Height (m)",null,"Area (m²)",0]
[null,null,null,null,"Total","Area (m²)",{"$f":"SUM(G24:G26)-SUM(G38:G44,G51:G54)","v":0},"U Value (W/m²K)",{"$f":"IF($C$3=\"Ground floor\",'Design Details'!C$48,IF($C$3=\"Mid-floor\",'Design Details'!C$58,IF($C$3=\"Upper floor\",'Design Details'!C$68,IF($C$3=\"Single Storey\",'Design Details'!C$78,0))))","v":0},{"$f":"$D$6","v":2.5},{"$f":"G27*I27*J27","v":0},{"$f":"G27*I27*$D$7*24/1000","v":0}]
[null,"Ceiling (Flat)"]
[null,"Length (m)",null,"Width (m)",null,"Area (m²)",0]
[null,"Length (m)",null,"Width (m)",null,"Area (m²)",0]
[null,"Length (m)",null,"Width (m)",null,"Area (m²)",0,null,null,null,null,null,"Select Temp/Type of Space Above"]
[null,null,null,null,"Total","Area (m²)",{"$f":"SUM(G29:G31)-SUM(G46:G49)","v":0},"U Value (W/m²K)",{"$f":"IF($C$3=\"Ground floor\",'Design Details'!C$49,IF($C$3=\"Mid-floor\",'Design Details'!C$59,IF($C$3=\"Upper floor\",INDIRECT(T52),IF($C$3=\"Single Storey\",INDIRECT(T53),0))))","v":0},{"$f":"U51","v":0},{"$f":"G32*I32*J32","v":0},{"$f":"IF($C$3=$R$4,0,IF($C$3=$R$5,0,G32*I32*$D$7*24/1000))","v":0},"Select..."]
[null,"Ceiling (Awkward)"]
[null,"Length (m)",{"$f":"C14*2","v":0},"Pitch (m)",{"$f":"SQRT(POWER(E14,2)+POWER(G14,2))","v":0},"Area (m²)",{"$f":"C34*E34","v":0},"Pitched"]
[null,"Length (m)",{"$f":"C15","v":0},"Pitch (m)",{"$f":"SQRT(POWER(E15,2)+POWER(G15,2))","v":0},"Area (m²)",0,"Single Pitch"]
[null,null,null,null,"Total","Area (m²)",{"$f":"SUM(G34:G35)-SUM(G46:G49)","v":0},"U Value (W/m²K)",{"$f":"IF($C$3=\"Ground floor\",'Design Details'!C$50,IF($C$3=\"Mid-floor\",'Design Details'!C$60,IF($C$3=\"Upper floor\",'Design Details'!C$70,IF($C$3=\"Single Storey\",'Design Details'!C$80,0))))","v":0},{"$f":"$D$6","v":2.5},0,{"$f":"IF($C$3=$R$4,0,IF($C$3=$R$5,0,G36*I36*$D$7*24/1000))","v":0}]
[null,"Windows"]
[null,"Width (m)",null,"Height (m)",null,"Area (m²)",0,"U Value (W/m²K)",{"$f":"IF($C$3=\"Ground floor\",'Design Details'!C$46,IF($C$3=\"Mid-floor\",'Design Details'!C$56,IF($C$3=\"Upper floor\",'Design Details'!C$66,IF($C$3=\"Single Storey\",'Design Details'!C$76,0))))","v":0},2.5,0,{"$f":"G38*I38*$D$7*24/1000","v":0}]
[null,"Width (m)",null,"Height (m)",null,"Area (m²)",0,"U Value (W/m²K)",{"$f":"IF($C$3=\"Ground floor\",'Design Details'!C$46,IF($C$3=\"Mid-floor\",'Design Details'!C$56,IF($C$3=\"Upper floor\",'Design Details'!C$66,IF($C$3=\"Single Storey\",'Design Details'!C$76,0))))","v":0},2.5,0,0]
[null,"Width (m)",null,"Height (m)",null,"Area (m²)",0,"U Value (W/m²K)",{"$f":"IF($C$3=\"Ground floor\",'Design Details'!C$46,IF($C$3=\"Mid-floor\",'Design Details'!C$56,IF($C$3=\"Upper floor\",'Design Details'!C$66,IF($C$3=\"Single Storey\",'Design Details'!C$76,0))))","v":0},2.5,0,0]
[null,"Width (m)",null,"Height (m)",null,"Area (m²)",0,"U Value (W/m²K)",{"$f":"IF($C$3=\"Ground floor\",'Design Details'!C$46,IF($C$3=\"Mid-floor\",'Design Details'!C$56,IF($C$3=\"Upper floor\",'Design Details'!C$66,IF($C$3=\"Single Storey\",'Design Details'!C$76,0))))","v":0},2.5,0,0]
[null,"Width (m)",null,"Height (m)",null,"Area (m²)",0,"U Value (W/m²K)",{"$f":"IF($C$3=\"Ground floor\",'Design Details'!C$46,IF($C$3=\"Mid-floor\",'Design Details'!C$56,IF($C$3=\"Upper floor\",'Design Details'!C$66,IF($C$3=\"Single Storey\",'Design Details'!C$76,0))))","v":0},2.5,0,0]
[null,"Width (m)",null,"Height (m)",null,"Area (m²)",0,"U Value (W/m²K)",{"$f":"IF($C$3=\"Ground floor\",'Design Details'!C$46,IF($C$3=\"Mid-floor\",'Design Details'!C$56,IF($C$3=\"Upper floor\",'Design Details'!C$66,IF($C$3=\"Single Storey\",'Design Details'!C$76,0))))","v":0},2.5,0,0]
[null,"Width (m)",null,"Height (m)",null,"Area (m²)",0,"U Value (W/m²K)",{"$f":"IF($C$3=\"Ground floor\",'Design Details'!C$46,IF($C$3=\"Mid-floor\",'Design Details'!C$56,IF($C$3=\"Upper floor\",'Design Details'!C$66,IF($C$3=\"Single Storey\",'Design Details'!C$76,0))))","v":0},2.5,0,0]
[null,"Roof Glazing",null,null,null,null,null,null,null,null,null,null,null,null,null,null,"Options for upper floor or single storey","Options for Ground or Mid Floor","Drop-Down List","U-Value Selector","Temp Diff Selector"]
[null,"Width (m)",null,"Height (m)",null,"Area (m²)",0,"U Value (W/m²K)",{"$f":"IF($C$3=\"Ground floor\",'Design Details'!C$53,IF($C$3=\"Mid-floor\",'Design Details'!C$63,IF($C$3=\"Upper floor\",'Design Details'!C$73,IF($C$3=\"Single Storey\",'Design Details'!C$83,0))))","v":0},2.5,0,{"$f":"G46*I46*$D$7*24/1000","v":0}]
[null,"Width (m)",null,"Height (m)",null,"Area (m²)",0,"U Value (W/m²K)",{"$f":"IF($C$3=\"Ground floor\",'Design Details'!C$53,IF($C$3=\"Mid-floor\",'Design Details'!C$63,IF($C$3=\"Upper floor\",'Design Details'!C$73,IF($C$3=\"Single Storey\",'Design Details'!C$83,0))))","v":0},2.5,0,{"$f":"G47*I47*$D$7*24/1000","v":0}]
[null,"Width (m)",null,"Height (m)",null,"Area (m²)",0,"U Value (W/m²K)",{"$f":"IF($C$3=\"Ground floor\",'Design Details'!C$53,IF($C$3=\"Mid-floor\",'Design Details'!C$63,IF($C$3=\"Upper floor\",'Design Details'!C$73,IF($C$3=\"Single Storey\",'Design Details'!C$83,0))))","v":0},2.5,0,{"$f":"G48*I48*$D$7*24/1000","v":0}]
[null,"Width (m)",null,"Height (m)",null,"Area (m²)",0,"U Value (W/m²K)",{"$f":"IF($C$3=\"Ground floor\",'Design Details'!C$53,IF($C$3=\"Mid-floor\",'Design Details'!C$63,IF($C$3=\"Upper floor\",'Design Details'!C$73,IF($C$3=\"Single Storey\",'Design Details'!C$83,0))))","v":0},2.5,0,{"$f":"G49*I49*$D$7*24/1000","v":0}]
[null,"External Doors",null,null,null,null,null,null,null,null,null,null,null,null,null,null,null,null,"Select..."]
[null,"Width (m)",null,"Height (m)",null,"Area (m²)",0,"U Value (W/m²K)",{"$f":"IF($C$3=\"Ground floor\",'Design Details'!C$47,IF($C$3=\"Mid-floor\",'Design Details'!C$57,IF($C$3=\"Upper floor\",'Design Details'!C$67,IF($C$3=\"Single Storey\",'Design Details'!C$77,0))))","v":0},2.5,0,{"$f":"G51*I51*$D$7*24/1000","v":0},null,null,null,null,"Outside","Unheated",{"$f":"IF(OR($C$3=\"Ground Floor\",$C$3=\"Mid-floor\"),R51,Q51)","v":"Outside"},{"$f":"IF(M32=\"Unheated\",1,0)","v":0},{"$f":"IF(M32=\"Select...\",0,(IF(M32=\"Outside\",D6,IF(M32=\"Unheated\",D4-10,D4-M32))))","v":0}]
[null,"Width (m)",null,"Height (m)",null,"Area (m²)",0,"U Value (W/m²K)",{"$f":"IF($C$3=\"Ground floor\",'Design Details'!C$47,IF($C$3=\"Mid-floor\",'Design Details'!C$57,IF($C$3=\"Upper floor\",'Design Details'!C$67,IF($C$3=\"Single Storey\",'Design Details'!C$77,0))))","v":0},2.5,0,{"$f":"G52*I52*$D$7*24/1000","v":0},null,null,null,null,"Unheated","16",{"$f":"IF(OR($C$3=\"Ground Floor\",$C$3=\"Mid-floor\"),R52,Q52)","v":"Unheated"},{"$f":"\"'Design Details'!C$\"&69+T51","v":"'Design Details'!C$69"}]
[null,"Width (m)",null,"Height (m)",null,"Area (m²)",0,"U Value (W/m²K)",{"$f":"IF($C$3=\"Ground floor\",'Design Details'!C$47,IF($C$3=\"Mid-floor\",'Design Details'!C$57,IF($C$3=\"Upper floor\",'Design Details'!C$67,IF($C$3=\"Single Storey\",'Design Details'!C$77,0))))","v":0},2.5,0,{"$f":"G53*I53*$D$7*24/1000","v":0},null,null,null,null,null,"18",{"$f":"IF(OR($C$3=\"Ground Floor\",$C$3=\"Mid-floor\"),R53,Q53)","v":0},{"$f":"\"'Design Details'!C$\"&79+T51","v":"'Design Details'!C$79"}]
[null,"Width (m)",null,"Height (m)",null,"Area (m²)",0,"U Value (W/m²K)",{"$f":"IF($C$3=\"Ground floor\",'Design Details'!C$47,IF($C$3=\"Mid-floor\",'Design Details'!C$57,IF($C$3=\"Upper floor\",'Design Details'!C$67,IF($C$3=\"Single Storey\",'Design Details'!C$77,0))))","v":0},2.5,0,{"$f":"G54*I54*$D$7*24/1000","v":0},null,null,null,null,null,"21",{"$f":"IF(OR($C$3=\"Ground Floor\",$C$3=\"Mid-floor\"),R54,Q54)","v":0}]
[null,"Internal Walls",null,null,null,null,null,null,null,null,null,null,"Adjoining Room Temp (°C)",null,null,null,null,22,{"$f":"IF(OR($C$3=\"Ground Floor\",$C$3=\"Mid-floor\"),R55,Q37)","v":0}]
[null,"Length (m)",null,"Height (m)",null,"Area (m²)",0,"U Value (W/m²K)",{"$f":"IF($C$3=\"Ground floor\",'Design Details'!C$51,IF($C$3=\"Mid-floor\",'Design Details'!C$61,IF($C$3=\"Upper floor\",'Design Details'!C$71,IF($C$3=\"Single Storey\",'Design Details'!C$81,0))))","v":0},{"$f":"IF(M56=\"\",0,IF(M56=\"unheated\",D$4-10,D$4-M56))","v":0},0]
[null,"Length (m)",null,"Height (m)",null,"Area (m²)",0,"U Value (W/m²K)",{"$f":"IF($C$3=\"Ground floor\",'Design Details'!C$51,IF($C$3=\"Mid-floor\",'Design Details'!C$61,IF($C$3=\"Upper floor\",'Design Details'!C$71,IF($C$3=\"Single Storey\",'Design Details'!C$81,0))))","v":0},{"$f":"IF(M57=\"\",0,IF(M57=\"unheated\",D$4-10,D$4-M57))","v":0},0]
[null,"Length (m)",null,"Height (m)",null,"Area (m²)",0,"U Value (W/m²K)",{"$f":"IF($C$3=\"Ground floor\",'Design Details'!C$51,IF($C$3=\"Mid-floor\",'Design Details'!C$61,IF($C$3=\"Upper floor\",'Design Details'!C$71,IF($C$3=\"Single Storey\",'Design Details'!C$81,0))))","v":0},{"$f":"IF(M58=\"\",0,IF(M58=\"unheated\",D$4-10,D$4-M58))","v":0},0]
[null,"Length (m)",null,"Height (m)",null,"Area (m²)",0,"U Value (W/m²K)",{"$f":"IF($C$3=\"Ground floor\",'Design Details'!C$51,IF($C$3=\"Mid-floor\",'Design Details'!C$61,IF($C$3=\"Upper floor\",'Design Details'!C$71,IF($C$3=\"Single Storey\",'Design Details'!C$81,0))))","v":0},{"$f":"IF(M59=\"\",0,IF(M59=\"unheated\",D$4-10,D$4-M59))","v":0},0]
[null,"Party Wall"]
[null,"Length (m)",null,"Height (m)",null,"Area (m²)",0,"U Value (W/m²K)",{"$f":"IF($C$3=\"Ground floor\",'Design Details'!C$52,IF($C$3=\"Mid-floor\",'Design Details'!C$62,IF($C$3=\"Upper floor\",'Design Details'!C$72,IF($C$3=\"Single Storey\",'Design Details'!C$82,0))))","v":0},{"$f":"D4-10","v":-10},0,{"$f":"G61*I61*$D$7*24/1000","v":0}]

{"sheet":"22","index":37,"n_rows":61,"n_cols":25,"rows_kept":61,"cut":false,"hidden":false,"merged":[[58,12,58,14],[44,19,48,19],[44,20,48,20],[54,12,54,14],[55,12,55,14],[56,12,56,14],[57,12,57,14],[44,18,48,18],[21,12,21,14],[30,12,30,14],[31,12,31,14],[44,16,48,16],[44,17,48,17],[20,12,20,14],[3,1,3,2],[3,4,3,5],[4,1,4,2],[4,4,4,5],[5,1,5,2],[5,4,5,5],[6,1,6,2],[9,11,9,14],[10,11,10,14],[18,12,18,14],[19,12,19,14],[0,1,0,3],[0,4,0,6],[0,10,0,11],[1,4,1,5],[2,2,2,3],[2,4,2,5]]}
[null,"Room Information",null,null,"Ventilation Heat Loss",null,null,"Fabric ","Heat Loss (W)"," Usage (kWh)","Additional heat loss",null,"Addition","Watts","kWh"]
[null,"Room",null,null,"Air Changes per hour",null,{"$f":"'Design Details'!G108","v":0},"Floor",{"$f":"SUM(K20:K22)","v":0},{"$f":"SUM(L20:L22)","v":0},"Thermal Bridging (New Build >2006)",null,0,{"$f":"SUM(I$2:I$6)*M2","v":0},{"$f":"SUM(J$2:J$6)*M2","v":0},null,"3 edges (long single)","Level",null,null,null,null,null,null,1]
[null,"Level",null,null,"Air Change Factor (W/m³K)",null,0.33,"Ext Wall",{"$f":"K27","v":0},{"$f":"L27","v":0},"Exposed location",null,0,{"$f":"SUM(I$2:I$6)*M3","v":0},{"$f":"SUM(J$2:J$6)*M3","v":0},null,"3 edges (short single)","Please Select Floor",{"$f":"IF($C$3=\"Ground floor\",\"Solid Floor (in contact with ground)\",IF($C$3=\"Single Storey\",\"Solid Floor (in contact with ground)\",\"n/a\"))","v":"n/a"},{"$f":"'Design Details'!C21","v":10},"unheated",0,0,0,2]
[null,"Design Room Temp (°C)",null,{"$f":"'Design Details'!E108","v":0},"Total Volume (m³)",null,{"$f":"SUM(I10:I12,I14:I18)","v":0},"Roof",{"$f":"SUM(K32,K36)","v":0},{"$f":"SUM(L32,L36)","v":0},"High ceiling",null,0,{"$f":"SUM(I$2:I$6)*M4","v":0},{"$f":"SUM(J$2:J$6)*M4","v":0},null,"One edge","Ground floor",{"$f":"IF($C$3=\"Ground floor\",\"Suspended Floor\",IF($C$3=\"Single Storey\",\"Suspended Floor\",\"n/a\"))","v":"n/a"},null,16,0.1,0.2,2.5000000000000001E-2,3]
[null,"Outside Design Temp (°C)",null,{"$f":"'Design Details'!C19","v":-2.5},"Heat loss (W)",null,{"$f":"G4*G3*D6*G2","v":0},"Glazing",{"$f":"SUM(K38:K44,K46:K49,K51:K54)","v":0},{"$f":"SUM(L38:L44,L46:L49,L51:L54)","v":0},"Intermittent heating",null,0,{"$f":"SUM(I$2:I$6)*M5","v":0},{"$f":"SUM(J$2:J$6)*M5","v":0},null,"Two adjacent","Mid-floor",null,null,18,null,null,0.05,4]
[null,"Temp Difference (°C)",null,{"$f":"D4-D5","v":2.5},"Estimated Energy usage (kWh)",null,{"$f":"G4*G3*D7*24/1000","v":0},"Int./Party Wall",{"$f":"SUM(K56:K59,K61)","v":0},{"$f":"SUM(L61)","v":0},null,null,null,"Total Room Heat Loss (W)",{"$f":"SUM(G5,I2:I6,N2:N5)","v":0},null,"Two opposite","Single storey",null,null,21,null,null,7.4999999999999997E-2,5]
[null,"Degree Days",null,{"$f":"'Design Details'!C20","v":2228},null,null,null,null,null,null,null,null,null,"Total Room Energy Usage (kWh)",{"$f":"SUM(G6,J2:J6,O2:O5)","v":0},null,null,"Upper floor",null,null,22,null,null,0.1,6]
[null,null,null,null,null,null,null,null,null,null,null,null,null,null,null,null,null,{"$f":"IF($C$3=\"Ground floor\",'Design Details'!C$45,IF($C$3=\"Mid-floor\",'Design Details'!C$55,IF($C$3=\"Upper floor\",'Design Details'!C$65,IF($C$3=\"Single Storey\",'Design Details'!C$75,0))))","v":0},null,null,null,null,null,null,7]
[null,"Room Dimensions",null,null,null,null,null,null,null,null,null,null,null,null,null,null,null,null,null,null,null,null,null,null,8]
[null,"Length (m)",null,"Width (m)",null,"Height (m)",null,"Volume (m³)",{"$f":"C10*E10*G10","v":0},null,null,null,null,null,null,null,null,null,null,null,null,null,null,null,9]
[null,"Length (m)",null,"Width (m)",null,"Height (m)",null,"Volume (m³)",{"$f":"C11*E11*G11","v":0},null,null,null,null,null,null,null,null,null,null,null,null,null,null,null,10]
[null,"Length (m)",null,"Width (m)",null,"Height (m)",null,"Volume (m³)",{"$f":"C12*E12*G12","v":0}]
[null,"Awkward Room Dimensions"]
[null,"Length (m)",null,"Width (m)",null,"Height (m)",null,"Volume (m³)",{"$f":"((G14*E14)/2)*C14","v":0},"Pitched"]
[null,"Length (m)",null,"Width (m)",null,"Height (m)",null,"Volume (m³)",{"$f":"C15*E15*G15/2","v":0},"Single Pitch"]
[null,"Length (m)",null,"Height (m)",null,"Depth (m)",null,"Volume (m³)",{"$f":"E16*G16*C16/2","v":0},"Dormer 1"]
[null,"Length (m)",null,"Height (m)",null,"Depth (m)",null,"Volume (m³)",{"$f":"E17*G17*C17/2","v":0},"Dormer 2"]
[null,"Length (m)",null,"Height (m)",null,"Depth (m)",null,"Volume (m³)",{"$f":"E18*G18*C18/2","v":0},"Dormer 3"]
[null,"Floor",null,null,null,null,null,null,null,"Temp Difference","Heat Loss (W)","Usage (kWh)",{"$f":"IF($C$3=\"Ground Floor\",\"Select type of Ground Floor\",IF($C$3=\"Single Storey\",\"Select type of Ground Floor\",\"#N/A\"))","v":"#N/A"}]
[null,{"$f":"B10","v":"Length (m)"},null,{"$f":"D10","v":"Width (m)"},null,"Area (m²)",{"$f":"C20*E20","v":0},"U Value (W/m²K)",{"$f":"IF(M22=\"\",R8,'floor u values'!K23)","v":0},{"$f":"IF(C$3=\"Ground Floor\",IF(M20=\"Solid Floor (in contact with ground)\",D$4-T$3,D$4-D$5),IF(C$3=\"Single Storey\",IF(M20=\"Solid Floor (in contact with ground)\",D$4-T$3,D$4-D$5),0))","v":0},{"$f":"G20*I20*J20","v":0},{"$f":"IF($C$3=$R$5,0,IF($C$3=$R$7,0,G20*I20*$D$7*24/1000))","v":0},"n/a"]
[null,"Length (m)",null,"Width (m)",null,"Area (m²)",{"$f":"C21*E21","v":0},"U Value (W/m²K)",{"$f":"I20","v":0},{"$f":"IF(C$3=\"Ground Floor\",IF(M20=\"Solid Floor (in contact with ground)\",D$4-T$3,D$4-D$5),IF(C$3=\"Single Storey\",IF(M20=\"Solid Floor (in contact with ground)\",D$4-T$3,D$4-D$5),0))","v":0},{"$f":"G21*I21*J21","v":0},{"$f":"IF($C$3=$R$5,0,IF($C$3=$R$7,0,G21*I21*$D$7*24/1000))","v":0},"Exposed floor (external)"]
[null,"Length (m)",null,"Width (m)",null,"Area (m²)",0,"U Value (W/m²K)",{"$f":"I20","v":0},{"$f":"IF(C$3=\"Ground Floor\",IF(M20=\"Solid Floor (in contact with ground)\",D$4-T$3,D$4-D$5),IF(C$3=\"Single Storey\",IF(M20=\"Solid Floor (in contact with ground)\",D$4-T$3,D$4-D$5),0))","v":0},{"$f":"G22*I22*J22","v":0},{"$f":"IF($C$3=$R$5,0,IF($C$3=$R$7,0,G22*I22*$D$7*24/1000))","v":0}]
[null,"External Wall",null,null,null,null,null,null,null,null,null,null,{"$f":"IF(M22=\"Two opposite\",\"Between edges\",IF(M22=\"One edge\",\"Depth of room\",IF(M22=\"3 edges (short single)\",\"Short length\",IF(M22=\"3 edges (long single)\",\"Short length\",\"\"))))","v":""},null,{"$f":"IF(M22=\"3 edges (short single)\",\"Long length\",IF(M22=\"3 edges (long single)\",\"Long length\",\"\"))","v":""}]
[null,"Length (m)",null,"Height (m)",null,"Area (m²)",0]
[null,"Length (m)",null,"Height (m)",null,"Area (m²)",0]
[null,"Length (m)",null,"Height (m)",null,"Area (m²)",0]
[null,null,null,null,"Total","Area (m²)",{"$f":"SUM(G24:G26)-SUM(G38:G44,G51:G54)","v":0},"U Value (W/m²K)",{"$f":"IF($C$3=\"Ground floor\",'Design Details'!C$48,IF($C$3=\"Mid-floor\",'Design Details'!C$58,IF($C$3=\"Upper floor\",'Design Details'!C$68,IF($C$3=\"Single Storey\",'Design Details'!C$78,0))))","v":0},{"$f":"$D$6","v":2.5},{"$f":"G27*I27*J27","v":0},{"$f":"G27*I27*$D$7*24/1000","v":0}]
[null,"Ceiling (Flat)"]
[null,"Length (m)",null,"Width (m)",null,"Area (m²)",0]
[null,"Length (m)",null,"Width (m)",null,"Area (m²)",0]
[null,"Length (m)",null,"Width (m)",null,"Area (m²)",0,null,null,null,null,null,"Select Temp/Type of Space Above"]
[null,null,null,null,"Total","Area (m²)",{"$f":"SUM(G29:G31)-SUM(G46:G49)","v":0},"U Value (W/m²K)",{"$f":"IF($C$3=\"Ground floor\",'Design Details'!C$49,IF($C$3=\"Mid-floor\",'Design Details'!C$59,IF($C$3=\"Upper floor\",INDIRECT(T52),IF($C$3=\"Single Storey\",INDIRECT(T53),0))))","v":0},{"$f":"U51","v":0},{"$f":"G32*I32*J32","v":0},{"$f":"IF($C$3=$R$4,0,IF($C$3=$R$5,0,G32*I32*$D$7*24/1000))","v":0},"Select..."]
[null,"Ceiling (Awkward)"]
[null,"Length (m)",{"$f":"C14*2","v":0},"Pitch (m)",{"$f":"SQRT(POWER(E14,2)+POWER(G14,2))","v":0},"Area (m²)",{"$f":"C34*E34","v":0},"Pitched"]
[null,"Length (m)",{"$f":"C15","v":0},"Pitch (m)",{"$f":"SQRT(POWER(E15,2)+POWER(G15,2))","v":0},"Area (m²)",0,"Single Pitch"]
[null,null,null,null,"Total","Area (m²)",{"$f":"SUM(G34:G35)-SUM(G46:G49)","v":0},"U Value (W/m²K)",{"$f":"IF($C$3=\"Ground floor\",'Design Details'!C$50,IF($C$3=\"Mid-floor\",'Design Details'!C$60,IF($C$3=\"Upper floor\",'Design Details'!C$70,IF($C$3=\"Single Storey\",'Design Details'!C$80,0))))","v":0},{"$f":"$D$6","v":2.5},0,{"$f":"IF($C$3=$R$4,0,IF($C$3=$R$5,0,G36*I36*$D$7*24/1000))","v":0}]
[null,"Windows"]
[null,"Width (m)",null,"Height (m)",null,"Area (m²)",0,"U Value (W/m²K)",{"$f":"IF($C$3=\"Ground floor\",'Design Details'!C$46,IF($C$3=\"Mid-floor\",'Design Details'!C$56,IF($C$3=\"Upper floor\",'Design Details'!C$66,IF($C$3=\"Single Storey\",'Design Details'!C$76,0))))","v":0},2.5,0,{"$f":"G38*I38*$D$7*24/1000","v":0}]
[null,"Width (m)",null,"Height (m)",null,"Area (m²)",0,"U Value (W/m²K)",{"$f":"IF($C$3=\"Ground floor\",'Design Details'!C$46,IF($C$3=\"Mid-floor\",'Design Details'!C$56,IF($C$3=\"Upper floor\",'Design Details'!C$66,IF($C$3=\"Single Storey\",'Design Details'!C$76,0))))","v":0},2.5,0,0]
[null,"Width (m)",null,"Height (m)",null,"Area (m²)",0,"U Value (W/m²K)",{"$f":"IF($C$3=\"Ground floor\",'Design Details'!C$46,IF($C$3=\"Mid-floor\",'Design Details'!C$56,IF($C$3=\"Upper floor\",'Design Details'!C$66,IF($C$3=\"Single Storey\",'Design Details'!C$76,0))))","v":0},2.5,0,0]
[null,"Width (m)",null,"Height (m)",null,"Area (m²)",0,"U Value (W/m²K)",{"$f":"IF($C$3=\"Ground floor\",'Design Details'!C$46,IF($C$3=\"Mid-floor\",'Design Details'!C$56,IF($C$3=\"Upper floor\",'Design Details'!C$66,IF($C$3=\"Single Storey\",'Design Details'!C$76,0))))","v":0},2.5,0,0]
[null,"Width (m)",null,"Height (m)",null,"Area (m²)",0,"U Value (W/m²K)",{"$f":"IF($C$3=\"Ground floor\",'Design Details'!C$46,IF($C$3=\"Mid-floor\",'Design Details'!C$56,IF($C$3=\"Upper floor\",'Design Details'!C$66,IF($C$3=\"Single Storey\",'Design Details'!C$76,0))))","v":0},2.5,0,0]
[null,"Width (m)",null,"Height (m)",null,"Area (m²)",0,"U Value (W/m²K)",{"$f":"IF($C$3=\"Ground floor\",'Design Details'!C$46,IF($C$3=\"Mid-floor\",'Design Details'!C$56,IF($C$3=\"Upper floor\",'Design Details'!C$66,IF($C$3=\"Single Storey\",'Design Details'!C$76,0))))","v":0},2.5,0,0]
[null,"Width (m)",null,"Height (m)",null,"Area (m²)",0,"U Value (W/m²K)",{"$f":"IF($C$3=\"Ground floor\",'Design Details'!C$46,IF($C$3=\"Mid-floor\",'Design Details'!C$56,IF($C$3=\"Upper floor\",'Design Details'!C$66,IF($C$3=\"Single Storey\",'Design Details'!C$76,0))))","v":0},2.5,0,0]
[null,"Roof Glazing",null,null,null,null,null,null,null,null,null,null,null,null,null,null,"Options for upper floor or single storey","Options for Ground or Mid Floor","Drop-Down List","U-Value Selector","Temp Diff Selector"]
[null,"Width (m)",null,"Height (m)",null,"Area (m²)",0,"U Value (W/m²K)",{"$f":"IF($C$3=\"Ground floor\",'Design Details'!C$53,IF($C$3=\"Mid-floor\",'Design Details'!C$63,IF($C$3=\"Upper floor\",'Design Details'!C$73,IF($C$3=\"Single Storey\",'Design Details'!C$83,0))))","v":0},2.5,0,{"$f":"G46*I46*$D$7*24/1000","v":0}]
[null,"Width (m)",null,"Height (m)",null,"Area (m²)",0,"U Value (W/m²K)",{"$f":"IF($C$3=\"Ground floor\",'Design Details'!C$53,IF($C$3=\"Mid-floor\",'Design Details'!C$63,IF($C$3=\"Upper floor\",'Design Details'!C$73,IF($C$3=\"Single Storey\",'Design Details'!C$83,0))))","v":0},2.5,0,{"$f":"G47*I47*$D$7*24/1000","v":0}]
[null,"Width (m)",null,"Height (m)",null,"Area (m²)",0,"U Value (W/m²K)",{"$f":"IF($C$3=\"Ground floor\",'Design Details'!C$53,IF($C$3=\"Mid-floor\",'Design Details'!C$63,IF($C$3=\"Upper floor\",'Design Details'!C$73,IF($C$3=\"Single Storey\",'Design Details'!C$83,0))))","v":0},2.5,0,{"$f":"G48*I48*$D$7*24/1000","v":0}]
[null,"Width (m)",null,"Height (m)",null,"Area (m²)",0,"U Value (W/m²K)",{"$f":"IF($C$3=\"Ground floor\",'Design Details'!C$53,IF($C$3=\"Mid-floor\",'Design Details'!C$63,IF($C$3=\"Upper floor\",'Design Details'!C$73,IF($C$3=\"Single Storey\",'Design Details'!C$83,0))))","v":0},2.5,0,{"$f":"G49*I49*$D$7*24/1000","v":0}]
[null,"External Doors",null,null,null,null,null,null,null,null,null,null,null,null,null,null,null,null,"Select..."]
[null,"Width (m)",null,"Height (m)",null,"Area (m²)",0,"U Value (W/m²K)",{"$f":"IF($C$3=\"Ground floor\",'Design Details'!C$47,IF($C$3=\"Mid-floor\",'Design Details'!C$57,IF($C$3=\"Upper floor\",'Design Details'!C$67,IF($C$3=\"Single Storey\",'Design Details'!C$77,0))))","v":0},2.5,0,{"$f":"G51*I51*$D$7*24/1000","v":0},null,null,null,null,"Outside","Unheated",{"$f":"IF(OR($C$3=\"Ground Floor\",$C$3=\"Mid-floor\"),R51,Q51)","v":"Outside"},{"$f":"IF(M32=\"Unheated\",1,0)","v":0},{"$f":"IF(M32=\"Select...\",0,(IF(M32=\"Outside\",D6,IF(M32=\"Unheated\",D4-10,D4-M32))))","v":0}]
[null,"Width (m)",null,"Height (m)",null,"Area (m²)",0,"U Value (W/m²K)",{"$f":"IF($C$3=\"Ground floor\",'Design Details'!C$47,IF($C$3=\"Mid-floor\",'Design Details'!C$57,IF($C$3=\"Upper floor\",'Design Details'!C$67,IF($C$3=\"Single Storey\",'Design Details'!C$77,0))))","v":0},2.5,0,{"$f":"G52*I52*$D$7*24/1000","v":0},null,null,null,null,"Unheated","16",{"$f":"IF(OR($C$3=\"Ground Floor\",$C$3=\"Mid-floor\"),R52,Q52)","v":"Unheated"},{"$f":"\"'Design Details'!C$\"&69+T51","v":"'Design Details'!C$69"}]
[null,"Width (m)",null,"Height (m)",null,"Area (m²)",0,"U Value (W/m²K)",{"$f":"IF($C$3=\"Ground floor\",'Design Details'!C$47,IF($C$3=\"Mid-floor\",'Design Details'!C$57,IF($C$3=\"Upper floor\",'Design Details'!C$67,IF($C$3=\"Single Storey\",'Design Details'!C$77,0))))","v":0},2.5,0,{"$f":"G53*I53*$D$7*24/1000","v":0},null,null,null,null,null,"18",{"$f":"IF(OR($C$3=\"Ground Floor\",$C$3=\"Mid-floor\"),R53,Q53)","v":0},{"$f":"\"'Design Details'!C$\"&79+T51","v":"'Design Details'!C$79"}]
[null,"Width (m)",null,"Height (m)",null,"Area (m²)",0,"U Value (W/m²K)",{"$f":"IF($C$3=\"Ground floor\",'Design Details'!C$47,IF($C$3=\"Mid-floor\",'Design Details'!C$57,IF($C$3=\"Upper floor\",'Design Details'!C$67,IF($C$3=\"Single Storey\",'Design Details'!C$77,0))))","v":0},2.5,0,{"$f":"G54*I54*$D$7*24/1000","v":0},null,null,null,null,null,"21",{"$f":"IF(OR($C$3=\"Ground Floor\",$C$3=\"Mid-floor\"),R54,Q54)","v":0}]
[null,"Internal Walls",null,null,null,null,null,null,null,null,null,null,"Adjoining Room Temp (°C)",null,null,null,null,22,{"$f":"IF(OR($C$3=\"Ground Floor\",$C$3=\"Mid-floor\"),R55,Q37)","v":0}]
[null,"Length (m)",null,"Height (m)",null,"Area (m²)",0,"U Value (W/m²K)",{"$f":"IF($C$3=\"Ground floor\",'Design Details'!C$51,IF($C$3=\"Mid-floor\",'Design Details'!C$61,IF($C$3=\"Upper floor\",'Design Details'!C$71,IF($C$3=\"Single Storey\",'Design Details'!C$81,0))))","v":0},{"$f":"IF(M56=\"\",0,IF(M56=\"unheated\",D$4-10,D$4-M56))","v":0},0]
[null,"Length (m)",null,"Height (m)",null,"Area (m²)",0,"U Value (W/m²K)",{"$f":"IF($C$3=\"Ground floor\",'Design Details'!C$51,IF($C$3=\"Mid-floor\",'Design Details'!C$61,IF($C$3=\"Upper floor\",'Design Details'!C$71,IF($C$3=\"Single Storey\",'Design Details'!C$81,0))))","v":0},{"$f":"IF(M57=\"\",0,IF(M57=\"unheated\",D$4-10,D$4-M57))","v":0},0]
[null,"Length (m)",null,"Height (m)",null,"Area (m²)",0,"U Value (W/m²K)",{"$f":"IF($C$3=\"Ground floor\",'Design Details'!C$51,IF($C$3=\"Mid-floor\",'Design Details'!C$61,IF($C$3=\"Upper floor\",'Design Details'!C$71,IF($C$3=\"Single Storey\",'Design Details'!C$81,0))))","v":0},{"$f":"IF(M58=\"\",0,IF(M58=\"unheated\",D$4-10,D$4-M58))","v":0},0]
[null,"Length (m)",null,"Height (m)",null,"Area (m²)",0,"U Value (W/m²K)",{"$f":"IF($C$3=\"Ground floor\",'Design Details'!C$51,IF($C$3=\"Mid-floor\",'Design Details'!C$61,IF($C$3=\"Upper floor\",'Design Details'!C$71,IF($C$3=\"Single Storey\",'Design Details'!C$81,0))))","v":0},{"$f":"IF(M59=\"\",0,IF(M59=\"unheated\",D$4-10,D$4-M59))","v":0},0]
[null,"Party Wall"]
[null,"Length (m)",null,"Height (m)",null,"Area (m²)",0,"U Value (W/m²K)",{"$f":"IF($C$3=\"Ground floor\",'Design Details'!C$52,IF($C$3=\"Mid-floor\",'Design Details'!C$62,IF($C$3=\"Upper floor\",'Design Details'!C$72,IF($C$3=\"Single Storey\",'Design Details'!C$82,0))))","v":0},{"$f":"D4-10","v":-10},0,{"$f":"G61*I61*$D$7*24/1000","v":0}]

{"sheet":"23","index":38,"n_rows":61,"n_cols":25,"rows_kept":61,"cut":false,"hidden":false,"merged":[[58,12,58,14],[44,19,48,19],[44,20,48,20],[54,12,54,14],[55,12,55,14],[56,12,56,14],[57,12,57,14],[44,18,48,18],[21,12,21,14],[30,12,30,14],[31,12,31,14],[44,16,48,16],[44,17,48,17],[20,12,20,14],[3,1,3,2],[3,4,3,5],[4,1,4,2],[4,4,4,5],[5,1,5,2],[5,4,5,5],[6,1,6,2],[9,11,9,14],[10,11,10,14],[18,12,18,14],[19,12,19,14],[0,1,0,3],[0,4,0,6],[0,10,0,11],[1,4,1,5],[2,2,2,3],[2,4,2,5]]}
[null,"Room Information",null,null,"Ventilation Heat Loss",null,null,"Fabric ","Heat Loss (W)"," Usage (kWh)","Additional heat loss",null,"Addition","Watts","kWh"]
[null,"Room",null,null,"Air Changes per hour",null,{"$f":"'Design Details'!G109","v":0},"Floor",{"$f":"SUM(K20:K22)","v":0},{"$f":"SUM(L20:L22)","v":0},"Thermal Bridging (New Build >2006)",null,0,{"$f":"SUM(I$2:I$6)*M2","v":0},{"$f":"SUM(J$2:J$6)*M2","v":0},null,"3 edges (long single)","Level",null,null,null,null,null,null,1]
[null,"Level",null,null,"Air Change Factor (W/m³K)",null,0.33,"Ext Wall",{"$f":"K27","v":0},{"$f":"L27","v":0},"Exposed location",null,0,{"$f":"SUM(I$2:I$6)*M3","v":0},{"$f":"SUM(J$2:J$6)*M3","v":0},null,"3 edges (short single)","Please Select Floor",{"$f":"IF($C$3=\"Ground floor\",\"Solid Floor (in contact with ground)\",IF($C$3=\"Single Storey\",\"Solid Floor (in contact with ground)\",\"n/a\"))","v":"n/a"},{"$f":"'Design Details'!C21","v":10},"unheated",0,0,0,2]
[null,"Design Room Temp (°C)",null,{"$f":"'Design Details'!E109","v":0},"Total Volume (m³)",null,{"$f":"SUM(I10:I12,I14:I18)","v":0},"Roof",{"$f":"SUM(K32,K36)","v":0},{"$f":"SUM(L32,L36)","v":0},"High ceiling",null,0,{"$f":"SUM(I$2:I$6)*M4","v":0},{"$f":"SUM(J$2:J$6)*M4","v":0},null,"One edge","Ground floor",{"$f":"IF($C$3=\"Ground floor\",\"Suspended Floor\",IF($C$3=\"Single Storey\",\"Suspended Floor\",\"n/a\"))","v":"n/a"},null,16,0.1,0.2,2.5000000000000001E-2,3]
[null,"Outside Design Temp (°C)",null,{"$f":"'Design Details'!C19","v":-2.5},"Heat loss (W)",null,{"$f":"G4*G3*D6*G2","v":0},"Glazing",{"$f":"SUM(K38:K44,K46:K49,K51:K54)","v":0},{"$f":"SUM(L38:L44,L46:L49,L51:L54)","v":0},"Intermittent heating",null,0,{"$f":"SUM(I$2:I$6)*M5","v":0},{"$f":"SUM(J$2:J$6)*M5","v":0},null,"Two adjacent","Mid-floor",null,null,18,null,null,0.05,4]
[null,"Temp Difference (°C)",null,{"$f":"D4-D5","v":2.5},"Estimated Energy usage (kWh)",null,{"$f":"G4*G3*D7*24/1000","v":0},"Int./Party Wall",{"$f":"SUM(K56:K59,K61)","v":0},{"$f":"SUM(L61)","v":0},null,null,null,"Total Room Heat Loss (W)",{"$f":"SUM(G5,I2:I6,N2:N5)","v":0},null,"Two opposite","Single storey",null,null,21,null,null,7.4999999999999997E-2,5]
[null,"Degree Days",null,{"$f":"'Design Details'!C20","v":2228},null,null,null,null,null,null,null,null,null,"Total Room Energy Usage (kWh)",{"$f":"SUM(G6,J2:J6,O2:O5)","v":0},null,null,"Upper floor",null,null,22,null,null,0.1,6]
[null,null,null,null,null,null,null,null,null,null,null,null,null,null,null,null,null,{"$f":"IF($C$3=\"Ground floor\",'Design Details'!C$45,IF($C$3=\"Mid-floor\",'Design Details'!C$55,IF($C$3=\"Upper floor\",'Design Details'!C$65,IF($C$3=\"Single Storey\",'Design Details'!C$75,0))))","v":0},null,null,null,null,null,null,7]
[null,"Room Dimensions",null,null,null,null,null,null,null,null,null,null,null,null,null,null,null,null,null,null,null,null,null,null,8]
[null,"Length (m)",null,"Width (m)",null,"Height (m)",null,"Volume (m³)",{"$f":"C10*E10*G10","v":0},null,null,null,null,null,null,null,null,null,null,null,null,null,null,null,9]
[null,"Length (m)",null,"Width (m)",null,"Height (m)",null,"Volume (m³)",{"$f":"C11*E11*G11","v":0},null,null,null,null,null,null,null,null,null,null,null,null,null,null,null,10]
[null,"Length (m)",null,"Width (m)",null,"Height (m)",null,"Volume (m³)",{"$f":"C12*E12*G12","v":0}]
[null,"Awkward Room Dimensions"]
[null,"Length (m)",null,"Width (m)",null,"Height (m)",null,"Volume (m³)",{"$f":"((G14*E14)/2)*C14","v":0},"Pitched"]
[null,"Length (m)",null,"Width (m)",null,"Height (m)",null,"Volume (m³)",{"$f":"C15*E15*G15/2","v":0},"Single Pitch"]
[null,"Length (m)",null,"Height (m)",null,"Depth (m)",null,"Volume (m³)",{"$f":"E16*G16*C16/2","v":0},"Dormer 1"]
[null,"Length (m)",null,"Height (m)",null,"Depth (m)",null,"Volume (m³)",{"$f":"E17*G17*C17/2","v":0},"Dormer 2"]
[null,"Length (m)",null,"Height (m)",null,"Depth (m)",null,"Volume (m³)",{"$f":"E18*G18*C18/2","v":0},"Dormer 3"]
[null,"Floor",null,null,null,null,null,null,null,"Temp Difference","Heat Loss (W)","Usage (kWh)",{"$f":"IF($C$3=\"Ground Floor\",\"Select type of Ground Floor\",IF($C$3=\"Single Storey\",\"Select type of Ground Floor\",\"#N/A\"))","v":"#N/A"}]
[null,{"$f":"B10","v":"Length (m)"},null,{"$f":"D10","v":"Width (m)"},null,"Area (m²)",{"$f":"C20*E20","v":0},"U Value (W/m²K)",{"$f":"IF(M22=\"\",R8,'floor u values'!K24)","v":0},{"$f":"IF(C$3=\"Ground Floor\",IF(M20=\"Solid Floor (in contact with ground)\",D$4-T$3,D$4-D$5),IF(C$3=\"Single Storey\",IF(M20=\"Solid Floor (in contact with ground)\",D$4-T$3,D$4-D$5),0))","v":0},{"$f":"G20*I20*J20","v":0},{"$f":"IF($C$3=$R$5,0,IF($C$3=$R$7,0,G20*I20*$D$7*24/1000))","v":0},"n/a"]
[null,"Length (m)",null,"Width (m)",null,"Area (m²)",{"$f":"C21*E21","v":0},"U Value (W/m²K)",{"$f":"I20","v":0},{"$f":"IF(C$3=\"Ground Floor\",IF(M20=\"Solid Floor (in contact with ground)\",D$4-T$3,D$4-D$5),IF(C$3=\"Single Storey\",IF(M20=\"Solid Floor (in contact with ground)\",D$4-T$3,D$4-D$5),0))","v":0},{"$f":"G21*I21*J21","v":0},{"$f":"IF($C$3=$R$5,0,IF($C$3=$R$7,0,G21*I21*$D$7*24/1000))","v":0},"Exposed floor (external)"]
[null,"Length (m)",null,"Width (m)",null,"Area (m²)",0,"U Value (W/m²K)",{"$f":"I20","v":0},{"$f":"IF(C$3=\"Ground Floor\",IF(M20=\"Solid Floor (in contact with ground)\",D$4-T$3,D$4-D$5),IF(C$3=\"Single Storey\",IF(M20=\"Solid Floor (in contact with ground)\",D$4-T$3,D$4-D$5),0))","v":0},{"$f":"G22*I22*J22","v":0},{"$f":"IF($C$3=$R$5,0,IF($C$3=$R$7,0,G22*I22*$D$7*24/1000))","v":0}]
[null,"External Wall",null,null,null,null,null,null,null,null,null,null,{"$f":"IF(M22=\"Two opposite\",\"Between edges\",IF(M22=\"One edge\",\"Depth of room\",IF(M22=\"3 edges (short single)\",\"Short length\",IF(M22=\"3 edges (long single)\",\"Short length\",\"\"))))","v":""},null,{"$f":"IF(M22=\"3 edges (short single)\",\"Long length\",IF(M22=\"3 edges (long single)\",\"Long length\",\"\"))","v":""}]
[null,"Length (m)",null,"Height (m)",null,"Area (m²)",0]
[null,"Length (m)",null,"Height (m)",null,"Area (m²)",0]
[null,"Length (m)",null,"Height (m)",null,"Area (m²)",0]
[null,null,null,null,"Total","Area (m²)",{"$f":"SUM(G24:G26)-SUM(G38:G44,G51:G54)","v":0},"U Value (W/m²K)",{"$f":"IF($C$3=\"Ground floor\",'Design Details'!C$48,IF($C$3=\"Mid-floor\",'Design Details'!C$58,IF($C$3=\"Upper floor\",'Design Details'!C$68,IF($C$3=\"Single Storey\",'Design Details'!C$78,0))))","v":0},{"$f":"$D$6","v":2.5},{"$f":"G27*I27*J27","v":0},{"$f":"G27*I27*$D$7*24/1000","v":0}]
[null,"Ceiling (Flat)"]
[null,"Length (m)",null,"Width (m)",null,"Area (m²)",0]
[null,"Length (m)",null,"Width (m)",null,"Area (m²)",0]
[null,"Length (m)",null,"Width (m)",null,"Area (m²)",0,null,null,null,null,null,"Select Temp/Type of Space Above"]
[null,null,null,null,"Total","Area (m²)",{"$f":"SUM(G29:G31)-SUM(G46:G49)","v":0},"U Value (W/m²K)",{"$f":"IF($C$3=\"Ground floor\",'Design Details'!C$49,IF($C$3=\"Mid-floor\",'Design Details'!C$59,IF($C$3=\"Upper floor\",INDIRECT(T52),IF($C$3=\"Single Storey\",INDIRECT(T53),0))))","v":0},{"$f":"U51","v":0},{"$f":"G32*I32*J32","v":0},{"$f":"IF($C$3=$R$4,0,IF($C$3=$R$5,0,G32*I32*$D$7*24/1000))","v":0},"Select..."]
[null,"Ceiling (Awkward)"]
[null,"Length (m)",{"$f":"C14*2","v":0},"Pitch (m)",{"$f":"SQRT(POWER(E14,2)+POWER(G14,2))","v":0},"Area (m²)",{"$f":"C34*E34","v":0},"Pitched"]
[null,"Length (m)",{"$f":"C15","v":0},"Pitch (m)",{"$f":"SQRT(POWER(E15,2)+POWER(G15,2))","v":0},"Area (m²)",0,"Single Pitch"]
[null,null,null,null,"Total","Area (m²)",{"$f":"SUM(G34:G35)-SUM(G46:G49)","v":0},"U Value (W/m²K)",{"$f":"IF($C$3=\"Ground floor\",'Design Details'!C$50,IF($C$3=\"Mid-floor\",'Design Details'!C$60,IF($C$3=\"Upper floor\",'Design Details'!C$70,IF($C$3=\"Single Storey\",'Design Details'!C$80,0))))","v":0},{"$f":"$D$6","v":2.5},0,{"$f":"IF($C$3=$R$4,0,IF($C$3=$R$5,0,G36*I36*$D$7*24/1000))","v":0}]
[null,"Windows"]
[null,"Width (m)",null,"Height (m)",null,"Area (m²)",0,"U Value (W/m²K)",{"$f":"IF($C$3=\"Ground floor\",'Design Details'!C$46,IF($C$3=\"Mid-floor\",'Design Details'!C$56,IF($C$3=\"Upper floor\",'Design Details'!C$66,IF($C$3=\"Single Storey\",'Design Details'!C$76,0))))","v":0},2.5,0,{"$f":"G38*I38*$D$7*24/1000","v":0}]
[null,"Width (m)",null,"Height (m)",null,"Area (m²)",0,"U Value (W/m²K)",{"$f":"IF($C$3=\"Ground floor\",'Design Details'!C$46,IF($C$3=\"Mid-floor\",'Design Details'!C$56,IF($C$3=\"Upper floor\",'Design Details'!C$66,IF($C$3=\"Single Storey\",'Design Details'!C$76,0))))","v":0},2.5,0,0]
[null,"Width (m)",null,"Height (m)",null,"Area (m²)",0,"U Value (W/m²K)",{"$f":"IF($C$3=\"Ground floor\",'Design Details'!C$46,IF($C$3=\"Mid-floor\",'Design Details'!C$56,IF($C$3=\"Upper floor\",'Design Details'!C$66,IF($C$3=\"Single Storey\",'Design Details'!C$76,0))))","v":0},2.5,0,0]
[null,"Width (m)",null,"Height (m)",null,"Area (m²)",0,"U Value (W/m²K)",{"$f":"IF($C$3=\"Ground floor\",'Design Details'!C$46,IF($C$3=\"Mid-floor\",'Design Details'!C$56,IF($C$3=\"Upper floor\",'Design Details'!C$66,IF($C$3=\"Single Storey\",'Design Details'!C$76,0))))","v":0},2.5,0,0]
[null,"Width (m)",null,"Height (m)",null,"Area (m²)",0,"U Value (W/m²K)",{"$f":"IF($C$3=\"Ground floor\",'Design Details'!C$46,IF($C$3=\"Mid-floor\",'Design Details'!C$56,IF($C$3=\"Upper floor\",'Design Details'!C$66,IF($C$3=\"Single Storey\",'Design Details'!C$76,0))))","v":0},2.5,0,0]
[null,"Width (m)",null,"Height (m)",null,"Area (m²)",0,"U Value (W/m²K)",{"$f":"IF($C$3=\"Ground floor\",'Design Details'!C$46,IF($C$3=\"Mid-floor\",'Design Details'!C$56,IF($C$3=\"Upper floor\",'Design Details'!C$66,IF($C$3=\"Single Storey\",'Design Details'!C$76,0))))","v":0},2.5,0,0]
[null,"Width (m)",null,"Height (m)",null,"Area (m²)",0,"U Value (W/m²K)",{"$f":"IF($C$3=\"Ground floor\",'Design Details'!C$46,IF($C$3=\"Mid-floor\",'Design Details'!C$56,IF($C$3=\"Upper floor\",'Design Details'!C$66,IF($C$3=\"Single Storey\",'Design Details'!C$76,0))))","v":0},2.5,0,0]
[null,"Roof Glazing",null,null,null,null,null,null,null,null,null,null,null,null,null,null,"Options for upper floor or single storey","Options for Ground or Mid Floor","Drop-Down List","U-Value Selector","Temp Diff Selector"]
[null,"Width (m)",null,"Height (m)",null,"Area (m²)",0,"U Value (W/m²K)",{"$f":"IF($C$3=\"Ground floor\",'Design Details'!C$53,IF($C$3=\"Mid-floor\",'Design Details'!C$63,IF($C$3=\"Upper floor\",'Design Details'!C$73,IF($C$3=\"Single Storey\",'Design Details'!C$83,0))))","v":0},2.5,0,{"$f":"G46*I46*$D$7*24/1000","v":0}]
[null,"Width (m)",null,"Height (m)",null,"Area (m²)",0,"U Value (W/m²K)",{"$f":"IF($C$3=\"Ground floor\",'Design Details'!C$53,IF($C$3=\"Mid-floor\",'Design Details'!C$63,IF($C$3=\"Upper floor\",'Design Details'!C$73,IF($C$3=\"Single Storey\",'Design Details'!C$83,0))))","v":0},2.5,0,{"$f":"G47*I47*$D$7*24/1000","v":0}]
[null,"Width (m)",null,"Height (m)",null,"Area (m²)",0,"U Value (W/m²K)",{"$f":"IF($C$3=\"Ground floor\",'Design Details'!C$53,IF($C$3=\"Mid-floor\",'Design Details'!C$63,IF($C$3=\"Upper floor\",'Design Details'!C$73,IF($C$3=\"Single Storey\",'Design Details'!C$83,0))))","v":0},2.5,0,{"$f":"G48*I48*$D$7*24/1000","v":0}]
[null,"Width (m)",null,"Height (m)",null,"Area (m²)",0,"U Value (W/m²K)",{"$f":"IF($C$3=\"Ground floor\",'Design Details'!C$53,IF($C$3=\"Mid-floor\",'Design Details'!C$63,IF($C$3=\"Upper floor\",'Design Details'!C$73,IF($C$3=\"Single Storey\",'Design Details'!C$83,0))))","v":0},2.5,0,{"$f":"G49*I49*$D$7*24/1000","v":0}]
[null,"External Doors",null,null,null,null,null,null,null,null,null,null,null,null,null,null,null,null,"Select..."]
[null,"Width (m)",null,"Height (m)",null,"Area (m²)",0,"U Value (W/m²K)",{"$f":"IF($C$3=\"Ground floor\",'Design Details'!C$47,IF($C$3=\"Mid-floor\",'Design Details'!C$57,IF($C$3=\"Upper floor\",'Design Details'!C$67,IF($C$3=\"Single Storey\",'Design Details'!C$77,0))))","v":0},2.5,0,{"$f":"G51*I51*$D$7*24/1000","v":0},null,null,null,null,"Outside","Unheated",{"$f":"IF(OR($C$3=\"Ground Floor\",$C$3=\"Mid-floor\"),R51,Q51)","v":"Outside"},{"$f":"IF(M32=\"Unheated\",1,0)","v":0},{"$f":"IF(M32=\"Select...\",0,(IF(M32=\"Outside\",D6,IF(M32=\"Unheated\",D4-10,D4-M32))))","v":0}]
[null,"Width (m)",null,"Height (m)",null,"Area (m²)",0,"U Value (W/m²K)",{"$f":"IF($C$3=\"Ground floor\",'Design Details'!C$47,IF($C$3=\"Mid-floor\",'Design Details'!C$57,IF($C$3=\"Upper floor\",'Design Details'!C$67,IF($C$3=\"Single Storey\",'Design Details'!C$77,0))))","v":0},2.5,0,{"$f":"G52*I52*$D$7*24/1000","v":0},null,null,null,null,"Unheated","16",{"$f":"IF(OR($C$3=\"Ground Floor\",$C$3=\"Mid-floor\"),R52,Q52)","v":"Unheated"},{"$f":"\"'Design Details'!C$\"&69+T51","v":"'Design Details'!C$69"}]
[null,"Width (m)",null,"Height (m)",null,"Area (m²)",0,"U Value (W/m²K)",{"$f":"IF($C$3=\"Ground floor\",'Design Details'!C$47,IF($C$3=\"Mid-floor\",'Design Details'!C$57,IF($C$3=\"Upper floor\",'Design Details'!C$67,IF($C$3=\"Single Storey\",'Design Details'!C$77,0))))","v":0},2.5,0,{"$f":"G53*I53*$D$7*24/1000","v":0},null,null,null,null,null,"18",{"$f":"IF(OR($C$3=\"Ground Floor\",$C$3=\"Mid-floor\"),R53,Q53)","v":0},{"$f":"\"'Design Details'!C$\"&79+T51","v":"'Design Details'!C$79"}]
[null,"Width (m)",null,"Height (m)",null,"Area (m²)",0,"U Value (W/m²K)",{"$f":"IF($C$3=\"Ground floor\",'Design Details'!C$47,IF($C$3=\"Mid-floor\",'Design Details'!C$57,IF($C$3=\"Upper floor\",'Design Details'!C$67,IF($C$3=\"Single Storey\",'Design Details'!C$77,0))))","v":0},2.5,0,{"$f":"G54*I54*$D$7*24/1000","v":0},null,null,null,null,null,"21",{"$f":"IF(OR($C$3=\"Ground Floor\",$C$3=\"Mid-floor\"),R54,Q54)","v":0}]
[null,"Internal Walls",null,null,null,null,null,null,null,null,null,null,"Adjoining Room Temp (°C)",null,null,null,null,22,{"$f":"IF(OR($C$3=\"Ground Floor\",$C$3=\"Mid-floor\"),R55,Q37)","v":0}]
[null,"Length (m)",null,"Height (m)",null,"Area (m²)",0,"U Value (W/m²K)",{"$f":"IF($C$3=\"Ground floor\",'Design Details'!C$51,IF($C$3=\"Mid-floor\",'Design Details'!C$61,IF($C$3=\"Upper floor\",'Design Details'!C$71,IF($C$3=\"Single Storey\",'Design Details'!C$81,0))))","v":0},{"$f":"IF(M56=\"\",0,IF(M56=\"unheated\",D$4-10,D$4-M56))","v":0},0]
[null,"Length (m)",null,"Height (m)",null,"Area (m²)",0,"U Value (W/m²K)",{"$f":"IF($C$3=\"Ground floor\",'Design Details'!C$51,IF($C$3=\"Mid-floor\",'Design Details'!C$61,IF($C$3=\"Upper floor\",'Design Details'!C$71,IF($C$3=\"Single Storey\",'Design Details'!C$81,0))))","v":0},{"$f":"IF(M57=\"\",0,IF(M57=\"unheated\",D$4-10,D$4-M57))","v":0},0]
[null,"Length (m)",null,"Height (m)",null,"Area (m²)",0,"U Value (W/m²K)",{"$f":"IF($C$3=\"Ground floor\",'Design Details'!C$51,IF($C$3=\"Mid-floor\",'Design Details'!C$61,IF($C$3=\"Upper floor\",'Design Details'!C$71,IF($C$3=\"Single Storey\",'Design Details'!C$81,0))))","v":0},{"$f":"IF(M58=\"\",0,IF(M58=\"unheated\",D$4-10,D$4-M58))","v":0},0]
[null,"Length (m)",null,"Height (m)",null,"Area (m²)",0,"U Value (W/m²K)",{"$f":"IF($C$3=\"Ground floor\",'Design Details'!C$51,IF($C$3=\"Mid-floor\",'Design Details'!C$61,IF($C$3=\"Upper floor\",'Design Details'!C$71,IF($C$3=\"Single Storey\",'Design Details'!C$81,0))))","v":0},{"$f":"IF(M59=\"\",0,IF(M59=\"unheated\",D$4-10,D$4-M59))","v":0},0]
[null,"Party Wall"]
[null,"Length (m)",null,"Height (m)",null,"Area (m²)",0,"U Value (W/m²K)",{"$f":"IF($C$3=\"Ground floor\",'Design Details'!C$52,IF($C$3=\"Mid-floor\",'Design Details'!C$62,IF($C$3=\"Upper floor\",'Design Details'!C$72,IF($C$3=\"Single Storey\",'Design Details'!C$82,0))))","v":0},{"$f":"D4-10","v":-10},0,{"$f":"G61*I61*$D$7*24/1000","v":0}]

{"sheet":"24","index":39,"n_rows":61,"n_cols":25,"rows_kept":61,"cut":false,"hidden":false,"merged":[[58,12,58,14],[44,19,48,19],[44,20,48,20],[54,12,54,14],[55,12,55,14],[56,12,56,14],[57,12,57,14],[44,18,48,18],[21,12,21,14],[30,12,30,14],[31,12,31,14],[44,16,48,16],[44,17,48,17],[20,12,20,14],[3,1,3,2],[3,4,3,5],[4,1,4,2],[4,4,4,5],[5,1,5,2],[5,4,5,5],[6,1,6,2],[9,11,9,14],[10,11,10,14],[18,12,18,14],[19,12,19,14],[0,1,0,3],[0,4,0,6],[0,10,0,11],[1,4,1,5],[2,2,2,3],[2,4,2,5]]}
[null,"Room Information",null,null,"Ventilation Heat Loss",null,null,"Fabric ","Heat Loss (W)"," Usage (kWh)","Additional heat loss",null,"Addition","Watts","kWh"]
[null,"Room",null,null,"Air Changes per hour",null,{"$f":"'Design Details'!G110","v":0},"Floor",{"$f":"SUM(K20:K22)","v":0},{"$f":"SUM(L20:L22)","v":0},"Thermal Bridging (New Build >2006)",null,0,{"$f":"SUM(I$2:I$6)*M2","v":0},{"$f":"SUM(J$2:J$6)*M2","v":0},null,"3 edges (long single)","Level",null,null,null,null,null,null,1]
[null,"Level",null,null,"Air Change Factor (W/m³K)",null,0.33,"Ext Wall",{"$f":"K27","v":0},{"$f":"L27","v":0},"Exposed location",null,0,{"$f":"SUM(I$2:I$6)*M3","v":0},{"$f":"SUM(J$2:J$6)*M3","v":0},null,"3 edges (short single)","Please Select Floor",{"$f":"IF($C$3=\"Ground floor\",\"Solid Floor (in contact with ground)\",IF($C$3=\"Single Storey\",\"Solid Floor (in contact with ground)\",\"n/a\"))","v":"n/a"},{"$f":"'Design Details'!C21","v":10},"unheated",0,0,0,2]
[null,"Design Room Temp (°C)",null,{"$f":"'Design Details'!E110","v":0},"Total Volume (m³)",null,{"$f":"SUM(I10:I12,I14:I18)","v":0},"Roof",{"$f":"SUM(K32,K36)","v":0},{"$f":"SUM(L32,L36)","v":0},"High ceiling",null,0,{"$f":"SUM(I$2:I$6)*M4","v":0},{"$f":"SUM(J$2:J$6)*M4","v":0},null,"One edge","Ground floor",{"$f":"IF($C$3=\"Ground floor\",\"Suspended Floor\",IF($C$3=\"Single Storey\",\"Suspended Floor\",\"n/a\"))","v":"n/a"},null,16,0.1,0.2,2.5000000000000001E-2,3]
[null,"Outside Design Temp (°C)",null,{"$f":"'Design Details'!C19","v":-2.5},"Heat loss (W)",null,{"$f":"G4*G3*D6*G2","v":0},"Glazing",{"$f":"SUM(K38:K44,K46:K49,K51:K54)","v":0},{"$f":"SUM(L38:L44,L46:L49,L51:L54)","v":0},"Intermittent heating",null,0,{"$f":"SUM(I$2:I$6)*M5","v":0},{"$f":"SUM(J$2:J$6)*M5","v":0},null,"Two adjacent","Mid-floor",null,null,18,null,null,0.05,4]
[null,"Temp Difference (°C)",null,{"$f":"D4-D5","v":2.5},"Estimated Energy usage (kWh)",null,{"$f":"G4*G3*D7*24/1000","v":0},"Int./Party Wall",{"$f":"SUM(K56:K59,K61)","v":0},{"$f":"SUM(L61)","v":0},null,null,null,"Total Room Heat Loss (W)",{"$f":"SUM(G5,I2:I6,N2:N5)","v":0},null,"Two opposite","Single storey",null,null,21,null,null,7.4999999999999997E-2,5]
[null,"Degree Days",null,{"$f":"'Design Details'!C20","v":2228},null,null,null,null,null,null,null,null,null,"Total Room Energy Usage (kWh)",{"$f":"SUM(G6,J2:J6,O2:O5)","v":0},null,null,"Upper floor",null,null,22,null,null,0.1,6]
[null,null,null,null,null,null,null,null,null,null,null,null,null,null,null,null,null,{"$f":"IF($C$3=\"Ground floor\",'Design Details'!C$45,IF($C$3=\"Mid-floor\",'Design Details'!C$55,IF($C$3=\"Upper floor\",'Design Details'!C$65,IF($C$3=\"Single Storey\",'Design Details'!C$75,0))))","v":0},null,null,null,null,null,null,7]
[null,"Room Dimensions",null,null,null,null,null,null,null,null,null,null,null,null,null,null,null,null,null,null,null,null,null,null,8]
[null,"Length (m)",null,"Width (m)",null,"Height (m)",null,"Volume (m³)",{"$f":"C10*E10*G10","v":0},null,null,null,null,null,null,null,null,null,null,null,null,null,null,null,9]
[null,"Length (m)",null,"Width (m)",null,"Height (m)",null,"Volume (m³)",{"$f":"C11*E11*G11","v":0},null,null,null,null,null,null,null,null,null,null,null,null,null,null,null,10]
[null,"Length (m)",null,"Width (m)",null,"Height (m)",null,"Volume (m³)",{"$f":"C12*E12*G12","v":0}]
[null,"Awkward Room Dimensions"]
[null,"Length (m)",null,"Width (m)",null,"Height (m)",null,"Volume (m³)",{"$f":"((G14*E14)/2)*C14","v":0},"Pitched"]
[null,"Length (m)",null,"Width (m)",null,"Height (m)",null,"Volume (m³)",{"$f":"C15*E15*G15/2","v":0},"Single Pitch"]
[null,"Length (m)",null,"Height (m)",null,"Depth (m)",null,"Volume (m³)",{"$f":"E16*G16*C16/2","v":0},"Dormer 1"]
[null,"Length (m)",null,"Height (m)",null,"Depth (m)",null,"Volume (m³)",{"$f":"E17*G17*C17/2","v":0},"Dormer 2"]
[null,"Length (m)",null,"Height (m)",null,"Depth (m)",null,"Volume (m³)",{"$f":"E18*G18*C18/2","v":0},"Dormer 3"]
[null,"Floor",null,null,null,null,null,null,null,"Temp Difference","Heat Loss (W)","Usage (kWh)",{"$f":"IF($C$3=\"Ground Floor\",\"Select type of Ground Floor\",IF($C$3=\"Single Storey\",\"Select type of Ground Floor\",\"#N/A\"))","v":"#N/A"}]
[null,{"$f":"B10","v":"Length (m)"},null,{"$f":"D10","v":"Width (m)"},null,"Area (m²)",{"$f":"C20*E20","v":0},"U Value (W/m²K)",{"$f":"IF(M22=\"\",R8,'floor u values'!K25)","v":0},{"$f":"IF(C$3=\"Ground Floor\",IF(M20=\"Solid Floor (in contact with ground)\",D$4-T$3,D$4-D$5),IF(C$3=\"Single Storey\",IF(M20=\"Solid Floor (in contact with ground)\",D$4-T$3,D$4-D$5),0))","v":0},{"$f":"G20*I20*J20","v":0},{"$f":"IF($C$3=$R$5,0,IF($C$3=$R$7,0,G20*I20*$D$7*24/1000))","v":0},"n/a"]
[null,"Length (m)",null,"Width (m)",null,"Area (m²)",{"$f":"C21*E21","v":0},"U Value (W/m²K)",{"$f":"I20","v":0},{"$f":"IF(C$3=\"Ground Floor\",IF(M20=\"Solid Floor (in contact with ground)\",D$4-T$3,D$4-D$5),IF(C$3=\"Single Storey\",IF(M20=\"Solid Floor (in contact with ground)\",D$4-T$3,D$4-D$5),0))","v":0},{"$f":"G21*I21*J21","v":0},{"$f":"IF($C$3=$R$5,0,IF($C$3=$R$7,0,G21*I21*$D$7*24/1000))","v":0},"Exposed floor (external)"]
[null,"Length (m)",null,"Width (m)",null,"Area (m²)",0,"U Value (W/m²K)",{"$f":"I20","v":0},{"$f":"IF(C$3=\"Ground Floor\",IF(M20=\"Solid Floor (in contact with ground)\",D$4-T$3,D$4-D$5),IF(C$3=\"Single Storey\",IF(M20=\"Solid Floor (in contact with ground)\",D$4-T$3,D$4-D$5),0))","v":0},{"$f":"G22*I22*J22","v":0},{"$f":"IF($C$3=$R$5,0,IF($C$3=$R$7,0,G22*I22*$D$7*24/1000))","v":0}]
[null,"External Wall",null,null,null,null,null,null,null,null,null,null,{"$f":"IF(M22=\"Two opposite\",\"Between edges\",IF(M22=\"One edge\",\"Depth of room\",IF(M22=\"3 edges (short single)\",\"Short length\",IF(M22=\"3 edges (long single)\",\"Short length\",\"\"))))","v":""},null,{"$f":"IF(M22=\"3 edges (short single)\",\"Long length\",IF(M22=\"3 edges (long single)\",\"Long length\",\"\"))","v":""}]
[null,"Length (m)",null,"Height (m)",null,"Area (m²)",0]
[null,"Length (m)",null,"Height (m)",null,"Area (m²)",0]
[null,"Length (m)",null,"Height (m)",null,"Area (m²)",0]
[null,null,null,null,"Total","Area (m²)",{"$f":"SUM(G24:G26)-SUM(G38:G44,G51:G54)","v":0},"U Value (W/m²K)",{"$f":"IF($C$3=\"Ground floor\",'Design Details'!C$48,IF($C$3=\"Mid-floor\",'Design Details'!C$58,IF($C$3=\"Upper floor\",'Design Details'!C$68,IF($C$3=\"Single Storey\",'Design Details'!C$78,0))))","v":0},{"$f":"$D$6","v":2.5},{"$f":"G27*I27*J27","v":0},{"$f":"G27*I27*$D$7*24/1000","v":0}]
[null,"Ceiling (Flat)"]
[null,"Length (m)",null,"Width (m)",null,"Area (m²)",0]
[null,"Length (m)",null,"Width (m)",null,"Area (m²)",0]
[null,"Length (m)",null,"Width (m)",null,"Area (m²)",0,null,null,null,null,null,"Select Temp/Type of Space Above"]
[null,null,null,null,"Total","Area (m²)",{"$f":"SUM(G29:G31)-SUM(G46:G49)","v":0},"U Value (W/m²K)",{"$f":"IF($C$3=\"Ground floor\",'Design Details'!C$49,IF($C$3=\"Mid-floor\",'Design Details'!C$59,IF($C$3=\"Upper floor\",INDIRECT(T52),IF($C$3=\"Single Storey\",INDIRECT(T53),0))))","v":0},{"$f":"U51","v":0},{"$f":"G32*I32*J32","v":0},{"$f":"IF($C$3=$R$4,0,IF($C$3=$R$5,0,G32*I32*$D$7*24/1000))","v":0},"Select..."]
[null,"Ceiling (Awkward)"]
[null,"Length (m)",{"$f":"C14*2","v":0},"Pitch (m)",{"$f":"SQRT(POWER(E14,2)+POWER(G14,2))","v":0},"Area (m²)",{"$f":"C34*E34","v":0},"Pitched"]
[null,"Length (m)",{"$f":"C15","v":0},"Pitch (m)",{"$f":"SQRT(POWER(E15,2)+POWER(G15,2))","v":0},"Area (m²)",0,"Single Pitch"]
[null,null,null,null,"Total","Area (m²)",{"$f":"SUM(G34:G35)-SUM(G46:G49)","v":0},"U Value (W/m²K)",{"$f":"IF($C$3=\"Ground floor\",'Design Details'!C$50,IF($C$3=\"Mid-floor\",'Design Details'!C$60,IF($C$3=\"Upper floor\",'Design Details'!C$70,IF($C$3=\"Single Storey\",'Design Details'!C$80,0))))","v":0},{"$f":"$D$6","v":2.5},0,{"$f":"IF($C$3=$R$4,0,IF($C$3=$R$5,0,G36*I36*$D$7*24/1000))","v":0}]
[null,"Windows"]
[null,"Width (m)",null,"Height (m)",null,"Area (m²)",0,"U Value (W/m²K)",{"$f":"IF($C$3=\"Ground floor\",'Design Details'!C$46,IF($C$3=\"Mid-floor\",'Design Details'!C$56,IF($C$3=\"Upper floor\",'Design Details'!C$66,IF($C$3=\"Single Storey\",'Design Details'!C$76,0))))","v":0},2.5,0,{"$f":"G38*I38*$D$7*24/1000","v":0}]
[null,"Width (m)",null,"Height (m)",null,"Area (m²)",0,"U Value (W/m²K)",{"$f":"IF($C$3=\"Ground floor\",'Design Details'!C$46,IF($C$3=\"Mid-floor\",'Design Details'!C$56,IF($C$3=\"Upper floor\",'Design Details'!C$66,IF($C$3=\"Single Storey\",'Design Details'!C$76,0))))","v":0},2.5,0,0]
[null,"Width (m)",null,"Height (m)",null,"Area (m²)",0,"U Value (W/m²K)",{"$f":"IF($C$3=\"Ground floor\",'Design Details'!C$46,IF($C$3=\"Mid-floor\",'Design Details'!C$56,IF($C$3=\"Upper floor\",'Design Details'!C$66,IF($C$3=\"Single Storey\",'Design Details'!C$76,0))))","v":0},2.5,0,0]
[null,"Width (m)",null,"Height (m)",null,"Area (m²)",0,"U Value (W/m²K)",{"$f":"IF($C$3=\"Ground floor\",'Design Details'!C$46,IF($C$3=\"Mid-floor\",'Design Details'!C$56,IF($C$3=\"Upper floor\",'Design Details'!C$66,IF($C$3=\"Single Storey\",'Design Details'!C$76,0))))","v":0},2.5,0,0]
[null,"Width (m)",null,"Height (m)",null,"Area (m²)",0,"U Value (W/m²K)",{"$f":"IF($C$3=\"Ground floor\",'Design Details'!C$46,IF($C$3=\"Mid-floor\",'Design Details'!C$56,IF($C$3=\"Upper floor\",'Design Details'!C$66,IF($C$3=\"Single Storey\",'Design Details'!C$76,0))))","v":0},2.5,0,0]
[null,"Width (m)",null,"Height (m)",null,"Area (m²)",0,"U Value (W/m²K)",{"$f":"IF($C$3=\"Ground floor\",'Design Details'!C$46,IF($C$3=\"Mid-floor\",'Design Details'!C$56,IF($C$3=\"Upper floor\",'Design Details'!C$66,IF($C$3=\"Single Storey\",'Design Details'!C$76,0))))","v":0},2.5,0,0]
[null,"Width (m)",null,"Height (m)",null,"Area (m²)",0,"U Value (W/m²K)",{"$f":"IF($C$3=\"Ground floor\",'Design Details'!C$46,IF($C$3=\"Mid-floor\",'Design Details'!C$56,IF($C$3=\"Upper floor\",'Design Details'!C$66,IF($C$3=\"Single Storey\",'Design Details'!C$76,0))))","v":0},2.5,0,0]
[null,"Roof Glazing",null,null,null,null,null,null,null,null,null,null,null,null,null,null,"Options for upper floor or single storey","Options for Ground or Mid Floor","Drop-Down List","U-Value Selector","Temp Diff Selector"]
[null,"Width (m)",null,"Height (m)",null,"Area (m²)",0,"U Value (W/m²K)",{"$f":"IF($C$3=\"Ground floor\",'Design Details'!C$53,IF($C$3=\"Mid-floor\",'Design Details'!C$63,IF($C$3=\"Upper floor\",'Design Details'!C$73,IF($C$3=\"Single Storey\",'Design Details'!C$83,0))))","v":0},2.5,0,{"$f":"G46*I46*$D$7*24/1000","v":0}]
[null,"Width (m)",null,"Height (m)",null,"Area (m²)",0,"U Value (W/m²K)",{"$f":"IF($C$3=\"Ground floor\",'Design Details'!C$53,IF($C$3=\"Mid-floor\",'Design Details'!C$63,IF($C$3=\"Upper floor\",'Design Details'!C$73,IF($C$3=\"Single Storey\",'Design Details'!C$83,0))))","v":0},2.5,0,{"$f":"G47*I47*$D$7*24/1000","v":0}]
[null,"Width (m)",null,"Height (m)",null,"Area (m²)",0,"U Value (W/m²K)",{"$f":"IF($C$3=\"Ground floor\",'Design Details'!C$53,IF($C$3=\"Mid-floor\",'Design Details'!C$63,IF($C$3=\"Upper floor\",'Design Details'!C$73,IF($C$3=\"Single Storey\",'Design Details'!C$83,0))))","v":0},2.5,0,{"$f":"G48*I48*$D$7*24/1000","v":0}]
[null,"Width (m)",null,"Height (m)",null,"Area (m²)",0,"U Value (W/m²K)",{"$f":"IF($C$3=\"Ground floor\",'Design Details'!C$53,IF($C$3=\"Mid-floor\",'Design Details'!C$63,IF($C$3=\"Upper floor\",'Design Details'!C$73,IF($C$3=\"Single Storey\",'Design Details'!C$83,0))))","v":0},2.5,0,{"$f":"G49*I49*$D$7*24/1000","v":0}]
[null,"External Doors",null,null,null,null,null,null,null,null,null,null,null,null,null,null,null,null,"Select..."]
[null,"Width (m)",null,"Height (m)",null,"Area (m²)",0,"U Value (W/m²K)",{"$f":"IF($C$3=\"Ground floor\",'Design Details'!C$47,IF($C$3=\"Mid-floor\",'Design Details'!C$57,IF($C$3=\"Upper floor\",'Design Details'!C$67,IF($C$3=\"Single Storey\",'Design Details'!C$77,0))))","v":0},2.5,0,{"$f":"G51*I51*$D$7*24/1000","v":0},null,null,null,null,"Outside","Unheated",{"$f":"IF(OR($C$3=\"Ground Floor\",$C$3=\"Mid-floor\"),R51,Q51)","v":"Outside"},{"$f":"IF(M32=\"Unheated\",1,0)","v":0},{"$f":"IF(M32=\"Select...\",0,(IF(M32=\"Outside\",D6,IF(M32=\"Unheated\",D4-10,D4-M32))))","v":0}]
[null,"Width (m)",null,"Height (m)",null,"Area (m²)",0,"U Value (W/m²K)",{"$f":"IF($C$3=\"Ground floor\",'Design Details'!C$47,IF($C$3=\"Mid-floor\",'Design Details'!C$57,IF($C$3=\"Upper floor\",'Design Details'!C$67,IF($C$3=\"Single Storey\",'Design Details'!C$77,0))))","v":0},2.5,0,{"$f":"G52*I52*$D$7*24/1000","v":0},null,null,null,null,"Unheated","16",{"$f":"IF(OR($C$3=\"Ground Floor\",$C$3=\"Mid-floor\"),R52,Q52)","v":"Unheated"},{"$f":"\"'Design Details'!C$\"&69+T51","v":"'Design Details'!C$69"}]
[null,"Width (m)",null,"Height (m)",null,"Area (m²)",0,"U Value (W/m²K)",{"$f":"IF($C$3=\"Ground floor\",'Design Details'!C$47,IF($C$3=\"Mid-floor\",'Design Details'!C$57,IF($C$3=\"Upper floor\",'Design Details'!C$67,IF($C$3=\"Single Storey\",'Design Details'!C$77,0))))","v":0},2.5,0,{"$f":"G53*I53*$D$7*24/1000","v":0},null,null,null,null,null,"18",{"$f":"IF(OR($C$3=\"Ground Floor\",$C$3=\"Mid-floor\"),R53,Q53)","v":0},{"$f":"\"'Design Details'!C$\"&79+T51","v":"'Design Details'!C$79"}]
[null,"Width (m)",null,"Height (m)",null,"Area (m²)",0,"U Value (W/m²K)",{"$f":"IF($C$3=\"Ground floor\",'Design Details'!C$47,IF($C$3=\"Mid-floor\",'Design Details'!C$57,IF($C$3=\"Upper floor\",'Design Details'!C$67,IF($C$3=\"Single Storey\",'Design Details'!C$77,0))))","v":0},2.5,0,{"$f":"G54*I54*$D$7*24/1000","v":0},null,null,null,null,null,"21",{"$f":"IF(OR($C$3=\"Ground Floor\",$C$3=\"Mid-floor\"),R54,Q54)","v":0}]
[null,"Internal Walls",null,null,null,null,null,null,null,null,null,null,"Adjoining Room Temp (°C)",null,null,null,null,22,{"$f":"IF(OR($C$3=\"Ground Floor\",$C$3=\"Mid-floor\"),R55,Q37)","v":0}]
[null,"Length (m)",null,"Height (m)",null,"Area (m²)",0,"U Value (W/m²K)",{"$f":"IF($C$3=\"Ground floor\",'Design Details'!C$51,IF($C$3=\"Mid-floor\",'Design Details'!C$61,IF($C$3=\"Upper floor\",'Design Details'!C$71,IF($C$3=\"Single Storey\",'Design Details'!C$81,0))))","v":0},{"$f":"IF(M56=\"\",0,IF(M56=\"unheated\",D$4-10,D$4-M56))","v":0},0]
[null,"Length (m)",null,"Height (m)",null,"Area (m²)",0,"U Value (W/m²K)",{"$f":"IF($C$3=\"Ground floor\",'Design Details'!C$51,IF($C$3=\"Mid-floor\",'Design Details'!C$61,IF($C$3=\"Upper floor\",'Design Details'!C$71,IF($C$3=\"Single Storey\",'Design Details'!C$81,0))))","v":0},{"$f":"IF(M57=\"\",0,IF(M57=\"unheated\",D$4-10,D$4-M57))","v":0},0]
[null,"Length (m)",null,"Height (m)",null,"Area (m²)",0,"U Value (W/m²K)",{"$f":"IF($C$3=\"Ground floor\",'Design Details'!C$51,IF($C$3=\"Mid-floor\",'Design Details'!C$61,IF($C$3=\"Upper floor\",'Design Details'!C$71,IF($C$3=\"Single Storey\",'Design Details'!C$81,0))))","v":0},{"$f":"IF(M58=\"\",0,IF(M58=\"unheated\",D$4-10,D$4-M58))","v":0},0]
[null,"Length (m)",null,"Height (m)",null,"Area (m²)",0,"U Value (W/m²K)",{"$f":"IF($C$3=\"Ground floor\",'Design Details'!C$51,IF($C$3=\"Mid-floor\",'Design Details'!C$61,IF($C$3=\"Upper floor\",'Design Details'!C$71,IF($C$3=\"Single Storey\",'Design Details'!C$81,0))))","v":0},{"$f":"IF(M59=\"\",0,IF(M59=\"unheated\",D$4-10,D$4-M59))","v":0},0]
[null,"Party Wall"]
[null,"Length (m)",null,"Height (m)",null,"Area (m²)",0,"U Value (W/m²K)",{"$f":"IF($C$3=\"Ground floor\",'Design Details'!C$52,IF($C$3=\"Mid-floor\",'Design Details'!C$62,IF($C$3=\"Upper floor\",'Design Details'!C$72,IF($C$3=\"Single Storey\",'Design Details'!C$82,0))))","v":0},{"$f":"D4-10","v":-10},0,{"$f":"G61*I61*$D$7*24/1000","v":0}]

{"sheet":"25","index":40,"n_rows":61,"n_cols":25,"rows_kept":61,"cut":false,"hidden":false,"merged":[[58,12,58,14],[44,19,48,19],[44,20,48,20],[54,12,54,14],[55,12,55,14],[56,12,56,14],[57,12,57,14],[44,18,48,18],[21,12,21,14],[30,12,30,14],[31,12,31,14],[44,16,48,16],[44,17,48,17],[20,12,20,14],[3,1,3,2],[3,4,3,5],[4,1,4,2],[4,4,4,5],[5,1,5,2],[5,4,5,5],[6,1,6,2],[9,11,9,14],[10,11,10,14],[18,12,18,14],[19,12,19,14],[0,1,0,3],[0,4,0,6],[0,10,0,11],[1,4,1,5],[2,2,2,3],[2,4,2,5]]}
[null,"Room Information",null,null,"Ventilation Heat Loss",null,null,"Fabric ","Heat Loss (W)"," Usage (kWh)","Additional heat loss",null,"Addition","Watts","kWh"]
[null,"Room",null,null,"Air Changes per hour",null,{"$f":"'Design Details'!G111","v":0},"Floor",{"$f":"SUM(K20:K22)","v":0},{"$f":"SUM(L20:L22)","v":0},"Thermal Bridging (New Build >2006)",null,0,{"$f":"SUM(I$2:I$6)*M2","v":0},{"$f":"SUM(J$2:J$6)*M2","v":0},null,"3 edges (long single)","Level",null,null,null,null,null,null,1]
[null,"Level",null,null,"Air Change Factor (W/m³K)",null,0.33,"Ext Wall",{"$f":"K27","v":0},{"$f":"L27","v":0},"Exposed location",null,0,{"$f":"SUM(I$2:I$6)*M3","v":0},{"$f":"SUM(J$2:J$6)*M3","v":0},null,"3 edges (short single)","Please Select Floor",{"$f":"IF($C$3=\"Ground floor\",\"Solid Floor (in contact with ground)\",IF($C$3=\"Single Storey\",\"Solid Floor (in contact with ground)\",\"n/a\"))","v":"n/a"},{"$f":"'Design Details'!C21","v":10},"unheated",0,0,0,2]
[null,"Design Room Temp (°C)",null,{"$f":"'Design Details'!E111","v":0},"Total Volume (m³)",null,{"$f":"SUM(I10:I12,I14:I18)","v":0},"Roof",{"$f":"SUM(K32,K36)","v":0},{"$f":"SUM(L32,L36)","v":0},"High ceiling",null,0,{"$f":"SUM(I$2:I$6)*M4","v":0},{"$f":"SUM(J$2:J$6)*M4","v":0},null,"One edge","Ground floor",{"$f":"IF($C$3=\"Ground floor\",\"Suspended Floor\",IF($C$3=\"Single Storey\",\"Suspended Floor\",\"n/a\"))","v":"n/a"},null,16,0.1,0.2,2.5000000000000001E-2,3]
[null,"Outside Design Temp (°C)",null,{"$f":"'Design Details'!C19","v":-2.5},"Heat loss (W)",null,{"$f":"G4*G3*D6*G2","v":0},"Glazing",{"$f":"SUM(K38:K44,K46:K49,K51:K54)","v":0},{"$f":"SUM(L38:L44,L46:L49,L51:L54)","v":0},"Intermittent heating",null,0,{"$f":"SUM(I$2:I$6)*M5","v":0},{"$f":"SUM(J$2:J$6)*M5","v":0},null,"Two adjacent","Mid-floor",null,null,18,null,null,0.05,4]
[null,"Temp Difference (°C)",null,{"$f":"D4-D5","v":2.5},"Estimated Energy usage (kWh)",null,{"$f":"G4*G3*D7*24/1000","v":0},"Int./Party Wall",{"$f":"SUM(K56:K59,K61)","v":0},{"$f":"SUM(L61)","v":0},null,null,null,"Total Room Heat Loss (W)",{"$f":"SUM(G5,I2:I6,N2:N5)","v":0},null,"Two opposite","Single storey",null,null,21,null,null,7.4999999999999997E-2,5]
[null,"Degree Days",null,{"$f":"'Design Details'!C20","v":2228},null,null,null,null,null,null,null,null,null,"Total Room Energy Usage (kWh)",{"$f":"SUM(G6,J2:J6,O2:O5)","v":0},null,null,"Upper floor",null,null,22,null,null,0.1,6]
[null,null,null,null,null,null,null,null,null,null,null,null,null,null,null,null,null,{"$f":"IF($C$3=\"Ground floor\",'Design Details'!C$45,IF($C$3=\"Mid-floor\",'Design Details'!C$55,IF($C$3=\"Upper floor\",'Design Details'!C$65,IF($C$3=\"Single Storey\",'Design Details'!C$75,0))))","v":0},null,null,null,null,null,null,7]
[null,"Room Dimensions",null,null,null,null,null,null,null,null,null,null,null,null,null,null,null,null,null,null,null,null,null,null,8]
[null,"Length (m)",null,"Width (m)",null,"Height (m)",null,"Volume (m³)",{"$f":"C10*E10*G10","v":0},null,null,null,null,null,null,null,null,null,null,null,null,null,null,null,9]
[null,"Length (m)",null,"Width (m)",null,"Height (m)",null,"Volume (m³)",{"$f":"C11*E11*G11","v":0},null,null,null,null,null,null,null,null,null,null,null,null,null,null,null,10]
[null,"Length (m)",null,"Width (m)",null,"Height (m)",null,"Volume (m³)",{"$f":"C12*E12*G12","v":0}]
[null,"Awkward Room Dimensions"]
[null,"Length (m)",null,"Width (m)",null,"Height (m)",null,"Volume (m³)",{"$f":"((G14*E14)/2)*C14","v":0},"Pitched"]
[null,"Length (m)",null,"Width (m)",null,"Height (m)",null,"Volume (m³)",{"$f":"C15*E15*G15/2","v":0},"Single Pitch"]
[null,"Length (m)",null,"Height (m)",null,"Depth (m)",null,"Volume (m³)",{"$f":"E16*G16*C16/2","v":0},"Dormer 1"]
[null,"Length (m)",null,"Height (m)",null,"Depth (m)",null,"Volume (m³)",{"$f":"E17*G17*C17/2","v":0},"Dormer 2"]
[null,"Length (m)",null,"Height (m)",null,"Depth (m)",null,"Volume (m³)",{"$f":"E18*G18*C18/2","v":0},"Dormer 3"]
[null,"Floor",null,null,null,null,null,null,null,"Temp Difference","Heat Loss (W)","Usage (kWh)",{"$f":"IF($C$3=\"Ground Floor\",\"Select type of Ground Floor\",IF($C$3=\"Single Storey\",\"Select type of Ground Floor\",\"#N/A\"))","v":"#N/A"}]
[null,{"$f":"B10","v":"Length (m)"},null,{"$f":"D10","v":"Width (m)"},null,"Area (m²)",{"$f":"C20*E20","v":0},"U Value (W/m²K)",{"$f":"IF(M22=\"\",R8,'floor u values'!K26)","v":0},{"$f":"IF(C$3=\"Ground Floor\",IF(M20=\"Solid Floor (in contact with ground)\",D$4-T$3,D$4-D$5),IF(C$3=\"Single Storey\",IF(M20=\"Solid Floor (in contact with ground)\",D$4-T$3,D$4-D$5),0))","v":0},{"$f":"G20*I20*J20","v":0},{"$f":"IF($C$3=$R$5,0,IF($C$3=$R$7,0,G20*I20*$D$7*24/1000))","v":0},"n/a"]
[null,"Length (m)",null,"Width (m)",null,"Area (m²)",{"$f":"C21*E21","v":0},"U Value (W/m²K)",{"$f":"I20","v":0},{"$f":"IF(C$3=\"Ground Floor\",IF(M20=\"Solid Floor (in contact with ground)\",D$4-T$3,D$4-D$5),IF(C$3=\"Single Storey\",IF(M20=\"Solid Floor (in contact with ground)\",D$4-T$3,D$4-D$5),0))","v":0},{"$f":"G21*I21*J21","v":0},{"$f":"IF($C$3=$R$5,0,IF($C$3=$R$7,0,G21*I21*$D$7*24/1000))","v":0},"Exposed floor (external)"]
[null,"Length (m)",null,"Width (m)",null,"Area (m²)",0,"U Value (W/m²K)",{"$f":"I20","v":0},{"$f":"IF(C$3=\"Ground Floor\",IF(M20=\"Solid Floor (in contact with ground)\",D$4-T$3,D$4-D$5),IF(C$3=\"Single Storey\",IF(M20=\"Solid Floor (in contact with ground)\",D$4-T$3,D$4-D$5),0))","v":0},{"$f":"G22*I22*J22","v":0},{"$f":"IF($C$3=$R$5,0,IF($C$3=$R$7,0,G22*I22*$D$7*24/1000))","v":0}]
[null,"External Wall",null,null,null,null,null,null,null,null,null,null,{"$f":"IF(M22=\"Two opposite\",\"Between edges\",IF(M22=\"One edge\",\"Depth of room\",IF(M22=\"3 edges (short single)\",\"Short length\",IF(M22=\"3 edges (long single)\",\"Short length\",\"\"))))","v":""},null,{"$f":"IF(M22=\"3 edges (short single)\",\"Long length\",IF(M22=\"3 edges (long single)\",\"Long length\",\"\"))","v":""}]
[null,"Length (m)",null,"Height (m)",null,"Area (m²)",0]
[null,"Length (m)",null,"Height (m)",null,"Area (m²)",0]
[null,"Length (m)",null,"Height (m)",null,"Area (m²)",0]
[null,null,null,null,"Total","Area (m²)",{"$f":"SUM(G24:G26)-SUM(G38:G44,G51:G54)","v":0},"U Value (W/m²K)",{"$f":"IF($C$3=\"Ground floor\",'Design Details'!C$48,IF($C$3=\"Mid-floor\",'Design Details'!C$58,IF($C$3=\"Upper floor\",'Design Details'!C$68,IF($C$3=\"Single Storey\",'Design Details'!C$78,0))))","v":0},{"$f":"$D$6","v":2.5},{"$f":"G27*I27*J27","v":0},{"$f":"G27*I27*$D$7*24/1000","v":0}]
[null,"Ceiling (Flat)"]
[null,"Length (m)",null,"Width (m)",null,"Area (m²)",0]
[null,"Length (m)",null,"Width (m)",null,"Area (m²)",0]
[null,"Length (m)",null,"Width (m)",null,"Area (m²)",0,null,null,null,null,null,"Select Temp/Type of Space Above"]
[null,null,null,null,"Total","Area (m²)",{"$f":"SUM(G29:G31)-SUM(G46:G49)","v":0},"U Value (W/m²K)",{"$f":"IF($C$3=\"Ground floor\",'Design Details'!C$49,IF($C$3=\"Mid-floor\",'Design Details'!C$59,IF($C$3=\"Upper floor\",INDIRECT(T52),IF($C$3=\"Single Storey\",INDIRECT(T53),0))))","v":0},{"$f":"U51","v":0},{"$f":"G32*I32*J32","v":0},{"$f":"IF($C$3=$R$4,0,IF($C$3=$R$5,0,G32*I32*$D$7*24/1000))","v":0},"Select..."]
[null,"Ceiling (Awkward)"]
[null,"Length (m)",{"$f":"C14*2","v":0},"Pitch (m)",{"$f":"SQRT(POWER(E14,2)+POWER(G14,2))","v":0},"Area (m²)",{"$f":"C34*E34","v":0},"Pitched"]
[null,"Length (m)",{"$f":"C15","v":0},"Pitch (m)",{"$f":"SQRT(POWER(E15,2)+POWER(G15,2))","v":0},"Area (m²)",0,"Single Pitch"]
[null,null,null,null,"Total","Area (m²)",{"$f":"SUM(G34:G35)-SUM(G46:G49)","v":0},"U Value (W/m²K)",{"$f":"IF($C$3=\"Ground floor\",'Design Details'!C$50,IF($C$3=\"Mid-floor\",'Design Details'!C$60,IF($C$3=\"Upper floor\",'Design Details'!C$70,IF($C$3=\"Single Storey\",'Design Details'!C$80,0))))","v":0},{"$f":"$D$6","v":2.5},0,{"$f":"IF($C$3=$R$4,0,IF($C$3=$R$5,0,G36*I36*$D$7*24/1000))","v":0}]
[null,"Windows"]
[null,"Width (m)",null,"Height (m)",null,"Area (m²)",0,"U Value (W/m²K)",{"$f":"IF($C$3=\"Ground floor\",'Design Details'!C$46,IF($C$3=\"Mid-floor\",'Design Details'!C$56,IF($C$3=\"Upper floor\",'Design Details'!C$66,IF($C$3=\"Single Storey\",'Design Details'!C$76,0))))","v":0},2.5,0,{"$f":"G38*I38*$D$7*24/1000","v":0}]
[null,"Width (m)",null,"Height (m)",null,"Area (m²)",0,"U Value (W/m²K)",{"$f":"IF($C$3=\"Ground floor\",'Design Details'!C$46,IF($C$3=\"Mid-floor\",'Design Details'!C$56,IF($C$3=\"Upper floor\",'Design Details'!C$66,IF($C$3=\"Single Storey\",'Design Details'!C$76,0))))","v":0},2.5,0,0]
[null,"Width (m)",null,"Height (m)",null,"Area (m²)",0,"U Value (W/m²K)",{"$f":"IF($C$3=\"Ground floor\",'Design Details'!C$46,IF($C$3=\"Mid-floor\",'Design Details'!C$56,IF($C$3=\"Upper floor\",'Design Details'!C$66,IF($C$3=\"Single Storey\",'Design Details'!C$76,0))))","v":0},2.5,0,0]
[null,"Width (m)",null,"Height (m)",null,"Area (m²)",0,"U Value (W/m²K)",{"$f":"IF($C$3=\"Ground floor\",'Design Details'!C$46,IF($C$3=\"Mid-floor\",'Design Details'!C$56,IF($C$3=\"Upper floor\",'Design Details'!C$66,IF($C$3=\"Single Storey\",'Design Details'!C$76,0))))","v":0},2.5,0,0]
[null,"Width (m)",null,"Height (m)",null,"Area (m²)",0,"U Value (W/m²K)",{"$f":"IF($C$3=\"Ground floor\",'Design Details'!C$46,IF($C$3=\"Mid-floor\",'Design Details'!C$56,IF($C$3=\"Upper floor\",'Design Details'!C$66,IF($C$3=\"Single Storey\",'Design Details'!C$76,0))))","v":0},2.5,0,0]
[null,"Width (m)",null,"Height (m)",null,"Area (m²)",0,"U Value (W/m²K)",{"$f":"IF($C$3=\"Ground floor\",'Design Details'!C$46,IF($C$3=\"Mid-floor\",'Design Details'!C$56,IF($C$3=\"Upper floor\",'Design Details'!C$66,IF($C$3=\"Single Storey\",'Design Details'!C$76,0))))","v":0},2.5,0,0]
[null,"Width (m)",null,"Height (m)",null,"Area (m²)",0,"U Value (W/m²K)",{"$f":"IF($C$3=\"Ground floor\",'Design Details'!C$46,IF($C$3=\"Mid-floor\",'Design Details'!C$56,IF($C$3=\"Upper floor\",'Design Details'!C$66,IF($C$3=\"Single Storey\",'Design Details'!C$76,0))))","v":0},2.5,0,0]
[null,"Roof Glazing",null,null,null,null,null,null,null,null,null,null,null,null,null,null,"Options for upper floor or single storey","Options for Ground or Mid Floor","Drop-Down List","U-Value Selector","Temp Diff Selector"]
[null,"Width (m)",null,"Height (m)",null,"Area (m²)",0,"U Value (W/m²K)",{"$f":"IF($C$3=\"Ground floor\",'Design Details'!C$53,IF($C$3=\"Mid-floor\",'Design Details'!C$63,IF($C$3=\"Upper floor\",'Design Details'!C$73,IF($C$3=\"Single Storey\",'Design Details'!C$83,0))))","v":0},2.5,0,{"$f":"G46*I46*$D$7*24/1000","v":0}]
[null,"Width (m)",null,"Height (m)",null,"Area (m²)",0,"U Value (W/m²K)",{"$f":"IF($C$3=\"Ground floor\",'Design Details'!C$53,IF($C$3=\"Mid-floor\",'Design Details'!C$63,IF($C$3=\"Upper floor\",'Design Details'!C$73,IF($C$3=\"Single Storey\",'Design Details'!C$83,0))))","v":0},2.5,0,{"$f":"G47*I47*$D$7*24/1000","v":0}]
[null,"Width (m)",null,"Height (m)",null,"Area (m²)",0,"U Value (W/m²K)",{"$f":"IF($C$3=\"Ground floor\",'Design Details'!C$53,IF($C$3=\"Mid-floor\",'Design Details'!C$63,IF($C$3=\"Upper floor\",'Design Details'!C$73,IF($C$3=\"Single Storey\",'Design Details'!C$83,0))))","v":0},2.5,0,{"$f":"G48*I48*$D$7*24/1000","v":0}]
[null,"Width (m)",null,"Height (m)",null,"Area (m²)",0,"U Value (W/m²K)",{"$f":"IF($C$3=\"Ground floor\",'Design Details'!C$53,IF($C$3=\"Mid-floor\",'Design Details'!C$63,IF($C$3=\"Upper floor\",'Design Details'!C$73,IF($C$3=\"Single Storey\",'Design Details'!C$83,0))))","v":0},2.5,0,{"$f":"G49*I49*$D$7*24/1000","v":0}]
[null,"External Doors",null,null,null,null,null,null,null,null,null,null,null,null,null,null,null,null,"Select..."]
[null,"Width (m)",null,"Height (m)",null,"Area (m²)",0,"U Value (W/m²K)",{"$f":"IF($C$3=\"Ground floor\",'Design Details'!C$47,IF($C$3=\"Mid-floor\",'Design Details'!C$57,IF($C$3=\"Upper floor\",'Design Details'!C$67,IF($C$3=\"Single Storey\",'Design Details'!C$77,0))))","v":0},2.5,0,{"$f":"G51*I51*$D$7*24/1000","v":0},null,null,null,null,"Outside","Unheated",{"$f":"IF(OR($C$3=\"Ground Floor\",$C$3=\"Mid-floor\"),R51,Q51)","v":"Outside"},{"$f":"IF(M32=\"Unheated\",1,0)","v":0},{"$f":"IF(M32=\"Select...\",0,(IF(M32=\"Outside\",D6,IF(M32=\"Unheated\",D4-10,D4-M32))))","v":0}]
[null,"Width (m)",null,"Height (m)",null,"Area (m²)",0,"U Value (W/m²K)",{"$f":"IF($C$3=\"Ground floor\",'Design Details'!C$47,IF($C$3=\"Mid-floor\",'Design Details'!C$57,IF($C$3=\"Upper floor\",'Design Details'!C$67,IF($C$3=\"Single Storey\",'Design Details'!C$77,0))))","v":0},2.5,0,{"$f":"G52*I52*$D$7*24/1000","v":0},null,null,null,null,"Unheated","16",{"$f":"IF(OR($C$3=\"Ground Floor\",$C$3=\"Mid-floor\"),R52,Q52)","v":"Unheated"},{"$f":"\"'Design Details'!C$\"&69+T51","v":"'Design Details'!C$69"}]
[null,"Width (m)",null,"Height (m)",null,"Area (m²)",0,"U Value (W/m²K)",{"$f":"IF($C$3=\"Ground floor\",'Design Details'!C$47,IF($C$3=\"Mid-floor\",'Design Details'!C$57,IF($C$3=\"Upper floor\",'Design Details'!C$67,IF($C$3=\"Single Storey\",'Design Details'!C$77,0))))","v":0},2.5,0,{"$f":"G53*I53*$D$7*24/1000","v":0},null,null,null,null,null,"18",{"$f":"IF(OR($C$3=\"Ground Floor\",$C$3=\"Mid-floor\"),R53,Q53)","v":0},{"$f":"\"'Design Details'!C$\"&79+T51","v":"'Design Details'!C$79"}]
[null,"Width (m)",null,"Height (m)",null,"Area (m²)",0,"U Value (W/m²K)",{"$f":"IF($C$3=\"Ground floor\",'Design Details'!C$47,IF($C$3=\"Mid-floor\",'Design Details'!C$57,IF($C$3=\"Upper floor\",'Design Details'!C$67,IF($C$3=\"Single Storey\",'Design Details'!C$77,0))))","v":0},2.5,0,{"$f":"G54*I54*$D$7*24/1000","v":0},null,null,null,null,null,"21",{"$f":"IF(OR($C$3=\"Ground Floor\",$C$3=\"Mid-floor\"),R54,Q54)","v":0}]
[null,"Internal Walls",null,null,null,null,null,null,null,null,null,null,"Adjoining Room Temp (°C)",null,null,null,null,22,{"$f":"IF(OR($C$3=\"Ground Floor\",$C$3=\"Mid-floor\"),R55,Q37)","v":0}]
[null,"Length (m)",null,"Height (m)",null,"Area (m²)",0,"U Value (W/m²K)",{"$f":"IF($C$3=\"Ground floor\",'Design Details'!C$51,IF($C$3=\"Mid-floor\",'Design Details'!C$61,IF($C$3=\"Upper floor\",'Design Details'!C$71,IF($C$3=\"Single Storey\",'Design Details'!C$81,0))))","v":0},{"$f":"IF(M56=\"\",0,IF(M56=\"unheated\",D$4-10,D$4-M56))","v":0},0]
[null,"Length (m)",null,"Height (m)",null,"Area (m²)",0,"U Value (W/m²K)",{"$f":"IF($C$3=\"Ground floor\",'Design Details'!C$51,IF($C$3=\"Mid-floor\",'Design Details'!C$61,IF($C$3=\"Upper floor\",'Design Details'!C$71,IF($C$3=\"Single Storey\",'Design Details'!C$81,0))))","v":0},{"$f":"IF(M57=\"\",0,IF(M57=\"unheated\",D$4-10,D$4-M57))","v":0},0]
[null,"Length (m)",null,"Height (m)",null,"Area (m²)",0,"U Value (W/m²K)",{"$f":"IF($C$3=\"Ground floor\",'Design Details'!C$51,IF($C$3=\"Mid-floor\",'Design Details'!C$61,IF($C$3=\"Upper floor\",'Design Details'!C$71,IF($C$3=\"Single Storey\",'Design Details'!C$81,0))))","v":0},{"$f":"IF(M58=\"\",0,IF(M58=\"unheated\",D$4-10,D$4-M58))","v":0},0]
[null,"Length (m)",null,"Height (m)",null,"Area (m²)",0,"U Value (W/m²K)",{"$f":"IF($C$3=\"Ground floor\",'Design Details'!C$51,IF($C$3=\"Mid-floor\",'Design Details'!C$61,IF($C$3=\"Upper floor\",'Design Details'!C$71,IF($C$3=\"Single Storey\",'Design Details'!C$81,0))))","v":0},{"$f":"IF(M59=\"\",0,IF(M59=\"unheated\",D$4-10,D$4-M59))","v":0},0]
[null,"Party Wall"]
[null,"Length (m)",null,"Height (m)",null,"Area (m²)",0,"U Value (W/m²K)",{"$f":"IF($C$3=\"Ground floor\",'Design Details'!C$52,IF($C$3=\"Mid-floor\",'Design Details'!C$62,IF($C$3=\"Upper floor\",'Design Details'!C$72,IF($C$3=\"Single Storey\",'Design Details'!C$82,0))))","v":0},{"$f":"D4-10","v":-10},0,{"$f":"G61*I61*$D$7*24/1000","v":0}]

{"sheet":"26","index":41,"n_rows":61,"n_cols":25,"rows_kept":61,"cut":false,"hidden":false,"merged":[[58,12,58,14],[44,19,48,19],[44,20,48,20],[54,12,54,14],[55,12,55,14],[56,12,56,14],[57,12,57,14],[44,18,48,18],[21,12,21,14],[30,12,30,14],[31,12,31,14],[44,16,48,16],[44,17,48,17],[20,12,20,14],[3,1,3,2],[3,4,3,5],[4,1,4,2],[4,4,4,5],[5,1,5,2],[5,4,5,5],[6,1,6,2],[9,11,9,14],[10,11,10,14],[18,12,18,14],[19,12,19,14],[0,1,0,3],[0,4,0,6],[0,10,0,11],[1,4,1,5],[2,2,2,3],[2,4,2,5]]}
[null,"Room Information",null,null,"Ventilation Heat Loss",null,null,"Fabric ","Heat Loss (W)"," Usage (kWh)","Additional heat loss",null,"Addition","Watts","kWh"]
[null,"Room",null,null,"Air Changes per hour",null,{"$f":"'Design Details'!G112","v":0},"Floor",{"$f":"SUM(K20:K22)","v":0},{"$f":"SUM(L20:L22)","v":0},"Thermal Bridging (New Build >2006)",null,0,{"$f":"SUM(I$2:I$6)*M2","v":0},{"$f":"SUM(J$2:J$6)*M2","v":0},null,"3 edges (long single)","Level",null,null,null,null,null,null,1]
[null,"Level",null,null,"Air Change Factor (W/m³K)",null,0.33,"Ext Wall",{"$f":"K27","v":0},{"$f":"L27","v":0},"Exposed location",null,0,{"$f":"SUM(I$2:I$6)*M3","v":0},{"$f":"SUM(J$2:J$6)*M3","v":0},null,"3 edges (short single)","Please Select Floor",{"$f":"IF($C$3=\"Ground floor\",\"Solid Floor (in contact with ground)\",IF($C$3=\"Single Storey\",\"Solid Floor (in contact with ground)\",\"n/a\"))","v":"n/a"},{"$f":"'Design Details'!C21","v":10},"unheated",0,0,0,2]
[null,"Design Room Temp (°C)",null,{"$f":"'Design Details'!E112","v":0},"Total Volume (m³)",null,{"$f":"SUM(I10:I12,I14:I18)","v":0},"Roof",{"$f":"SUM(K32,K36)","v":0},{"$f":"SUM(L32,L36)","v":0},"High ceiling",null,0,{"$f":"SUM(I$2:I$6)*M4","v":0},{"$f":"SUM(J$2:J$6)*M4","v":0},null,"One edge","Ground floor",{"$f":"IF($C$3=\"Ground floor\",\"Suspended Floor\",IF($C$3=\"Single Storey\",\"Suspended Floor\",\"n/a\"))","v":"n/a"},null,16,0.1,0.2,2.5000000000000001E-2,3]
[null,"Outside Design Temp (°C)",null,{"$f":"'Design Details'!C19","v":-2.5},"Heat loss (W)",null,{"$f":"G4*G3*D6*G2","v":0},"Glazing",{"$f":"SUM(K38:K44,K46:K49,K51:K54)","v":0},{"$f":"SUM(L38:L44,L46:L49,L51:L54)","v":0},"Intermittent heating",null,0,{"$f":"SUM(I$2:I$6)*M5","v":0},{"$f":"SUM(J$2:J$6)*M5","v":0},null,"Two adjacent","Mid-floor",null,null,18,null,null,0.05,4]
[null,"Temp Difference (°C)",null,{"$f":"D4-D5","v":2.5},"Estimated Energy usage (kWh)",null,{"$f":"G4*G3*D7*24/1000","v":0},"Int./Party Wall",{"$f":"SUM(K56:K59,K61)","v":0},{"$f":"SUM(L61)","v":0},null,null,null,"Total Room Heat Loss (W)",{"$f":"SUM(G5,I2:I6,N2:N5)","v":0},null,"Two opposite","Single storey",null,null,21,null,null,7.4999999999999997E-2,5]
[null,"Degree Days",null,{"$f":"'Design Details'!C20","v":2228},null,null,null,null,null,null,null,null,null,"Total Room Energy Usage (kWh)",{"$f":"SUM(G6,J2:J6,O2:O5)","v":0},null,null,"Upper floor",null,null,22,null,null,0.1,6]
[null,null,null,null,null,null,null,null,null,null,null,null,null,null,null,null,null,{"$f":"IF($C$3=\"Ground floor\",'Design Details'!C$45,IF($C$3=\"Mid-floor\",'Design Details'!C$55,IF($C$3=\"Upper floor\",'Design Details'!C$65,IF($C$3=\"Single Storey\",'Design Details'!C$75,0))))","v":0},null,null,null,null,null,null,7]
[null,"Room Dimensions",null,null,null,null,null,null,null,null,null,null,null,null,null,null,null,null,null,null,null,null,null,null,8]
[null,"Length (m)",null,"Width (m)",null,"Height (m)",null,"Volume (m³)",{"$f":"C10*E10*G10","v":0},null,null,null,null,null,null,null,null,null,null,null,null,null,null,null,9]
[null,"Length (m)",null,"Width (m)",null,"Height (m)",null,"Volume (m³)",{"$f":"C11*E11*G11","v":0},null,null,null,null,null,null,null,null,null,null,null,null,null,null,null,10]
[null,"Length (m)",null,"Width (m)",null,"Height (m)",null,"Volume (m³)",{"$f":"C12*E12*G12","v":0}]
[null,"Awkward Room Dimensions"]
[null,"Length (m)",null,"Width (m)",null,"Height (m)",null,"Volume (m³)",{"$f":"((G14*E14)/2)*C14","v":0},"Pitched"]
[null,"Length (m)",null,"Width (m)",null,"Height (m)",null,"Volume (m³)",{"$f":"C15*E15*G15/2","v":0},"Single Pitch"]
[null,"Length (m)",null,"Height (m)",null,"Depth (m)",null,"Volume (m³)",{"$f":"E16*G16*C16/2","v":0},"Dormer 1"]
[null,"Length (m)",null,"Height (m)",null,"Depth (m)",null,"Volume (m³)",{"$f":"E17*G17*C17/2","v":0},"Dormer 2"]
[null,"Length (m)",null,"Height (m)",null,"Depth (m)",null,"Volume (m³)",{"$f":"E18*G18*C18/2","v":0},"Dormer 3"]
[null,"Floor",null,null,null,null,null,null,null,"Temp Difference","Heat Loss (W)","Usage (kWh)",{"$f":"IF($C$3=\"Ground Floor\",\"Select type of Ground Floor\",IF($C$3=\"Single Storey\",\"Select type of Ground Floor\",\"#N/A\"))","v":"#N/A"}]
[null,{"$f":"B10","v":"Length (m)"},null,{"$f":"D10","v":"Width (m)"},null,"Area (m²)",{"$f":"C20*E20","v":0},"U Value (W/m²K)",{"$f":"IF(M22=\"\",R8,'floor u values'!K27)","v":0},{"$f":"IF(C$3=\"Ground Floor\",IF(M20=\"Solid Floor (in contact with ground)\",D$4-T$3,D$4-D$5),IF(C$3=\"Single Storey\",IF(M20=\"Solid Floor (in contact with ground)\",D$4-T$3,D$4-D$5),0))","v":0},{"$f":"G20*I20*J20","v":0},{"$f":"IF($C$3=$R$5,0,IF($C$3=$R$7,0,G20*I20*$D$7*24/1000))","v":0},"n/a"]
[null,"Length (m)",null,"Width (m)",null,"Area (m²)",{"$f":"C21*E21","v":0},"U Value (W/m²K)",{"$f":"I20","v":0},{"$f":"IF(C$3=\"Ground Floor\",IF(M20=\"Solid Floor (in contact with ground)\",D$4-T$3,D$4-D$5),IF(C$3=\"Single Storey\",IF(M20=\"Solid Floor (in contact with ground)\",D$4-T$3,D$4-D$5),0))","v":0},{"$f":"G21*I21*J21","v":0},{"$f":"IF($C$3=$R$5,0,IF($C$3=$R$7,0,G21*I21*$D$7*24/1000))","v":0},"Exposed floor (external)"]
[null,"Length (m)",null,"Width (m)",null,"Area (m²)",0,"U Value (W/m²K)",{"$f":"I20","v":0},{"$f":"IF(C$3=\"Ground Floor\",IF(M20=\"Solid Floor (in contact with ground)\",D$4-T$3,D$4-D$5),IF(C$3=\"Single Storey\",IF(M20=\"Solid Floor (in contact with ground)\",D$4-T$3,D$4-D$5),0))","v":0},{"$f":"G22*I22*J22","v":0},{"$f":"IF($C$3=$R$5,0,IF($C$3=$R$7,0,G22*I22*$D$7*24/1000))","v":0}]
[null,"External Wall",null,null,null,null,null,null,null,null,null,null,{"$f":"IF(M22=\"Two opposite\",\"Between edges\",IF(M22=\"One edge\",\"Depth of room\",IF(M22=\"3 edges (short single)\",\"Short length\",IF(M22=\"3 edges (long single)\",\"Short length\",\"\"))))","v":""},null,{"$f":"IF(M22=\"3 edges (short single)\",\"Long length\",IF(M22=\"3 edges (long single)\",\"Long length\",\"\"))","v":""}]
[null,"Length (m)",null,"Height (m)",null,"Area (m²)",0]
[null,"Length (m)",null,"Height (m)",null,"Area (m²)",0]
[null,"Length (m)",null,"Height (m)",null,"Area (m²)",0]
[null,null,null,null,"Total","Area (m²)",{"$f":"SUM(G24:G26)-SUM(G38:G44,G51:G54)","v":0},"U Value (W/m²K)",{"$f":"IF($C$3=\"Ground floor\",'Design Details'!C$48,IF($C$3=\"Mid-floor\",'Design Details'!C$58,IF($C$3=\"Upper floor\",'Design Details'!C$68,IF($C$3=\"Single Storey\",'Design Details'!C$78,0))))","v":0},{"$f":"$D$6","v":2.5},{"$f":"G27*I27*J27","v":0},{"$f":"G27*I27*$D$7*24/1000","v":0}]
[null,"Ceiling (Flat)"]
[null,"Length (m)",null,"Width (m)",null,"Area (m²)",0]
[null,"Length (m)",null,"Width (m)",null,"Area (m²)",0]
[null,"Length (m)",null,"Width (m)",null,"Area (m²)",0,null,null,null,null,null,"Select Temp/Type of Space Above"]
[null,null,null,null,"Total","Area (m²)",{"$f":"SUM(G29:G31)-SUM(G46:G49)","v":0},"U Value (W/m²K)",{"$f":"IF($C$3=\"Ground floor\",'Design Details'!C$49,IF($C$3=\"Mid-floor\",'Design Details'!C$59,IF($C$3=\"Upper floor\",INDIRECT(T52),IF($C$3=\"Single Storey\",INDIRECT(T53),0))))","v":0},{"$f":"U51","v":0},{"$f":"G32*I32*J32","v":0},{"$f":"IF($C$3=$R$4,0,IF($C$3=$R$5,0,G32*I32*$D$7*24/1000))","v":0},"Select..."]
[null,"Ceiling (Awkward)"]
[null,"Length (m)",{"$f":"C14*2","v":0},"Pitch (m)",{"$f":"SQRT(POWER(E14,2)+POWER(G14,2))","v":0},"Area (m²)",{"$f":"C34*E34","v":0},"Pitched"]
[null,"Length (m)",{"$f":"C15","v":0},"Pitch (m)",{"$f":"SQRT(POWER(E15,2)+POWER(G15,2))","v":0},"Area (m²)",0,"Single Pitch"]
[null,null,null,null,"Total","Area (m²)",{"$f":"SUM(G34:G35)-SUM(G46:G49)","v":0},"U Value (W/m²K)",{"$f":"IF($C$3=\"Ground floor\",'Design Details'!C$50,IF($C$3=\"Mid-floor\",'Design Details'!C$60,IF($C$3=\"Upper floor\",'Design Details'!C$70,IF($C$3=\"Single Storey\",'Design Details'!C$80,0))))","v":0},{"$f":"$D$6","v":2.5},0,{"$f":"IF($C$3=$R$4,0,IF($C$3=$R$5,0,G36*I36*$D$7*24/1000))","v":0}]
[null,"Windows"]
[null,"Width (m)",null,"Height (m)",null,"Area (m²)",0,"U Value (W/m²K)",{"$f":"IF($C$3=\"Ground floor\",'Design Details'!C$46,IF($C$3=\"Mid-floor\",'Design Details'!C$56,IF($C$3=\"Upper floor\",'Design Details'!C$66,IF($C$3=\"Single Storey\",'Design Details'!C$76,0))))","v":0},2.5,0,{"$f":"G38*I38*$D$7*24/1000","v":0}]
[null,"Width (m)",null,"Height (m)",null,"Area (m²)",0,"U Value (W/m²K)",{"$f":"IF($C$3=\"Ground floor\",'Design Details'!C$46,IF($C$3=\"Mid-floor\",'Design Details'!C$56,IF($C$3=\"Upper floor\",'Design Details'!C$66,IF($C$3=\"Single Storey\",'Design Details'!C$76,0))))","v":0},2.5,0,0]
[null,"Width (m)",null,"Height (m)",null,"Area (m²)",0,"U Value (W/m²K)",{"$f":"IF($C$3=\"Ground floor\",'Design Details'!C$46,IF($C$3=\"Mid-floor\",'Design Details'!C$56,IF($C$3=\"Upper floor\",'Design Details'!C$66,IF($C$3=\"Single Storey\",'Design Details'!C$76,0))))","v":0},2.5,0,0]
[null,"Width (m)",null,"Height (m)",null,"Area (m²)",0,"U Value (W/m²K)",{"$f":"IF($C$3=\"Ground floor\",'Design Details'!C$46,IF($C$3=\"Mid-floor\",'Design Details'!C$56,IF($C$3=\"Upper floor\",'Design Details'!C$66,IF($C$3=\"Single Storey\",'Design Details'!C$76,0))))","v":0},2.5,0,0]
[null,"Width (m)",null,"Height (m)",null,"Area (m²)",0,"U Value (W/m²K)",{"$f":"IF($C$3=\"Ground floor\",'Design Details'!C$46,IF($C$3=\"Mid-floor\",'Design Details'!C$56,IF($C$3=\"Upper floor\",'Design Details'!C$66,IF($C$3=\"Single Storey\",'Design Details'!C$76,0))))","v":0},2.5,0,0]
[null,"Width (m)",null,"Height (m)",null,"Area (m²)",0,"U Value (W/m²K)",{"$f":"IF($C$3=\"Ground floor\",'Design Details'!C$46,IF($C$3=\"Mid-floor\",'Design Details'!C$56,IF($C$3=\"Upper floor\",'Design Details'!C$66,IF($C$3=\"Single Storey\",'Design Details'!C$76,0))))","v":0},2.5,0,0]
[null,"Width (m)",null,"Height (m)",null,"Area (m²)",0,"U Value (W/m²K)",{"$f":"IF($C$3=\"Ground floor\",'Design Details'!C$46,IF($C$3=\"Mid-floor\",'Design Details'!C$56,IF($C$3=\"Upper floor\",'Design Details'!C$66,IF($C$3=\"Single Storey\",'Design Details'!C$76,0))))","v":0},2.5,0,0]
[null,"Roof Glazing",null,null,null,null,null,null,null,null,null,null,null,null,null,null,"Options for upper floor or single storey","Options for Ground or Mid Floor","Drop-Down List","U-Value Selector","Temp Diff Selector"]
[null,"Width (m)",null,"Height (m)",null,"Area (m²)",0,"U Value (W/m²K)",{"$f":"IF($C$3=\"Ground floor\",'Design Details'!C$53,IF($C$3=\"Mid-floor\",'Design Details'!C$63,IF($C$3=\"Upper floor\",'Design Details'!C$73,IF($C$3=\"Single Storey\",'Design Details'!C$83,0))))","v":0},2.5,0,{"$f":"G46*I46*$D$7*24/1000","v":0}]
[null,"Width (m)",null,"Height (m)",null,"Area (m²)",0,"U Value (W/m²K)",{"$f":"IF($C$3=\"Ground floor\",'Design Details'!C$53,IF($C$3=\"Mid-floor\",'Design Details'!C$63,IF($C$3=\"Upper floor\",'Design Details'!C$73,IF($C$3=\"Single Storey\",'Design Details'!C$83,0))))","v":0},2.5,0,{"$f":"G47*I47*$D$7*24/1000","v":0}]
[null,"Width (m)",null,"Height (m)",null,"Area (m²)",0,"U Value (W/m²K)",{"$f":"IF($C$3=\"Ground floor\",'Design Details'!C$53,IF($C$3=\"Mid-floor\",'Design Details'!C$63,IF($C$3=\"Upper floor\",'Design Details'!C$73,IF($C$3=\"Single Storey\",'Design Details'!C$83,0))))","v":0},2.5,0,{"$f":"G48*I48*$D$7*24/1000","v":0}]
[null,"Width (m)",null,"Height (m)",null,"Area (m²)",0,"U Value (W/m²K)",{"$f":"IF($C$3=\"Ground floor\",'Design Details'!C$53,IF($C$3=\"Mid-floor\",'Design Details'!C$63,IF($C$3=\"Upper floor\",'Design Details'!C$73,IF($C$3=\"Single Storey\",'Design Details'!C$83,0))))","v":0},2.5,0,{"$f":"G49*I49*$D$7*24/1000","v":0}]
[null,"External Doors",null,null,null,null,null,null,null,null,null,null,null,null,null,null,null,null,"Select..."]
[null,"Width (m)",null,"Height (m)",null,"Area (m²)",0,"U Value (W/m²K)",{"$f":"IF($C$3=\"Ground floor\",'Design Details'!C$47,IF($C$3=\"Mid-floor\",'Design Details'!C$57,IF($C$3=\"Upper floor\",'Design Details'!C$67,IF($C$3=\"Single Storey\",'Design Details'!C$77,0))))","v":0},2.5,0,{"$f":"G51*I51*$D$7*24/1000","v":0},null,null,null,null,"Outside","Unheated",{"$f":"IF(OR($C$3=\"Ground Floor\",$C$3=\"Mid-floor\"),R51,Q51)","v":"Outside"},{"$f":"IF(M32=\"Unheated\",1,0)","v":0},{"$f":"IF(M32=\"Select...\",0,(IF(M32=\"Outside\",D6,IF(M32=\"Unheated\",D4-10,D4-M32))))","v":0}]
[null,"Width (m)",null,"Height (m)",null,"Area (m²)",0,"U Value (W/m²K)",{"$f":"IF($C$3=\"Ground floor\",'Design Details'!C$47,IF($C$3=\"Mid-floor\",'Design Details'!C$57,IF($C$3=\"Upper floor\",'Design Details'!C$67,IF($C$3=\"Single Storey\",'Design Details'!C$77,0))))","v":0},2.5,0,{"$f":"G52*I52*$D$7*24/1000","v":0},null,null,null,null,"Unheated","16",{"$f":"IF(OR($C$3=\"Ground Floor\",$C$3=\"Mid-floor\"),R52,Q52)","v":"Unheated"},{"$f":"\"'Design Details'!C$\"&69+T51","v":"'Design Details'!C$69"}]
[null,"Width (m)",null,"Height (m)",null,"Area (m²)",0,"U Value (W/m²K)",{"$f":"IF($C$3=\"Ground floor\",'Design Details'!C$47,IF($C$3=\"Mid-floor\",'Design Details'!C$57,IF($C$3=\"Upper floor\",'Design Details'!C$67,IF($C$3=\"Single Storey\",'Design Details'!C$77,0))))","v":0},2.5,0,{"$f":"G53*I53*$D$7*24/1000","v":0},null,null,null,null,null,"18",{"$f":"IF(OR($C$3=\"Ground Floor\",$C$3=\"Mid-floor\"),R53,Q53)","v":0},{"$f":"\"'Design Details'!C$\"&79+T51","v":"'Design Details'!C$79"}]
[null,"Width (m)",null,"Height (m)",null,"Area (m²)",0,"U Value (W/m²K)",{"$f":"IF($C$3=\"Ground floor\",'Design Details'!C$47,IF($C$3=\"Mid-floor\",'Design Details'!C$57,IF($C$3=\"Upper floor\",'Design Details'!C$67,IF($C$3=\"Single Storey\",'Design Details'!C$77,0))))","v":0},2.5,0,{"$f":"G54*I54*$D$7*24/1000","v":0},null,null,null,null,null,"21",{"$f":"IF(OR($C$3=\"Ground Floor\",$C$3=\"Mid-floor\"),R54,Q54)","v":0}]
[null,"Internal Walls",null,null,null,null,null,null,null,null,null,null,"Adjoining Room Temp (°C)",null,null,null,null,22,{"$f":"IF(OR($C$3=\"Ground Floor\",$C$3=\"Mid-floor\"),R55,Q37)","v":0}]
[null,"Length (m)",null,"Height (m)",null,"Area (m²)",0,"U Value (W/m²K)",{"$f":"IF($C$3=\"Ground floor\",'Design Details'!C$51,IF($C$3=\"Mid-floor\",'Design Details'!C$61,IF($C$3=\"Upper floor\",'Design Details'!C$71,IF($C$3=\"Single Storey\",'Design Details'!C$81,0))))","v":0},{"$f":"IF(M56=\"\",0,IF(M56=\"unheated\",D$4-10,D$4-M56))","v":0},0]
[null,"Length (m)",null,"Height (m)",null,"Area (m²)",0,"U Value (W/m²K)",{"$f":"IF($C$3=\"Ground floor\",'Design Details'!C$51,IF($C$3=\"Mid-floor\",'Design Details'!C$61,IF($C$3=\"Upper floor\",'Design Details'!C$71,IF($C$3=\"Single Storey\",'Design Details'!C$81,0))))","v":0},{"$f":"IF(M57=\"\",0,IF(M57=\"unheated\",D$4-10,D$4-M57))","v":0},0]
[null,"Length (m)",null,"Height (m)",null,"Area (m²)",0,"U Value (W/m²K)",{"$f":"IF($C$3=\"Ground floor\",'Design Details'!C$51,IF($C$3=\"Mid-floor\",'Design Details'!C$61,IF($C$3=\"Upper floor\",'Design Details'!C$71,IF($C$3=\"Single Storey\",'Design Details'!C$81,0))))","v":0},{"$f":"IF(M58=\"\",0,IF(M58=\"unheated\",D$4-10,D$4-M58))","v":0},0]
[null,"Length (m)",null,"Height (m)",null,"Area (m²)",0,"U Value (W/m²K)",{"$f":"IF($C$3=\"Ground floor\",'Design Details'!C$51,IF($C$3=\"Mid-floor\",'Design Details'!C$61,IF($C$3=\"Upper floor\",'Design Details'!C$71,IF($C$3=\"Single Storey\",'Design Details'!C$81,0))))","v":0},{"$f":"IF(M59=\"\",0,IF(M59=\"unheated\",D$4-10,D$4-M59))","v":0},0]
[null,"Party Wall"]
[null,"Length (m)",null,"Height (m)",null,"Area (m²)",0,"U Value (W/m²K)",{"$f":"IF($C$3=\"Ground floor\",'Design Details'!C$52,IF($C$3=\"Mid-floor\",'Design Details'!C$62,IF($C$3=\"Upper floor\",'Design Details'!C$72,IF($C$3=\"Single Storey\",'Design Details'!C$82,0))))","v":0},{"$f":"D4-10","v":-10},0,{"$f":"G61*I61*$D$7*24/1000","v":0}]

{"sheet":"27","index":42,"n_rows":61,"n_cols":25,"rows_kept":61,"cut":false,"hidden":false,"merged":[[58,12,58,14],[44,19,48,19],[44,20,48,20],[54,12,54,14],[55,12,55,14],[56,12,56,14],[57,12,57,14],[44,18,48,18],[21,12,21,14],[30,12,30,14],[31,12,31,14],[44,16,48,16],[44,17,48,17],[20,12,20,14],[3,1,3,2],[3,4,3,5],[4,1,4,2],[4,4,4,5],[5,1,5,2],[5,4,5,5],[6,1,6,2],[9,11,9,14],[10,11,10,14],[18,12,18,14],[19,12,19,14],[0,1,0,3],[0,4,0,6],[0,10,0,11],[1,4,1,5],[2,2,2,3],[2,4,2,5]]}
[null,"Room Information",null,null,"Ventilation Heat Loss",null,null,"Fabric ","Heat Loss (W)"," Usage (kWh)","Additional heat loss",null,"Addition","Watts","kWh"]
[null,"Room",null,null,"Air Changes per hour",null,{"$f":"'Design Details'!G113","v":0},"Floor",{"$f":"SUM(K20:K22)","v":0},{"$f":"SUM(L20:L22)","v":0},"Thermal Bridging (New Build >2006)",null,0,{"$f":"SUM(I$2:I$6)*M2","v":0},{"$f":"SUM(J$2:J$6)*M2","v":0},null,"3 edges (long single)","Level",null,null,null,null,null,null,1]
[null,"Level",null,null,"Air Change Factor (W/m³K)",null,0.33,"Ext Wall",{"$f":"K27","v":0},{"$f":"L27","v":0},"Exposed location",null,0,{"$f":"SUM(I$2:I$6)*M3","v":0},{"$f":"SUM(J$2:J$6)*M3","v":0},null,"3 edges (short single)","Please Select Floor",{"$f":"IF($C$3=\"Ground floor\",\"Solid Floor (in contact with ground)\",IF($C$3=\"Single Storey\",\"Solid Floor (in contact with ground)\",\"n/a\"))","v":"n/a"},{"$f":"'Design Details'!C21","v":10},"unheated",0,0,0,2]
[null,"Design Room Temp (°C)",null,{"$f":"'Design Details'!E113","v":0},"Total Volume (m³)",null,{"$f":"SUM(I10:I12,I14:I18)","v":0},"Roof",{"$f":"SUM(K32,K36)","v":0},{"$f":"SUM(L32,L36)","v":0},"High ceiling",null,0,{"$f":"SUM(I$2:I$6)*M4","v":0},{"$f":"SUM(J$2:J$6)*M4","v":0},null,"One edge","Ground floor",{"$f":"IF($C$3=\"Ground floor\",\"Suspended Floor\",IF($C$3=\"Single Storey\",\"Suspended Floor\",\"n/a\"))","v":"n/a"},null,16,0.1,0.2,2.5000000000000001E-2,3]
[null,"Outside Design Temp (°C)",null,{"$f":"'Design Details'!C19","v":-2.5},"Heat loss (W)",null,{"$f":"G4*G3*D6*G2","v":0},"Glazing",{"$f":"SUM(K38:K44,K46:K49,K51:K54)","v":0},{"$f":"SUM(L38:L44,L46:L49,L51:L54)","v":0},"Intermittent heating",null,0,{"$f":"SUM(I$2:I$6)*M5","v":0},{"$f":"SUM(J$2:J$6)*M5","v":0},null,"Two adjacent","Mid-floor",null,null,18,null,null,0.05,4]
[null,"Temp Difference (°C)",null,{"$f":"D4-D5","v":2.5},"Estimated Energy usage (kWh)",null,{"$f":"G4*G3*D7*24/1000","v":0},"Int./Party Wall",{"$f":"SUM(K56:K59,K61)","v":0},{"$f":"SUM(L61)","v":0},null,null,null,"Total Room Heat Loss (W)",{"$f":"SUM(G5,I2:I6,N2:N5)","v":0},null,"Two opposite","Single storey",null,null,21,null,null,7.4999999999999997E-2,5]
[null,"Degree Days",null,{"$f":"'Design Details'!C20","v":2228},null,null,null,null,null,null,null,null,null,"Total Room Energy Usage (kWh)",{"$f":"SUM(G6,J2:J6,O2:O5)","v":0},null,null,"Upper floor",null,null,22,null,null,0.1,6]
[null,null,null,null,null,null,null,null,null,null,null,null,null,null,null,null,null,{"$f":"IF($C$3=\"Ground floor\",'Design Details'!C$45,IF($C$3=\"Mid-floor\",'Design Details'!C$55,IF($C$3=\"Upper floor\",'Design Details'!C$65,IF($C$3=\"Single Storey\",'Design Details'!C$75,0))))","v":0},null,null,null,null,null,null,7]
[null,"Room Dimensions",null,null,null,null,null,null,null,null,null,null,null,null,null,null,null,null,null,null,null,null,null,null,8]
[null,"Length (m)",null,"Width (m)",null,"Height (m)",null,"Volume (m³)",{"$f":"C10*E10*G10","v":0},null,null,null,null,null,null,null,null,null,null,null,null,null,null,null,9]
[null,"Length (m)",null,"Width (m)",null,"Height (m)",null,"Volume (m³)",{"$f":"C11*E11*G11","v":0},null,null,null,null,null,null,null,null,null,null,null,null,null,null,null,10]
[null,"Length (m)",null,"Width (m)",null,"Height (m)",null,"Volume (m³)",{"$f":"C12*E12*G12","v":0}]
[null,"Awkward Room Dimensions"]
[null,"Length (m)",null,"Width (m)",null,"Height (m)",null,"Volume (m³)",{"$f":"((G14*E14)/2)*C14","v":0},"Pitched"]
[null,"Length (m)",null,"Width (m)",null,"Height (m)",null,"Volume (m³)",{"$f":"C15*E15*G15/2","v":0},"Single Pitch"]
[null,"Length (m)",null,"Height (m)",null,"Depth (m)",null,"Volume (m³)",{"$f":"E16*G16*C16/2","v":0},"Dormer 1"]
[null,"Length (m)",null,"Height (m)",null,"Depth (m)",null,"Volume (m³)",{"$f":"E17*G17*C17/2","v":0},"Dormer 2"]
[null,"Length (m)",null,"Height (m)",null,"Depth (m)",null,"Volume (m³)",{"$f":"E18*G18*C18/2","v":0},"Dormer 3"]
[null,"Floor",null,null,null,null,null,null,null,"Temp Difference","Heat Loss (W)","Usage (kWh)",{"$f":"IF($C$3=\"Ground Floor\",\"Select type of Ground Floor\",IF($C$3=\"Single Storey\",\"Select type of Ground Floor\",\"#N/A\"))","v":"#N/A"}]
[null,{"$f":"B10","v":"Length (m)"},null,{"$f":"D10","v":"Width (m)"},null,"Area (m²)",{"$f":"C20*E20","v":0},"U Value (W/m²K)",{"$f":"IF(M22=\"\",R8,'floor u values'!K28)","v":0},{"$f":"IF(C$3=\"Ground Floor\",IF(M20=\"Solid Floor (in contact with ground)\",D$4-T$3,D$4-D$5),IF(C$3=\"Single Storey\",IF(M20=\"Solid Floor (in contact with ground)\",D$4-T$3,D$4-D$5),0))","v":0},{"$f":"G20*I20*J20","v":0},{"$f":"IF($C$3=$R$5,0,IF($C$3=$R$7,0,G20*I20*$D$7*24/1000))","v":0},"n/a"]
[null,"Length (m)",null,"Width (m)",null,"Area (m²)",{"$f":"C21*E21","v":0},"U Value (W/m²K)",{"$f":"I20","v":0},{"$f":"IF(C$3=\"Ground Floor\",IF(M20=\"Solid Floor (in contact with ground)\",D$4-T$3,D$4-D$5),IF(C$3=\"Single Storey\",IF(M20=\"Solid Floor (in contact with ground)\",D$4-T$3,D$4-D$5),0))","v":0},{"$f":"G21*I21*J21","v":0},{"$f":"IF($C$3=$R$5,0,IF($C$3=$R$7,0,G21*I21*$D$7*24/1000))","v":0},"Exposed floor (external)"]
[null,"Length (m)",null,"Width (m)",null,"Area (m²)",0,"U Value (W/m²K)",{"$f":"I20","v":0},{"$f":"IF(C$3=\"Ground Floor\",IF(M20=\"Solid Floor (in contact with ground)\",D$4-T$3,D$4-D$5),IF(C$3=\"Single Storey\",IF(M20=\"Solid Floor (in contact with ground)\",D$4-T$3,D$4-D$5),0))","v":0},{"$f":"G22*I22*J22","v":0},{"$f":"IF($C$3=$R$5,0,IF($C$3=$R$7,0,G22*I22*$D$7*24/1000))","v":0}]
[null,"External Wall",null,null,null,null,null,null,null,null,null,null,{"$f":"IF(M22=\"Two opposite\",\"Between edges\",IF(M22=\"One edge\",\"Depth of room\",IF(M22=\"3 edges (short single)\",\"Short length\",IF(M22=\"3 edges (long single)\",\"Short length\",\"\"))))","v":""},null,{"$f":"IF(M22=\"3 edges (short single)\",\"Long length\",IF(M22=\"3 edges (long single)\",\"Long length\",\"\"))","v":""}]
[null,"Length (m)",null,"Height (m)",null,"Area (m²)",0]
[null,"Length (m)",null,"Height (m)",null,"Area (m²)",0]
[null,"Length (m)",null,"Height (m)",null,"Area (m²)",0]
[null,null,null,null,"Total","Area (m²)",{"$f":"SUM(G24:G26)-SUM(G38:G44,G51:G54)","v":0},"U Value (W/m²K)",{"$f":"IF($C$3=\"Ground floor\",'Design Details'!C$48,IF($C$3=\"Mid-floor\",'Design Details'!C$58,IF($C$3=\"Upper floor\",'Design Details'!C$68,IF($C$3=\"Single Storey\",'Design Details'!C$78,0))))","v":0},{"$f":"$D$6","v":2.5},{"$f":"G27*I27*J27","v":0},{"$f":"G27*I27*$D$7*24/1000","v":0}]
[null,"Ceiling (Flat)"]
[null,"Length (m)",null,"Width (m)",null,"Area (m²)",0]
[null,"Length (m)",null,"Width (m)",null,"Area (m²)",0]
[null,"Length (m)",null,"Width (m)",null,"Area (m²)",0,null,null,null,null,null,"Select Temp/Type of Space Above"]
[null,null,null,null,"Total","Area (m²)",{"$f":"SUM(G29:G31)-SUM(G46:G49)","v":0},"U Value (W/m²K)",{"$f":"IF($C$3=\"Ground floor\",'Design Details'!C$49,IF($C$3=\"Mid-floor\",'Design Details'!C$59,IF($C$3=\"Upper floor\",INDIRECT(T52),IF($C$3=\"Single Storey\",INDIRECT(T53),0))))","v":0},{"$f":"U51","v":0},{"$f":"G32*I32*J32","v":0},{"$f":"IF($C$3=$R$4,0,IF($C$3=$R$5,0,G32*I32*$D$7*24/1000))","v":0},"Select..."]
[null,"Ceiling (Awkward)"]
[null,"Length (m)",{"$f":"C14*2","v":0},"Pitch (m)",{"$f":"SQRT(POWER(E14,2)+POWER(G14,2))","v":0},"Area (m²)",{"$f":"C34*E34","v":0},"Pitched"]
[null,"Length (m)",{"$f":"C15","v":0},"Pitch (m)",{"$f":"SQRT(POWER(E15,2)+POWER(G15,2))","v":0},"Area (m²)",0,"Single Pitch"]
[null,null,null,null,"Total","Area (m²)",{"$f":"SUM(G34:G35)-SUM(G46:G49)","v":0},"U Value (W/m²K)",{"$f":"IF($C$3=\"Ground floor\",'Design Details'!C$50,IF($C$3=\"Mid-floor\",'Design Details'!C$60,IF($C$3=\"Upper floor\",'Design Details'!C$70,IF($C$3=\"Single Storey\",'Design Details'!C$80,0))))","v":0},{"$f":"$D$6","v":2.5},0,{"$f":"IF($C$3=$R$4,0,IF($C$3=$R$5,0,G36*I36*$D$7*24/1000))","v":0}]
[null,"Windows"]
[null,"Width (m)",null,"Height (m)",null,"Area (m²)",0,"U Value (W/m²K)",{"$f":"IF($C$3=\"Ground floor\",'Design Details'!C$46,IF($C$3=\"Mid-floor\",'Design Details'!C$56,IF($C$3=\"Upper floor\",'Design Details'!C$66,IF($C$3=\"Single Storey\",'Design Details'!C$76,0))))","v":0},2.5,0,{"$f":"G38*I38*$D$7*24/1000","v":0}]
[null,"Width (m)",null,"Height (m)",null,"Area (m²)",0,"U Value (W/m²K)",{"$f":"IF($C$3=\"Ground floor\",'Design Details'!C$46,IF($C$3=\"Mid-floor\",'Design Details'!C$56,IF($C$3=\"Upper floor\",'Design Details'!C$66,IF($C$3=\"Single Storey\",'Design Details'!C$76,0))))","v":0},2.5,0,0]
[null,"Width (m)",null,"Height (m)",null,"Area (m²)",0,"U Value (W/m²K)",{"$f":"IF($C$3=\"Ground floor\",'Design Details'!C$46,IF($C$3=\"Mid-floor\",'Design Details'!C$56,IF($C$3=\"Upper floor\",'Design Details'!C$66,IF($C$3=\"Single Storey\",'Design Details'!C$76,0))))","v":0},2.5,0,0]
[null,"Width (m)",null,"Height (m)",null,"Area (m²)",0,"U Value (W/m²K)",{"$f":"IF($C$3=\"Ground floor\",'Design Details'!C$46,IF($C$3=\"Mid-floor\",'Design Details'!C$56,IF($C$3=\"Upper floor\",'Design Details'!C$66,IF($C$3=\"Single Storey\",'Design Details'!C$76,0))))","v":0},2.5,0,0]
[null,"Width (m)",null,"Height (m)",null,"Area (m²)",0,"U Value (W/m²K)",{"$f":"IF($C$3=\"Ground floor\",'Design Details'!C$46,IF($C$3=\"Mid-floor\",'Design Details'!C$56,IF($C$3=\"Upper floor\",'Design Details'!C$66,IF($C$3=\"Single Storey\",'Design Details'!C$76,0))))","v":0},2.5,0,0]
[null,"Width (m)",null,"Height (m)",null,"Area (m²)",0,"U Value (W/m²K)",{"$f":"IF($C$3=\"Ground floor\",'Design Details'!C$46,IF($C$3=\"Mid-floor\",'Design Details'!C$56,IF($C$3=\"Upper floor\",'Design Details'!C$66,IF($C$3=\"Single Storey\",'Design Details'!C$76,0))))","v":0},2.5,0,0]
[null,"Width (m)",null,"Height (m)",null,"Area (m²)",0,"U Value (W/m²K)",{"$f":"IF($C$3=\"Ground floor\",'Design Details'!C$46,IF($C$3=\"Mid-floor\",'Design Details'!C$56,IF($C$3=\"Upper floor\",'Design Details'!C$66,IF($C$3=\"Single Storey\",'Design Details'!C$76,0))))","v":0},2.5,0,0]
[null,"Roof Glazing",null,null,null,null,null,null,null,null,null,null,null,null,null,null,"Options for upper floor or single storey","Options for Ground or Mid Floor","Drop-Down List","U-Value Selector","Temp Diff Selector"]
[null,"Width (m)",null,"Height (m)",null,"Area (m²)",0,"U Value (W/m²K)",{"$f":"IF($C$3=\"Ground floor\",'Design Details'!C$53,IF($C$3=\"Mid-floor\",'Design Details'!C$63,IF($C$3=\"Upper floor\",'Design Details'!C$73,IF($C$3=\"Single Storey\",'Design Details'!C$83,0))))","v":0},2.5,0,{"$f":"G46*I46*$D$7*24/1000","v":0}]
[null,"Width (m)",null,"Height (m)",null,"Area (m²)",0,"U Value (W/m²K)",{"$f":"IF($C$3=\"Ground floor\",'Design Details'!C$53,IF($C$3=\"Mid-floor\",'Design Details'!C$63,IF($C$3=\"Upper floor\",'Design Details'!C$73,IF($C$3=\"Single Storey\",'Design Details'!C$83,0))))","v":0},2.5,0,{"$f":"G47*I47*$D$7*24/1000","v":0}]
[null,"Width (m)",null,"Height (m)",null,"Area (m²)",0,"U Value (W/m²K)",{"$f":"IF($C$3=\"Ground floor\",'Design Details'!C$53,IF($C$3=\"Mid-floor\",'Design Details'!C$63,IF($C$3=\"Upper floor\",'Design Details'!C$73,IF($C$3=\"Single Storey\",'Design Details'!C$83,0))))","v":0},2.5,0,{"$f":"G48*I48*$D$7*24/1000","v":0}]
[null,"Width (m)",null,"Height (m)",null,"Area (m²)",0,"U Value (W/m²K)",{"$f":"IF($C$3=\"Ground floor\",'Design Details'!C$53,IF($C$3=\"Mid-floor\",'Design Details'!C$63,IF($C$3=\"Upper floor\",'Design Details'!C$73,IF($C$3=\"Single Storey\",'Design Details'!C$83,0))))","v":0},2.5,0,{"$f":"G49*I49*$D$7*24/1000","v":0}]
[null,"External Doors",null,null,null,null,null,null,null,null,null,null,null,null,null,null,null,null,"Select..."]
[null,"Width (m)",null,"Height (m)",null,"Area (m²)",0,"U Value (W/m²K)",{"$f":"IF($C$3=\"Ground floor\",'Design Details'!C$47,IF($C$3=\"Mid-floor\",'Design Details'!C$57,IF($C$3=\"Upper floor\",'Design Details'!C$67,IF($C$3=\"Single Storey\",'Design Details'!C$77,0))))","v":0},2.5,0,{"$f":"G51*I51*$D$7*24/1000","v":0},null,null,null,null,"Outside","Unheated",{"$f":"IF(OR($C$3=\"Ground Floor\",$C$3=\"Mid-floor\"),R51,Q51)","v":"Outside"},{"$f":"IF(M32=\"Unheated\",1,0)","v":0},{"$f":"IF(M32=\"Select...\",0,(IF(M32=\"Outside\",D6,IF(M32=\"Unheated\",D4-10,D4-M32))))","v":0}]
[null,"Width (m)",null,"Height (m)",null,"Area (m²)",0,"U Value (W/m²K)",{"$f":"IF($C$3=\"Ground floor\",'Design Details'!C$47,IF($C$3=\"Mid-floor\",'Design Details'!C$57,IF($C$3=\"Upper floor\",'Design Details'!C$67,IF($C$3=\"Single Storey\",'Design Details'!C$77,0))))","v":0},2.5,0,{"$f":"G52*I52*$D$7*24/1000","v":0},null,null,null,null,"Unheated","16",{"$f":"IF(OR($C$3=\"Ground Floor\",$C$3=\"Mid-floor\"),R52,Q52)","v":"Unheated"},{"$f":"\"'Design Details'!C$\"&69+T51","v":"'Design Details'!C$69"}]
[null,"Width (m)",null,"Height (m)",null,"Area (m²)",0,"U Value (W/m²K)",{"$f":"IF($C$3=\"Ground floor\",'Design Details'!C$47,IF($C$3=\"Mid-floor\",'Design Details'!C$57,IF($C$3=\"Upper floor\",'Design Details'!C$67,IF($C$3=\"Single Storey\",'Design Details'!C$77,0))))","v":0},2.5,0,{"$f":"G53*I53*$D$7*24/1000","v":0},null,null,null,null,null,"18",{"$f":"IF(OR($C$3=\"Ground Floor\",$C$3=\"Mid-floor\"),R53,Q53)","v":0},{"$f":"\"'Design Details'!C$\"&79+T51","v":"'Design Details'!C$79"}]
[null,"Width (m)",null,"Height (m)",null,"Area (m²)",0,"U Value (W/m²K)",{"$f":"IF($C$3=\"Ground floor\",'Design Details'!C$47,IF($C$3=\"Mid-floor\",'Design Details'!C$57,IF($C$3=\"Upper floor\",'Design Details'!C$67,IF($C$3=\"Single Storey\",'Design Details'!C$77,0))))","v":0},2.5,0,{"$f":"G54*I54*$D$7*24/1000","v":0},null,null,null,null,null,"21",{"$f":"IF(OR($C$3=\"Ground Floor\",$C$3=\"Mid-floor\"),R54,Q54)","v":0}]
[null,"Internal Walls",null,null,null,null,null,null,null,null,null,null,"Adjoining Room Temp (°C)",null,null,null,null,22,{"$f":"IF(OR($C$3=\"Ground Floor\",$C$3=\"Mid-floor\"),R55,Q37)","v":0}]
[null,"Length (m)",null,"Height (m)",null,"Area (m²)",0,"U Value (W/m²K)",{"$f":"IF($C$3=\"Ground floor\",'Design Details'!C$51,IF($C$3=\"Mid-floor\",'Design Details'!C$61,IF($C$3=\"Upper floor\",'Design Details'!C$71,IF($C$3=\"Single Storey\",'Design Details'!C$81,0))))","v":0},{"$f":"IF(M56=\"\",0,IF(M56=\"unheated\",D$4-10,D$4-M56))","v":0},0]
[null,"Length (m)",null,"Height (m)",null,"Area (m²)",0,"U Value (W/m²K)",{"$f":"IF($C$3=\"Ground floor\",'Design Details'!C$51,IF($C$3=\"Mid-floor\",'Design Details'!C$61,IF($C$3=\"Upper floor\",'Design Details'!C$71,IF($C$3=\"Single Storey\",'Design Details'!C$81,0))))","v":0},{"$f":"IF(M57=\"\",0,IF(M57=\"unheated\",D$4-10,D$4-M57))","v":0},0]
[null,"Length (m)",null,"Height (m)",null,"Area (m²)",0,"U Value (W/m²K)",{"$f":"IF($C$3=\"Ground floor\",'Design Details'!C$51,IF($C$3=\"Mid-floor\",'Design Details'!C$61,IF($C$3=\"Upper floor\",'Design Details'!C$71,IF($C$3=\"Single Storey\",'Design Details'!C$81,0))))","v":0},{"$f":"IF(M58=\"\",0,IF(M58=\"unheated\",D$4-10,D$4-M58))","v":0},0]
[null,"Length (m)",null,"Height (m)",null,"Area (m²)",0,"U Value (W/m²K)",{"$f":"IF($C$3=\"Ground floor\",'Design Details'!C$51,IF($C$3=\"Mid-floor\",'Design Details'!C$61,IF($C$3=\"Upper floor\",'Design Details'!C$71,IF($C$3=\"Single Storey\",'Design Details'!C$81,0))))","v":0},{"$f":"IF(M59=\"\",0,IF(M59=\"unheated\",D$4-10,D$4-M59))","v":0},0]
[null,"Party Wall"]
[null,"Length (m)",null,"Height (m)",null,"Area (m²)",0,"U Value (W/m²K)",{"$f":"IF($C$3=\"Ground floor\",'Design Details'!C$52,IF($C$3=\"Mid-floor\",'Design Details'!C$62,IF($C$3=\"Upper floor\",'Design Details'!C$72,IF($C$3=\"Single Storey\",'Design Details'!C$82,0))))","v":0},{"$f":"D4-10","v":-10},0,{"$f":"G61*I61*$D$7*24/1000","v":0}]

{"sheet":"28","index":43,"n_rows":61,"n_cols":25,"rows_kept":61,"cut":false,"hidden":false,"merged":[[58,12,58,14],[44,19,48,19],[44,20,48,20],[54,12,54,14],[55,12,55,14],[56,12,56,14],[57,12,57,14],[44,18,48,18],[21,12,21,14],[30,12,30,14],[31,12,31,14],[44,16,48,16],[44,17,48,17],[20,12,20,14],[3,1,3,2],[3,4,3,5],[4,1,4,2],[4,4,4,5],[5,1,5,2],[5,4,5,5],[6,1,6,2],[9,11,9,14],[10,11,10,14],[18,12,18,14],[19,12,19,14],[0,1,0,3],[0,4,0,6],[0,10,0,11],[1,4,1,5],[2,2,2,3],[2,4,2,5]]}
[null,"Room Information",null,null,"Ventilation Heat Loss",null,null,"Fabric ","Heat Loss (W)"," Usage (kWh)","Additional heat loss",null,"Addition","Watts","kWh"]
[null,"Room",null,null,"Air Changes per hour",null,{"$f":"'Design Details'!G114","v":0},"Floor",{"$f":"SUM(K20:K22)","v":0},{"$f":"SUM(L20:L22)","v":0},"Thermal Bridging (New Build >2006)",null,0,{"$f":"SUM(I$2:I$6)*M2","v":0},{"$f":"SUM(J$2:J$6)*M2","v":0},null,"3 edges (long single)","Level",null,null,null,null,null,null,1]
[null,"Level",null,null,"Air Change Factor (W/m³K)",null,0.33,"Ext Wall",{"$f":"K27","v":0},{"$f":"L27","v":0},"Exposed location",null,0,{"$f":"SUM(I$2:I$6)*M3","v":0},{"$f":"SUM(J$2:J$6)*M3","v":0},null,"3 edges (short single)","Please Select Floor",{"$f":"IF($C$3=\"Ground floor\",\"Solid Floor (in contact with ground)\",IF($C$3=\"Single Storey\",\"Solid Floor (in contact with ground)\",\"n/a\"))","v":"n/a"},{"$f":"'Design Details'!C21","v":10},"unheated",0,0,0,2]
[null,"Design Room Temp (°C)",null,{"$f":"'Design Details'!E114","v":0},"Total Volume (m³)",null,{"$f":"SUM(I10:I12,I14:I18)","v":0},"Roof",{"$f":"SUM(K32,K36)","v":0},{"$f":"SUM(L32,L36)","v":0},"High ceiling",null,0,{"$f":"SUM(I$2:I$6)*M4","v":0},{"$f":"SUM(J$2:J$6)*M4","v":0},null,"One edge","Ground floor",{"$f":"IF($C$3=\"Ground floor\",\"Suspended Floor\",IF($C$3=\"Single Storey\",\"Suspended Floor\",\"n/a\"))","v":"n/a"},null,16,0.1,0.2,2.5000000000000001E-2,3]
[null,"Outside Design Temp (°C)",null,{"$f":"'Design Details'!C19","v":-2.5},"Heat loss (W)",null,{"$f":"G4*G3*D6*G2","v":0},"Glazing",{"$f":"SUM(K38:K44,K46:K49,K51:K54)","v":0},{"$f":"SUM(L38:L44,L46:L49,L51:L54)","v":0},"Intermittent heating",null,0,{"$f":"SUM(I$2:I$6)*M5","v":0},{"$f":"SUM(J$2:J$6)*M5","v":0},null,"Two adjacent","Mid-floor",null,null,18,null,null,0.05,4]
[null,"Temp Difference (°C)",null,{"$f":"D4-D5","v":2.5},"Estimated Energy usage (kWh)",null,{"$f":"G4*G3*D7*24/1000","v":0},"Int./Party Wall",{"$f":"SUM(K56:K59,K61)","v":0},{"$f":"SUM(L61)","v":0},null,null,null,"Total Room Heat Loss (W)",{"$f":"SUM(G5,I2:I6,N2:N5)","v":0},null,"Two opposite","Single storey",null,null,21,null,null,7.4999999999999997E-2,5]
[null,"Degree Days",null,{"$f":"'Design Details'!C20","v":2228},null,null,null,null,null,null,null,null,null,"Total Room Energy Usage (kWh)",{"$f":"SUM(G6,J2:J6,O2:O5)","v":0},null,null,"Upper floor",null,null,22,null,null,0.1,6]
[null,null,null,null,null,null,null,null,null,null,null,null,null,null,null,null,null,{"$f":"IF($C$3=\"Ground floor\",'Design Details'!C$45,IF($C$3=\"Mid-floor\",'Design Details'!C$55,IF($C$3=\"Upper floor\",'Design Details'!C$65,IF($C$3=\"Single Storey\",'Design Details'!C$75,0))))","v":0},null,null,null,null,null,null,7]
[null,"Room Dimensions",null,null,null,null,null,null,null,null,null,null,null,null,null,null,null,null,null,null,null,null,null,null,8]
[null,"Length (m)",null,"Width (m)",null,"Height (m)",null,"Volume (m³)",{"$f":"C10*E10*G10","v":0},null,null,null,null,null,null,null,null,null,null,null,null,null,null,null,9]
[null,"Length (m)",null,"Width (m)",null,"Height (m)",null,"Volume (m³)",{"$f":"C11*E11*G11","v":0},null,null,null,null,null,null,null,null,null,null,null,null,null,null,null,10]
[null,"Length (m)",null,"Width (m)",null,"Height (m)",null,"Volume (m³)",{"$f":"C12*E12*G12","v":0}]
[null,"Awkward Room Dimensions"]
[null,"Length (m)",null,"Width (m)",null,"Height (m)",null,"Volume (m³)",{"$f":"((G14*E14)/2)*C14","v":0},"Pitched"]
[null,"Length (m)",null,"Width (m)",null,"Height (m)",null,"Volume (m³)",{"$f":"C15*E15*G15/2","v":0},"Single Pitch"]
[null,"Length (m)",null,"Height (m)",null,"Depth (m)",null,"Volume (m³)",{"$f":"E16*G16*C16/2","v":0},"Dormer 1"]
[null,"Length (m)",null,"Height (m)",null,"Depth (m)",null,"Volume (m³)",{"$f":"E17*G17*C17/2","v":0},"Dormer 2"]
[null,"Length (m)",null,"Height (m)",null,"Depth (m)",null,"Volume (m³)",{"$f":"E18*G18*C18/2","v":0},"Dormer 3"]
[null,"Floor",null,null,null,null,null,null,null,"Temp Difference","Heat Loss (W)","Usage (kWh)",{"$f":"IF($C$3=\"Ground Floor\",\"Select type of Ground Floor\",IF($C$3=\"Single Storey\",\"Select type of Ground Floor\",\"#N/A\"))","v":"#N/A"}]
[null,{"$f":"B10","v":"Length (m)"},null,{"$f":"D10","v":"Width (m)"},null,"Area (m²)",{"$f":"C20*E20","v":0},"U Value (W/m²K)",{"$f":"IF(M22=\"\",R8,'floor u values'!K29)","v":0},{"$f":"IF(C$3=\"Ground Floor\",IF(M20=\"Solid Floor (in contact with ground)\",D$4-T$3,D$4-D$5),IF(C$3=\"Single Storey\",IF(M20=\"Solid Floor (in contact with ground)\",D$4-T$3,D$4-D$5),0))","v":0},{"$f":"G20*I20*J20","v":0},{"$f":"IF($C$3=$R$5,0,IF($C$3=$R$7,0,G20*I20*$D$7*24/1000))","v":0},"n/a"]
[null,"Length (m)",null,"Width (m)",null,"Area (m²)",{"$f":"C21*E21","v":0},"U Value (W/m²K)",{"$f":"I20","v":0},{"$f":"IF(C$3=\"Ground Floor\",IF(M20=\"Solid Floor (in contact with ground)\",D$4-T$3,D$4-D$5),IF(C$3=\"Single Storey\",IF(M20=\"Solid Floor (in contact with ground)\",D$4-T$3,D$4-D$5),0))","v":0},{"$f":"G21*I21*J21","v":0},{"$f":"IF($C$3=$R$5,0,IF($C$3=$R$7,0,G21*I21*$D$7*24/1000))","v":0},"Exposed floor (external)"]
[null,"Length (m)",null,"Width (m)",null,"Area (m²)",0,"U Value (W/m²K)",{"$f":"I20","v":0},{"$f":"IF(C$3=\"Ground Floor\",IF(M20=\"Solid Floor (in contact with ground)\",D$4-T$3,D$4-D$5),IF(C$3=\"Single Storey\",IF(M20=\"Solid Floor (in contact with ground)\",D$4-T$3,D$4-D$5),0))","v":0},{"$f":"G22*I22*J22","v":0},{"$f":"IF($C$3=$R$5,0,IF($C$3=$R$7,0,G22*I22*$D$7*24/1000))","v":0}]
[null,"External Wall",null,null,null,null,null,null,null,null,null,null,{"$f":"IF(M22=\"Two opposite\",\"Between edges\",IF(M22=\"One edge\",\"Depth of room\",IF(M22=\"3 edges (short single)\",\"Short length\",IF(M22=\"3 edges (long single)\",\"Short length\",\"\"))))","v":""},null,{"$f":"IF(M22=\"3 edges (short single)\",\"Long length\",IF(M22=\"3 edges (long single)\",\"Long length\",\"\"))","v":""}]
[null,"Length (m)",null,"Height (m)",null,"Area (m²)",0]
[null,"Length (m)",null,"Height (m)",null,"Area (m²)",0]
[null,"Length (m)",null,"Height (m)",null,"Area (m²)",0]
[null,null,null,null,"Total","Area (m²)",{"$f":"SUM(G24:G26)-SUM(G38:G44,G51:G54)","v":0},"U Value (W/m²K)",{"$f":"IF($C$3=\"Ground floor\",'Design Details'!C$48,IF($C$3=\"Mid-floor\",'Design Details'!C$58,IF($C$3=\"Upper floor\",'Design Details'!C$68,IF($C$3=\"Single Storey\",'Design Details'!C$78,0))))","v":0},{"$f":"$D$6","v":2.5},{"$f":"G27*I27*J27","v":0},{"$f":"G27*I27*$D$7*24/1000","v":0}]
[null,"Ceiling (Flat)"]
[null,"Length (m)",null,"Width (m)",null,"Area (m²)",0]
[null,"Length (m)",null,"Width (m)",null,"Area (m²)",0]
[null,"Length (m)",null,"Width (m)",null,"Area (m²)",0,null,null,null,null,null,"Select Temp/Type of Space Above"]
[null,null,null,null,"Total","Area (m²)",{"$f":"SUM(G29:G31)-SUM(G46:G49)","v":0},"U Value (W/m²K)",{"$f":"IF($C$3=\"Ground floor\",'Design Details'!C$49,IF($C$3=\"Mid-floor\",'Design Details'!C$59,IF($C$3=\"Upper floor\",INDIRECT(T52),IF($C$3=\"Single Storey\",INDIRECT(T53),0))))","v":0},{"$f":"U51","v":0},{"$f":"G32*I32*J32","v":0},{"$f":"IF($C$3=$R$4,0,IF($C$3=$R$5,0,G32*I32*$D$7*24/1000))","v":0},"Select..."]
[null,"Ceiling (Awkward)"]
[null,"Length (m)",{"$f":"C14*2","v":0},"Pitch (m)",{"$f":"SQRT(POWER(E14,2)+POWER(G14,2))","v":0},"Area (m²)",{"$f":"C34*E34","v":0},"Pitched"]
[null,"Length (m)",{"$f":"C15","v":0},"Pitch (m)",{"$f":"SQRT(POWER(E15,2)+POWER(G15,2))","v":0},"Area (m²)",0,"Single Pitch"]
[null,null,null,null,"Total","Area (m²)",{"$f":"SUM(G34:G35)-SUM(G46:G49)","v":0},"U Value (W/m²K)",{"$f":"IF($C$3=\"Ground floor\",'Design Details'!C$50,IF($C$3=\"Mid-floor\",'Design Details'!C$60,IF($C$3=\"Upper floor\",'Design Details'!C$70,IF($C$3=\"Single Storey\",'Design Details'!C$80,0))))","v":0},{"$f":"$D$6","v":2.5},0,{"$f":"IF($C$3=$R$4,0,IF($C$3=$R$5,0,G36*I36*$D$7*24/1000))","v":0}]
[null,"Windows"]
[null,"Width (m)",null,"Height (m)",null,"Area (m²)",0,"U Value (W/m²K)",{"$f":"IF($C$3=\"Ground floor\",'Design Details'!C$46,IF($C$3=\"Mid-floor\",'Design Details'!C$56,IF($C$3=\"Upper floor\",'Design Details'!C$66,IF($C$3=\"Single Storey\",'Design Details'!C$76,0))))","v":0},2.5,0,{"$f":"G38*I38*$D$7*24/1000","v":0}]
[null,"Width (m)",null,"Height (m)",null,"Area (m²)",0,"U Value (W/m²K)",{"$f":"IF($C$3=\"Ground floor\",'Design Details'!C$46,IF($C$3=\"Mid-floor\",'Design Details'!C$56,IF($C$3=\"Upper floor\",'Design Details'!C$66,IF($C$3=\"Single Storey\",'Design Details'!C$76,0))))","v":0},2.5,0,0]
[null,"Width (m)",null,"Height (m)",null,"Area (m²)",0,"U Value (W/m²K)",{"$f":"IF($C$3=\"Ground floor\",'Design Details'!C$46,IF($C$3=\"Mid-floor\",'Design Details'!C$56,IF($C$3=\"Upper floor\",'Design Details'!C$66,IF($C$3=\"Single Storey\",'Design Details'!C$76,0))))","v":0},2.5,0,0]
[null,"Width (m)",null,"Height (m)",null,"Area (m²)",0,"U Value (W/m²K)",{"$f":"IF($C$3=\"Ground floor\",'Design Details'!C$46,IF($C$3=\"Mid-floor\",'Design Details'!C$56,IF($C$3=\"Upper floor\",'Design Details'!C$66,IF($C$3=\"Single Storey\",'Design Details'!C$76,0))))","v":0},2.5,0,0]
[null,"Width (m)",null,"Height (m)",null,"Area (m²)",0,"U Value (W/m²K)",{"$f":"IF($C$3=\"Ground floor\",'Design Details'!C$46,IF($C$3=\"Mid-floor\",'Design Details'!C$56,IF($C$3=\"Upper floor\",'Design Details'!C$66,IF($C$3=\"Single Storey\",'Design Details'!C$76,0))))","v":0},2.5,0,0]
[null,"Width (m)",null,"Height (m)",null,"Area (m²)",0,"U Value (W/m²K)",{"$f":"IF($C$3=\"Ground floor\",'Design Details'!C$46,IF($C$3=\"Mid-floor\",'Design Details'!C$56,IF($C$3=\"Upper floor\",'Design Details'!C$66,IF($C$3=\"Single Storey\",'Design Details'!C$76,0))))","v":0},2.5,0,0]
[null,"Width (m)",null,"Height (m)",null,"Area (m²)",0,"U Value (W/m²K)",{"$f":"IF($C$3=\"Ground floor\",'Design Details'!C$46,IF($C$3=\"Mid-floor\",'Design Details'!C$56,IF($C$3=\"Upper floor\",'Design Details'!C$66,IF($C$3=\"Single Storey\",'Design Details'!C$76,0))))","v":0},2.5,0,0]
[null,"Roof Glazing",null,null,null,null,null,null,null,null,null,null,null,null,null,null,"Options for upper floor or single storey","Options for Ground or Mid Floor","Drop-Down List","U-Value Selector","Temp Diff Selector"]
[null,"Width (m)",null,"Height (m)",null,"Area (m²)",0,"U Value (W/m²K)",{"$f":"IF($C$3=\"Ground floor\",'Design Details'!C$53,IF($C$3=\"Mid-floor\",'Design Details'!C$63,IF($C$3=\"Upper floor\",'Design Details'!C$73,IF($C$3=\"Single Storey\",'Design Details'!C$83,0))))","v":0},2.5,0,{"$f":"G46*I46*$D$7*24/1000","v":0}]
[null,"Width (m)",null,"Height (m)",null,"Area (m²)",0,"U Value (W/m²K)",{"$f":"IF($C$3=\"Ground floor\",'Design Details'!C$53,IF($C$3=\"Mid-floor\",'Design Details'!C$63,IF($C$3=\"Upper floor\",'Design Details'!C$73,IF($C$3=\"Single Storey\",'Design Details'!C$83,0))))","v":0},2.5,0,{"$f":"G47*I47*$D$7*24/1000","v":0}]
[null,"Width (m)",null,"Height (m)",null,"Area (m²)",0,"U Value (W/m²K)",{"$f":"IF($C$3=\"Ground floor\",'Design Details'!C$53,IF($C$3=\"Mid-floor\",'Design Details'!C$63,IF($C$3=\"Upper floor\",'Design Details'!C$73,IF($C$3=\"Single Storey\",'Design Details'!C$83,0))))","v":0},2.5,0,{"$f":"G48*I48*$D$7*24/1000","v":0}]
[null,"Width (m)",null,"Height (m)",null,"Area (m²)",0,"U Value (W/m²K)",{"$f":"IF($C$3=\"Ground floor\",'Design Details'!C$53,IF($C$3=\"Mid-floor\",'Design Details'!C$63,IF($C$3=\"Upper floor\",'Design Details'!C$73,IF($C$3=\"Single Storey\",'Design Details'!C$83,0))))","v":0},2.5,0,{"$f":"G49*I49*$D$7*24/1000","v":0}]
[null,"External Doors",null,null,null,null,null,null,null,null,null,null,null,null,null,null,null,null,"Select..."]
[null,"Width (m)",null,"Height (m)",null,"Area (m²)",0,"U Value (W/m²K)",{"$f":"IF($C$3=\"Ground floor\",'Design Details'!C$47,IF($C$3=\"Mid-floor\",'Design Details'!C$57,IF($C$3=\"Upper floor\",'Design Details'!C$67,IF($C$3=\"Single Storey\",'Design Details'!C$77,0))))","v":0},2.5,0,{"$f":"G51*I51*$D$7*24/1000","v":0},null,null,null,null,"Outside","Unheated",{"$f":"IF(OR($C$3=\"Ground Floor\",$C$3=\"Mid-floor\"),R51,Q51)","v":"Outside"},{"$f":"IF(M32=\"Unheated\",1,0)","v":0},{"$f":"IF(M32=\"Select...\",0,(IF(M32=\"Outside\",D6,IF(M32=\"Unheated\",D4-10,D4-M32))))","v":0}]
[null,"Width (m)",null,"Height (m)",null,"Area (m²)",0,"U Value (W/m²K)",{"$f":"IF($C$3=\"Ground floor\",'Design Details'!C$47,IF($C$3=\"Mid-floor\",'Design Details'!C$57,IF($C$3=\"Upper floor\",'Design Details'!C$67,IF($C$3=\"Single Storey\",'Design Details'!C$77,0))))","v":0},2.5,0,{"$f":"G52*I52*$D$7*24/1000","v":0},null,null,null,null,"Unheated","16",{"$f":"IF(OR($C$3=\"Ground Floor\",$C$3=\"Mid-floor\"),R52,Q52)","v":"Unheated"},{"$f":"\"'Design Details'!C$\"&69+T51","v":"'Design Details'!C$69"}]
[null,"Width (m)",null,"Height (m)",null,"Area (m²)",0,"U Value (W/m²K)",{"$f":"IF($C$3=\"Ground floor\",'Design Details'!C$47,IF($C$3=\"Mid-floor\",'Design Details'!C$57,IF($C$3=\"Upper floor\",'Design Details'!C$67,IF($C$3=\"Single Storey\",'Design Details'!C$77,0))))","v":0},2.5,0,{"$f":"G53*I53*$D$7*24/1000","v":0},null,null,null,null,null,"18",{"$f":"IF(OR($C$3=\"Ground Floor\",$C$3=\"Mid-floor\"),R53,Q53)","v":0},{"$f":"\"'Design Details'!C$\"&79+T51","v":"'Design Details'!C$79"}]
[null,"Width (m)",null,"Height (m)",null,"Area (m²)",0,"U Value (W/m²K)",{"$f":"IF($C$3=\"Ground floor\",'Design Details'!C$47,IF($C$3=\"Mid-floor\",'Design Details'!C$57,IF($C$3=\"Upper floor\",'Design Details'!C$67,IF($C$3=\"Single Storey\",'Design Details'!C$77,0))))","v":0},2.5,0,{"$f":"G54*I54*$D$7*24/1000","v":0},null,null,null,null,null,"21",{"$f":"IF(OR($C$3=\"Ground Floor\",$C$3=\"Mid-floor\"),R54,Q54)","v":0}]
[null,"Internal Walls",null,null,null,null,null,null,null,null,null,null,"Adjoining Room Temp (°C)",null,null,null,null,22,{"$f":"IF(OR($C$3=\"Ground Floor\",$C$3=\"Mid-floor\"),R55,Q37)","v":0}]
[null,"Length (m)",null,"Height (m)",null,"Area (m²)",0,"U Value (W/m²K)",{"$f":"IF($C$3=\"Ground floor\",'Design Details'!C$51,IF($C$3=\"Mid-floor\",'Design Details'!C$61,IF($C$3=\"Upper floor\",'Design Details'!C$71,IF($C$3=\"Single Storey\",'Design Details'!C$81,0))))","v":0},{"$f":"IF(M56=\"\",0,IF(M56=\"unheated\",D$4-10,D$4-M56))","v":0},0]
[null,"Length (m)",null,"Height (m)",null,"Area (m²)",0,"U Value (W/m²K)",{"$f":"IF($C$3=\"Ground floor\",'Design Details'!C$51,IF($C$3=\"Mid-floor\",'Design Details'!C$61,IF($C$3=\"Upper floor\",'Design Details'!C$71,IF($C$3=\"Single Storey\",'Design Details'!C$81,0))))","v":0},{"$f":"IF(M57=\"\",0,IF(M57=\"unheated\",D$4-10,D$4-M57))","v":0},0]
[null,"Length (m)",null,"Height (m)",null,"Area (m²)",0,"U Value (W/m²K)",{"$f":"IF($C$3=\"Ground floor\",'Design Details'!C$51,IF($C$3=\"Mid-floor\",'Design Details'!C$61,IF($C$3=\"Upper floor\",'Design Details'!C$71,IF($C$3=\"Single Storey\",'Design Details'!C$81,0))))","v":0},{"$f":"IF(M58=\"\",0,IF(M58=\"unheated\",D$4-10,D$4-M58))","v":0},0]
[null,"Length (m)",null,"Height (m)",null,"Area (m²)",0,"U Value (W/m²K)",{"$f":"IF($C$3=\"Ground floor\",'Design Details'!C$51,IF($C$3=\"Mid-floor\",'Design Details'!C$61,IF($C$3=\"Upper floor\",'Design Details'!C$71,IF($C$3=\"Single Storey\",'Design Details'!C$81,0))))","v":0},{"$f":"IF(M59=\"\",0,IF(M59=\"unheated\",D$4-10,D$4-M59))","v":0},0]
[null,"Party Wall"]
[null,"Length (m)",null,"Height (m)",null,"Area (m²)",0,"U Value (W/m²K)",{"$f":"IF($C$3=\"Ground floor\",'Design Details'!C$52,IF($C$3=\"Mid-floor\",'Design Details'!C$62,IF($C$3=\"Upper floor\",'Design Details'!C$72,IF($C$3=\"Single Storey\",'Design Details'!C$82,0))))","v":0},{"$f":"D4-10","v":-10},0,{"$f":"G61*I61*$D$7*24/1000","v":0}]

{"sheet":"29","index":44,"n_rows":61,"n_cols":25,"rows_kept":61,"cut":false,"hidden":false,"merged":[[58,12,58,14],[44,19,48,19],[44,20,48,20],[54,12,54,14],[55,12,55,14],[56,12,56,14],[57,12,57,14],[44,18,48,18],[21,12,21,14],[30,12,30,14],[31,12,31,14],[44,16,48,16],[44,17,48,17],[20,12,20,14],[3,1,3,2],[3,4,3,5],[4,1,4,2],[4,4,4,5],[5,1,5,2],[5,4,5,5],[6,1,6,2],[9,11,9,14],[10,11,10,14],[18,12,18,14],[19,12,19,14],[0,1,0,3],[0,4,0,6],[0,10,0,11],[1,4,1,5],[2,2,2,3],[2,4,2,5]]}
[null,"Room Information",null,null,"Ventilation Heat Loss",null,null,"Fabric ","Heat Loss (W)"," Usage (kWh)","Additional heat loss",null,"Addition","Watts","kWh"]
[null,"Room",null,null,"Air Changes per hour",null,{"$f":"'Design Details'!G115","v":0},"Floor",{"$f":"SUM(K20:K22)","v":0},{"$f":"SUM(L20:L22)","v":0},"Thermal Bridging (New Build >2006)",null,0,{"$f":"SUM(I$2:I$6)*M2","v":0},{"$f":"SUM(J$2:J$6)*M2","v":0},null,"3 edges (long single)","Level",null,null,null,null,null,null,1]
[null,"Level",null,null,"Air Change Factor (W/m³K)",null,0.33,"Ext Wall",{"$f":"K27","v":0},{"$f":"L27","v":0},"Exposed location",null,0,{"$f":"SUM(I$2:I$6)*M3","v":0},{"$f":"SUM(J$2:J$6)*M3","v":0},null,"3 edges (short single)","Please Select Floor",{"$f":"IF($C$3=\"Ground floor\",\"Solid Floor (in contact with ground)\",IF($C$3=\"Single Storey\",\"Solid Floor (in contact with ground)\",\"n/a\"))","v":"n/a"},{"$f":"'Design Details'!C21","v":10},"unheated",0,0,0,2]
[null,"Design Room Temp (°C)",null,{"$f":"'Design Details'!E115","v":0},"Total Volume (m³)",null,{"$f":"SUM(I10:I12,I14:I18)","v":0},"Roof",{"$f":"SUM(K32,K36)","v":0},{"$f":"SUM(L32,L36)","v":0},"High ceiling",null,0,{"$f":"SUM(I$2:I$6)*M4","v":0},{"$f":"SUM(J$2:J$6)*M4","v":0},null,"One edge","Ground floor",{"$f":"IF($C$3=\"Ground floor\",\"Suspended Floor\",IF($C$3=\"Single Storey\",\"Suspended Floor\",\"n/a\"))","v":"n/a"},null,16,0.1,0.2,2.5000000000000001E-2,3]
[null,"Outside Design Temp (°C)",null,{"$f":"'Design Details'!C19","v":-2.5},"Heat loss (W)",null,{"$f":"G4*G3*D6*G2","v":0},"Glazing",{"$f":"SUM(K38:K44,K46:K49,K51:K54)","v":0},{"$f":"SUM(L38:L44,L46:L49,L51:L54)","v":0},"Intermittent heating",null,0,{"$f":"SUM(I$2:I$6)*M5","v":0},{"$f":"SUM(J$2:J$6)*M5","v":0},null,"Two adjacent","Mid-floor",null,null,18,null,null,0.05,4]
[null,"Temp Difference (°C)",null,{"$f":"D4-D5","v":2.5},"Estimated Energy usage (kWh)",null,{"$f":"G4*G3*D7*24/1000","v":0},"Int./Party Wall",{"$f":"SUM(K56:K59,K61)","v":0},{"$f":"SUM(L61)","v":0},null,null,null,"Total Room Heat Loss (W)",{"$f":"SUM(G5,I2:I6,N2:N5)","v":0},null,"Two opposite","Single storey",null,null,21,null,null,7.4999999999999997E-2,5]
[null,"Degree Days",null,{"$f":"'Design Details'!C20","v":2228},null,null,null,null,null,null,null,null,null,"Total Room Energy Usage (kWh)",{"$f":"SUM(G6,J2:J6,O2:O5)","v":0},null,null,"Upper floor",null,null,22,null,null,0.1,6]
[null,null,null,null,null,null,null,null,null,null,null,null,null,null,null,null,null,{"$f":"IF($C$3=\"Ground floor\",'Design Details'!C$45,IF($C$3=\"Mid-floor\",'Design Details'!C$55,IF($C$3=\"Upper floor\",'Design Details'!C$65,IF($C$3=\"Single Storey\",'Design Details'!C$75,0))))","v":0},null,null,null,null,null,null,7]
[null,"Room Dimensions",null,null,null,null,null,null,null,null,null,null,null,null,null,null,null,null,null,null,null,null,null,null,8]
[null,"Length (m)",null,"Width (m)",null,"Height (m)",null,"Volume (m³)",{"$f":"C10*E10*G10","v":0},null,null,null,null,null,null,null,null,null,null,null,null,null,null,null,9]
[null,"Length (m)",null,"Width (m)",null,"Height (m)",null,"Volume (m³)",{"$f":"C11*E11*G11","v":0},null,null,null,null,null,null,null,null,null,null,null,null,null,null,null,10]
[null,"Length (m)",null,"Width (m)",null,"Height (m)",null,"Volume (m³)",{"$f":"C12*E12*G12","v":0}]
[null,"Awkward Room Dimensions"]
[null,"Length (m)",null,"Width (m)",null,"Height (m)",null,"Volume (m³)",{"$f":"((G14*E14)/2)*C14","v":0},"Pitched"]
[null,"Length (m)",null,"Width (m)",null,"Height (m)",null,"Volume (m³)",{"$f":"C15*E15*G15/2","v":0},"Single Pitch"]
[null,"Length (m)",null,"Height (m)",null,"Depth (m)",null,"Volume (m³)",{"$f":"E16*G16*C16/2","v":0},"Dormer 1"]
[null,"Length (m)",null,"Height (m)",null,"Depth (m)",null,"Volume (m³)",{"$f":"E17*G17*C17/2","v":0},"Dormer 2"]
[null,"Length (m)",null,"Height (m)",null,"Depth (m)",null,"Volume (m³)",{"$f":"E18*G18*C18/2","v":0},"Dormer 3"]
[null,"Floor",null,null,null,null,null,null,null,"Temp Difference","Heat Loss (W)","Usage (kWh)",{"$f":"IF($C$3=\"Ground Floor\",\"Select type of Ground Floor\",IF($C$3=\"Single Storey\",\"Select type of Ground Floor\",\"#N/A\"))","v":"#N/A"}]
[null,{"$f":"B10","v":"Length (m)"},null,{"$f":"D10","v":"Width (m)"},null,"Area (m²)",{"$f":"C20*E20","v":0},"U Value (W/m²K)",{"$f":"IF(M22=\"\",R8,'floor u values'!K30)","v":0},{"$f":"IF(C$3=\"Ground Floor\",IF(M20=\"Solid Floor (in contact with ground)\",D$4-T$3,D$4-D$5),IF(C$3=\"Single Storey\",IF(M20=\"Solid Floor (in contact with ground)\",D$4-T$3,D$4-D$5),0))","v":0},{"$f":"G20*I20*J20","v":0},{"$f":"IF($C$3=$R$5,0,IF($C$3=$R$7,0,G20*I20*$D$7*24/1000))","v":0},"n/a"]
[null,"Length (m)",null,"Width (m)",null,"Area (m²)",{"$f":"C21*E21","v":0},"U Value (W/m²K)",{"$f":"I20","v":0},{"$f":"IF(C$3=\"Ground Floor\",IF(M20=\"Solid Floor (in contact with ground)\",D$4-T$3,D$4-D$5),IF(C$3=\"Single Storey\",IF(M20=\"Solid Floor (in contact with ground)\",D$4-T$3,D$4-D$5),0))","v":0},{"$f":"G21*I21*J21","v":0},{"$f":"IF($C$3=$R$5,0,IF($C$3=$R$7,0,G21*I21*$D$7*24/1000))","v":0},"Exposed floor (external)"]
[null,"Length (m)",null,"Width (m)",null,"Area (m²)",0,"U Value (W/m²K)",{"$f":"I20","v":0},{"$f":"IF(C$3=\"Ground Floor\",IF(M20=\"Solid Floor (in contact with ground)\",D$4-T$3,D$4-D$5),IF(C$3=\"Single Storey\",IF(M20=\"Solid Floor (in contact with ground)\",D$4-T$3,D$4-D$5),0))","v":0},{"$f":"G22*I22*J22","v":0},{"$f":"IF($C$3=$R$5,0,IF($C$3=$R$7,0,G22*I22*$D$7*24/1000))","v":0}]
[null,"External Wall",null,null,null,null,null,null,null,null,null,null,{"$f":"IF(M22=\"Two opposite\",\"Between edges\",IF(M22=\"One edge\",\"Depth of room\",IF(M22=\"3 edges (short single)\",\"Short length\",IF(M22=\"3 edges (long single)\",\"Short length\",\"\"))))","v":""},null,{"$f":"IF(M22=\"3 edges (short single)\",\"Long length\",IF(M22=\"3 edges (long single)\",\"Long length\",\"\"))","v":""}]
[null,"Length (m)",null,"Height (m)",null,"Area (m²)",0]
[null,"Length (m)",null,"Height (m)",null,"Area (m²)",0]
[null,"Length (m)",null,"Height (m)",null,"Area (m²)",0]
[null,null,null,null,"Total","Area (m²)",{"$f":"SUM(G24:G26)-SUM(G38:G44,G51:G54)","v":0},"U Value (W/m²K)",{"$f":"IF($C$3=\"Ground floor\",'Design Details'!C$48,IF($C$3=\"Mid-floor\",'Design Details'!C$58,IF($C$3=\"Upper floor\",'Design Details'!C$68,IF($C$3=\"Single Storey\",'Design Details'!C$78,0))))","v":0},{"$f":"$D$6","v":2.5},{"$f":"G27*I27*J27","v":0},{"$f":"G27*I27*$D$7*24/1000","v":0}]
[null,"Ceiling (Flat)"]
[null,"Length (m)",null,"Width (m)",null,"Area (m²)",0]
[null,"Length (m)",null,"Width (m)",null,"Area (m²)",0]
[null,"Length (m)",null,"Width (m)",null,"Area (m²)",0,null,null,null,null,null,"Select Temp/Type of Space Above"]
[null,null,null,null,"Total","Area (m²)",{"$f":"SUM(G29:G31)-SUM(G46:G49)","v":0},"U Value (W/m²K)",{"$f":"IF($C$3=\"Ground floor\",'Design Details'!C$49,IF($C$3=\"Mid-floor\",'Design Details'!C$59,IF($C$3=\"Upper floor\",INDIRECT(T52),IF($C$3=\"Single Storey\",INDIRECT(T53),0))))","v":0},{"$f":"U51","v":0},{"$f":"G32*I32*J32","v":0},{"$f":"IF($C$3=$R$4,0,IF($C$3=$R$5,0,G32*I32*$D$7*24/1000))","v":0},"Select..."]
[null,"Ceiling (Awkward)"]
[null,"Length (m)",{"$f":"C14*2","v":0},"Pitch (m)",{"$f":"SQRT(POWER(E14,2)+POWER(G14,2))","v":0},"Area (m²)",{"$f":"C34*E34","v":0},"Pitched"]
[null,"Length (m)",{"$f":"C15","v":0},"Pitch (m)",{"$f":"SQRT(POWER(E15,2)+POWER(G15,2))","v":0},"Area (m²)",0,"Single Pitch"]
[null,null,null,null,"Total","Area (m²)",{"$f":"SUM(G34:G35)-SUM(G46:G49)","v":0},"U Value (W/m²K)",{"$f":"IF($C$3=\"Ground floor\",'Design Details'!C$50,IF($C$3=\"Mid-floor\",'Design Details'!C$60,IF($C$3=\"Upper floor\",'Design Details'!C$70,IF($C$3=\"Single Storey\",'Design Details'!C$80,0))))","v":0},{"$f":"$D$6","v":2.5},0,{"$f":"IF($C$3=$R$4,0,IF($C$3=$R$5,0,G36*I36*$D$7*24/1000))","v":0}]
[null,"Windows"]
[null,"Width (m)",null,"Height (m)",null,"Area (m²)",0,"U Value (W/m²K)",{"$f":"IF($C$3=\"Ground floor\",'Design Details'!C$46,IF($C$3=\"Mid-floor\",'Design Details'!C$56,IF($C$3=\"Upper floor\",'Design Details'!C$66,IF($C$3=\"Single Storey\",'Design Details'!C$76,0))))","v":0},2.5,0,{"$f":"G38*I38*$D$7*24/1000","v":0}]
[null,"Width (m)",null,"Height (m)",null,"Area (m²)",0,"U Value (W/m²K)",{"$f":"IF($C$3=\"Ground floor\",'Design Details'!C$46,IF($C$3=\"Mid-floor\",'Design Details'!C$56,IF($C$3=\"Upper floor\",'Design Details'!C$66,IF($C$3=\"Single Storey\",'Design Details'!C$76,0))))","v":0},2.5,0,0]
[null,"Width (m)",null,"Height (m)",null,"Area (m²)",0,"U Value (W/m²K)",{"$f":"IF($C$3=\"Ground floor\",'Design Details'!C$46,IF($C$3=\"Mid-floor\",'Design Details'!C$56,IF($C$3=\"Upper floor\",'Design Details'!C$66,IF($C$3=\"Single Storey\",'Design Details'!C$76,0))))","v":0},2.5,0,0]
[null,"Width (m)",null,"Height (m)",null,"Area (m²)",0,"U Value (W/m²K)",{"$f":"IF($C$3=\"Ground floor\",'Design Details'!C$46,IF($C$3=\"Mid-floor\",'Design Details'!C$56,IF($C$3=\"Upper floor\",'Design Details'!C$66,IF($C$3=\"Single Storey\",'Design Details'!C$76,0))))","v":0},2.5,0,0]
[null,"Width (m)",null,"Height (m)",null,"Area (m²)",0,"U Value (W/m²K)",{"$f":"IF($C$3=\"Ground floor\",'Design Details'!C$46,IF($C$3=\"Mid-floor\",'Design Details'!C$56,IF($C$3=\"Upper floor\",'Design Details'!C$66,IF($C$3=\"Single Storey\",'Design Details'!C$76,0))))","v":0},2.5,0,0]
[null,"Width (m)",null,"Height (m)",null,"Area (m²)",0,"U Value (W/m²K)",{"$f":"IF($C$3=\"Ground floor\",'Design Details'!C$46,IF($C$3=\"Mid-floor\",'Design Details'!C$56,IF($C$3=\"Upper floor\",'Design Details'!C$66,IF($C$3=\"Single Storey\",'Design Details'!C$76,0))))","v":0},2.5,0,0]
[null,"Width (m)",null,"Height (m)",null,"Area (m²)",0,"U Value (W/m²K)",{"$f":"IF($C$3=\"Ground floor\",'Design Details'!C$46,IF($C$3=\"Mid-floor\",'Design Details'!C$56,IF($C$3=\"Upper floor\",'Design Details'!C$66,IF($C$3=\"Single Storey\",'Design Details'!C$76,0))))","v":0},2.5,0,0]
[null,"Roof Glazing",null,null,null,null,null,null,null,null,null,null,null,null,null,null,"Options for upper floor or single storey","Options for Ground or Mid Floor","Drop-Down List","U-Value Selector","Temp Diff Selector"]
[null,"Width (m)",null,"Height (m)",null,"Area (m²)",0,"U Value (W/m²K)",{"$f":"IF($C$3=\"Ground floor\",'Design Details'!C$53,IF($C$3=\"Mid-floor\",'Design Details'!C$63,IF($C$3=\"Upper floor\",'Design Details'!C$73,IF($C$3=\"Single Storey\",'Design Details'!C$83,0))))","v":0},2.5,0,{"$f":"G46*I46*$D$7*24/1000","v":0}]
[null,"Width (m)",null,"Height (m)",null,"Area (m²)",0,"U Value (W/m²K)",{"$f":"IF($C$3=\"Ground floor\",'Design Details'!C$53,IF($C$3=\"Mid-floor\",'Design Details'!C$63,IF($C$3=\"Upper floor\",'Design Details'!C$73,IF($C$3=\"Single Storey\",'Design Details'!C$83,0))))","v":0},2.5,0,{"$f":"G47*I47*$D$7*24/1000","v":0}]
[null,"Width (m)",null,"Height (m)",null,"Area (m²)",0,"U Value (W/m²K)",{"$f":"IF($C$3=\"Ground floor\",'Design Details'!C$53,IF($C$3=\"Mid-floor\",'Design Details'!C$63,IF($C$3=\"Upper floor\",'Design Details'!C$73,IF($C$3=\"Single Storey\",'Design Details'!C$83,0))))","v":0},2.5,0,{"$f":"G48*I48*$D$7*24/1000","v":0}]
[null,"Width (m)",null,"Height (m)",null,"Area (m²)",0,"U Value (W/m²K)",{"$f":"IF($C$3=\"Ground floor\",'Design Details'!C$53,IF($C$3=\"Mid-floor\",'Design Details'!C$63,IF($C$3=\"Upper floor\",'Design Details'!C$73,IF($C$3=\"Single Storey\",'Design Details'!C$83,0))))","v":0},2.5,0,{"$f":"G49*I49*$D$7*24/1000","v":0}]
[null,"External Doors",null,null,null,null,null,null,null,null,null,null,null,null,null,null,null,null,"Select..."]
[null,"Width (m)",null,"Height (m)",null,"Area (m²)",0,"U Value (W/m²K)",{"$f":"IF($C$3=\"Ground floor\",'Design Details'!C$47,IF($C$3=\"Mid-floor\",'Design Details'!C$57,IF($C$3=\"Upper floor\",'Design Details'!C$67,IF($C$3=\"Single Storey\",'Design Details'!C$77,0))))","v":0},2.5,0,{"$f":"G51*I51*$D$7*24/1000","v":0},null,null,null,null,"Outside","Unheated",{"$f":"IF(OR($C$3=\"Ground Floor\",$C$3=\"Mid-floor\"),R51,Q51)","v":"Outside"},{"$f":"IF(M32=\"Unheated\",1,0)","v":0},{"$f":"IF(M32=\"Select...\",0,(IF(M32=\"Outside\",D6,IF(M32=\"Unheated\",D4-10,D4-M32))))","v":0}]
[null,"Width (m)",null,"Height (m)",null,"Area (m²)",0,"U Value (W/m²K)",{"$f":"IF($C$3=\"Ground floor\",'Design Details'!C$47,IF($C$3=\"Mid-floor\",'Design Details'!C$57,IF($C$3=\"Upper floor\",'Design Details'!C$67,IF($C$3=\"Single Storey\",'Design Details'!C$77,0))))","v":0},2.5,0,{"$f":"G52*I52*$D$7*24/1000","v":0},null,null,null,null,"Unheated","16",{"$f":"IF(OR($C$3=\"Ground Floor\",$C$3=\"Mid-floor\"),R52,Q52)","v":"Unheated"},{"$f":"\"'Design Details'!C$\"&69+T51","v":"'Design Details'!C$69"}]
[null,"Width (m)",null,"Height (m)",null,"Area (m²)",0,"U Value (W/m²K)",{"$f":"IF($C$3=\"Ground floor\",'Design Details'!C$47,IF($C$3=\"Mid-floor\",'Design Details'!C$57,IF($C$3=\"Upper floor\",'Design Details'!C$67,IF($C$3=\"Single Storey\",'Design Details'!C$77,0))))","v":0},2.5,0,{"$f":"G53*I53*$D$7*24/1000","v":0},null,null,null,null,null,"18",{"$f":"IF(OR($C$3=\"Ground Floor\",$C$3=\"Mid-floor\"),R53,Q53)","v":0},{"$f":"\"'Design Details'!C$\"&79+T51","v":"'Design Details'!C$79"}]
[null,"Width (m)",null,"Height (m)",null,"Area (m²)",0,"U Value (W/m²K)",{"$f":"IF($C$3=\"Ground floor\",'Design Details'!C$47,IF($C$3=\"Mid-floor\",'Design Details'!C$57,IF($C$3=\"Upper floor\",'Design Details'!C$67,IF($C$3=\"Single Storey\",'Design Details'!C$77,0))))","v":0},2.5,0,{"$f":"G54*I54*$D$7*24/1000","v":0},null,null,null,null,null,"21",{"$f":"IF(OR($C$3=\"Ground Floor\",$C$3=\"Mid-floor\"),R54,Q54)","v":0}]
[null,"Internal Walls",null,null,null,null,null,null,null,null,null,null,"Adjoining Room Temp (°C)",null,null,null,null,22,{"$f":"IF(OR($C$3=\"Ground Floor\",$C$3=\"Mid-floor\"),R55,Q37)","v":0}]
[null,"Length (m)",null,"Height (m)",null,"Area (m²)",0,"U Value (W/m²K)",{"$f":"IF($C$3=\"Ground floor\",'Design Details'!C$51,IF($C$3=\"Mid-floor\",'Design Details'!C$61,IF($C$3=\"Upper floor\",'Design Details'!C$71,IF($C$3=\"Single Storey\",'Design Details'!C$81,0))))","v":0},{"$f":"IF(M56=\"\",0,IF(M56=\"unheated\",D$4-10,D$4-M56))","v":0},0]
[null,"Length (m)",null,"Height (m)",null,"Area (m²)",0,"U Value (W/m²K)",{"$f":"IF($C$3=\"Ground floor\",'Design Details'!C$51,IF($C$3=\"Mid-floor\",'Design Details'!C$61,IF($C$3=\"Upper floor\",'Design Details'!C$71,IF($C$3=\"Single Storey\",'Design Details'!C$81,0))))","v":0},{"$f":"IF(M57=\"\",0,IF(M57=\"unheated\",D$4-10,D$4-M57))","v":0},0]
[null,"Length (m)",null,"Height (m)",null,"Area (m²)",0,"U Value (W/m²K)",{"$f":"IF($C$3=\"Ground floor\",'Design Details'!C$51,IF($C$3=\"Mid-floor\",'Design Details'!C$61,IF($C$3=\"Upper floor\",'Design Details'!C$71,IF($C$3=\"Single Storey\",'Design Details'!C$81,0))))","v":0},{"$f":"IF(M58=\"\",0,IF(M58=\"unheated\",D$4-10,D$4-M58))","v":0},0]
[null,"Length (m)",null,"Height (m)",null,"Area (m²)",0,"U Value (W/m²K)",{"$f":"IF($C$3=\"Ground floor\",'Design Details'!C$51,IF($C$3=\"Mid-floor\",'Design Details'!C$61,IF($C$3=\"Upper floor\",'Design Details'!C$71,IF($C$3=\"Single Storey\",'Design Details'!C$81,0))))","v":0},{"$f":"IF(M59=\"\",0,IF(M59=\"unheated\",D$4-10,D$4-M59))","v":0},0]
[null,"Party Wall"]
[null,"Length (m)",null,"Height (m)",null,"Area (m²)",0,"U Value (W/m²K)",{"$f":"IF($C$3=\"Ground floor\",'Design Details'!C$52,IF($C$3=\"Mid-floor\",'Design Details'!C$62,IF($C$3=\"Upper floor\",'Design Details'!C$72,IF($C$3=\"Single Storey\",'Design Details'!C$82,0))))","v":0},{"$f":"D4-10","v":-10},0,{"$f":"G61*I61*$D$7*24/1000","v":0}]

{"sheet":"30","index":45,"n_rows":61,"n_cols":25,"rows_kept":61,"cut":false,"hidden":false,"merged":[[58,12,58,14],[44,19,48,19],[44,20,48,20],[54,12,54,14],[55,12,55,14],[56,12,56,14],[57,12,57,14],[44,18,48,18],[21,12,21,14],[30,12,30,14],[31,12,31,14],[44,16,48,16],[44,17,48,17],[20,12,20,14],[3,1,3,2],[3,4,3,5],[4,1,4,2],[4,4,4,5],[5,1,5,2],[5,4,5,5],[6,1,6,2],[9,11,9,14],[10,11,10,14],[18,12,18,14],[19,12,19,14],[0,1,0,3],[0,4,0,6],[0,10,0,11],[1,4,1,5],[2,2,2,3],[2,4,2,5]]}
[null,"Room Information",null,null,"Ventilation Heat Loss",null,null,"Fabric ","Heat Loss (W)"," Usage (kWh)","Additional heat loss",null,"Addition","Watts","kWh"]
[null,"Room",null,null,"Air Changes per hour",null,{"$f":"'Design Details'!G116","v":0},"Floor",{"$f":"SUM(K20:K22)","v":0},{"$f":"SUM(L20:L22)","v":0},"Thermal Bridging (New Build >2006)",null,0,{"$f":"SUM(I$2:I$6)*M2","v":0},{"$f":"SUM(J$2:J$6)*M2","v":0},null,"3 edges (long single)","Level",null,null,null,null,null,null,1]
[null,"Level",null,null,"Air Change Factor (W/m³K)",null,0.33,"Ext Wall",{"$f":"K27","v":0},{"$f":"L27","v":0},"Exposed location",null,0,{"$f":"SUM(I$2:I$6)*M3","v":0},{"$f":"SUM(J$2:J$6)*M3","v":0},null,"3 edges (short single)","Please Select Floor",{"$f":"IF($C$3=\"Ground floor\",\"Solid Floor (in contact with ground)\",IF($C$3=\"Single Storey\",\"Solid Floor (in contact with ground)\",\"n/a\"))","v":"n/a"},{"$f":"'Design Details'!C21","v":10},"unheated",0,0,0,2]
[null,"Design Room Temp (°C)",null,{"$f":"'Design Details'!E116","v":0},"Total Volume (m³)",null,{"$f":"SUM(I10:I12,I14:I18)","v":0},"Roof",{"$f":"SUM(K32,K36)","v":0},{"$f":"SUM(L32,L36)","v":0},"High ceiling",null,0,{"$f":"SUM(I$2:I$6)*M4","v":0},{"$f":"SUM(J$2:J$6)*M4","v":0},null,"One edge","Ground floor",{"$f":"IF($C$3=\"Ground floor\",\"Suspended Floor\",IF($C$3=\"Single Storey\",\"Suspended Floor\",\"n/a\"))","v":"n/a"},null,16,0.1,0.2,2.5000000000000001E-2,3]
[null,"Outside Design Temp (°C)",null,{"$f":"'Design Details'!C19","v":-2.5},"Heat loss (W)",null,{"$f":"G4*G3*D6*G2","v":0},"Glazing",{"$f":"SUM(K38:K44,K46:K49,K51:K54)","v":0},{"$f":"SUM(L38:L44,L46:L49,L51:L54)","v":0},"Intermittent heating",null,0,{"$f":"SUM(I$2:I$6)*M5","v":0},{"$f":"SUM(J$2:J$6)*M5","v":0},null,"Two adjacent","Mid-floor",null,null,18,null,null,0.05,4]
[null,"Temp Difference (°C)",null,{"$f":"D4-D5","v":2.5},"Estimated Energy usage (kWh)",null,{"$f":"G4*G3*D7*24/1000","v":0},"Int./Party Wall",{"$f":"SUM(K56:K59,K61)","v":0},{"$f":"SUM(L61)","v":0},null,null,null,"Total Room Heat Loss (W)",{"$f":"SUM(G5,I2:I6,N2:N5)","v":0},null,"Two opposite","Single storey",null,null,21,null,null,7.4999999999999997E-2,5]
[null,"Degree Days",null,{"$f":"'Design Details'!C20","v":2228},null,null,null,null,null,null,null,null,null,"Total Room Energy Usage (kWh)",{"$f":"SUM(G6,J2:J6,O2:O5)","v":0},null,null,"Upper floor",null,null,22,null,null,0.1,6]
[null,null,null,null,null,null,null,null,null,null,null,null,null,null,null,null,null,{"$f":"IF($C$3=\"Ground floor\",'Design Details'!C$45,IF($C$3=\"Mid-floor\",'Design Details'!C$55,IF($C$3=\"Upper floor\",'Design Details'!C$65,IF($C$3=\"Single Storey\",'Design Details'!C$75,0))))","v":0},null,null,null,null,null,null,7]
[null,"Room Dimensions",null,null,null,null,null,null,null,null,null,null,null,null,null,null,null,null,null,null,null,null,null,null,8]
[null,"Length (m)",null,"Width (m)",null,"Height (m)",null,"Volume (m³)",{"$f":"C10*E10*G10","v":0},null,null,null,null,null,null,null,null,null,null,null,null,null,null,null,9]
[null,"Length (m)",null,"Width (m)",null,"Height (m)",null,"Volume (m³)",{"$f":"C11*E11*G11","v":0},null,null,null,null,null,null,null,null,null,null,null,null,null,null,null,10]
[null,"Length (m)",null,"Width (m)",null,"Height (m)",null,"Volume (m³)",{"$f":"C12*E12*G12","v":0}]
[null,"Awkward Room Dimensions"]
[null,"Length (m)",null,"Width (m)",null,"Height (m)",null,"Volume (m³)",{"$f":"((G14*E14)/2)*C14","v":0},"Pitched"]
[null,"Length (m)",null,"Width (m)",null,"Height (m)",null,"Volume (m³)",{"$f":"C15*E15*G15/2","v":0},"Single Pitch"]
[null,"Length (m)",null,"Height (m)",null,"Depth (m)",null,"Volume (m³)",{"$f":"E16*G16*C16/2","v":0},"Dormer 1"]
[null,"Length (m)",null,"Height (m)",null,"Depth (m)",null,"Volume (m³)",{"$f":"E17*G17*C17/2","v":0},"Dormer 2"]
[null,"Length (m)",null,"Height (m)",null,"Depth (m)",null,"Volume (m³)",{"$f":"E18*G18*C18/2","v":0},"Dormer 3"]
[null,"Floor",null,null,null,null,null,null,null,"Temp Difference","Heat Loss (W)","Usage (kWh)",{"$f":"IF($C$3=\"Ground Floor\",\"Select type of Ground Floor\",IF($C$3=\"Single Storey\",\"Select type of Ground Floor\",\"#N/A\"))","v":"#N/A"}]
[null,{"$f":"B10","v":"Length (m)"},null,{"$f":"D10","v":"Width (m)"},null,"Area (m²)",{"$f":"C20*E20","v":0},"U Value (W/m²K)",{"$f":"IF(M22=\"\",R8,'floor u values'!K31)","v":0},{"$f":"IF(C$3=\"Ground Floor\",IF(M20=\"Solid Floor (in contact with ground)\",D$4-T$3,D$4-D$5),IF(C$3=\"Single Storey\",IF(M20=\"Solid Floor (in contact with ground)\",D$4-T$3,D$4-D$5),0))","v":0},{"$f":"G20*I20*J20","v":0},{"$f":"IF($C$3=$R$5,0,IF($C$3=$R$7,0,G20*I20*$D$7*24/1000))","v":0},"n/a"]
[null,"Length (m)",null,"Width (m)",null,"Area (m²)",{"$f":"C21*E21","v":0},"U Value (W/m²K)",{"$f":"I20","v":0},{"$f":"IF(C$3=\"Ground Floor\",IF(M20=\"Solid Floor (in contact with ground)\",D$4-T$3,D$4-D$5),IF(C$3=\"Single Storey\",IF(M20=\"Solid Floor (in contact with ground)\",D$4-T$3,D$4-D$5),0))","v":0},{"$f":"G21*I21*J21","v":0},{"$f":"IF($C$3=$R$5,0,IF($C$3=$R$7,0,G21*I21*$D$7*24/1000))","v":0},"Exposed floor (external)"]
[null,"Length (m)",null,"Width (m)",null,"Area (m²)",0,"U Value (W/m²K)",{"$f":"I20","v":0},{"$f":"IF(C$3=\"Ground Floor\",IF(M20=\"Solid Floor (in contact with ground)\",D$4-T$3,D$4-D$5),IF(C$3=\"Single Storey\",IF(M20=\"Solid Floor (in contact with ground)\",D$4-T$3,D$4-D$5),0))","v":0},{"$f":"G22*I22*J22","v":0},{"$f":"IF($C$3=$R$5,0,IF($C$3=$R$7,0,G22*I22*$D$7*24/1000))","v":0}]
[null,"External Wall",null,null,null,null,null,null,null,null,null,null,{"$f":"IF(M22=\"Two opposite\",\"Between edges\",IF(M22=\"One edge\",\"Depth of room\",IF(M22=\"3 edges (short single)\",\"Short length\",IF(M22=\"3 edges (long single)\",\"Short length\",\"\"))))","v":""},null,{"$f":"IF(M22=\"3 edges (short single)\",\"Long length\",IF(M22=\"3 edges (long single)\",\"Long length\",\"\"))","v":""}]
[null,"Length (m)",null,"Height (m)",null,"Area (m²)",0]
[null,"Length (m)",null,"Height (m)",null,"Area (m²)",0]
[null,"Length (m)",null,"Height (m)",null,"Area (m²)",0]
[null,null,null,null,"Total","Area (m²)",{"$f":"SUM(G24:G26)-SUM(G38:G44,G51:G54)","v":0},"U Value (W/m²K)",{"$f":"IF($C$3=\"Ground floor\",'Design Details'!C$48,IF($C$3=\"Mid-floor\",'Design Details'!C$58,IF($C$3=\"Upper floor\",'Design Details'!C$68,IF($C$3=\"Single Storey\",'Design Details'!C$78,0))))","v":0},{"$f":"$D$6","v":2.5},{"$f":"G27*I27*J27","v":0},{"$f":"G27*I27*$D$7*24/1000","v":0}]
[null,"Ceiling (Flat)"]
[null,"Length (m)",null,"Width (m)",null,"Area (m²)",0]
[null,"Length (m)",null,"Width (m)",null,"Area (m²)",0]
[null,"Length (m)",null,"Width (m)",null,"Area (m²)",0,null,null,null,null,null,"Select Temp/Type of Space Above"]
[null,null,null,null,"Total","Area (m²)",{"$f":"SUM(G29:G31)-SUM(G46:G49)","v":0},"U Value (W/m²K)",{"$f":"IF($C$3=\"Ground floor\",'Design Details'!C$49,IF($C$3=\"Mid-floor\",'Design Details'!C$59,IF($C$3=\"Upper floor\",INDIRECT(T52),IF($C$3=\"Single Storey\",INDIRECT(T53),0))))","v":0},{"$f":"U51","v":0},{"$f":"G32*I32*J32","v":0},{"$f":"IF($C$3=$R$4,0,IF($C$3=$R$5,0,G32*I32*$D$7*24/1000))","v":0},"Select..."]
[null,"Ceiling (Awkward)"]
[null,"Length (m)",{"$f":"C14*2","v":0},"Pitch (m)",{"$f":"SQRT(POWER(E14,2)+POWER(G14,2))","v":0},"Area (m²)",{"$f":"C34*E34","v":0},"Pitched"]
[null,"Length (m)",{"$f":"C15","v":0},"Pitch (m)",{"$f":"SQRT(POWER(E15,2)+POWER(G15,2))","v":0},"Area (m²)",0,"Single Pitch"]
[null,null,null,null,"Total","Area (m²)",{"$f":"SUM(G34:G35)-SUM(G46:G49)","v":0},"U Value (W/m²K)",{"$f":"IF($C$3=\"Ground floor\",'Design Details'!C$50,IF($C$3=\"Mid-floor\",'Design Details'!C$60,IF($C$3=\"Upper floor\",'Design Details'!C$70,IF($C$3=\"Single Storey\",'Design Details'!C$80,0))))","v":0},{"$f":"$D$6","v":2.5},0,{"$f":"IF($C$3=$R$4,0,IF($C$3=$R$5,0,G36*I36*$D$7*24/1000))","v":0}]
[null,"Windows"]
[null,"Width (m)",null,"Height (m)",null,"Area (m²)",0,"U Value (W/m²K)",{"$f":"IF($C$3=\"Ground floor\",'Design Details'!C$46,IF($C$3=\"Mid-floor\",'Design Details'!C$56,IF($C$3=\"Upper floor\",'Design Details'!C$66,IF($C$3=\"Single Storey\",'Design Details'!C$76,0))))","v":0},2.5,0,{"$f":"G38*I38*$D$7*24/1000","v":0}]
[null,"Width (m)",null,"Height (m)",null,"Area (m²)",0,"U Value (W/m²K)",{"$f":"IF($C$3=\"Ground floor\",'Design Details'!C$46,IF($C$3=\"Mid-floor\",'Design Details'!C$56,IF($C$3=\"Upper floor\",'Design Details'!C$66,IF($C$3=\"Single Storey\",'Design Details'!C$76,0))))","v":0},2.5,0,0]
[null,"Width (m)",null,"Height (m)",null,"Area (m²)",0,"U Value (W/m²K)",{"$f":"IF($C$3=\"Ground floor\",'Design Details'!C$46,IF($C$3=\"Mid-floor\",'Design Details'!C$56,IF($C$3=\"Upper floor\",'Design Details'!C$66,IF($C$3=\"Single Storey\",'Design Details'!C$76,0))))","v":0},2.5,0,0]
[null,"Width (m)",null,"Height (m)",null,"Area (m²)",0,"U Value (W/m²K)",{"$f":"IF($C$3=\"Ground floor\",'Design Details'!C$46,IF($C$3=\"Mid-floor\",'Design Details'!C$56,IF($C$3=\"Upper floor\",'Design Details'!C$66,IF($C$3=\"Single Storey\",'Design Details'!C$76,0))))","v":0},2.5,0,0]
[null,"Width (m)",null,"Height (m)",null,"Area (m²)",0,"U Value (W/m²K)",{"$f":"IF($C$3=\"Ground floor\",'Design Details'!C$46,IF($C$3=\"Mid-floor\",'Design Details'!C$56,IF($C$3=\"Upper floor\",'Design Details'!C$66,IF($C$3=\"Single Storey\",'Design Details'!C$76,0))))","v":0},2.5,0,0]
[null,"Width (m)",null,"Height (m)",null,"Area (m²)",0,"U Value (W/m²K)",{"$f":"IF($C$3=\"Ground floor\",'Design Details'!C$46,IF($C$3=\"Mid-floor\",'Design Details'!C$56,IF($C$3=\"Upper floor\",'Design Details'!C$66,IF($C$3=\"Single Storey\",'Design Details'!C$76,0))))","v":0},2.5,0,0]
[null,"Width (m)",null,"Height (m)",null,"Area (m²)",0,"U Value (W/m²K)",{"$f":"IF($C$3=\"Ground floor\",'Design Details'!C$46,IF($C$3=\"Mid-floor\",'Design Details'!C$56,IF($C$3=\"Upper floor\",'Design Details'!C$66,IF($C$3=\"Single Storey\",'Design Details'!C$76,0))))","v":0},2.5,0,0]
[null,"Roof Glazing",null,null,null,null,null,null,null,null,null,null,null,null,null,null,"Options for upper floor or single storey","Options for Ground or Mid Floor","Drop-Down List","U-Value Selector","Temp Diff Selector"]
[null,"Width (m)",null,"Height (m)",null,"Area (m²)",0,"U Value (W/m²K)",{"$f":"IF($C$3=\"Ground floor\",'Design Details'!C$53,IF($C$3=\"Mid-floor\",'Design Details'!C$63,IF($C$3=\"Upper floor\",'Design Details'!C$73,IF($C$3=\"Single Storey\",'Design Details'!C$83,0))))","v":0},2.5,0,{"$f":"G46*I46*$D$7*24/1000","v":0}]
[null,"Width (m)",null,"Height (m)",null,"Area (m²)",0,"U Value (W/m²K)",{"$f":"IF($C$3=\"Ground floor\",'Design Details'!C$53,IF($C$3=\"Mid-floor\",'Design Details'!C$63,IF($C$3=\"Upper floor\",'Design Details'!C$73,IF($C$3=\"Single Storey\",'Design Details'!C$83,0))))","v":0},2.5,0,{"$f":"G47*I47*$D$7*24/1000","v":0}]
[null,"Width (m)",null,"Height (m)",null,"Area (m²)",0,"U Value (W/m²K)",{"$f":"IF($C$3=\"Ground floor\",'Design Details'!C$53,IF($C$3=\"Mid-floor\",'Design Details'!C$63,IF($C$3=\"Upper floor\",'Design Details'!C$73,IF($C$3=\"Single Storey\",'Design Details'!C$83,0))))","v":0},2.5,0,{"$f":"G48*I48*$D$7*24/1000","v":0}]
[null,"Width (m)",null,"Height (m)",null,"Area (m²)",0,"U Value (W/m²K)",{"$f":"IF($C$3=\"Ground floor\",'Design Details'!C$53,IF($C$3=\"Mid-floor\",'Design Details'!C$63,IF($C$3=\"Upper floor\",'Design Details'!C$73,IF($C$3=\"Single Storey\",'Design Details'!C$83,0))))","v":0},2.5,0,{"$f":"G49*I49*$D$7*24/1000","v":0}]
[null,"External Doors",null,null,null,null,null,null,null,null,null,null,null,null,null,null,null,null,"Select..."]
[null,"Width (m)",null,"Height (m)",null,"Area (m²)",0,"U Value (W/m²K)",{"$f":"IF($C$3=\"Ground floor\",'Design Details'!C$47,IF($C$3=\"Mid-floor\",'Design Details'!C$57,IF($C$3=\"Upper floor\",'Design Details'!C$67,IF($C$3=\"Single Storey\",'Design Details'!C$77,0))))","v":0},2.5,0,{"$f":"G51*I51*$D$7*24/1000","v":0},null,null,null,null,"Outside","Unheated",{"$f":"IF(OR($C$3=\"Ground Floor\",$C$3=\"Mid-floor\"),R51,Q51)","v":"Outside"},{"$f":"IF(M32=\"Unheated\",1,0)","v":0},{"$f":"IF(M32=\"Select...\",0,(IF(M32=\"Outside\",D6,IF(M32=\"Unheated\",D4-10,D4-M32))))","v":0}]
[null,"Width (m)",null,"Height (m)",null,"Area (m²)",0,"U Value (W/m²K)",{"$f":"IF($C$3=\"Ground floor\",'Design Details'!C$47,IF($C$3=\"Mid-floor\",'Design Details'!C$57,IF($C$3=\"Upper floor\",'Design Details'!C$67,IF($C$3=\"Single Storey\",'Design Details'!C$77,0))))","v":0},2.5,0,{"$f":"G52*I52*$D$7*24/1000","v":0},null,null,null,null,"Unheated","16",{"$f":"IF(OR($C$3=\"Ground Floor\",$C$3=\"Mid-floor\"),R52,Q52)","v":"Unheated"},{"$f":"\"'Design Details'!C$\"&69+T51","v":"'Design Details'!C$69"}]
[null,"Width (m)",null,"Height (m)",null,"Area (m²)",0,"U Value (W/m²K)",{"$f":"IF($C$3=\"Ground floor\",'Design Details'!C$47,IF($C$3=\"Mid-floor\",'Design Details'!C$57,IF($C$3=\"Upper floor\",'Design Details'!C$67,IF($C$3=\"Single Storey\",'Design Details'!C$77,0))))","v":0},2.5,0,{"$f":"G53*I53*$D$7*24/1000","v":0},null,null,null,null,null,"18",{"$f":"IF(OR($C$3=\"Ground Floor\",$C$3=\"Mid-floor\"),R53,Q53)","v":0},{"$f":"\"'Design Details'!C$\"&79+T51","v":"'Design Details'!C$79"}]
[null,"Width (m)",null,"Height (m)",null,"Area (m²)",0,"U Value (W/m²K)",{"$f":"IF($C$3=\"Ground floor\",'Design Details'!C$47,IF($C$3=\"Mid-floor\",'Design Details'!C$57,IF($C$3=\"Upper floor\",'Design Details'!C$67,IF($C$3=\"Single Storey\",'Design Details'!C$77,0))))","v":0},2.5,0,{"$f":"G54*I54*$D$7*24/1000","v":0},null,null,null,null,null,"21",{"$f":"IF(OR($C$3=\"Ground Floor\",$C$3=\"Mid-floor\"),R54,Q54)","v":0}]
[null,"Internal Walls",null,null,null,null,null,null,null,null,null,null,"Adjoining Room Temp (°C)",null,null,null,null,22,{"$f":"IF(OR($C$3=\"Ground Floor\",$C$3=\"Mid-floor\"),R55,Q37)","v":0}]
[null,"Length (m)",null,"Height (m)",null,"Area (m²)",0,"U Value (W/m²K)",{"$f":"IF($C$3=\"Ground floor\",'Design Details'!C$51,IF($C$3=\"Mid-floor\",'Design Details'!C$61,IF($C$3=\"Upper floor\",'Design Details'!C$71,IF($C$3=\"Single Storey\",'Design Details'!C$81,0))))","v":0},{"$f":"IF(M56=\"\",0,IF(M56=\"unheated\",D$4-10,D$4-M56))","v":0},0]
[null,"Length (m)",null,"Height (m)",null,"Area (m²)",0,"U Value (W/m²K)",{"$f":"IF($C$3=\"Ground floor\",'Design Details'!C$51,IF($C$3=\"Mid-floor\",'Design Details'!C$61,IF($C$3=\"Upper floor\",'Design Details'!C$71,IF($C$3=\"Single Storey\",'Design Details'!C$81,0))))","v":0},{"$f":"IF(M57=\"\",0,IF(M57=\"unheated\",D$4-10,D$4-M57))","v":0},0]
[null,"Length (m)",null,"Height (m)",null,"Area (m²)",0,"U Value (W/m²K)",{"$f":"IF($C$3=\"Ground floor\",'Design Details'!C$51,IF($C$3=\"Mid-floor\",'Design Details'!C$61,IF($C$3=\"Upper floor\",'Design Details'!C$71,IF($C$3=\"Single Storey\",'Design Details'!C$81,0))))","v":0},{"$f":"IF(M58=\"\",0,IF(M58=\"unheated\",D$4-10,D$4-M58))","v":0},0]
[null,"Length (m)",null,"Height (m)",null,"Area (m²)",0,"U Value (W/m²K)",{"$f":"IF($C$3=\"Ground floor\",'Design Details'!C$51,IF($C$3=\"Mid-floor\",'Design Details'!C$61,IF($C$3=\"Upper floor\",'Design Details'!C$71,IF($C$3=\"Single Storey\",'Design Details'!C$81,0))))","v":0},{"$f":"IF(M59=\"\",0,IF(M59=\"unheated\",D$4-10,D$4-M59))","v":0},0]
[null,"Party Wall"]
[null,"Length (m)",null,"Height (m)",null,"Area (m²)",0,"U Value (W/m²K)",{"$f":"IF($C$3=\"Ground floor\",'Design Details'!C$52,IF($C$3=\"Mid-floor\",'Design Details'!C$62,IF($C$3=\"Upper floor\",'Design Details'!C$72,IF($C$3=\"Single Storey\",'Design Details'!C$82,0))))","v":0},{"$f":"D4-10","v":-10},0,{"$f":"G61*I61*$D$7*24/1000","v":0}]

{"sheet":"Version","index":46,"n_rows":19,"n_cols":4,"rows_kept":19,"cut":false,"hidden":false,"merged":[]}
[]
[null,"AMENDMENTS SINCE PUBLICATION"]
[]
[null,"Date","Version","Notes"]
[null,"2015-11-03","1.0","First issue."]
[null,"2015-12-15",1.1000000000000001,"Updates to functionality and corrected reported errors."]
[null,"2016-01-28",1.2,"Updates to functionality and corrected reported errors."]
[null,"2016-02-01",1.3,"Updates to functionality and corrected reported errors."]
[null,"2016-05-10",1.4,"Post 2006 building room design temp changed to 21°C throughout , \nexcept for bathroom (22) and store (16)"]
[null,"2016-05-10",1.4,"Added kWh to additional heat on room tabs"]
[null,"2016-05-10",1.4,"Added W/m2 to overview on design details tab"]
[null,"2016-05-27",1.4,"Updated postcode degree data"]
[null,"2017-03-28",1.5,"Updates to functionality and corrected reported errors including:\nRadiator selection for room 3\nDimensions for roof windows "]
[null,"2017-05-12",1.6,"Minor update to unlock drop downs for Exposed floor (external) "]
[null,"2017-06-15",1.6,"Corrected cell value on sheet 11 cell F3"]
[null,"2017-09-19",1.7,"Updated to include version 2.0 and guidance for the Compliance Certificate"]
[null,"2018-04-18",1.8,"Corrected cell entry issues on Compliance Certificate v1.2 tab (cell D22, D23, D24, and D25)"]
[null,"2019-07-29",1.9,"Rebranding of document, update of email and website addresses and cosmetic changes"]
[null,"2021-03-19","1.10","Updates to facilitate temperature differences between spaces. MCS 022 data corrected."]